{"text_format":"1","workbook":"xlsx","n_sheets":9,"sheets":["台指大腕","戰略地圖","10大權值","操作說明","分線設定","外資大台","外資小台","前5大大台","總市值"],"not_rendered":{"charts":7,"images":13,"macros":1,"external_links":0,"defined_names":1,"comments":1,"pivot_tables":0},"unopened":[],"bounds":{"document_bytes":16777216,"sheet_cells":100000,"rows_first":2000,"rows_last":500,"rows_between":2000,"halvings":0,"cell_chars":16384,"cell_head_chars":4096},"cells_cut":0,"cells_raw":0,"read":"whole","date_system":"1900"}

{"sheet":"台指大腕","index":0,"n_rows":157,"n_cols":95,"rows_kept":157,"cut":false,"hidden":false,"merged":[[2,21,2,25],[2,15,2,20],[2,11,2,14],[1,21,1,25],[1,15,1,20],[1,11,1,14],[3,0,3,1],[4,0,4,1],[3,11,3,14],[4,8,4,10],[0,0,0,2],[2,0,2,1]]}
["台指大腕",null,null,null,null,null,null,null,null,null,null,null,null,null,null,null,null,null,null,null,null,null,null,null,null,null,null,null,null,null,null,null,null,null,null,null,null,null,null,null,null,null,null,null,null,null,null,null,null,null,null,null,null,null,null,null,null,null,null,null,null,null,null,null,null,null,null,null,null,null,null,null,null,null,null,null,null,null,null,null,null,null,null,null,null,null,null,null,null,null,null,null,null,null,{"$f":"#REF!","v":{"$error":"#REF!"}}]
[]
["盤中價差",null,"台指期",{"$f":"RTD(\"sysq.rtd\",\"\",\"WTX&`003.10\")","v":12652},"漲跌",{"$f":"RTD(\"sysq.rtd\",\"\",\"WTX&`004.10\")","v":49},"大狐",{"$f":"分線設定!C3","v":824},"外資",{"$f":"外資大台!H4","v":1539},{"$f":"外資大台!N4","v":29714},"大盤總市值(億)",null,null,null,"籌碼統計 ",null,null,null,null,null,"財務面"]
[{"$f":"D3-D4","v":4.8700000000008004},null,"加權指數",{"$f":"RTD(\"sysq.rtd\",\"\",\"TWNT0000`003.1\")","v":12647.13},"漲跌",{"$f":"RTD(\"sysq.rtd\",\"\",\"#001`004.1\")","v":39.29},"散狐",{"$f":"分線設定!B3","v":116},"前五大",{"$f":"前5大大台!P4","v":-1211},{"$f":"前5大大台!O4","v":-15588},{"$f":"總市值!C3","v":391603.8},null,null,null,{"$f":"SUM(P8:P157)","v":19.421100000000003},-0.13499999999999998,-73.255000000000024,-13.372099999999991,0,12642,{"$f":"SUMPRODUCT(V8:V157,$J8:$J157)","v":94.058335491126456},{"$f":"SUMPRODUCT(W8:W157,$J8:$J157)","v":897.67382683722678},null,{"$f":"SUMPRODUCT(Y8:Y157,$J8:$J157)/100","v":36.448713957321146},{"$f":"SUMPRODUCT(Z8:Z157,$J8:$J157)/100","v":2.8629076214275768}]
[{"$f":"NOW()","v":44067.720109606482},null,"全部檔數",{"$f":"SUBTOTAL(102,D8:D160)","v":150},"上漲",{"$f":"SUBTOTAL(109,AN8:AN160)","v":69},"命中\n機率",{"$f":"F5/D5","v":0.46},{"$f":"Q6","v":20200824},null,null,{"$f":"SUBTOTAL(109,AO8:AO160)","v":0},null,{"$f":"SUBTOTAL(109,AP8:AP160)","v":0}]
["","日期",20200824,{"$f":"RTD(\"sysq.rtd\",\"\",\"TWNT0000`078.1\")","v":" 2020/08/24"},{"$f":"RTD(\"sysq.rtd\",\"\",\"TWNT0000`078.1\")","v":" 2020/08/24"},{"$f":"RTD(\"sysq.rtd\",\"\",\"TWNT0000`078.1\")","v":" 2020/08/24"},{"$f":"RTD(\"sysq.rtd\",\"\",\"TWNT0000`078.1\")","v":" 2020/08/24"},20200824,2020,null,null,{"$f":"(D6-AC6)/AC6","v":{"$error":"#VALUE!"}},null,{"$f":"(AD6-D6)/D6","v":{"$error":"#VALUE!"}},{"$f":"AA6-AB6","v":0},20200824,20200824,20200824,20200824,20200824,20200821,202007,202007,20200824,20200824,20200824,20200824,20200824,20200824,20200824,20200824,20200821,20200820,20200824,20200821,20200820,{"$f":"AJ6-AG6","v":0},{"$f":"AI6-AF6","v":0},{"$f":"AH6-AE6","v":0},{"$f":"IF(E6>0,1,0)","v":1},{"$f":"IF(L6>0,1,0)","v":{"$error":"#VALUE!"}},{"$f":"IF(N6>0,1,0)","v":{"$error":"#VALUE!"}},{"$f":"RTD(\"sysq.rtd\",\"\",\"TWNT0000`078.1\")","v":" 2020/08/24"},{"$f":"RTD(\"sysq.rtd\",\"\",\"TWNT0000`078.1\")","v":" 2020/08/24"}]
["代碼","名稱","產業別","成交","漲跌%","單量","量變","前五日漲幅%","今年漲幅%","權重%","影響大盤點數","突破壓力",null,"跌破支撐","KD缺口","外資1日買超(億)","投信1日買超(億)","外資5日合計(億)","投信5日合計(億)","當日融資張數增減","昨日融資張數增減","當月營收MoM","當月營收YoY","市值(億)","本益比","殖利率","K9$","D9$","AH ","AL ","開盤","開盤(T-1)","開盤(T-2)","收盤","收盤(T-1)","收盤(T-2)",{"$f":"AJ7-AG7","v":{"$error":"#VALUE!"}},{"$f":"AI7-AF7","v":{"$error":"#VALUE!"}},{"$f":"AH7-AE7","v":{"$error":"#VALUE!"}},{"$f":"IF(E7>0,1,0)","v":1},{"$f":"IF(L7>0,1,0)","v":1},{"$f":"IF(N7>0,1,0)","v":1},"買進","賣出"]
["1101","台泥","水泥工業",{"$f":"RTD(\"sysq.rtd\",\"\",\"1101`003.1\")","v":44.05},{"$f":"RTD(\"sysq.rtd\",\"\",\"1101`010.1\")","v":-0.45},{"$f":"RTD(\"sysq.rtd\",\"\",\"1101`005.1\")","v":22},{"$f":"RTD(\"sysq.rtd\",\"\",\"1101`029.1\")","v":0.65},1.61,0.8,{"$f":"X8/$L$4*100","v":0.64569853510103836},{"$f":"(E8/100)*(J8/100)*$D$3","v":-0.36762200397442524},{"$f":"(D8-AC8)/AC8","v":-1.2774540564769168E-2},null,{"$f":"(AD8-D8)/D8","v":-1.4074914869466458E-2},{"$f":"AA8-AB8","v":1.1500000000000057},0.21759999999999999,9.1200000000000003E-2,5.9265999999999996,4.3878000000000004,null,792,2.1800000000000002,-2.96,2528.58,10.39,6.78,77.760000000000005,76.61,44.62,43.43,44.25,44.2,44.45,44.05,44.25,43.5,{"$f":"AJ8-AG8","v":-0.95000000000000284},{"$f":"AI8-AF8","v":4.9999999999997158E-2},{"$f":"AH8-AE8","v":-0.20000000000000284},{"$f":"IF(E8>0,1,0)","v":0},{"$f":"IF(L8>0,1,0)","v":0},{"$f":"IF(N8>0,1,0)","v":0},{"$f":"RTD(\"sysq.rtd\",\"\",\"1101`001.1\")","v":44.05},{"$f":"RTD(\"sysq.rtd\",\"\",\"1101`002.1\")","v":44.1}]
["1102","亞泥","水泥工業",{"$f":"RTD(\"sysq.rtd\",\"\",\"1102`003.1\")","v":43.3},{"$f":"RTD(\"sysq.rtd\",\"\",\"1102`010.1\")","v":-0.23},{"$f":"RTD(\"sysq.rtd\",\"\",\"1102`005.1\")","v":5},{"$f":"RTD(\"sysq.rtd\",\"\",\"1102`029.1\")","v":0.85},1.88,-9.6999999999999993,{"$f":"X9/$L$4*100","v":0.37167923293900623},{"$f":"(E9/100)*(J9/100)*$D$3","v":-0.10815717006831904},{"$f":"(D9-AC9)/AC9","v":-1.3442697653224046E-2},null,{"$f":"(AD9-D9)/D9","v":-1.639722863741325E-2},{"$f":"AA9-AB9","v":1.2399999999999949},0.1661,3.3E-3,-0.51470000000000005,1.226,null,136,0.69,-12.98,1455.51,10.59,6.91,76.22,74.98,43.89,42.59,43.4,42.95,43.05,43.3,43.4,42.25,{"$f":"AJ9-AG9","v":-0.79999999999999716},{"$f":"AI9-AF9","v":0.44999999999999574},{"$f":"AH9-AE9","v":-0.10000000000000142},{"$f":"IF(E9>0,1,0)","v":0},{"$f":"IF(L9>0,1,0)","v":0},{"$f":"IF(N9>0,1,0)","v":0},{"$f":"RTD(\"sysq.rtd\",\"\",\"1102`001.1\")","v":43.25},{"$f":"RTD(\"sysq.rtd\",\"\",\"1102`002.1\")","v":43.3}]
["1210","大成","食品原料",{"$f":"RTD(\"sysq.rtd\",\"\",\"1210`003.1\")","v":48.75},{"$f":"RTD(\"sysq.rtd\",\"\",\"1210`010.1\")","v":-0.2},{"$f":"RTD(\"sysq.rtd\",\"\",\"1210`005.1\")","v":4},{"$f":"RTD(\"sysq.rtd\",\"\",\"1210`029.1\")","v":0.67},-0.31,11.68,{"$f":"X10/$L$4*100","v":0.10299440403795877},{"$f":"(E10/100)*(J10/100)*$D$3","v":-2.6061703997765091E-2},{"$f":"(D10-AC10)/AC10","v":-1.4155712841253849E-2},null,{"$f":"(AD10-D10)/D10","v":-1.0256410256410256E-2},{"$f":"AA10-AB10","v":-0.53000000000000114},-0.1014,2E-3,0.22900000000000001,7.5399999999999995E-2,null,-7,-0.82,-1.44,403.33,15.05,4.5,76.069999999999993,76.599999999999994,49.45,48.25,48.8,48.1,49.65,48.75,48.85,47.9,{"$f":"AJ10-AG10","v":-1.75},{"$f":"AI10-AF10","v":0.75},{"$f":"AH10-AE10","v":-4.9999999999997158E-2},{"$f":"IF(E10>0,1,0)","v":0},{"$f":"IF(L10>0,1,0)","v":0},{"$f":"IF(N10>0,1,0)","v":0},{"$f":"RTD(\"sysq.rtd\",\"\",\"1210`001.1\")","v":48.75},{"$f":"RTD(\"sysq.rtd\",\"\",\"1210`002.1\")","v":48.8}]
["1216","統一","加工食品",{"$f":"RTD(\"sysq.rtd\",\"\",\"1216`003.1\")","v":67},{"$f":"RTD(\"sysq.rtd\",\"\",\"1216`010.1\")","v":-0.15},{"$f":"RTD(\"sysq.rtd\",\"\",\"1216`005.1\")","v":17},{"$f":"RTD(\"sysq.rtd\",\"\",\"1216`029.1\")","v":0.92},-3.18,-9.6999999999999993,{"$f":"X11/$L$4*100","v":0.97214327337988038},{"$f":"(E11/100)*(J11/100)*$D$3","v":-0.18449335042203369},{"$f":"(D11-AC11)/AC11","v":-5.9347181008902912E-3},null,{"$f":"(AD11-D11)/D11","v":-5.9701492537314283E-3},{"$f":"AA11-AB11","v":-11.690000000000001},-0.85560000000000003,-0.48570000000000002,-12.2003,-0.44409999999999999,null,112,4.9000000000000004,0.6,3806.95,20.239999999999998,3.73,18.23,29.92,67.400000000000006,66.599999999999994,67.099999999999994,67.599999999999994,68.3,67,67.099999999999994,67.099999999999994,{"$f":"AJ11-AG11","v":-1.2000000000000028},{"$f":"AI11-AF11","v":-0.5},{"$f":"AH11-AE11","v":-9.9999999999994316E-2},{"$f":"IF(E11>0,1,0)","v":0},{"$f":"IF(L11>0,1,0)","v":0},{"$f":"IF(N11>0,1,0)","v":0},{"$f":"RTD(\"sysq.rtd\",\"\",\"1216`001.1\")","v":67},{"$f":"RTD(\"sysq.rtd\",\"\",\"1216`002.1\")","v":67.099999999999994}]
["1227","佳格","加工食品",{"$f":"RTD(\"sysq.rtd\",\"\",\"1227`003.1\")","v":63.2},{"$f":"RTD(\"sysq.rtd\",\"\",\"1227`010.1\")","v":-1.25},{"$f":"RTD(\"sysq.rtd\",\"\",\"1227`005.1\")","v":3},{"$f":"RTD(\"sysq.rtd\",\"\",\"1227`029.1\")","v":1.36},-0.94,-9.1999999999999993,{"$f":"X12/$L$4*100","v":0.14768498160640933},{"$f":"(E12/100)*(J12/100)*$D$3","v":-0.2335637984105364},{"$f":"(D12-AC12)/AC12","v":-1.787101787101774E-2},null,{"$f":"(AD12-D12)/D12","v":-1.3449367088607616E-2},{"$f":"AA12-AB12","v":-8.5699999999999932},9.2100000000000001E-2,2.0999999999999999E-3,0.1042,2.1899999999999999E-2,null,26,3.44,12.13,578.34,15.92,4.1399999999999997,70.31,78.88,64.349999999999994,62.35,64,63.8,63.8,63.2,64,64,{"$f":"AJ12-AG12","v":0.20000000000000284},{"$f":"AI12-AF12","v":0.20000000000000284},{"$f":"AH12-AE12","v":-0.79999999999999716},{"$f":"IF(E12>0,1,0)","v":0},{"$f":"IF(L12>0,1,0)","v":0},{"$f":"IF(N12>0,1,0)","v":0},{"$f":"RTD(\"sysq.rtd\",\"\",\"1227`001.1\")","v":63.2},{"$f":"RTD(\"sysq.rtd\",\"\",\"1227`002.1\")","v":63.3}]
["1229","聯華投控","食品原料",{"$f":"RTD(\"sysq.rtd\",\"\",\"1229`003.1\")","v":43.5},{"$f":"RTD(\"sysq.rtd\",\"\",\"1229`010.1\")","v":0.81},{"$f":"RTD(\"sysq.rtd\",\"\",\"1229`005.1\")","v":4},{"$f":"RTD(\"sysq.rtd\",\"\",\"1229`029.1\")","v":0.83},0.23,17.73,{"$f":"X13/$L$4*100","v":0.14235050834542465},{"$f":"(E13/100)*(J13/100)*$D$3","v":0.14588250915849132},{"$f":"(D13-AC13)/AC13","v":-1.2261580381471371E-2},null,{"$f":"(AD13-D13)/D13","v":-1.2873563218390857E-2},{"$f":"AA13-AB13","v":0.93999999999999773},0.42409999999999998,-6.9999999999999999E-4,0.4894,-2.9999999999999997E-4,null,41,-43.15,4.16,557.45000000000005,17.61,7.42,84.45,83.51,44.04,42.94,43.5,42.8,42.9,43.5,43.15,42.1,{"$f":"AJ13-AG13","v":-0.79999999999999716},{"$f":"AI13-AF13","v":0.35000000000000142},{"$f":"AH13-AE13","v":0},{"$f":"IF(E13>0,1,0)","v":1},{"$f":"IF(L13>0,1,0)","v":0},{"$f":"IF(N13>0,1,0)","v":0},{"$f":"RTD(\"sysq.rtd\",\"\",\"1229`001.1\")","v":43.45},{"$f":"RTD(\"sysq.rtd\",\"\",\"1229`002.1\")","v":43.5}]
["1301","台塑","塑化基本原料",{"$f":"RTD(\"sysq.rtd\",\"\",\"1301`003.1\")","v":79.2},{"$f":"RTD(\"sysq.rtd\",\"\",\"1301`010.1\")","v":-0.75},{"$f":"RTD(\"sysq.rtd\",\"\",\"1301`005.1\")","v":21},{"$f":"RTD(\"sysq.rtd\",\"\",\"1301`029.1\")","v":0.71},-2.82,-20.64,{"$f":"X14/$L$4*100","v":1.2874415416806477},{"$f":"(E14/100)*(J14/100)*$D$3","v":-1.2216532789007666},{"$f":"(D14-AC14)/AC14","v":-9.628610729023334E-3},null,{"$f":"(AD14-D14)/D14","v":-7.8282828282828856E-3},{"$f":"AA14-AB14","v":-11.280000000000001},-0.31459999999999999,6.4000000000000003E-3,-3.7759,0.15759999999999999,null,-39,6.36,-10.25,5041.67,28.29,5.51,40.01,51.29,79.97,78.58,79.7,79.8,80,79.2,79.8,79,{"$f":"AJ14-AG14","v":-1},{"$f":"AI14-AF14","v":0},{"$f":"AH14-AE14","v":-0.5},{"$f":"IF(E14>0,1,0)","v":0},{"$f":"IF(L14>0,1,0)","v":0},{"$f":"IF(N14>0,1,0)","v":0},{"$f":"RTD(\"sysq.rtd\",\"\",\"1301`001.1\")","v":79.2},{"$f":"RTD(\"sysq.rtd\",\"\",\"1301`002.1\")","v":79.3}]
["1303","南亞","化學纖維原料",{"$f":"RTD(\"sysq.rtd\",\"\",\"1303`003.1\")","v":61.8},{"$f":"RTD(\"sysq.rtd\",\"\",\"1303`010.1\")","v":-0.8},{"$f":"RTD(\"sysq.rtd\",\"\",\"1303`005.1\")","v":4},{"$f":"RTD(\"sysq.rtd\",\"\",\"1303`029.1\")","v":0.53},-3.29,-15.11,{"$f":"X15/$L$4*100","v":1.2515838712494618},{"$f":"(E15/100)*(J15/100)*$D$3","v":-1.2668031311238552},{"$f":"(D15-AC15)/AC15","v":-1.23062170369187E-2},null,{"$f":"(AD15-D15)/D15","v":-1.0194174757281481E-2},-2.4E-2,-0.1169,0.191,-2.2986,0.46010000000000001,null,-62,4.5999999999999996,-11.44,4901.25,32.020000000000003,3.53,47.3,59.16,62.57,61.17,62.2,62,62,61.8,62.3,60.8,{"$f":"AJ15-AG15","v":-1.2000000000000028},{"$f":"AI15-AF15","v":0.29999999999999716},{"$f":"AH15-AE15","v":-0.40000000000000568},{"$f":"IF(E15>0,1,0)","v":0},{"$f":"IF(L15>0,1,0)","v":0},{"$f":"IF(N15>0,1,0)","v":0},{"$f":"RTD(\"sysq.rtd\",\"\",\"1303`001.1\")","v":61.8},{"$f":"RTD(\"sysq.rtd\",\"\",\"1303`002.1\")","v":61.9}]
["1319","東陽","塑化製品",{"$f":"RTD(\"sysq.rtd\",\"\",\"1319`003.1\")","v":36.6},{"$f":"RTD(\"sysq.rtd\",\"\",\"1319`010.1\")","v":0.97},{"$f":"RTD(\"sysq.rtd\",\"\",\"1319`005.1\")","v":3},{"$f":"RTD(\"sysq.rtd\",\"\",\"1319`029.1\")","v":1.1399999999999999},-1.35,-21.54,{"$f":"X16/$L$4*100","v":5.5280362447963992E-2},{"$f":"(E16/100)*(J16/100)*$D$3","v":6.7842493132089121E-2},{"$f":"(D16-AC16)/AC16","v":-1.4539579967689798E-2},null,{"$f":"(AD16-D16)/D16","v":-1.5300546448087492E-2},{"$f":"AA16-AB16","v":-6},0.18629999999999999,-5.0599999999999999E-2,6.5799999999999997E-2,-0.32850000000000001,null,-14,16.09,-19.940000000000001,216.48,16.41,4.97,49.54,55.54,37.14,36.04,36.799999999999997,36.200000000000003,37,36.6,36.25,36.35,{"$f":"AJ16-AG16","v":-0.64999999999999858},{"$f":"AI16-AF16","v":4.9999999999997158E-2},{"$f":"AH16-AE16","v":-0.19999999999999574},{"$f":"IF(E16>0,1,0)","v":1},{"$f":"IF(L16>0,1,0)","v":0},{"$f":"IF(N16>0,1,0)","v":0},{"$f":"RTD(\"sysq.rtd\",\"\",\"1319`001.1\")","v":36.549999999999997},{"$f":"RTD(\"sysq.rtd\",\"\",\"1319`002.1\")","v":36.6}]
["1326","台化","塑化基本原料",{"$f":"RTD(\"sysq.rtd\",\"\",\"1326`003.1\")","v":69.5},{"$f":"RTD(\"sysq.rtd\",\"\",\"1326`010.1\")","v":-0.71},{"$f":"RTD(\"sysq.rtd\",\"\",\"1326`005.1\")","v":111},{"$f":"RTD(\"sysq.rtd\",\"\",\"1326`029.1\")","v":0.72},-3.87,-20.57,{"$f":"X17/$L$4*100","v":1.0402146250879076},{"$f":"(E17/100)*(J17/100)*$D$3","v":-0.93441647599946653},{"$f":"(D17-AC17)/AC17","v":-1.2363222964331455E-2},null,{"$f":"(AD17-D17)/D17","v":-7.4820143884891518E-3},0.33700000000000002,-3.7600000000000001E-2,-3.8600000000000002E-2,1.2681,3.0700000000000002E-2,null,-8,3.07,-25.52,4073.52,34.07,5.43,36.79,56.1,70.37,68.98,70.099999999999994,70.400000000000006,70.900000000000006,69.5,70,69.3,{"$f":"AJ17-AG17","v":-1.6000000000000085},{"$f":"AI17-AF17","v":-0.40000000000000568},{"$f":"AH17-AE17","v":-0.59999999999999432},{"$f":"IF(E17>0,1,0)","v":0},{"$f":"IF(L17>0,1,0)","v":0},{"$f":"IF(N17>0,1,0)","v":0},{"$f":"RTD(\"sysq.rtd\",\"\",\"1326`001.1\")","v":69.5},{"$f":"RTD(\"sysq.rtd\",\"\",\"1326`002.1\")","v":69.599999999999994}]
["1402","遠東新","聚酯纖維",{"$f":"RTD(\"sysq.rtd\",\"\",\"1402`003.1\")","v":26},{"$f":"RTD(\"sysq.rtd\",\"\",\"1402`010.1\")","v":-0.95},{"$f":"RTD(\"sysq.rtd\",\"\",\"1402`005.1\")","v":6},{"$f":"RTD(\"sysq.rtd\",\"\",\"1402`029.1\")","v":0.88},-1.52,-12.9,{"$f":"X18/$L$4*100","v":0.35539747060677146},{"$f":"(E18/100)*(J18/100)*$D$3","v":-0.42716643582110281},{"$f":"(D18-AC18)/AC18","v":-1.4778325123152731E-2},null,{"$f":"(AD18-D18)/D18","v":-1.1923076923076873E-2},{"$f":"AA18-AB18","v":-3.509999999999998},-5.9299999999999999E-2,-0.25790000000000002,0.45129999999999998,-0.24560000000000001,null,-109,-5.97,-24.08,1391.75,15.66,5.71,56.95,60.46,26.39,25.69,26.25,25.95,26.25,26,26.25,25.65,null,null,null,null,null,null,{"$f":"RTD(\"sysq.rtd\",\"\",\"1402`001.1\")","v":26},{"$f":"RTD(\"sysq.rtd\",\"\",\"1402`002.1\")","v":26.05}]
["1434","福懋","尼龍纖維",{"$f":"RTD(\"sysq.rtd\",\"\",\"1434`003.1\")","v":30.3},{"$f":"RTD(\"sysq.rtd\",\"\",\"1434`010.1\")","v":-0.66},{"$f":"RTD(\"sysq.rtd\",\"\",\"1434`005.1\")","v":"-"},{"$f":"RTD(\"sysq.rtd\",\"\",\"1434`029.1\")","v":1},-2.2599999999999998,-11.4,{"$f":"X19/$L$4*100","v":0.13034858190855145},{"$f":"(E19/100)*(J19/100)*$D$3","v":-0.10884523704826154},{"$f":"(D19-AC19)/AC19","v":-1.3350700097688054E-2},null,{"$f":"(AD19-D19)/D19","v":-9.5709570957095425E-3},{"$f":"AA19-AB19","v":-12.82},-0.105,-2.9999999999999997E-4,-1.0579000000000001,1E-4,null,8,2.52,-28.11,510.45,12.22,8.1999999999999993,30.54,43.36,30.71,30.01,30.5,30.55,31.05,30.3,30.5,30.35,{"$f":"AJ19-AG19","v":-0.69999999999999929},{"$f":"AI19-AF19","v":-5.0000000000000711E-2},{"$f":"AH19-AE19","v":-0.19999999999999929},{"$f":"IF(E19>0,1,0)","v":0},{"$f":"IF(L19>0,1,0)","v":0},{"$f":"IF(N19>0,1,0)","v":0},{"$f":"RTD(\"sysq.rtd\",\"\",\"1434`001.1\")","v":30.3},{"$f":"RTD(\"sysq.rtd\",\"\",\"1434`002.1\")","v":30.35}]
["1476","儒鴻","服裝服飾",{"$f":"RTD(\"sysq.rtd\",\"\",\"1476`003.1\")","v":379},{"$f":"RTD(\"sysq.rtd\",\"\",\"1476`010.1\")","v":-1.3},{"$f":"RTD(\"sysq.rtd\",\"\",\"1476`005.1\")","v":1},{"$f":"RTD(\"sysq.rtd\",\"\",\"1476`029.1\")","v":0.97},-3.68,-5.96,{"$f":"X20/$L$4*100","v":0.26553623841239538},{"$f":"(E20/100)*(J20/100)*$D$3","v":-0.43674338349117142},{"$f":"(D20-AC20)/AC20","v":-2.9772418913037901E-2},null,{"$f":"(AD20-D20)/D20","v":-3.5277044854881277E-2},{"$f":"AA20-AB20","v":-14.490000000000002},0.58640000000000003,-0.63439999999999996,5.7268999999999997,-0.61419999999999997,null,-26,42.51,11.03,1039.8499999999999,27.85,2.86,48.32,62.81,390.63,365.63,383.5,377,385.5,379,384,374.5,{"$f":"AJ20-AG20","v":-11},{"$f":"AI20-AF20","v":7},{"$f":"AH20-AE20","v":-4.5},{"$f":"IF(E20>0,1,0)","v":0},{"$f":"IF(L20>0,1,0)","v":0},{"$f":"IF(N20>0,1,0)","v":0},{"$f":"RTD(\"sysq.rtd\",\"\",\"1476`001.1\")","v":379},{"$f":"RTD(\"sysq.rtd\",\"\",\"1476`002.1\")","v":379.5}]
["1477","聚陽","服裝服飾",{"$f":"RTD(\"sysq.rtd\",\"\",\"1477`003.1\")","v":197},{"$f":"RTD(\"sysq.rtd\",\"\",\"1477`010.1\")","v":2.6},{"$f":"RTD(\"sysq.rtd\",\"\",\"1477`005.1\")","v":4},{"$f":"RTD(\"sysq.rtd\",\"\",\"1477`029.1\")","v":0.73},0.51,25.08,{"$f":"X21/$L$4*100","v":0.11060158251784075},{"$f":"(E21/100)*(J21/100)*$D$3","v":0.36382611772408752},{"$f":"(D21-AC21)/AC21","v":-2.5379706129718477E-2},null,{"$f":"(AD21-D21)/D21","v":-3.9949238578680227E-2},{"$f":"AA21-AB21","v":2.4000000000000057},2.3325,0.85660000000000003,3.2269000000000001,2.3163,null,-8,3.08,4.49,433.12,23.51,2.6,79.12,76.72,202.13,189.13,192,195,192.5,197,192,193,{"$f":"AJ21-AG21","v":0.5},{"$f":"AI21-AF21","v":-3},{"$f":"AH21-AE21","v":5},{"$f":"IF(E21>0,1,0)","v":1},{"$f":"IF(L21>0,1,0)","v":0},{"$f":"IF(N21>0,1,0)","v":0},{"$f":"RTD(\"sysq.rtd\",\"\",\"1477`001.1\")","v":196.5},{"$f":"RTD(\"sysq.rtd\",\"\",\"1477`002.1\")","v":197}]
["1504","東元","家電照明",{"$f":"RTD(\"sysq.rtd\",\"\",\"1504`003.1\")","v":29.65},{"$f":"RTD(\"sysq.rtd\",\"\",\"1504`010.1\")","v":-0.67},{"$f":"RTD(\"sysq.rtd\",\"\",\"1504`005.1\")","v":1},{"$f":"RTD(\"sysq.rtd\",\"\",\"1504`029.1\")","v":0.75},2.6,13.17,{"$f":"X22/$L$4*100","v":0.14898221110213947},{"$f":"(E22/100)*(J22/100)*$D$3","v":-0.12628983663590598},{"$f":"(D22-AC22)/AC22","v":-1.6257465162574716E-2},null,{"$f":"(AD22-D22)/D22","v":-1.3827993254637442E-2},{"$f":"AA22-AB22","v":3.5},7.3499999999999996E-2,-4.0000000000000002E-4,0.7409,-1E-4,null,-40,-10.59,-4.26,583.41999999999996,17.14,3.32,75.739999999999995,72.239999999999995,30.14,29.24,29.95,29.5,29.7,29.65,29.85,29.4,{"$f":"AJ22-AG22","v":-0.30000000000000071},{"$f":"AI22-AF22","v":0.35000000000000142},{"$f":"AH22-AE22","v":-0.30000000000000071},{"$f":"IF(E22>0,1,0)","v":0},{"$f":"IF(L22>0,1,0)","v":0},{"$f":"IF(N22>0,1,0)","v":0},{"$f":"RTD(\"sysq.rtd\",\"\",\"1504`001.1\")","v":29.65},{"$f":"RTD(\"sysq.rtd\",\"\",\"1504`002.1\")","v":29.7}]
["1536","和大","汽車組件",{"$f":"RTD(\"sysq.rtd\",\"\",\"1536`003.1\")","v":98.4},{"$f":"RTD(\"sysq.rtd\",\"\",\"1536`010.1\")","v":-0.3},{"$f":"RTD(\"sysq.rtd\",\"\",\"1536`005.1\")","v":1},{"$f":"RTD(\"sysq.rtd\",\"\",\"1536`029.1\")","v":0.47},-0.91,-14.43,{"$f":"X23/$L$4*100","v":6.4064751159207345E-2},{"$f":"(E23/100)*(J23/100)*$D$3","v":-2.4316416949988737E-2},{"$f":"(D23-AC23)/AC23","v":-1.5310717502251587E-2},null,{"$f":"(AD23-D23)/D23","v":-1.9105691056910665E-2},{"$f":"AA23-AB23","v":0.57999999999999829},-0.1014,-3.85E-2,-3.8899999999999997E-2,-4.1300000000000003E-2,null,2,4.4000000000000004,-27.32,250.88,64.739999999999995,2.0299999999999998,59.03,58.45,99.93,96.52,98.6,96,99.5,98.4,98.7,94.2,{"$f":"AJ23-AG23","v":-5.2999999999999972},{"$f":"AI23-AF23","v":2.7000000000000028},{"$f":"AH23-AE23","v":-0.19999999999998863},{"$f":"IF(E23>0,1,0)","v":0},{"$f":"IF(L23>0,1,0)","v":0},{"$f":"IF(N23>0,1,0)","v":0},{"$f":"RTD(\"sysq.rtd\",\"\",\"1536`001.1\")","v":98.3},{"$f":"RTD(\"sysq.rtd\",\"\",\"1536`002.1\")","v":98.4}]
["1590","亞德客-KY","工具機",{"$f":"RTD(\"sysq.rtd\",\"\",\"1590`003.1\")","v":673},{"$f":"RTD(\"sysq.rtd\",\"\",\"1590`010.1\")","v":3.38},{"$f":"RTD(\"sysq.rtd\",\"\",\"1590`005.1\")","v":2},{"$f":"RTD(\"sysq.rtd\",\"\",\"1590`029.1\")","v":2.15},3.38,44.27,{"$f":"X24/$L$4*100","v":0.32485129102424443},{"$f":"(E24/100)*(J24/100)*$D$3","v":1.3891862645050941},{"$f":"(D24-AC24)/AC24","v":-7.2683430933517049E-2},null,{"$f":"(AD24-D24)/D24","v":-7.3179791976225858E-2},-1.095,1.3109999999999999,-0.01,6.8517000000000001,-0.59740000000000004,null,-2,3.9,31.42,1272.1300000000001,42.57,0.73,53.66,56.91,725.75,623.75,651,643,665,673,651,634,{"$f":"AJ24-AG24","v":-31},{"$f":"AI24-AF24","v":8},{"$f":"AH24-AE24","v":22},{"$f":"IF(E24>0,1,0)","v":1},{"$f":"IF(L24>0,1,0)","v":0},{"$f":"IF(N24>0,1,0)","v":0},{"$f":"RTD(\"sysq.rtd\",\"\",\"1590`001.1\")","v":673},{"$f":"RTD(\"sysq.rtd\",\"\",\"1590`002.1\")","v":677}]
["1605","華新","電線電纜",{"$f":"RTD(\"sysq.rtd\",\"\",\"1605`003.1\")","v":16.600000000000001},{"$f":"RTD(\"sysq.rtd\",\"\",\"1605`010.1\")","v":-2.06},{"$f":"RTD(\"sysq.rtd\",\"\",\"1605`005.1\")","v":40},{"$f":"RTD(\"sysq.rtd\",\"\",\"1605`029.1\")","v":0.78},0.61,7.79,{"$f":"X25/$L$4*100","v":0.14098943881545584},{"$f":"(E25/100)*(J25/100)*$D$3","v":-0.36746246625798834},{"$f":"(D25-AC25)/AC25","v":-4.0462427745664699E-2},null,{"$f":"(AD25-D25)/D25","v":-3.012048192771084E-2},{"$f":"AA25-AB25","v":-3.8700000000000045},-1.1607000000000001,1.5E-3,0.18060000000000001,-1E-3,null,3142,1,-10.99,552.12,13.61,3.01,75.56,79.430000000000007,17.3,16.100000000000001,16.95,16.55,16.5,16.600000000000001,16.95,16.3,{"$f":"AJ25-AG25","v":-0.19999999999999929},{"$f":"AI25-AF25","v":0.39999999999999858},{"$f":"AH25-AE25","v":-0.34999999999999787},{"$f":"IF(E25>0,1,0)","v":0},{"$f":"IF(L25>0,1,0)","v":0},{"$f":"IF(N25>0,1,0)","v":0},{"$f":"RTD(\"sysq.rtd\",\"\",\"1605`001.1\")","v":16.600000000000001},{"$f":"RTD(\"sysq.rtd\",\"\",\"1605`002.1\")","v":16.649999999999999}]
["1707","葡萄王","保健食品",{"$f":"RTD(\"sysq.rtd\",\"\",\"1707`003.1\")","v":178},{"$f":"RTD(\"sysq.rtd\",\"\",\"1707`010.1\")","v":-0.28000000000000003},{"$f":"RTD(\"sysq.rtd\",\"\",\"1707`005.1\")","v":"-"},{"$f":"RTD(\"sysq.rtd\",\"\",\"1707`029.1\")","v":0.56000000000000005},-1.39,-8.7200000000000006,{"$f":"X26/$L$4*100","v":6.1947815623852473E-2},{"$f":"(E26/100)*(J26/100)*$D$3","v":-2.1945385371643485E-2},{"$f":"(D26-AC26)/AC26","v":-9.0742080944162754E-3},null,{"$f":"(AD26-D26)/D26","v":-7.6966292134831712E-3},{"$f":"AA26-AB26","v":-4.3000000000000007},-0.12559999999999999,2.2000000000000001E-3,-0.69720000000000004,-9.5799999999999996E-2,null,-1,-7.23,-2.0699999999999998,242.59,18.920000000000002,3.64,24.68,28.98,179.63,176.63,178.5,178.5,181.5,178,178.5,178.5,null,null,null,null,null,null,{"$f":"RTD(\"sysq.rtd\",\"\",\"1707`001.1\")","v":178},{"$f":"RTD(\"sysq.rtd\",\"\",\"1707`002.1\")","v":178.5}]
["1717","長興","化學基礎原料",{"$f":"RTD(\"sysq.rtd\",\"\",\"1717`003.1\")","v":35.299999999999997},{"$f":"RTD(\"sysq.rtd\",\"\",\"1717`010.1\")","v":5.85},{"$f":"RTD(\"sysq.rtd\",\"\",\"1717`005.1\")","v":82},{"$f":"RTD(\"sysq.rtd\",\"\",\"1717`029.1\")","v":3.56},2.62,32.71,{"$f":"X27/$L$4*100","v":0.11180177516152806},{"$f":"(E27/100)*(J27/100)*$D$3","v":0.82749189471603712},{"$f":"(D27-AC27)/AC27","v":-5.7409879839786529E-2},null,{"$f":"(AD27-D27)/D27","v":-7.5070821529745008E-2},{"$f":"AA27-AB27","v":12.419999999999995},-4.2000000000000003E-2,0.154,0.23669999999999999,0.15329999999999999,null,-198,11.04,-8.5500000000000007,437.82,22.06,4.2,45.16,32.74,37.450000000000003,32.65,33.6,32.799999999999997,34.700000000000003,35.299999999999997,33.35,32.200000000000003,{"$f":"AJ27-AG27","v":-2.5},{"$f":"AI27-AF27","v":0.55000000000000426},{"$f":"AH27-AE27","v":1.6999999999999957},{"$f":"IF(E27>0,1,0)","v":1},{"$f":"IF(L27>0,1,0)","v":0},{"$f":"IF(N27>0,1,0)","v":0},{"$f":"RTD(\"sysq.rtd\",\"\",\"1717`001.1\")","v":35.25},{"$f":"RTD(\"sysq.rtd\",\"\",\"1717`002.1\")","v":35.35}]
["1722","台肥","化學一般應用",{"$f":"RTD(\"sysq.rtd\",\"\",\"1722`003.1\")","v":56.9},{"$f":"RTD(\"sysq.rtd\",\"\",\"1722`010.1\")","v":-0.52},{"$f":"RTD(\"sysq.rtd\",\"\",\"1722`005.1\")","v":1},{"$f":"RTD(\"sysq.rtd\",\"\",\"1722`029.1\")","v":0.47},-3.72,14.83,{"$f":"X28/$L$4*100","v":0.14239391956870695},{"$f":"(E28/100)*(J28/100)*$D$3","v":-9.3681529259930577E-2},{"$f":"(D28-AC28)/AC28","v":-1.6421780466724337E-2},null,{"$f":"(AD28-D28)/D28","v":-1.1423550087873437E-2},{"$f":"AA28-AB28","v":-11.899999999999999},-0.19400000000000001,2.9999999999999997E-4,-1.0858000000000001,1.4458,null,-194,21.26,-6.09,557.62,21.72,3.85,44.96,56.86,57.85,56.25,57.2,56.7,58.6,56.9,57.2,56.7,{"$f":"AJ28-AG28","v":-1.8999999999999986},{"$f":"AI28-AF28","v":0.5},{"$f":"AH28-AE28","v":-0.30000000000000426},{"$f":"IF(E28>0,1,0)","v":0},{"$f":"IF(L28>0,1,0)","v":0},{"$f":"IF(N28>0,1,0)","v":0},{"$f":"RTD(\"sysq.rtd\",\"\",\"1722`001.1\")","v":56.9},{"$f":"RTD(\"sysq.rtd\",\"\",\"1722`002.1\")","v":57}]
["1723","中碳","其他化工",{"$f":"RTD(\"sysq.rtd\",\"\",\"1723`003.1\")","v":93.1},{"$f":"RTD(\"sysq.rtd\",\"\",\"1723`010.1\")","v":-0.43},{"$f":"RTD(\"sysq.rtd\",\"\",\"1723`005.1\")","v":1},{"$f":"RTD(\"sysq.rtd\",\"\",\"1723`029.1\")","v":0.94},-0.75,-24,{"$f":"X29/$L$4*100","v":5.6322231806739363E-2},{"$f":"(E29/100)*(J29/100)*$D$3","v":-3.0641321703211259E-2},{"$f":"(D29-AC29)/AC29","v":-1.8450184501845018E-2},null,{"$f":"(AD29-D29)/D29","v":-1.5574650912996656E-2},{"$f":"AA29-AB29","v":3.1999999999999993},-3.2599999999999997E-2,8.0000000000000004E-4,-0.76049999999999995,8.0000000000000004E-4,null,5,-20.56,-55.74,220.56,23.69,5.35,31.54,28.34,94.85,91.65,93.5,92.2,94.5,93.1,93.5,92.2,{"$f":"AJ29-AG29","v":-2.2999999999999972},{"$f":"AI29-AF29","v":1.2999999999999972},{"$f":"AH29-AE29","v":-0.40000000000000568},{"$f":"IF(E29>0,1,0)","v":0},{"$f":"IF(L29>0,1,0)","v":0},{"$f":"IF(N29>0,1,0)","v":0},{"$f":"RTD(\"sysq.rtd\",\"\",\"1723`001.1\")","v":93.1},{"$f":"RTD(\"sysq.rtd\",\"\",\"1723`002.1\")","v":93.2}]
["1789","神隆","製藥",{"$f":"RTD(\"sysq.rtd\",\"\",\"1789`003.1\")","v":31.9},{"$f":"RTD(\"sysq.rtd\",\"\",\"1789`010.1\")","v":0.16},{"$f":"RTD(\"sysq.rtd\",\"\",\"1789`005.1\")","v":3},{"$f":"RTD(\"sysq.rtd\",\"\",\"1789`029.1\")","v":0.71},-4.0599999999999996,19.920000000000002,{"$f":"X30/$L$4*100","v":6.4414594546835346E-2},{"$f":"(E30/100)*(J30/100)*$D$3","v":1.3039575203304975E-2},{"$f":"(D30-AC30)/AC30","v":-2.8919330289193388E-2},null,{"$f":"(AD30-D30)/D30","v":-3.2915360501567313E-2},{"$f":"AA30-AB30","v":-0.10000000000000142},8.8999999999999999E-3,1.1999999999999999E-3,0.43619999999999998,1.1999999999999999E-3,null,-4,61.29,36.200000000000003,252.25,91.14,0.85,35.659999999999997,35.76,32.85,30.85,31.85,31.4,33.5,31.9,31.85,31.2,{"$f":"AJ30-AG30","v":-2.3000000000000007},{"$f":"AI30-AF30","v":0.45000000000000284},{"$f":"AH30-AE30","v":4.9999999999997158E-2},{"$f":"IF(E30>0,1,0)","v":1},{"$f":"IF(L30>0,1,0)","v":0},{"$f":"IF(N30>0,1,0)","v":0},{"$f":"RTD(\"sysq.rtd\",\"\",\"1789`001.1\")","v":31.9},{"$f":"RTD(\"sysq.rtd\",\"\",\"1789`002.1\")","v":32}]
["1802","台玻","玻璃工業",{"$f":"RTD(\"sysq.rtd\",\"\",\"1802`003.1\")","v":11},{"$f":"RTD(\"sysq.rtd\",\"\",\"1802`010.1\")","v":0.92},{"$f":"RTD(\"sysq.rtd\",\"\",\"1802`005.1\")","v":4},{"$f":"RTD(\"sysq.rtd\",\"\",\"1802`029.1\")","v":0.73},4.76,-3.51,{"$f":"X31/$L$4*100","v":8.1687154210454541E-2},{"$f":"(E31/100)*(J31/100)*$D$3","v":9.5082540506501723E-2},{"$f":"(D31-AC31)/AC31","v":-3.5087719298245647E-2},null,{"$f":"(AD31-D31)/D31","v":-3.6363636363636397E-2},{"$f":"AA31-AB31","v":-7.9699999999999989},3.2599999999999997E-2,4.0000000000000002E-4,-7.0599999999999996E-2,4.0000000000000002E-4,null,343,11.04,-0.05,319.89,null,0,42.81,50.78,11.4,10.6,11,11.1,11.75,11,10.9,10.8,{"$f":"AJ31-AG31","v":-0.94999999999999929},{"$f":"AI31-AF31","v":-0.19999999999999929},{"$f":"AH31-AE31","v":0},{"$f":"IF(E31>0,1,0)","v":1},{"$f":"IF(L31>0,1,0)","v":0},{"$f":"IF(N31>0,1,0)","v":0},{"$f":"RTD(\"sysq.rtd\",\"\",\"1802`001.1\")","v":11},{"$f":"RTD(\"sysq.rtd\",\"\",\"1802`002.1\")","v":11.05}]
["2002","中鋼","平板鋼",{"$f":"RTD(\"sysq.rtd\",\"\",\"2002`003.1\")","v":20},{"$f":"RTD(\"sysq.rtd\",\"\",\"2002`010.1\")","v":0},{"$f":"RTD(\"sysq.rtd\",\"\",\"2002`005.1\")","v":26},{"$f":"RTD(\"sysq.rtd\",\"\",\"2002`029.1\")","v":0.56999999999999995},-1.96,-16.32,{"$f":"X32/$L$4*100","v":0.80361069019248532},{"$f":"(E32/100)*(J32/100)*$D$3","v":0},{"$f":"(D32-AC32)/AC32","v":-6.458022851465425E-3},null,{"$f":"(AD32-D32)/D32","v":-3.9999999999999151E-3},{"$f":"AA32-AB32","v":-16.340000000000003},-0.15920000000000001,4.8999999999999998E-3,-2.9081000000000001,3.8199999999999998E-2,null,-1,3.22,-19.760000000000002,3146.97,null,2.5,40.479999999999997,56.82,20.13,19.920000000000002,20,20,20.05,20,20,19.8,{"$f":"AJ32-AG32","v":-0.25},{"$f":"AI32-AF32","v":0},{"$f":"AH32-AE32","v":0},{"$f":"IF(E32>0,1,0)","v":0},{"$f":"IF(L32>0,1,0)","v":0},{"$f":"IF(N32>0,1,0)","v":0},{"$f":"RTD(\"sysq.rtd\",\"\",\"2002`001.1\")","v":20},{"$f":"RTD(\"sysq.rtd\",\"\",\"2002`002.1\")","v":20.05}]
["2027","大成鋼","不銹鋼",{"$f":"RTD(\"sysq.rtd\",\"\",\"2027`003.1\")","v":21.45},{"$f":"RTD(\"sysq.rtd\",\"\",\"2027`010.1\")","v":0.47},{"$f":"RTD(\"sysq.rtd\",\"\",\"2027`005.1\")","v":6},{"$f":"RTD(\"sysq.rtd\",\"\",\"2027`029.1\")","v":0.7},0.47,-33.07,{"$f":"X33/$L$4*100","v":6.8931915369564847E-2},{"$f":"(E33/100)*(J33/100)*$D$3","v":4.0989949883019516E-2},{"$f":"(D33-AC33)/AC33","v":-2.0100502512562873E-2},null,{"$f":"(AD33-D33)/D33","v":-2.1445221445221485E-2},{"$f":"AA33-AB33","v":13.3},-4.9700000000000001E-2,-5.9999999999999995E-4,-0.93530000000000002,-5.9999999999999995E-4,null,-302,4.1500000000000004,-33.049999999999997,269.94,null,5.62,35.81,22.51,21.89,20.99,21.35,20.65,20.8,21.45,21.35,20.55,{"$f":"AJ33-AG33","v":-0.25},{"$f":"AI33-AF33","v":0.70000000000000284},{"$f":"AH33-AE33","v":9.9999999999997868E-2},{"$f":"IF(E33>0,1,0)","v":1},{"$f":"IF(L33>0,1,0)","v":0},{"$f":"IF(N33>0,1,0)","v":0},{"$f":"RTD(\"sysq.rtd\",\"\",\"2027`001.1\")","v":21.45},{"$f":"RTD(\"sysq.rtd\",\"\",\"2027`002.1\")","v":21.5}]
["2049","上銀","機械設備或組件",{"$f":"RTD(\"sysq.rtd\",\"\",\"2049`003.1\")","v":319},{"$f":"RTD(\"sysq.rtd\",\"\",\"2049`010.1\")","v":0.95},{"$f":"RTD(\"sysq.rtd\",\"\",\"2049`005.1\")","v":3},{"$f":"RTD(\"sysq.rtd\",\"\",\"2049`029.1\")","v":0.98},-4.2,13.52,{"$f":"X34/$L$4*100","v":0.25974722410763124},{"$f":"(E34/100)*(J34/100)*$D$3","v":0.3122005785439263},{"$f":"(D34-AC34)/AC34","v":-4.7419971333014801E-2},null,{"$f":"(AD34-D34)/D34","v":-4.7398119122257068E-2},{"$f":"AA34-AB34","v":-10.5},-0.44019999999999998,0.34460000000000002,0.46650000000000003,1.5417000000000001,null,13,1.52,-3.51,1017.18,114.34,0.66,50.17,60.67,334.88,303.88,317,320,331.5,319,316,311.5,{"$f":"AJ34-AG34","v":-20},{"$f":"AI34-AF34","v":-4},{"$f":"AH34-AE34","v":2},{"$f":"IF(E34>0,1,0)","v":1},{"$f":"IF(L34>0,1,0)","v":0},{"$f":"IF(N34>0,1,0)","v":0},{"$f":"RTD(\"sysq.rtd\",\"\",\"2049`001.1\")","v":318.5},{"$f":"RTD(\"sysq.rtd\",\"\",\"2049`002.1\")","v":319}]
["2059","川湖","其他電零組件",{"$f":"RTD(\"sysq.rtd\",\"\",\"2059`003.1\")","v":320.5},{"$f":"RTD(\"sysq.rtd\",\"\",\"2059`010.1\")","v":-2.29},{"$f":"RTD(\"sysq.rtd\",\"\",\"2059`005.1\")","v":"-"},{"$f":"RTD(\"sysq.rtd\",\"\",\"2059`029.1\")","v":1.69},-2.14,-11.46,{"$f":"X35/$L$4*100","v":7.7994646630088885E-2},{"$f":"(E35/100)*(J35/100)*$D$3","v":-0.22597451363852958},{"$f":"(D35-AC35)/AC35","v":-4.4367583040133565E-2},null,{"$f":"(AD35-D35)/D35","v":-3.1575663026521074E-2},{"$f":"AA35-AB35","v":-2.0799999999999983},-0.51919999999999999,8.9999999999999998E-4,-1.8495999999999999,-5.1999999999999998E-2,null,10,8.68,-1.71,305.43,22.04,2.44,24.73,26.81,335.38,310.38,331,330,333,320.5,328,329.5,{"$f":"AJ35-AG35","v":-3.5},{"$f":"AI35-AF35","v":-2},{"$f":"AH35-AE35","v":-10.5},{"$f":"IF(E35>0,1,0)","v":0},{"$f":"IF(L35>0,1,0)","v":0},{"$f":"IF(N35>0,1,0)","v":0},{"$f":"RTD(\"sysq.rtd\",\"\",\"2059`001.1\")","v":320.5},{"$f":"RTD(\"sysq.rtd\",\"\",\"2059`002.1\")","v":323}]
["2101","南港","輪胎",{"$f":"RTD(\"sysq.rtd\",\"\",\"2101`003.1\")","v":48.1},{"$f":"RTD(\"sysq.rtd\",\"\",\"2101`010.1\")","v":-1.64},{"$f":"RTD(\"sysq.rtd\",\"\",\"2101`005.1\")","v":1},{"$f":"RTD(\"sysq.rtd\",\"\",\"2101`029.1\")","v":1},-3.32,-0.41,{"$f":"X36/$L$4*100","v":0.10243005813528878},{"$f":"(E36/100)*(J36/100)*$D$3","v":-0.21253499566653844},{"$f":"(D36-AC36)/AC36","v":-3.7037037037037063E-2},null,{"$f":"(AD36-D36)/D36","v":-2.3908523908523879E-2},-0.23050000000000001,-2.5999999999999999E-2,-8.9999999999999998E-4,2.1697000000000002,-8.9999999999999998E-4,null,-9,11.04,7.83,401.12,39.11,2.56,66.540000000000006,68.81,49.95,46.95,49.1,48.75,50.1,48.1,48.9,47.7,{"$f":"AJ36-AG36","v":-2.3999999999999986},{"$f":"AI36-AF36","v":0.14999999999999858},{"$f":"AH36-AE36","v":-1},{"$f":"IF(E36>0,1,0)","v":0},{"$f":"IF(L36>0,1,0)","v":0},{"$f":"IF(N36>0,1,0)","v":0},{"$f":"RTD(\"sysq.rtd\",\"\",\"2101`001.1\")","v":48.1},{"$f":"RTD(\"sysq.rtd\",\"\",\"2101`002.1\")","v":48.2}]
["2105","正新","輪胎",{"$f":"RTD(\"sysq.rtd\",\"\",\"2105`003.1\")","v":37.65},{"$f":"RTD(\"sysq.rtd\",\"\",\"2105`010.1\")","v":-1.18},{"$f":"RTD(\"sysq.rtd\",\"\",\"2105`005.1\")","v":4},{"$f":"RTD(\"sysq.rtd\",\"\",\"2105`029.1\")","v":0.86},-2.84,-9.93,{"$f":"X37/$L$4*100","v":0.31163895753820575},{"$f":"(E37/100)*(J37/100)*$D$3","v":-0.46525701871125874},{"$f":"(D37-AC37)/AC37","v":-2.9389017788089729E-2},null,{"$f":"(AD37-D37)/D37","v":-2.5498007968127515E-2},{"$f":"AA37-AB37","v":-8.11},-6.3799999999999996E-2,0.16719999999999999,0.55920000000000003,0.51429999999999998,null,31,11.36,-2.2999999999999998,1220.3900000000001,121.45,2.62,65.34,73.45,38.79,36.69,38.35,37.85,38.25,37.65,38.1,37.450000000000003,{"$f":"AJ37-AG37","v":-0.79999999999999716},{"$f":"AI37-AF37","v":0.25},{"$f":"AH37-AE37","v":-0.70000000000000284},{"$f":"IF(E37>0,1,0)","v":0},{"$f":"IF(L37>0,1,0)","v":0},{"$f":"IF(N37>0,1,0)","v":0},{"$f":"RTD(\"sysq.rtd\",\"\",\"2105`001.1\")","v":37.65},{"$f":"RTD(\"sysq.rtd\",\"\",\"2105`002.1\")","v":37.75}]
["2201","裕隆","汽車",{"$f":"RTD(\"sysq.rtd\",\"\",\"2201`003.1\")","v":24.85},{"$f":"RTD(\"sysq.rtd\",\"\",\"2201`010.1\")","v":-1},{"$f":"RTD(\"sysq.rtd\",\"\",\"2201`005.1\")","v":23},{"$f":"RTD(\"sysq.rtd\",\"\",\"2201`029.1\")","v":0.6},-1.19,27.11,{"$f":"X38/$L$4*100","v":9.9812616731502601E-2},{"$f":"(E38/100)*(J38/100)*$D$3","v":-0.12628292268869709},{"$f":"(D38-AC38)/AC38","v":-3.2697547683923696E-2},null,{"$f":"(AD38-D38)/D38","v":-4.265593561368218E-2},{"$f":"AA38-AB38","v":-5.9999999999988063E-2},0.1178,8.9999999999999998E-4,3.3083999999999998,0.02,null,137,14.75,-3.96,390.87,null,0,67.290000000000006,67.349999999999994,25.69,23.79,25.1,24.15,24.4,24.85,25.1,23.3,{"$f":"AJ38-AG38","v":-1.0999999999999979},{"$f":"AI38-AF38","v":0.95000000000000284},{"$f":"AH38-AE38","v":-0.25},{"$f":"IF(E38>0,1,0)","v":0},{"$f":"IF(L38>0,1,0)","v":0},{"$f":"IF(N38>0,1,0)","v":0},{"$f":"RTD(\"sysq.rtd\",\"\",\"2201`001.1\")","v":24.8},{"$f":"RTD(\"sysq.rtd\",\"\",\"2201`002.1\")","v":24.85}]
["2207","和泰車","汽車",{"$f":"RTD(\"sysq.rtd\",\"\",\"2207`003.1\")","v":635},{"$f":"RTD(\"sysq.rtd\",\"\",\"2207`010.1\")","v":0.79},{"$f":"RTD(\"sysq.rtd\",\"\",\"2207`005.1\")","v":1},{"$f":"RTD(\"sysq.rtd\",\"\",\"2207`029.1\")","v":0.85},-1.0900000000000001,-7.03,{"$f":"X39/$L$4*100","v":0.88565024139193749},{"$f":"(E39/100)*(J39/100)*$D$3","v":0.88521450147317271},{"$f":"(D39-AC39)/AC39","v":-3.1273836765827616E-2},null,{"$f":"(AD39-D39)/D39","v":-4.3307086614173228E-2},{"$f":"AA39-AB39","v":10.620000000000001},-0.48370000000000002,0.64249999999999996,-2.2391999999999999,0.27060000000000001,null,-14,11.79,8.93,3468.24,26.82,2.2200000000000002,42.31,31.69,655.5,607.5,631,610,618,635,630,598,{"$f":"AJ39-AG39","v":-20},{"$f":"AI39-AF39","v":20},{"$f":"AH39-AE39","v":4},{"$f":"IF(E39>0,1,0)","v":1},{"$f":"IF(L39>0,1,0)","v":0},{"$f":"IF(N39>0,1,0)","v":0},{"$f":"RTD(\"sysq.rtd\",\"\",\"2207`001.1\")","v":633},{"$f":"RTD(\"sysq.rtd\",\"\",\"2207`002.1\")","v":635}]
["2227","裕日車","汽車",{"$f":"RTD(\"sysq.rtd\",\"\",\"2227`003.1\")","v":249},{"$f":"RTD(\"sysq.rtd\",\"\",\"2227`010.1\")","v":0.2},{"$f":"RTD(\"sysq.rtd\",\"\",\"2227`005.1\")","v":"-"},{"$f":"RTD(\"sysq.rtd\",\"\",\"2227`029.1\")","v":0.51},-0.6,-13.24,{"$f":"X40/$L$4*100","v":0.19075402230519725},{"$f":"(E40/100)*(J40/100)*$D$3","v":4.8268397804107112E-2},{"$f":"(D40-AC40)/AC40","v":-5.9880239520958087E-3},null,{"$f":"(AD40-D40)/D40","v":-1.0040160642570281E-2},{"$f":"AA40-AB40","v":5.52},1.2500000000000001E-2,4.0000000000000002E-4,4.2200000000000001E-2,4.0000000000000002E-4,null,null,22.3,-6.99,747,12.76,8.56,33.03,27.51,250.5,246.5,247,249.5,251,249,248.5,246,{"$f":"AJ40-AG40","v":-5},{"$f":"AI40-AF40","v":-1},{"$f":"AH40-AE40","v":2},{"$f":"IF(E40>0,1,0)","v":1},{"$f":"IF(L40>0,1,0)","v":0},{"$f":"IF(N40>0,1,0)","v":0},{"$f":"RTD(\"sysq.rtd\",\"\",\"2227`001.1\")","v":248.5},{"$f":"RTD(\"sysq.rtd\",\"\",\"2227`002.1\")","v":249}]
["2301","光寶科","電源供應器",{"$f":"RTD(\"sysq.rtd\",\"\",\"2301`003.1\")","v":46.9},{"$f":"RTD(\"sysq.rtd\",\"\",\"2301`010.1\")","v":-0.21},{"$f":"RTD(\"sysq.rtd\",\"\",\"2301`005.1\")","v":"-"},{"$f":"RTD(\"sysq.rtd\",\"\",\"2301`029.1\")","v":0.73},-1.99,-4.96,{"$f":"X41/$L$4*100","v":0.28154987260082764},{"$f":"(E41/100)*(J41/100)*$D$3","v":-7.4805548751059089E-2},{"$f":"(D41-AC41)/AC41","v":-9.503695881731845E-3},null,{"$f":"(AD41-D41)/D41","v":-7.4626865671642093E-3},{"$f":"AA41-AB41","v":-6.4600000000000009},-0.38969999999999999,0.2039,-0.70489999999999997,0.72460000000000002,null,-52,-8.19,-14.52,1102.56,10.35,6.81,27.72,34.18,47.35,46.55,47,47.15,48,46.9,47,46.9,{"$f":"AJ41-AG41","v":-1.1000000000000014},{"$f":"AI41-AF41","v":-0.14999999999999858},{"$f":"AH41-AE41","v":-0.10000000000000142},{"$f":"IF(E41>0,1,0)","v":0},{"$f":"IF(L41>0,1,0)","v":0},{"$f":"IF(N41>0,1,0)","v":0},{"$f":"RTD(\"sysq.rtd\",\"\",\"2301`001.1\")","v":46.9},{"$f":"RTD(\"sysq.rtd\",\"\",\"2301`002.1\")","v":46.95}]
["2303","聯電","晶圓代工",{"$f":"RTD(\"sysq.rtd\",\"\",\"2303`003.1\")","v":22.6},{"$f":"RTD(\"sysq.rtd\",\"\",\"2303`010.1\")","v":3.67},{"$f":"RTD(\"sysq.rtd\",\"\",\"2303`005.1\")","v":154},{"$f":"RTD(\"sysq.rtd\",\"\",\"2303`029.1\")","v":0.76},-6.42,37.39,{"$f":"X42/$L$4*100","v":0.7053710919046241},{"$f":"(E42/100)*(J42/100)*$D$3","v":3.2752383051032705},{"$f":"(D42-AC42)/AC42","v":-2.7956989247311766E-2},null,{"$f":"(AD42-D42)/D42","v":-4.2035398230088616E-2},{"$f":"AA42-AB42","v":-1.0199999999999996},4.2662000000000004,-1.1685000000000001,-0.60140000000000005,-3.6981000000000002,null,10354,6.26,12.87,2762.26,17.52,3.67,23.42,24.44,23.25,21.65,21.95,22.45,22.8,22.6,21.8,21.8,{"$f":"AJ42-AG42","v":-1},{"$f":"AI42-AF42","v":-0.64999999999999858},{"$f":"AH42-AE42","v":0.65000000000000213},{"$f":"IF(E42>0,1,0)","v":1},{"$f":"IF(L42>0,1,0)","v":0},{"$f":"IF(N42>0,1,0)","v":0},{"$f":"RTD(\"sysq.rtd\",\"\",\"2303`001.1\")","v":22.55},{"$f":"RTD(\"sysq.rtd\",\"\",\"2303`002.1\")","v":22.6}]
["2308","台達電","電源供應器",{"$f":"RTD(\"sysq.rtd\",\"\",\"2308`003.1\")","v":197},{"$f":"RTD(\"sysq.rtd\",\"\",\"2308`010.1\")","v":3.14},{"$f":"RTD(\"sysq.rtd\",\"\",\"2308`005.1\")","v":8},{"$f":"RTD(\"sysq.rtd\",\"\",\"2308`029.1\")","v":0.47},-3.43,30.03,{"$f":"X43/$L$4*100","v":1.3067186784193616},{"$f":"(E43/100)*(J43/100)*$D$3","v":5.1912378818795943},{"$f":"(D43-AC43)/AC43","v":-3.0750307503075031E-2},null,{"$f":"(AD43-D43)/D43","v":-4.9492385786802033E-2},{"$f":"AA43-AB43","v":-3.2999999999999972},4.5324,7.3000000000000001E-3,21.601299999999998,-3.2517,null,-244,8.27,4.24,5117.16,25.75,2.62,40.07,43.37,203.25,187.25,190,195,201.5,197,191,190.5,{"$f":"AJ43-AG43","v":-11},{"$f":"AI43-AF43","v":-4},{"$f":"AH43-AE43","v":7},{"$f":"IF(E43>0,1,0)","v":1},{"$f":"IF(L43>0,1,0)","v":0},{"$f":"IF(N43>0,1,0)","v":0},{"$f":"RTD(\"sysq.rtd\",\"\",\"2308`001.1\")","v":196.5},{"$f":"RTD(\"sysq.rtd\",\"\",\"2308`002.1\")","v":197}]
["2313","華通","PCB-高密度板",{"$f":"RTD(\"sysq.rtd\",\"\",\"2313`003.1\")","v":45.45},{"$f":"RTD(\"sysq.rtd\",\"\",\"2313`010.1\")","v":0.66},{"$f":"RTD(\"sysq.rtd\",\"\",\"2313`005.1\")","v":37},{"$f":"RTD(\"sysq.rtd\",\"\",\"2313`029.1\")","v":0.56999999999999995},-9.4600000000000009,0.78,{"$f":"X44/$L$4*100","v":0.13832347898564823},{"$f":"(E44/100)*(J44/100)*$D$3","v":0.11550453130434381},{"$f":"(D44-AC44)/AC44","v":-2.7807486631015982E-2},null,{"$f":"(AD44-D44)/D44","v":-4.1804180418041924E-2},{"$f":"AA44-AB44","v":-4.9399999999999977},0.25679999999999997,-0.67959999999999998,-2.2989999999999999,-1.7237,null,1553,14.92,6.23,541.67999999999995,11.19,2.66,19.14,24.08,46.75,43.55,45.5,45.35,47.3,45.45,45.15,44.05,{"$f":"AJ44-AG44","v":-3.25},{"$f":"AI44-AF44","v":-0.20000000000000284},{"$f":"AH44-AE44","v":-4.9999999999997158E-2},{"$f":"IF(E44>0,1,0)","v":1},{"$f":"IF(L44>0,1,0)","v":0},{"$f":"IF(N44>0,1,0)","v":0},{"$f":"RTD(\"sysq.rtd\",\"\",\"2313`001.1\")","v":45.4},{"$f":"RTD(\"sysq.rtd\",\"\",\"2313`002.1\")","v":45.45}]
["2317","鴻海","組裝代工",{"$f":"RTD(\"sysq.rtd\",\"\",\"2317`003.1\")","v":77.599999999999994},{"$f":"RTD(\"sysq.rtd\",\"\",\"2317`010.1\")","v":-0.77},{"$f":"RTD(\"sysq.rtd\",\"\",\"2317`005.1\")","v":32},{"$f":"RTD(\"sysq.rtd\",\"\",\"2317`029.1\")","v":0.89},-3.24,-14.54,{"$f":"X45/$L$4*100","v":2.7470826381153604},{"$f":"(E45/100)*(J45/100)*$D$3","v":-2.6762188943825365},{"$f":"(D45-AC45)/AC45","v":-1.2722646310432571E-2},null,{"$f":"(AD45-D45)/D45","v":-7.7319587628865254E-3},{"$f":"AA45-AB45","v":-5.25},-3.3873000000000002,1.2800000000000001E-2,3.5811999999999999,0.17499999999999999,null,-326,11.87,1.34,10757.68,10.4,5.37,34.4,39.65,78.599999999999994,77,78.2,78.2,79.599999999999994,77.599999999999994,78.2,77.099999999999994,{"$f":"AJ45-AG45","v":-2.5},{"$f":"AI45-AF45","v":0},{"$f":"AH45-AE45","v":-0.60000000000000853},{"$f":"IF(E45>0,1,0)","v":0},{"$f":"IF(L45>0,1,0)","v":0},{"$f":"IF(N45>0,1,0)","v":0},{"$f":"RTD(\"sysq.rtd\",\"\",\"2317`001.1\")","v":77.599999999999994},{"$f":"RTD(\"sysq.rtd\",\"\",\"2317`002.1\")","v":77.7}]
["2324","仁寶","PC/NB/平板",{"$f":"RTD(\"sysq.rtd\",\"\",\"2324`003.1\")","v":18.45},{"$f":"RTD(\"sysq.rtd\",\"\",\"2324`010.1\")","v":0.27},{"$f":"RTD(\"sysq.rtd\",\"\",\"2324`005.1\")","v":58},{"$f":"RTD(\"sysq.rtd\",\"\",\"2324`029.1\")","v":0.38},-1.34,-2.12,{"$f":"X46/$L$4*100","v":0.20763843456064524},{"$f":"(E46/100)*(J46/100)*$D$3","v":7.0930119799654662E-2},{"$f":"(D46-AC46)/AC46","v":-8.5975282106394487E-3},null,{"$f":"(AD46-D46)/D46","v":-7.5880758807588388E-3},1.8036000000000001,-0.14419999999999999,0.19409999999999999,-1.3474999999999999,0.57420000000000004,null,40,9.8800000000000008,14.35,813.12,12.55,6.52,27.05,30.32,18.61,18.309999999999999,18.399999999999999,18.350000000000001,18.55,18.45,18.399999999999999,18.350000000000001,{"$f":"AJ46-AG46","v":-0.19999999999999929},{"$f":"AI46-AF46","v":4.9999999999997158E-2},{"$f":"AH46-AE46","v":5.0000000000000711E-2},{"$f":"IF(E46>0,1,0)","v":1},{"$f":"IF(L46>0,1,0)","v":0},{"$f":"IF(N46>0,1,0)","v":0},{"$f":"RTD(\"sysq.rtd\",\"\",\"2324`001.1\")","v":18.45},{"$f":"RTD(\"sysq.rtd\",\"\",\"2324`002.1\")","v":18.5}]
["2327","國巨","電阻",{"$f":"RTD(\"sysq.rtd\",\"\",\"2327`003.1\")","v":333.5},{"$f":"RTD(\"sysq.rtd\",\"\",\"2327`010.1\")","v":-3.05},{"$f":"RTD(\"sysq.rtd\",\"\",\"2327`005.1\")","v":16},{"$f":"RTD(\"sysq.rtd\",\"\",\"2327`029.1\")","v":0.78},-12.01,-23.68,{"$f":"X47/$L$4*100","v":0.4204198222795591},{"$f":"(E47/100)*(J47/100)*$D$3","v":-1.6223412354016995},{"$f":"(D47-AC47)/AC47","v":-3.5792760494969343E-2},null,{"$f":"(AD47-D47)/D47","v":-2.584707646176913E-2},{"$f":"AA47-AB47","v":1.9600000000000009},-5.6516000000000002,0.1336,-7.8678999999999997,-2.6985000000000001,null,-6,54.41,107.38,1646.38,19.16,3.8,19.170000000000002,17.21,345.88,324.88,341.5,337,352,333.5,344,330,{"$f":"AJ47-AG47","v":-22},{"$f":"AI47-AF47","v":7},{"$f":"AH47-AE47","v":-8},{"$f":"IF(E47>0,1,0)","v":0},{"$f":"IF(L47>0,1,0)","v":0},{"$f":"IF(N47>0,1,0)","v":0},{"$f":"RTD(\"sysq.rtd\",\"\",\"2327`001.1\")","v":333.5},{"$f":"RTD(\"sysq.rtd\",\"\",\"2327`002.1\")","v":334}]
["2330","台積電","晶圓代工",{"$f":"RTD(\"sysq.rtd\",\"\",\"2330`003.1\")","v":428},{"$f":"RTD(\"sysq.rtd\",\"\",\"2330`010.1\")","v":0.82},{"$f":"RTD(\"sysq.rtd\",\"\",\"2330`005.1\")","v":658},{"$f":"RTD(\"sysq.rtd\",\"\",\"2330`029.1\")","v":1.1599999999999999},-1.61,29.31,{"$f":"X48/$L$4*100","v":28.340386380316023},{"$f":"(E48/100)*(J48/100)*$D$3","v":29.402130615668181},{"$f":"(D48-AC48)/AC48","v":-2.367808750399196E-2},null,{"$f":"(AD48-D48)/D48","v":-2.014018691588786E-2},{"$f":"AA48-AB48","v":3.2700000000000031},10.313000000000001,0.18360000000000001,49.458100000000002,-0.62209999999999999,null,-106,-12.34,25.02,110982.03,24.4,2.2400000000000002,57.28,54.01,438.38,419.38,427.5,421.5,427,428,424.5,415,{"$f":"AJ48-AG48","v":-12},{"$f":"AI48-AF48","v":3},{"$f":"AH48-AE48","v":0.5},{"$f":"IF(E48>0,1,0)","v":1},{"$f":"IF(L48>0,1,0)","v":0},{"$f":"IF(N48>0,1,0)","v":0},{"$f":"RTD(\"sysq.rtd\",\"\",\"2330`001.1\")","v":428},{"$f":"RTD(\"sysq.rtd\",\"\",\"2330`002.1\")","v":429}]
["2337","旺宏","記憶體IC設計",{"$f":"RTD(\"sysq.rtd\",\"\",\"2337`003.1\")","v":29.25},{"$f":"RTD(\"sysq.rtd\",\"\",\"2337`010.1\")","v":0.86},{"$f":"RTD(\"sysq.rtd\",\"\",\"2337`005.1\")","v":56},{"$f":"RTD(\"sysq.rtd\",\"\",\"2337`029.1\")","v":0.88},-3.78,-21.37,{"$f":"X49/$L$4*100","v":0.13865289356231988},{"$f":"(E49/100)*(J49/100)*$D$3","v":0.15086433120414053},{"$f":"(D49-AC49)/AC49","v":-2.2719679251587029E-2},null,{"$f":"(AD49-D49)/D49","v":-1.8119658119658159E-2},{"$f":"AA49-AB49","v":9.7900000000000027},0.33019999999999999,1.5E-3,0.42730000000000001,6.9999999999999999E-4,null,-26,4.3899999999999997,3.43,542.97,10.52,4.0999999999999996,41.2,31.41,29.93,28.72,29.1,28.5,29.2,29.25,29,28.25,{"$f":"AJ49-AG49","v":-0.94999999999999929},{"$f":"AI49-AF49","v":0.5},{"$f":"AH49-AE49","v":0.14999999999999858},{"$f":"IF(E49>0,1,0)","v":1},{"$f":"IF(L49>0,1,0)","v":0},{"$f":"IF(N49>0,1,0)","v":0},{"$f":"RTD(\"sysq.rtd\",\"\",\"2337`001.1\")","v":29.25},{"$f":"RTD(\"sysq.rtd\",\"\",\"2337`002.1\")","v":29.3}]
["2344","華邦電","記憶體IC設計",{"$f":"RTD(\"sysq.rtd\",\"\",\"2344`003.1\")","v":11.85},{"$f":"RTD(\"sysq.rtd\",\"\",\"2344`010.1\")","v":1.28},{"$f":"RTD(\"sysq.rtd\",\"\",\"2344`005.1\")","v":40},{"$f":"RTD(\"sysq.rtd\",\"\",\"2344`029.1\")","v":0.59},-9.5399999999999991,-39.39,{"$f":"X50/$L$4*100","v":0.1204355013919681},{"$f":"(E50/100)*(J50/100)*$D$3","v":0.19503999534223107},{"$f":"(D50-AC50)/AC50","v":-2.8688524590163907E-2},null,{"$f":"(AD50-D50)/D50","v":-3.7974683544303736E-2},{"$f":"AA50-AB50","v":-2.2799999999999994},-0.65329999999999999,1E-3,-8.1508000000000003,1E-3,null,2960,-0.16,-4.7,471.63,47.4,0.85,15.65,17.93,12.2,11.4,11.7,11.85,12.2,11.85,11.7,11.8,{"$f":"AJ50-AG50","v":-0.39999999999999858},{"$f":"AI50-AF50","v":-0.15000000000000036},{"$f":"AH50-AE50","v":0.15000000000000036},{"$f":"IF(E50>0,1,0)","v":1},{"$f":"IF(L50>0,1,0)","v":0},{"$f":"IF(N50>0,1,0)","v":0},{"$f":"RTD(\"sysq.rtd\",\"\",\"2344`001.1\")","v":11.85},{"$f":"RTD(\"sysq.rtd\",\"\",\"2344`002.1\")","v":11.9}]
["2345","智邦","網路通訊設備",{"$f":"RTD(\"sysq.rtd\",\"\",\"2345`003.1\")","v":244},{"$f":"RTD(\"sysq.rtd\",\"\",\"2345`010.1\")","v":7.02},{"$f":"RTD(\"sysq.rtd\",\"\",\"2345`005.1\")","v":21},{"$f":"RTD(\"sysq.rtd\",\"\",\"2345`029.1\")","v":1.74},2.52,45.24,{"$f":"X51/$L$4*100","v":0.34799968743919241},{"$f":"(E51/100)*(J51/100)*$D$3","v":3.0908302159274252},{"$f":"(D51-AC51)/AC51","v":-5.3823483790910481E-2},null,{"$f":"(AD51-D51)/D51","v":-9.475409836065575E-2},{"$f":"AA51-AB51","v":13.160000000000004},4.7355,5.7000000000000002E-2,11.9076,0.42299999999999999,null,-61,-13.9,-9.67,1362.78,27.2,2.71,72.03,58.87,257.88,220.88,228,228,230,244,228,222,{"$f":"AJ51-AG51","v":-8},{"$f":"AI51-AF51","v":0},{"$f":"AH51-AE51","v":16},{"$f":"IF(E51>0,1,0)","v":1},{"$f":"IF(L51>0,1,0)","v":0},{"$f":"IF(N51>0,1,0)","v":0},{"$f":"RTD(\"sysq.rtd\",\"\",\"2345`001.1\")","v":243.5},{"$f":"RTD(\"sysq.rtd\",\"\",\"2345`002.1\")","v":244}]
["2347","聯強","3C賣場",{"$f":"RTD(\"sysq.rtd\",\"\",\"2347`003.1\")","v":45.05},{"$f":"RTD(\"sysq.rtd\",\"\",\"2347`010.1\")","v":2.85},{"$f":"RTD(\"sysq.rtd\",\"\",\"2347`005.1\")","v":4},{"$f":"RTD(\"sysq.rtd\",\"\",\"2347`029.1\")","v":0.5},-1.1000000000000001,20.13,{"$f":"X52/$L$4*100","v":0.19188016050916767},{"$f":"(E52/100)*(J52/100)*$D$3","v":0.69188532036716699},{"$f":"(D52-AC52)/AC52","v":-1.6160733784669184E-2},null,{"$f":"(AD52-D52)/D52","v":-2.5749167591564853E-2},{"$f":"AA52-AB52","v":-8.57},0.6915,0.14510000000000001,2.5583,0.53010000000000002,null,231,0.41,-1.66,751.41,10.53,5.94,52.7,61.27,45.79,43.89,44.3,44.7,45.45,45.05,43.8,44.1,{"$f":"AJ52-AG52","v":-1.3500000000000014},{"$f":"AI52-AF52","v":-0.90000000000000568},{"$f":"AH52-AE52","v":0.75},{"$f":"IF(E52>0,1,0)","v":1},{"$f":"IF(L52>0,1,0)","v":0},{"$f":"IF(N52>0,1,0)","v":0},{"$f":"RTD(\"sysq.rtd\",\"\",\"2347`001.1\")","v":45},{"$f":"RTD(\"sysq.rtd\",\"\",\"2347`002.1\")","v":45.05}]
["2352","佳世達","組裝代工",{"$f":"RTD(\"sysq.rtd\",\"\",\"2352`003.1\")","v":19.149999999999999},{"$f":"RTD(\"sysq.rtd\",\"\",\"2352`010.1\")","v":2.13},{"$f":"RTD(\"sysq.rtd\",\"\",\"2352`005.1\")","v":25},{"$f":"RTD(\"sysq.rtd\",\"\",\"2352`029.1\")","v":1.49},2.41,-10.09,{"$f":"X53/$L$4*100","v":9.6178841982636529E-2},{"$f":"(E53/100)*(J53/100)*$D$3","v":0.25919005296679959},{"$f":"(D53-AC53)/AC53","v":-2.5940996948118085E-2},null,{"$f":"(AD53-D53)/D53","v":-3.0809399477806785E-2},{"$f":"AA53-AB53","v":6.0000000000002274E-2},-6.9099999999999995E-2,0.3861,-4.9599999999999998E-2,0.99329999999999996,null,-113,-7.08,6.24,376.64,13.3,4,68.06,68,19.66,18.559999999999999,18.850000000000001,18.600000000000001,19.25,19.149999999999999,18.75,18.2,{"$f":"AJ53-AG53","v":-1.0500000000000007},{"$f":"AI53-AF53","v":0.14999999999999858},{"$f":"AH53-AE53","v":0.29999999999999716},{"$f":"IF(E53>0,1,0)","v":1},{"$f":"IF(L53>0,1,0)","v":0},{"$f":"IF(N53>0,1,0)","v":0},{"$f":"RTD(\"sysq.rtd\",\"\",\"2352`001.1\")","v":19.149999999999999},{"$f":"RTD(\"sysq.rtd\",\"\",\"2352`002.1\")","v":19.2}]
["2353","宏碁","PC/NB/平板",{"$f":"RTD(\"sysq.rtd\",\"\",\"2353`003.1\")","v":23.45},{"$f":"RTD(\"sysq.rtd\",\"\",\"2353`010.1\")","v":-1.05},{"$f":"RTD(\"sysq.rtd\",\"\",\"2353`005.1\")","v":82},{"$f":"RTD(\"sysq.rtd\",\"\",\"2353`029.1\")","v":1.39},-1.26,31.37,{"$f":"X54/$L$4*100","v":0.18413253395396062},{"$f":"(E54/100)*(J54/100)*$D$3","v":-0.24461270605647856},{"$f":"(D54-AC54)/AC54","v":-5.5958132045088593E-2},null,{"$f":"(AD54-D54)/D54","v":-3.8805970149253737E-2},{"$f":"AA54-AB54","v":-5.0600000000000023},-2.1124000000000001,2E-3,6.6269999999999998,2E-3,null,616,-9.48,26.88,721.07,21.51,3.29,59.08,64.14,24.84,22.54,24,23.6,23.9,23.45,23.7,22.7,{"$f":"AJ54-AG54","v":-1.1999999999999993},{"$f":"AI54-AF54","v":9.9999999999997868E-2},{"$f":"AH54-AE54","v":-0.55000000000000071},{"$f":"IF(E54>0,1,0)","v":0},{"$f":"IF(L54>0,1,0)","v":0},{"$f":"IF(N54>0,1,0)","v":0},{"$f":"RTD(\"sysq.rtd\",\"\",\"2353`001.1\")","v":23.45},{"$f":"RTD(\"sysq.rtd\",\"\",\"2353`002.1\")","v":23.5}]
["2354","鴻準","機殼",{"$f":"RTD(\"sysq.rtd\",\"\",\"2354`003.1\")","v":52.1},{"$f":"RTD(\"sysq.rtd\",\"\",\"2354`010.1\")","v":0.57999999999999996},{"$f":"RTD(\"sysq.rtd\",\"\",\"2354`005.1\")","v":7},{"$f":"RTD(\"sysq.rtd\",\"\",\"2354`029.1\")","v":0.77},-4.05,-21.3,{"$f":"X55/$L$4*100","v":0.18818765292880202},{"$f":"(E55/100)*(J55/100)*$D$3","v":0.13809511072160177},{"$f":"(D55-AC55)/AC55","v":-1.2883668056081843E-2},null,{"$f":"(AD55-D55)/D55","v":-1.4011516314779347E-2},{"$f":"AA55-AB55","v":-1.0000000000005116E-2},-0.14280000000000001,0.1449,-1.2897000000000001,0.43440000000000001,null,20,21.86,-8.1199999999999992,736.95,11.48,4.83,34.01,34.020000000000003,52.78,51.37,51.8,51.5,53.7,52.1,51.8,51.2,{"$f":"AJ55-AG55","v":-2.5},{"$f":"AI55-AF55","v":0.29999999999999716},{"$f":"AH55-AE55","v":0.30000000000000426},{"$f":"IF(E55>0,1,0)","v":1},{"$f":"IF(L55>0,1,0)","v":0},{"$f":"IF(N55>0,1,0)","v":0},{"$f":"RTD(\"sysq.rtd\",\"\",\"2354`001.1\")","v":52.1},{"$f":"RTD(\"sysq.rtd\",\"\",\"2354`002.1\")","v":52.2}]
["2356","英業達","PC/NB/平板",{"$f":"RTD(\"sysq.rtd\",\"\",\"2356`003.1\")","v":22.75},{"$f":"RTD(\"sysq.rtd\",\"\",\"2356`010.1\")","v":-0.44},{"$f":"RTD(\"sysq.rtd\",\"\",\"2356`005.1\")","v":18},{"$f":"RTD(\"sysq.rtd\",\"\",\"2356`029.1\")","v":1.1399999999999999},-3.6,-0.44,{"$f":"X56/$L$4*100","v":0.2084121757756181},{"$f":"(E56/100)*(J56/100)*$D$3","v":-0.1160205573081773},{"$f":"(D56-AC56)/AC56","v":-1.93965517241379E-2},null,{"$f":"(AD56-D56)/D56","v":-1.5384615384615448E-2},{"$f":"AA56-AB56","v":2.8200000000000003},-0.87809999999999999,-9.9500000000000005E-2,-3.3702999999999999,-0.58979999999999999,null,-153,-8.82,15.69,816.15,11.43,5.69,19.309999999999999,16.489999999999998,23.2,22.4,23,22.85,23.1,22.75,22.85,22.5,{"$f":"AJ56-AG56","v":-0.60000000000000142},{"$f":"AI56-AF56","v":0},{"$f":"AH56-AE56","v":-0.25},{"$f":"IF(E56>0,1,0)","v":0},{"$f":"IF(L56>0,1,0)","v":0},{"$f":"IF(N56>0,1,0)","v":0},{"$f":"RTD(\"sysq.rtd\",\"\",\"2356`001.1\")","v":22.75},{"$f":"RTD(\"sysq.rtd\",\"\",\"2356`002.1\")","v":22.8}]
["2357","華碩","PC/NB/平板",{"$f":"RTD(\"sysq.rtd\",\"\",\"2357`003.1\")","v":247.5},{"$f":"RTD(\"sysq.rtd\",\"\",\"2357`010.1\")","v":-0.8},{"$f":"RTD(\"sysq.rtd\",\"\",\"2357`005.1\")","v":5},{"$f":"RTD(\"sysq.rtd\",\"\",\"2357`029.1\")","v":0.71},-1.59,6.91,{"$f":"X57/$L$4*100","v":0.4694362005680231},{"$f":"(E57/100)*(J57/100)*$D$3","v":-0.4751445447669303},{"$f":"(D57-AC57)/AC57","v":-2.4630541871921183E-2},null,{"$f":"(AD57-D57)/D57","v":-2.3232323232323233E-2},{"$f":"AA57-AB57","v":-4.9300000000000068},0.14399999999999999,0.23449999999999999,10.078099999999999,1.8399000000000001,null,48,-5.66,45.49,1838.33,12.7,5.61,74.739999999999995,79.67,253.75,241.75,247.5,253.5,251.5,247.5,249.5,246,{"$f":"AJ57-AG57","v":-5.5},{"$f":"AI57-AF57","v":-4},{"$f":"AH57-AE57","v":0},{"$f":"IF(E57>0,1,0)","v":0},{"$f":"IF(L57>0,1,0)","v":0},{"$f":"IF(N57>0,1,0)","v":0},{"$f":"RTD(\"sysq.rtd\",\"\",\"2357`001.1\")","v":247.5},{"$f":"RTD(\"sysq.rtd\",\"\",\"2357`002.1\")","v":248}]
["2360","致茂","設備或廠務工程",{"$f":"RTD(\"sysq.rtd\",\"\",\"2360`003.1\")","v":160},{"$f":"RTD(\"sysq.rtd\",\"\",\"2360`010.1\")","v":2.89},{"$f":"RTD(\"sysq.rtd\",\"\",\"2360`005.1\")","v":1},{"$f":"RTD(\"sysq.rtd\",\"\",\"2360`029.1\")","v":1.31},0.63,10.34,{"$f":"X58/$L$4*100","v":0.17152795759387424},{"$f":"(E58/100)*(J58/100)*$D$3","v":0.62717962692905449},{"$f":"(D58-AC58)/AC58","v":-3.6898814181664935E-2},null,{"$f":"(AD58-D58)/D58","v":-5.5437500000000028E-2},-4.2500000000000003E-2,0.53920000000000001,1.8E-3,3.0453999999999999,-6.7599999999999993E-2,null,-9,17.079999999999998,50.4,671.71,31.37,1.94,53.65,33.92,166.13,151.13,154.5,152,157.5,160,155.5,151,{"$f":"AJ58-AG58","v":-6.5},{"$f":"AI58-AF58","v":3.5},{"$f":"AH58-AE58","v":5.5},{"$f":"IF(E58>0,1,0)","v":1},{"$f":"IF(L58>0,1,0)","v":0},{"$f":"IF(N58>0,1,0)","v":0},{"$f":"RTD(\"sysq.rtd\",\"\",\"2360`001.1\")","v":159.5},{"$f":"RTD(\"sysq.rtd\",\"\",\"2360`002.1\")","v":160}]
["2376","技嘉","主機板",{"$f":"RTD(\"sysq.rtd\",\"\",\"2376`003.1\")","v":86.6},{"$f":"RTD(\"sysq.rtd\",\"\",\"2376`010.1\")","v":1.52},{"$f":"RTD(\"sysq.rtd\",\"\",\"2376`005.1\")","v":19},{"$f":"RTD(\"sysq.rtd\",\"\",\"2376`029.1\")","v":0.83},0.12,74.25,{"$f":"X59/$L$4*100","v":0.14057830899495868},{"$f":"(E59/100)*(J59/100)*$D$3","v":0.27034670834144103},{"$f":"(D59-AC59)/AC59","v":-3.0777839955232235E-2},null,{"$f":"(AD59-D59)/D59","v":-4.6766743648960711E-2},{"$f":"AA59-AB59","v":-3.2100000000000009},0.73519999999999996,-0.24829999999999999,4.806,0.50090000000000001,null,366,13.91,38.29,550.51,18,2.58,48.25,51.46,89.35,82.55,85.8,86.5,89.4,86.6,85.3,83.5,{"$f":"AJ59-AG59","v":-5.9000000000000057},{"$f":"AI59-AF59","v":-1.2000000000000028},{"$f":"AH59-AE59","v":0.79999999999999716},{"$f":"IF(E59>0,1,0)","v":1},{"$f":"IF(L59>0,1,0)","v":0},{"$f":"IF(N59>0,1,0)","v":0},{"$f":"RTD(\"sysq.rtd\",\"\",\"2376`001.1\")","v":86.5},{"$f":"RTD(\"sysq.rtd\",\"\",\"2376`002.1\")","v":86.6}]
["2377","微星","主機板",{"$f":"RTD(\"sysq.rtd\",\"\",\"2377`003.1\")","v":141},{"$f":"RTD(\"sysq.rtd\",\"\",\"2377`010.1\")","v":-2.76},{"$f":"RTD(\"sysq.rtd\",\"\",\"2377`005.1\")","v":7},{"$f":"RTD(\"sysq.rtd\",\"\",\"2377`029.1\")","v":0.79},-5.05,62.63,{"$f":"X60/$L$4*100","v":0.30419776314734431},{"$f":"(E60/100)*(J60/100)*$D$3","v":-1.0622439874178953},{"$f":"(D60-AC60)/AC60","v":-6.7028386157612627E-2},null,{"$f":"(AD60-D60)/D60","v":-4.872340425531918E-2},{"$f":"AA60-AB60","v":-6.1100000000000065},-0.89629999999999999,0.55069999999999997,6.6546000000000003,3.3620000000000001,null,316,0.44,41.82,1191.25,18.68,2.82,57.16,63.27,151.13,134.13,148.5,145.5,146,141,149,141,{"$f":"AJ60-AG60","v":-5},{"$f":"AI60-AF60","v":3.5},{"$f":"AH60-AE60","v":-7.5},{"$f":"IF(E60>0,1,0)","v":0},{"$f":"IF(L60>0,1,0)","v":0},{"$f":"IF(N60>0,1,0)","v":0},{"$f":"RTD(\"sysq.rtd\",\"\",\"2377`001.1\")","v":141},{"$f":"RTD(\"sysq.rtd\",\"\",\"2377`002.1\")","v":141.5}]
["2379","瑞昱","消費性IC設計",{"$f":"RTD(\"sysq.rtd\",\"\",\"2379`003.1\")","v":393},{"$f":"RTD(\"sysq.rtd\",\"\",\"2379`010.1\")","v":4.24},{"$f":"RTD(\"sysq.rtd\",\"\",\"2379`005.1\")","v":7},{"$f":"RTD(\"sysq.rtd\",\"\",\"2379`029.1\")","v":0.52},-4.1500000000000004,67.23,{"$f":"X61/$L$4*100","v":0.51250524126681107},{"$f":"(E61/100)*(J61/100)*$D$3","v":2.749307716503262},{"$f":"(D61-AC61)/AC61","v":-3.2329549651589379E-2},null,{"$f":"(AD61-D61)/D61","v":-5.564885496183207E-2},{"$f":"AA61-AB61","v":-0.17999999999999972},3.0886,-0.82410000000000005,-12.5335,-5.0246000000000004,null,86,14.09,40.04,2006.99,27.77,2.92,34.35,34.53,406.13,371.13,381,382,398,393,377,373,{"$f":"AJ61-AG61","v":-25},{"$f":"AI61-AF61","v":-5},{"$f":"AH61-AE61","v":12},{"$f":"IF(E61>0,1,0)","v":1},{"$f":"IF(L61>0,1,0)","v":0},{"$f":"IF(N61>0,1,0)","v":0},{"$f":"RTD(\"sysq.rtd\",\"\",\"2379`001.1\")","v":392.5},{"$f":"RTD(\"sysq.rtd\",\"\",\"2379`002.1\")","v":393}]
["2382","廣達","PC/NB/平板",{"$f":"RTD(\"sysq.rtd\",\"\",\"2382`003.1\")","v":77.599999999999994},{"$f":"RTD(\"sysq.rtd\",\"\",\"2382`010.1\")","v":-0.39},{"$f":"RTD(\"sysq.rtd\",\"\",\"2382`005.1\")","v":4},{"$f":"RTD(\"sysq.rtd\",\"\",\"2382`029.1\")","v":0.47},-7.95,20.68,{"$f":"X62/$L$4*100","v":0.76541647450816364},{"$f":"(E62/100)*(J62/100)*$D$3","v":-0.37767792018361418},{"$f":"(D62-AC62)/AC62","v":-1.7721518987341846E-2},null,{"$f":"(AD62-D62)/D62","v":-1.2886597938144331E-2},{"$f":"AA62-AB62","v":-8.279999999999994},1.4702,0.21629999999999999,6.8091999999999997,1.6483000000000001,null,337,16.54,31.25,2997.4,16.91,4.75,46.88,55.16,79,76.599999999999994,78.3,80,81.5,77.599999999999994,77.900000000000006,78.900000000000006,{"$f":"AJ62-AG62","v":-2.5999999999999943},{"$f":"AI62-AF62","v":-2.0999999999999943},{"$f":"AH62-AE62","v":-0.70000000000000284},{"$f":"IF(E62>0,1,0)","v":0},{"$f":"IF(L62>0,1,0)","v":0},{"$f":"IF(N62>0,1,0)","v":0},{"$f":"RTD(\"sysq.rtd\",\"\",\"2382`001.1\")","v":77.5},{"$f":"RTD(\"sysq.rtd\",\"\",\"2382`002.1\")","v":77.599999999999994}]
["2383","台光電","PCB原料",{"$f":"RTD(\"sysq.rtd\",\"\",\"2383`003.1\")","v":172},{"$f":"RTD(\"sysq.rtd\",\"\",\"2383`010.1\")","v":0.28999999999999998},{"$f":"RTD(\"sysq.rtd\",\"\",\"2383`005.1\")","v":9},{"$f":"RTD(\"sysq.rtd\",\"\",\"2383`029.1\")","v":0.56999999999999995},1.18,25.55,{"$f":"X63/$L$4*100","v":0.14042253931141627},{"$f":"(E63/100)*(J63/100)*$D$3","v":5.1522153053673116E-2},{"$f":"(D63-AC63)/AC63","v":-2.3448589110316217E-2},null,{"$f":"(AD63-D63)/D63","v":-2.831395348837212E-2},5.1400000000000001E-2,0.23910000000000001,0.4894,-3.7353000000000001,1.3818999999999999,null,258,10.96,-1.33,549.9,15.15,3.5,56.73,37.39,176.13,167.13,171,163.5,170.5,172,171.5,160,{"$f":"AJ63-AG63","v":-10.5},{"$f":"AI63-AF63","v":8},{"$f":"AH63-AE63","v":1},{"$f":"IF(E63>0,1,0)","v":1},{"$f":"IF(L63>0,1,0)","v":0},{"$f":"IF(N63>0,1,0)","v":0},{"$f":"RTD(\"sysq.rtd\",\"\",\"2383`001.1\")","v":171.5},{"$f":"RTD(\"sysq.rtd\",\"\",\"2383`002.1\")","v":172}]
["2385","群光","電腦週邊配件",{"$f":"RTD(\"sysq.rtd\",\"\",\"2385`003.1\")","v":90.5},{"$f":"RTD(\"sysq.rtd\",\"\",\"2385`010.1\")","v":2.0299999999999998},{"$f":"RTD(\"sysq.rtd\",\"\",\"2385`005.1\")","v":"-"},{"$f":"RTD(\"sysq.rtd\",\"\",\"2385`029.1\")","v":0.67},2.61,1.69,{"$f":"X64/$L$4*100","v":0.17088955725148736},{"$f":"(E64/100)*(J64/100)*$D$3","v":0.43890521970420104},{"$f":"(D64-AC64)/AC64","v":-1.7905588714053233E-2},null,{"$f":"(AD64-D64)/D64","v":-3.0386740331491711E-2},0.56340000000000001,0.28539999999999999,0.21310000000000001,0.70340000000000003,0.73099999999999998,null,22,2.25,2.31,669.21,11.91,6.65,50.24,43.47,92.15,87.75,89,88.5,90.9,90.5,88.7,87.3,{"$f":"AJ64-AG64","v":-3.6000000000000085},{"$f":"AI64-AF64","v":0.20000000000000284},{"$f":"AH64-AE64","v":1.5},{"$f":"IF(E64>0,1,0)","v":1},{"$f":"IF(L64>0,1,0)","v":0},{"$f":"IF(N64>0,1,0)","v":0},{"$f":"RTD(\"sysq.rtd\",\"\",\"2385`001.1\")","v":90.4},{"$f":"RTD(\"sysq.rtd\",\"\",\"2385`002.1\")","v":90.5}]
["2395","研華","工業電腦",{"$f":"RTD(\"sysq.rtd\",\"\",\"2395`003.1\")","v":311.5},{"$f":"RTD(\"sysq.rtd\",\"\",\"2395`010.1\")","v":1.1399999999999999},{"$f":"RTD(\"sysq.rtd\",\"\",\"2395`005.1\")","v":4},{"$f":"RTD(\"sysq.rtd\",\"\",\"2395`029.1\")","v":1.07},1.3,3.15,{"$f":"X65/$L$4*100","v":0.61361764109541328},{"$f":"(E65/100)*(J65/100)*$D$3","v":0.8850379050458651},{"$f":"(D65-AC65)/AC65","v":-2.4275646045418951E-2},null,{"$f":"(AD65-D65)/D65","v":-2.6484751203852328E-2},{"$f":"AA65-AB65","v":2.4299999999999997},0.3,2.3999999999999998E-3,0.96319999999999995,8.4099999999999994E-2,null,8,-14.01,-3.61,2402.9499999999998,29.36,2.85,58.98,56.55,319.25,303.25,307,309.5,311.5,311.5,308,306.5,{"$f":"AJ65-AG65","v":-5},{"$f":"AI65-AF65","v":-1.5},{"$f":"AH65-AE65","v":4.5},{"$f":"IF(E65>0,1,0)","v":1},{"$f":"IF(L65>0,1,0)","v":0},{"$f":"IF(N65>0,1,0)","v":0},{"$f":"RTD(\"sysq.rtd\",\"\",\"2395`001.1\")","v":311},{"$f":"RTD(\"sysq.rtd\",\"\",\"2395`002.1\")","v":311.5}]
["2404","漢唐","設備或廠務工程",{"$f":"RTD(\"sysq.rtd\",\"\",\"2404`003.1\")","v":201},{"$f":"RTD(\"sysq.rtd\",\"\",\"2404`010.1\")","v":0.75},{"$f":"RTD(\"sysq.rtd\",\"\",\"2404`005.1\")","v":2},{"$f":"RTD(\"sysq.rtd\",\"\",\"2404`029.1\")","v":0.56999999999999995},-3.13,2.5499999999999998,{"$f":"X66/$L$4*100","v":9.7823361264625097E-2},{"$f":"(E66/100)*(J66/100)*$D$3","v":9.2824587504002756E-2},{"$f":"(D66-AC66)/AC66","v":-1.4125956444967606E-2},null,{"$f":"(AD66-D66)/D66","v":-2.0497512437810967E-2},{"$f":"AA66-AB66","v":0.84999999999999787},3.4200000000000001E-2,8.9999999999999998E-4,-5.7968000000000002,3.4599999999999999E-2,null,95,-15.76,160,383.08,11.94,6.52,25.83,24.98,203.88,196.88,200.5,197,202.5,201,199.5,197,{"$f":"AJ66-AG66","v":-5.5},{"$f":"AI66-AF66","v":2.5},{"$f":"AH66-AE66","v":0.5},{"$f":"IF(E66>0,1,0)","v":1},{"$f":"IF(L66>0,1,0)","v":0},{"$f":"IF(N66>0,1,0)","v":0},{"$f":"RTD(\"sysq.rtd\",\"\",\"2404`001.1\")","v":200.5},{"$f":"RTD(\"sysq.rtd\",\"\",\"2404`002.1\")","v":201}]
["2408","南亞科","記憶體IC設計",{"$f":"RTD(\"sysq.rtd\",\"\",\"2408`003.1\")","v":51},{"$f":"RTD(\"sysq.rtd\",\"\",\"2408`010.1\")","v":2.31},{"$f":"RTD(\"sysq.rtd\",\"\",\"2408`005.1\")","v":18},{"$f":"RTD(\"sysq.rtd\",\"\",\"2408`029.1\")","v":0.8},-6.25,-38.85,{"$f":"X67/$L$4*100","v":0.40042512355600224},{"$f":"(E67/100)*(J67/100)*$D$3","v":1.1702872712062546},{"$f":"(D67-AC67)/AC67","v":-2.2426682001150118E-2},null,{"$f":"(AD67-D67)/D67","v":-3.5882352941176435E-2},{"$f":"AA67-AB67","v":4.0300000000000011},1.5837000000000001,0.65400000000000003,-5.6889000000000003,2.4868000000000001,null,-7,-7.76,7.23,1568.08,18.149999999999999,3.01,26.48,22.45,52.17,49.17,49.9,50.2,51.6,51,49.85,49.2,{"$f":"AJ67-AG67","v":-2.3999999999999986},{"$f":"AI67-AF67","v":-0.35000000000000142},{"$f":"AH67-AE67","v":1.1000000000000014},{"$f":"IF(E67>0,1,0)","v":1},{"$f":"IF(L67>0,1,0)","v":0},{"$f":"IF(N67>0,1,0)","v":0},{"$f":"RTD(\"sysq.rtd\",\"\",\"2408`001.1\")","v":50.9},{"$f":"RTD(\"sysq.rtd\",\"\",\"2408`002.1\")","v":51}]
["2409","友達","面板生產",{"$f":"RTD(\"sysq.rtd\",\"\",\"2409`003.1\")","v":9.73},{"$f":"RTD(\"sysq.rtd\",\"\",\"2409`010.1\")","v":0.62},{"$f":"RTD(\"sysq.rtd\",\"\",\"2409`005.1\")","v":121},{"$f":"RTD(\"sysq.rtd\",\"\",\"2409`029.1\")","v":1.28},-2.21,-3.18,{"$f":"X68/$L$4*100","v":0.23912944664990485},{"$f":"(E68/100)*(J68/100)*$D$3","v":0.18757887705890497},{"$f":"(D68-AC68)/AC68","v":-4.7012732615083291E-2},null,{"$f":"(AD68-D68)/D68","v":-3.0832476875642414E-2},{"$f":"AA68-AB68","v":6.0899999999999963},-0.14019999999999999,-1.1693,-2.8357999999999999,-0.16900000000000001,null,-4301,5.97,3.89,936.44,null,0,47.16,41.07,10.210000000000001,9.43,9.7799999999999994,9.4600000000000009,10.050000000000001,9.73,9.67,9.25,{"$f":"AJ68-AG68","v":-0.80000000000000071},{"$f":"AI68-AF68","v":0.20999999999999908},{"$f":"AH68-AE68","v":-4.9999999999998934E-2},{"$f":"IF(E68>0,1,0)","v":1},{"$f":"IF(L68>0,1,0)","v":0},{"$f":"IF(N68>0,1,0)","v":0},{"$f":"RTD(\"sysq.rtd\",\"\",\"2409`001.1\")","v":9.73},{"$f":"RTD(\"sysq.rtd\",\"\",\"2409`002.1\")","v":9.74}]
["2412","中華電","電信服務",{"$f":"RTD(\"sysq.rtd\",\"\",\"2412`003.1\")","v":109},{"$f":"RTD(\"sysq.rtd\",\"\",\"2412`010.1\")","v":-0.46},{"$f":"RTD(\"sysq.rtd\",\"\",\"2412`005.1\")","v":29},{"$f":"RTD(\"sysq.rtd\",\"\",\"2412`029.1\")","v":0.37},0.46,-0.91,{"$f":"X69/$L$4*100","v":2.1592282812373123},{"$f":"(E69/100)*(J69/100)*$D$3","v":-1.2566535858538657},{"$f":"(D69-AC69)/AC69","v":-5.746602207424934E-3},null,{"$f":"(AD69-D69)/D69","v":-3.3944954128440783E-3},{"$f":"AA69-AB69","v":4.6400000000000006},-0.53149999999999997,0.152,-1.7049000000000001,0.4975,null,-42,1.98,-2.39,8455.6200000000008,25.83,3.86,72.650000000000006,68.010000000000005,109.63,108.63,109.5,109,108.5,109,109.5,109,{"$f":"AJ69-AG69","v":0.5},{"$f":"AI69-AF69","v":0.5},{"$f":"AH69-AE69","v":-0.5},{"$f":"IF(E69>0,1,0)","v":0},{"$f":"IF(L69>0,1,0)","v":0},{"$f":"IF(N69>0,1,0)","v":0},{"$f":"RTD(\"sysq.rtd\",\"\",\"2412`001.1\")","v":109},{"$f":"RTD(\"sysq.rtd\",\"\",\"2412`002.1\")","v":109.5}]
["2439","美律","手機零組件",{"$f":"RTD(\"sysq.rtd\",\"\",\"2439`003.1\")","v":160.5},{"$f":"RTD(\"sysq.rtd\",\"\",\"2439`010.1\")","v":1.26},{"$f":"RTD(\"sysq.rtd\",\"\",\"2439`005.1\")","v":7},{"$f":"RTD(\"sysq.rtd\",\"\",\"2439`029.1\")","v":1.06},-3.02,-4.18,{"$f":"X70/$L$4*100","v":8.5504788257928038E-2},{"$f":"(E70/100)*(J70/100)*$D$3","v":0.13630762921095249},{"$f":"(D70-AC70)/AC70","v":-1.912852166473138E-2},null,{"$f":"(AD70-D70)/D70","v":-2.4112149532710309E-2},{"$f":"AA70-AB70","v":-1.7000000000000028},-0.3483,0.3231,-0.1759,0.51259999999999994,null,78,13.04,-18.32,334.84,19.62,4.8600000000000003,44,45.7,163.63,156.63,160,159.5,166.5,160.5,158.5,155.5,{"$f":"AJ70-AG70","v":-11},{"$f":"AI70-AF70","v":-1},{"$f":"AH70-AE70","v":0.5},{"$f":"IF(E70>0,1,0)","v":1},{"$f":"IF(L70>0,1,0)","v":0},{"$f":"IF(N70>0,1,0)","v":0},{"$f":"RTD(\"sysq.rtd\",\"\",\"2439`001.1\")","v":160.5},{"$f":"RTD(\"sysq.rtd\",\"\",\"2439`002.1\")","v":161}]
["2448","晶電","LED原材料",{"$f":"RTD(\"sysq.rtd\",\"\",\"2448`003.1\")","v":38.049999999999997},{"$f":"RTD(\"sysq.rtd\",\"\",\"2448`010.1\")","v":-0.13},{"$f":"RTD(\"sysq.rtd\",\"\",\"2448`005.1\")","v":12},{"$f":"RTD(\"sysq.rtd\",\"\",\"2448`029.1\")","v":0.69},-12.02,17.62,{"$f":"X71/$L$4*100","v":0.10578293673350464},{"$f":"(E71/100)*(J71/100)*$D$3","v":-1.7398754302179908E-2},{"$f":"(D71-AC71)/AC71","v":-3.8412939095274275E-2},null,{"$f":"(AD71-D71)/D71","v":-4.9408672798948637E-2},{"$f":"AA71-AB71","v":0.75},-1.1426000000000001,0.3165,-3.9380999999999999,0.51139999999999997,null,1321,10.5,-19.149999999999999,414.25,null,0,17.45,16.7,39.57,36.17,38,38,40.25,38.049999999999997,38.1,36.799999999999997,{"$f":"AJ71-AG71","v":-3.4500000000000028},{"$f":"AI71-AF71","v":0.10000000000000142},{"$f":"AH71-AE71","v":4.9999999999997158E-2},{"$f":"IF(E71>0,1,0)","v":0},{"$f":"IF(L71>0,1,0)","v":0},{"$f":"IF(N71>0,1,0)","v":0},{"$f":"RTD(\"sysq.rtd\",\"\",\"2448`001.1\")","v":38.049999999999997},{"$f":"RTD(\"sysq.rtd\",\"\",\"2448`002.1\")","v":38.1}]
["2449","京元電子","封裝測試",{"$f":"RTD(\"sysq.rtd\",\"\",\"2449`003.1\")","v":31.2},{"$f":"RTD(\"sysq.rtd\",\"\",\"2449`010.1\")","v":-1.73},{"$f":"RTD(\"sysq.rtd\",\"\",\"2449`005.1\")","v":38},{"$f":"RTD(\"sysq.rtd\",\"\",\"2449`029.1\")","v":1.23},-13.57,-16.91,{"$f":"X72/$L$4*100","v":9.7419892248236606E-2},{"$f":"(E72/100)*(J72/100)*$D$3","v":-0.21323227047337129},{"$f":"(D72-AC72)/AC72","v":-2.7734496727952758E-2},null,{"$f":"(AD72-D72)/D72","v":-2.5961538461538421E-2},{"$f":"AA72-AB72","v":-12.059999999999999},-2.2885,-0.71519999999999995,-13.3405,-0.92100000000000004,null,280,-0.72,5.85,381.5,9.4499999999999993,5.67,16.920000000000002,28.98,32.090000000000003,30.39,31.65,32,32.5,31.2,31.75,31.45,{"$f":"AJ72-AG72","v":-1.0500000000000007},{"$f":"AI72-AF72","v":-0.25},{"$f":"AH72-AE72","v":-0.44999999999999929},{"$f":"IF(E72>0,1,0)","v":0},{"$f":"IF(L72>0,1,0)","v":0},{"$f":"IF(N72>0,1,0)","v":0},{"$f":"RTD(\"sysq.rtd\",\"\",\"2449`001.1\")","v":31.15},{"$f":"RTD(\"sysq.rtd\",\"\",\"2449`002.1\")","v":31.2}]
["2451","創見","記憶體模組",{"$f":"RTD(\"sysq.rtd\",\"\",\"2451`003.1\")","v":64.5},{"$f":"RTD(\"sysq.rtd\",\"\",\"2451`010.1\")","v":-0.31},{"$f":"RTD(\"sysq.rtd\",\"\",\"2451`005.1\")","v":"-"},{"$f":"RTD(\"sysq.rtd\",\"\",\"2451`029.1\")","v":0.61},0.16,-17.2,{"$f":"X73/$L$4*100","v":7.0668364300857142E-2},{"$f":"(E73/100)*(J73/100)*$D$3","v":-2.7716980499167782E-2},{"$f":"(D73-AC73)/AC73","v":-8.1500845763493937E-3},null,{"$f":"(AD73-D73)/D73","v":-7.2868217054263386E-3},{"$f":"AA73-AB73","v":13.59},-8.1299999999999997E-2,-8.9999999999999998E-4,-0.92149999999999999,-8.9999999999999998E-4,null,22,10.85,-22.43,276.74,16.670000000000002,6.96,38.86,25.27,65.03,64.03,64.8,64.400000000000006,64.099999999999994,64.5,64.7,64,{"$f":"AJ73-AG73","v":-9.9999999999994316E-2},{"$f":"AI73-AF73","v":0.29999999999999716},{"$f":"AH73-AE73","v":-0.29999999999999716},{"$f":"IF(E73>0,1,0)","v":0},{"$f":"IF(L73>0,1,0)","v":0},{"$f":"IF(N73>0,1,0)","v":0},{"$f":"RTD(\"sysq.rtd\",\"\",\"2451`001.1\")","v":64.400000000000006},{"$f":"RTD(\"sysq.rtd\",\"\",\"2451`002.1\")","v":64.5}]
["2454","聯發科","消費性IC設計",{"$f":"RTD(\"sysq.rtd\",\"\",\"2454`003.1\")","v":585},{"$f":"RTD(\"sysq.rtd\",\"\",\"2454`010.1\")","v":-3.15},{"$f":"RTD(\"sysq.rtd\",\"\",\"2454`005.1\")","v":64},{"$f":"RTD(\"sysq.rtd\",\"\",\"2454`029.1\")","v":0.69},-14.6,31.91,{"$f":"X74/$L$4*100","v":2.3735137401628892},{"$f":"(E74/100)*(J74/100)*$D$3","v":-9.4593541897703766},{"$f":"(D74-AC74)/AC74","v":-3.3457249070631967E-2},null,{"$f":"(AD74-D74)/D74","v":-2.3504273504273504E-2},{"$f":"AA74-AB74","v":1.6499999999999986},-3.9805999999999999,-2.6012,-27.973199999999999,-16.6066,null,-548,5.59,29.02,9294.77,35.409999999999997,1.74,19.34,17.690000000000001,605.25,571.25,599,583,603,585,604,565,{"$f":"AJ74-AG74","v":-38},{"$f":"AI74-AF74","v":21},{"$f":"AH74-AE74","v":-14},{"$f":"IF(E74>0,1,0)","v":0},{"$f":"IF(L74>0,1,0)","v":0},{"$f":"IF(N74>0,1,0)","v":0},{"$f":"RTD(\"sysq.rtd\",\"\",\"2454`001.1\")","v":585},{"$f":"RTD(\"sysq.rtd\",\"\",\"2454`002.1\")","v":586}]
["2458","義隆","消費性IC設計",{"$f":"RTD(\"sysq.rtd\",\"\",\"2458`003.1\")","v":143.5},{"$f":"RTD(\"sysq.rtd\",\"\",\"2458`010.1\")","v":3.24},{"$f":"RTD(\"sysq.rtd\",\"\",\"2458`005.1\")","v":21},{"$f":"RTD(\"sysq.rtd\",\"\",\"2458`029.1\")","v":1.82},0.35,57.35,{"$f":"X75/$L$4*100","v":0.11135489492185724},{"$f":"(E75/100)*(J75/100)*$D$3","v":0.45647133029863352},{"$f":"(D75-AC75)/AC75","v":-4.416172650369677E-2},null,{"$f":"(AD75-D75)/D75","v":-5.832752613240421E-2},{"$f":"AA75-AB75","v":17.060000000000002},2.1166,0.23150000000000001,5.2192999999999996,0.72309999999999997,null,121,14.95,83.23,436.07,15.84,4.68,60.88,43.82,150.13,135.13,139,137,138,143.5,139,134.5,{"$f":"AJ75-AG75","v":-3.5},{"$f":"AI75-AF75","v":2},{"$f":"AH75-AE75","v":4.5},{"$f":"IF(E75>0,1,0)","v":1},{"$f":"IF(L75>0,1,0)","v":0},{"$f":"IF(N75>0,1,0)","v":0},{"$f":"RTD(\"sysq.rtd\",\"\",\"2458`001.1\")","v":143.5},{"$f":"RTD(\"sysq.rtd\",\"\",\"2458`002.1\")","v":144}]
["2474","可成","機殼",{"$f":"RTD(\"sysq.rtd\",\"\",\"2474`003.1\")","v":212},{"$f":"RTD(\"sysq.rtd\",\"\",\"2474`010.1\")","v":4.18},{"$f":"RTD(\"sysq.rtd\",\"\",\"2474`005.1\")","v":22},{"$f":"RTD(\"sysq.rtd\",\"\",\"2474`029.1\")","v":0.47},2.91,-6.61,{"$f":"X76/$L$4*100","v":0.41706183647860418},{"$f":"(E76/100)*(J76/100)*$D$3","v":2.205646536443211},{"$f":"(D76-AC76)/AC76","v":-3.3067274800456098E-2},null,{"$f":"(AD76-D76)/D76","v":-5.0707547169811323E-2},{"$f":"AA76-AB76","v":7.8900000000000006},4.1623000000000001,0.10150000000000001,-21.199400000000001,4.0175999999999998,null,-614,5.14,-9.5399999999999991,1633.23,11.93,4.91,39.28,31.39,219.25,201.25,205.5,197,195,212,203.5,190.5,{"$f":"AJ76-AG76","v":-4.5},{"$f":"AI76-AF76","v":6.5},{"$f":"AH76-AE76","v":6.5},{"$f":"IF(E76>0,1,0)","v":1},{"$f":"IF(L76>0,1,0)","v":0},{"$f":"IF(N76>0,1,0)","v":0},{"$f":"RTD(\"sysq.rtd\",\"\",\"2474`001.1\")","v":211.5},{"$f":"RTD(\"sysq.rtd\",\"\",\"2474`002.1\")","v":212}]
["2492","華新科","電容",{"$f":"RTD(\"sysq.rtd\",\"\",\"2492`003.1\")","v":162.5},{"$f":"RTD(\"sysq.rtd\",\"\",\"2492`010.1\")","v":-1.52},{"$f":"RTD(\"sysq.rtd\",\"\",\"2492`005.1\")","v":10},{"$f":"RTD(\"sysq.rtd\",\"\",\"2492`029.1\")","v":0.9},-11.44,-32.01,{"$f":"X77/$L$4*100","v":0.20158895291618723},{"$f":"(E77/100)*(J77/100)*$D$3","v":-0.3876765217089313},{"$f":"(D77-AC77)/AC77","v":-4.552129221732746E-2},null,{"$f":"(AD77-D77)/D77","v":-3.8461538461538464E-2},{"$f":"AA77-AB77","v":-14.079999999999998},-3.6800999999999999,1.8E-3,-7.6609999999999996,-3.3E-3,null,-47,6.15,39.270000000000003,789.43,14.47,3.33,27.4,41.48,170.25,156.25,167.5,164,175,162.5,165,161.5,{"$f":"AJ77-AG77","v":-13.5},{"$f":"AI77-AF77","v":1},{"$f":"AH77-AE77","v":-5},{"$f":"IF(E77>0,1,0)","v":0},{"$f":"IF(L77>0,1,0)","v":0},{"$f":"IF(N77>0,1,0)","v":0},{"$f":"RTD(\"sysq.rtd\",\"\",\"2492`001.1\")","v":162},{"$f":"RTD(\"sysq.rtd\",\"\",\"2492`002.1\")","v":162.5}]
["2498","宏達電","手機製造",{"$f":"RTD(\"sysq.rtd\",\"\",\"2498`003.1\")","v":28.9},{"$f":"RTD(\"sysq.rtd\",\"\",\"2498`010.1\")","v":0.35},{"$f":"RTD(\"sysq.rtd\",\"\",\"2498`005.1\")","v":4},{"$f":"RTD(\"sysq.rtd\",\"\",\"2498`029.1\")","v":0.92},-4.3,-24.84,{"$f":"X78/$L$4*100","v":6.0425869207602172E-2},{"$f":"(E78/100)*(J78/100)*$D$3","v":2.675778340251039E-2},{"$f":"(D78-AC78)/AC78","v":-3.0851777330650625E-2},null,{"$f":"(AD78-D78)/D78","v":-3.0103806228373615E-2},{"$f":"AA78-AB78","v":7.5699999999999967},-0.13270000000000001,-5.0000000000000001E-4,-1.3009999999999999,-5.0000000000000001E-4,null,2,-56.26,-35.549999999999997,236.63,null,0,35.659999999999997,28.09,29.82,28.03,28.95,28.35,29.4,28.9,28.8,28.1,{"$f":"AJ78-AG78","v":-1.2999999999999972},{"$f":"AI78-AF78","v":0.44999999999999929},{"$f":"AH78-AE78","v":-5.0000000000000711E-2},{"$f":"IF(E78>0,1,0)","v":1},{"$f":"IF(L78>0,1,0)","v":0},{"$f":"IF(N78>0,1,0)","v":0},{"$f":"RTD(\"sysq.rtd\",\"\",\"2498`001.1\")","v":28.9},{"$f":"RTD(\"sysq.rtd\",\"\",\"2498`002.1\")","v":28.95}]
["2542","興富發","建築業",{"$f":"RTD(\"sysq.rtd\",\"\",\"2542`003.1\")","v":44.65},{"$f":"RTD(\"sysq.rtd\",\"\",\"2542`010.1\")","v":0.68},{"$f":"RTD(\"sysq.rtd\",\"\",\"2542`005.1\")","v":4},{"$f":"RTD(\"sysq.rtd\",\"\",\"2542`029.1\")","v":0.94},0.68,-3.56,{"$f":"X79/$L$4*100","v":0.13301709533972858},{"$f":"(E79/100)*(J79/100)*$D$3","v":0.11443939573620075},{"$f":"(D79-AC79)/AC79","v":-8.2185695246558086E-3},null,{"$f":"(AD79-D79)/D79","v":-9.4064949608063091E-3},1.9656,5.6800000000000003E-2,8.0000000000000004E-4,-0.70379999999999998,8.0000000000000004E-4,null,14,14.13,-3.89,520.9,19.579999999999998,9.02,76.069999999999993,71.98,45.02,44.23,44.4,43.8,44.45,44.65,44.35,43.5,{"$f":"AJ79-AG79","v":-0.95000000000000284},{"$f":"AI79-AF79","v":0.55000000000000426},{"$f":"AH79-AE79","v":0.25},{"$f":"IF(E79>0,1,0)","v":1},{"$f":"IF(L79>0,1,0)","v":0},{"$f":"IF(N79>0,1,0)","v":0},{"$f":"RTD(\"sysq.rtd\",\"\",\"2542`001.1\")","v":44.6},{"$f":"RTD(\"sysq.rtd\",\"\",\"2542`002.1\")","v":44.65}]
["2603","長榮","海運",{"$f":"RTD(\"sysq.rtd\",\"\",\"2603`003.1\")","v":15.2},{"$f":"RTD(\"sysq.rtd\",\"\",\"2603`010.1\")","v":0},{"$f":"RTD(\"sysq.rtd\",\"\",\"2603`005.1\")","v":133},{"$f":"RTD(\"sysq.rtd\",\"\",\"2603`029.1\")","v":0.65},2.0099999999999998,22.58,{"$f":"X80/$L$4*100","v":0.18681381539198549},{"$f":"(E80/100)*(J80/100)*$D$3","v":0},{"$f":"(D80-AC80)/AC80","v":-2.8132992327365811E-2},null,{"$f":"(AD80-D80)/D80","v":-3.0263157894736784E-2},{"$f":"AA80-AB80","v":-1.2599999999999909},0.72170000000000001,1.56,5.8384999999999998,5.6970000000000001,null,-1485,8.92,1.6,731.57,27.64,0,84.68,85.94,15.64,14.74,15.35,15.4,15.55,15.2,15.2,15,{"$f":"AJ80-AG80","v":-0.55000000000000071},{"$f":"AI80-AF80","v":-0.20000000000000107},{"$f":"AH80-AE80","v":-0.15000000000000036},{"$f":"IF(E80>0,1,0)","v":0},{"$f":"IF(L80>0,1,0)","v":0},{"$f":"IF(N80>0,1,0)","v":0},{"$f":"RTD(\"sysq.rtd\",\"\",\"2603`001.1\")","v":15.2},{"$f":"RTD(\"sysq.rtd\",\"\",\"2603`002.1\")","v":15.25}]
["2606","裕民","海運",{"$f":"RTD(\"sysq.rtd\",\"\",\"2606`003.1\")","v":29.25},{"$f":"RTD(\"sysq.rtd\",\"\",\"2606`010.1\")","v":0.34},{"$f":"RTD(\"sysq.rtd\",\"\",\"2606`005.1\")","v":"-"},{"$f":"RTD(\"sysq.rtd\",\"\",\"2606`029.1\")","v":0.42},-2.17,-12.95,{"$f":"X81/$L$4*100","v":6.3119918652474766E-2},{"$f":"(E81/100)*(J81/100)*$D$3","v":2.7152169166897763E-2},{"$f":"(D81-AC81)/AC81","v":-1.7797179314976531E-2},null,{"$f":"(AD81-D81)/D81","v":-2.3247863247863237E-2},{"$f":"AA81-AB81","v":-6.5999999999999943},1.26E-2,2.2000000000000001E-3,6.6400000000000001E-2,0.02,null,-2,46.83,-5.6,247.18,20.45,6.52,59.86,66.459999999999994,29.78,28.57,29.15,29,29.7,29.25,29.15,28.75,{"$f":"AJ81-AG81","v":-0.94999999999999929},{"$f":"AI81-AF81","v":0.14999999999999858},{"$f":"AH81-AE81","v":0.10000000000000142},{"$f":"IF(E81>0,1,0)","v":1},{"$f":"IF(L81>0,1,0)","v":0},{"$f":"IF(N81>0,1,0)","v":0},{"$f":"RTD(\"sysq.rtd\",\"\",\"2606`001.1\")","v":29.25},{"$f":"RTD(\"sysq.rtd\",\"\",\"2606`002.1\")","v":29.3}]
["2610","華航","空運",{"$f":"RTD(\"sysq.rtd\",\"\",\"2610`003.1\")","v":8.2899999999999991},{"$f":"RTD(\"sysq.rtd\",\"\",\"2610`010.1\")","v":1.1000000000000001},{"$f":"RTD(\"sysq.rtd\",\"\",\"2610`005.1\")","v":121},{"$f":"RTD(\"sysq.rtd\",\"\",\"2610`029.1\")","v":0.82},2.2200000000000002,-8.5,{"$f":"X82/$L$4*100","v":0.11475884554746404},{"$f":"(E82/100)*(J82/100)*$D$3","v":0.15971218052531666},{"$f":"(D82-AC82)/AC82","v":-2.0094562647754336E-2},null,{"$f":"(AD82-D82)/D82","v":-3.4981905910735724E-2},{"$f":"AA82-AB82","v":9.93},6.6299999999999998E-2,0,-1.5892999999999999,0.31979999999999997,null,-31,6.48,-44.05,449.4,null,0,59.01,49.08,8.4600000000000009,8,8.23,8.14,8.02,8.2899999999999991,8.1999999999999993,8.0500000000000007,{"$f":"AJ82-AG82","v":3.0000000000001137E-2},{"$f":"AI82-AF82","v":5.9999999999998721E-2},{"$f":"AH82-AE82","v":5.9999999999998721E-2},{"$f":"IF(E82>0,1,0)","v":1},{"$f":"IF(L82>0,1,0)","v":0},{"$f":"IF(N82>0,1,0)","v":0},{"$f":"RTD(\"sysq.rtd\",\"\",\"2610`001.1\")","v":8.2799999999999994},{"$f":"RTD(\"sysq.rtd\",\"\",\"2610`002.1\")","v":8.2899999999999991}]
["2615","萬海","海運",{"$f":"RTD(\"sysq.rtd\",\"\",\"2615`003.1\")","v":20.399999999999999},{"$f":"RTD(\"sysq.rtd\",\"\",\"2615`010.1\")","v":1.49},{"$f":"RTD(\"sysq.rtd\",\"\",\"2615`005.1\")","v":12},{"$f":"RTD(\"sysq.rtd\",\"\",\"2615`029.1\")","v":1.01},1.75,10.27,{"$f":"X83/$L$4*100","v":0.11555812277613241},{"$f":"(E83/100)*(J83/100)*$D$3","v":0.21784416403518045},{"$f":"(D83-AC83)/AC83","v":-2.205177372962612E-2},null,{"$f":"(AD83-D83)/D83","v":-3.1372549019607697E-2},{"$f":"AA83-AB83","v":-1.8599999999999994},0.37430000000000002,-1E-3,0.94599999999999995,0.90780000000000005,null,503,7.68,-3.99,452.53,12.59,3.98,73.489999999999995,75.349999999999994,20.86,19.760000000000002,20.149999999999999,20.3,20.65,20.399999999999999,20.100000000000001,19.95,{"$f":"AJ83-AG83","v":-0.69999999999999929},{"$f":"AI83-AF83","v":-0.19999999999999929},{"$f":"AH83-AE83","v":0.25},{"$f":"IF(E83>0,1,0)","v":1},{"$f":"IF(L83>0,1,0)","v":0},{"$f":"IF(N83>0,1,0)","v":0},{"$f":"RTD(\"sysq.rtd\",\"\",\"2615`001.1\")","v":20.399999999999999},{"$f":"RTD(\"sysq.rtd\",\"\",\"2615`002.1\")","v":20.45}]
["2618","長榮航","空運",{"$f":"RTD(\"sysq.rtd\",\"\",\"2618`003.1\")","v":11.1},{"$f":"RTD(\"sysq.rtd\",\"\",\"2618`010.1\")","v":-0.45},{"$f":"RTD(\"sysq.rtd\",\"\",\"2618`005.1\")","v":7},{"$f":"RTD(\"sysq.rtd\",\"\",\"2618`029.1\")","v":0.57999999999999996},-3.06,-19.27,{"$f":"X84/$L$4*100","v":0.13757527378437084},{"$f":"(E84/100)*(J84/100)*$D$3","v":-7.8327106376393701E-2},{"$f":"(D84-AC84)/AC84","v":-2.0300088261253346E-2},null,{"$f":"(AD84-D84)/D84","v":-1.531531531531531E-2},{"$f":"AA84-AB84","v":-8.8999999999999986},-0.17130000000000001,1E-4,-0.83099999999999996,-1E-3,null,-372,0.81,-57,538.75,277.5,2.2400000000000002,46.27,55.17,11.33,10.93,11.2,10.95,11.1,11.1,11.15,10.85,{"$f":"AJ84-AG84","v":-0.25},{"$f":"AI84-AF84","v":0.20000000000000107},{"$f":"AH84-AE84","v":-9.9999999999999645E-2},{"$f":"IF(E84>0,1,0)","v":0},{"$f":"IF(L84>0,1,0)","v":0},{"$f":"IF(N84>0,1,0)","v":0},{"$f":"RTD(\"sysq.rtd\",\"\",\"2618`001.1\")","v":11.1},{"$f":"RTD(\"sysq.rtd\",\"\",\"2618`002.1\")","v":11.15}]
["2633","台灣高鐵","陸運及倉儲物流",{"$f":"RTD(\"sysq.rtd\",\"\",\"2633`003.1\")","v":32.35},{"$f":"RTD(\"sysq.rtd\",\"\",\"2633`010.1\")","v":-0.77},{"$f":"RTD(\"sysq.rtd\",\"\",\"2633`005.1\")","v":24},{"$f":"RTD(\"sysq.rtd\",\"\",\"2633`029.1\")","v":0.74},-4.71,-15.76,{"$f":"X85/$L$4*100","v":0.21711995644577506},{"$f":"(E85/100)*(J85/100)*$D$3","v":-0.21151913004929984},{"$f":"(D85-AC85)/AC85","v":-9.7949188858279853E-3},null,{"$f":"(AD85-D85)/D85","v":-8.6553323029366653E-3},{"$f":"AA85-AB85","v":-8.93},-0.218,1.6000000000000001E-3,-1.6854,1.3299999999999999E-2,null,-4,8.43,-14.24,850.25,34.049999999999997,3.71,28.14,37.07,32.67,32.07,32.549999999999997,32.4,33.049999999999997,32.35,32.6,32.35,{"$f":"AJ85-AG85","v":-0.69999999999999574},{"$f":"AI85-AF85","v":0.20000000000000284},{"$f":"AH85-AE85","v":-0.19999999999999574},{"$f":"IF(E85>0,1,0)","v":0},{"$f":"IF(L85>0,1,0)","v":0},{"$f":"IF(N85>0,1,0)","v":0},{"$f":"RTD(\"sysq.rtd\",\"\",\"2633`001.1\")","v":32.299999999999997},{"$f":"RTD(\"sysq.rtd\",\"\",\"2633`002.1\")","v":32.4}]
["2801","彰銀","銀行業-銀行",{"$f":"RTD(\"sysq.rtd\",\"\",\"2801`003.1\")","v":18.25},{"$f":"RTD(\"sysq.rtd\",\"\",\"2801`010.1\")","v":-0.27},{"$f":"RTD(\"sysq.rtd\",\"\",\"2801`005.1\")","v":6},{"$f":"RTD(\"sysq.rtd\",\"\",\"2801`029.1\")","v":0.93},-1.08,-19.600000000000001,{"$f":"X86/$L$4*100","v":0.48396108515800923},{"$f":"(E86/100)*(J86/100)*$D$3","v":-0.16532304253431659},{"$f":"(D86-AC86)/AC86","v":-1.0840108401083973E-2},null,{"$f":"(AD86-D86)/D86","v":-1.0958904109589003E-2},0.1396,-0.34,2.8999999999999998E-3,-1.4171,1.9699999999999999E-2,null,-16,8.7899999999999991,-12.97,1895.21,16.739999999999998,4.37,47.53,61.56,18.45,18.05,18.3,18.3,18.399999999999999,18.25,18.3,18.149999999999999,{"$f":"AJ86-AG86","v":-0.25},{"$f":"AI86-AF86","v":0},{"$f":"AH86-AE86","v":-5.0000000000000711E-2},{"$f":"IF(E86>0,1,0)","v":0},{"$f":"IF(L86>0,1,0)","v":0},{"$f":"IF(N86>0,1,0)","v":0},{"$f":"RTD(\"sysq.rtd\",\"\",\"2801`001.1\")","v":18.25},{"$f":"RTD(\"sysq.rtd\",\"\",\"2801`002.1\")","v":18.3}]
["2809","京城銀","銀行業-銀行",{"$f":"RTD(\"sysq.rtd\",\"\",\"2809`003.1\")","v":37.15},{"$f":"RTD(\"sysq.rtd\",\"\",\"2809`010.1\")","v":-0.4},{"$f":"RTD(\"sysq.rtd\",\"\",\"2809`005.1\")","v":"-"},{"$f":"RTD(\"sysq.rtd\",\"\",\"2809`029.1\")","v":0.61},0.81,10.9,{"$f":"X87/$L$4*100","v":0.10636771144713102},{"$f":"(E87/100)*(J87/100)*$D$3","v":-5.3830571409164064E-2},{"$f":"(D87-AC87)/AC87","v":-1.4327407800477558E-2},null,{"$f":"(AD87-D87)/D87","v":-1.5074024226110233E-2},{"$f":"AA87-AB87","v":4.2900000000000063},1.1000000000000001E-3,6.9999999999999999E-4,0.74119999999999997,0.19159999999999999,null,-65,69.010000000000005,45.66,416.54,9,4.0199999999999996,71.86,67.569999999999993,37.69,36.590000000000003,37.299999999999997,36.450000000000003,36.700000000000003,37.15,37.299999999999997,36.200000000000003,{"$f":"AJ87-AG87","v":-0.5},{"$f":"AI87-AF87","v":0.84999999999999432},{"$f":"AH87-AE87","v":-0.14999999999999858},{"$f":"IF(E87>0,1,0)","v":0},{"$f":"IF(L87>0,1,0)","v":0},{"$f":"IF(N87>0,1,0)","v":0},{"$f":"RTD(\"sysq.rtd\",\"\",\"2809`001.1\")","v":37.1},{"$f":"RTD(\"sysq.rtd\",\"\",\"2809`002.1\")","v":37.15}]
["2812","台中銀","銀行業-銀行",{"$f":"RTD(\"sysq.rtd\",\"\",\"2812`003.1\")","v":12},{"$f":"RTD(\"sysq.rtd\",\"\",\"2812`010.1\")","v":-0.41},{"$f":"RTD(\"sysq.rtd\",\"\",\"2812`005.1\")","v":93},{"$f":"RTD(\"sysq.rtd\",\"\",\"2812`029.1\")","v":1.49},-0.41,0,{"$f":"X88/$L$4*100","v":0.11365058255308044},{"$f":"(E88/100)*(J88/100)*$D$3","v":-5.8954193988924514E-2},{"$f":"(D88-AC88)/AC88","v":-1.3157894736842117E-2},null,{"$f":"(AD88-D88)/D88","v":-1.1666666666666714E-2},{"$f":"AA88-AB88","v":-12.019999999999996},-0.31180000000000002,2.2000000000000001E-3,-1.2346999999999999,1.4E-3,null,-186,24.16,9.0399999999999991,445.06,11.01,6.64,52.95,64.97,12.16,11.86,12.05,12,12.1,12,12.05,11.9,{"$f":"AJ88-AG88","v":-0.19999999999999929},{"$f":"AI88-AF88","v":5.0000000000000711E-2},{"$f":"AH88-AE88","v":-5.0000000000000711E-2},{"$f":"IF(E88>0,1,0)","v":0},{"$f":"IF(L88>0,1,0)","v":0},{"$f":"IF(N88>0,1,0)","v":0},{"$f":"RTD(\"sysq.rtd\",\"\",\"2812`001.1\")","v":11.95},{"$f":"RTD(\"sysq.rtd\",\"\",\"2812`002.1\")","v":12}]
["2823","中壽","保險業",{"$f":"RTD(\"sysq.rtd\",\"\",\"2823`003.1\")","v":20.399999999999999},{"$f":"RTD(\"sysq.rtd\",\"\",\"2823`010.1\")","v":0},{"$f":"RTD(\"sysq.rtd\",\"\",\"2823`005.1\")","v":3},{"$f":"RTD(\"sysq.rtd\",\"\",\"2823`029.1\")","v":0.76},-2.63,-20.309999999999999,{"$f":"X89/$L$4*100","v":0.23252327990688548},{"$f":"(E89/100)*(J89/100)*$D$3","v":0},{"$f":"(D89-AC89)/AC89","v":-1.734104046242789E-2},null,{"$f":"(AD89-D89)/D89","v":-1.6666666666666659E-2},{"$f":"AA89-AB89","v":-3.4500000000000028},0.35909999999999997,1.9E-3,-2.1280999999999999,1.2E-2,null,7,-3.8,2.92,910.57,5.96,5.88,46.47,49.92,20.76,20.059999999999999,20.3,20.100000000000001,20.45,20.399999999999999,20.399999999999999,19.95,{"$f":"AJ89-AG89","v":-0.5},{"$f":"AI89-AF89","v":0.29999999999999716},{"$f":"AH89-AE89","v":9.9999999999997868E-2},{"$f":"IF(E89>0,1,0)","v":0},{"$f":"IF(L89>0,1,0)","v":0},{"$f":"IF(N89>0,1,0)","v":0},{"$f":"RTD(\"sysq.rtd\",\"\",\"2823`001.1\")","v":20.399999999999999},{"$f":"RTD(\"sysq.rtd\",\"\",\"2823`002.1\")","v":20.45}]
["2834","臺企銀","銀行業-銀行",{"$f":"RTD(\"sysq.rtd\",\"\",\"2834`003.1\")","v":10},{"$f":"RTD(\"sysq.rtd\",\"\",\"2834`010.1\")","v":-0.99},{"$f":"RTD(\"sysq.rtd\",\"\",\"2834`005.1\")","v":335},{"$f":"RTD(\"sysq.rtd\",\"\",\"2834`029.1\")","v":0.98},-1.96,-20.63,{"$f":"X90/$L$4*100","v":0.19122899215993308},{"$f":"(E90/100)*(J90/100)*$D$3","v":-0.23952349167193984},{"$f":"(D90-AC90)/AC90","v":-5.9642147117296715E-3},null,{"$f":"(AD90-D90)/D90","v":-3.9999999999999151E-3},{"$f":"AA90-AB90","v":-11.29},-0.34079999999999999,1.4E-3,-1.4622999999999999,-4.0000000000000002E-4,null,-105,16.09,-1.53,748.86,12.2,6.93,31,42.29,10.06,9.9600000000000009,10.050000000000001,10.050000000000001,10.15,10,10.1,10,{"$f":"AJ90-AG90","v":-0.15000000000000036},{"$f":"AI90-AF90","v":4.9999999999998934E-2},{"$f":"AH90-AE90","v":-5.0000000000000711E-2},{"$f":"IF(E90>0,1,0)","v":0},{"$f":"IF(L90>0,1,0)","v":0},{"$f":"IF(N90>0,1,0)","v":0},{"$f":"RTD(\"sysq.rtd\",\"\",\"2834`001.1\")","v":10},{"$f":"RTD(\"sysq.rtd\",\"\",\"2834`002.1\")","v":10.050000000000001}]
["2845","遠東銀","銀行業-銀行",{"$f":"RTD(\"sysq.rtd\",\"\",\"2845`003.1\")","v":11.25},{"$f":"RTD(\"sysq.rtd\",\"\",\"2845`010.1\")","v":0},{"$f":"RTD(\"sysq.rtd\",\"\",\"2845`005.1\")","v":1},{"$f":"RTD(\"sysq.rtd\",\"\",\"2845`029.1\")","v":1.42},-0.88,-5.86,{"$f":"X91/$L$4*100","v":9.6406112504526256E-2},{"$f":"(E91/100)*(J91/100)*$D$3","v":0},{"$f":"(D91-AC91)/AC91","v":-3.5429583702390743E-3},null,{"$f":"(AD91-D91)/D91","v":-5.3333333333333774E-3},{"$f":"AA91-AB91","v":-8.7899999999999991},-0.18990000000000001,-4.0000000000000002E-4,-0.68359999999999999,-2.0000000000000001E-4,null,28,5.31,3.61,377.53,13.24,6.58,53.74,62.53,11.29,11.19,11.2,11.15,11.3,11.25,11.25,11.15,{"$f":"AJ91-AG91","v":-0.15000000000000036},{"$f":"AI91-AF91","v":9.9999999999999645E-2},{"$f":"AH91-AE91","v":5.0000000000000711E-2},{"$f":"IF(E91>0,1,0)","v":0},{"$f":"IF(L91>0,1,0)","v":0},{"$f":"IF(N91>0,1,0)","v":0},{"$f":"RTD(\"sysq.rtd\",\"\",\"2845`001.1\")","v":11.2},{"$f":"RTD(\"sysq.rtd\",\"\",\"2845`002.1\")","v":11.25}]
["2867","三商壽","保險業",{"$f":"RTD(\"sysq.rtd\",\"\",\"2867`003.1\")","v":9.41},{"$f":"RTD(\"sysq.rtd\",\"\",\"2867`010.1\")","v":-0.95},{"$f":"RTD(\"sysq.rtd\",\"\",\"2867`005.1\")","v":2},{"$f":"RTD(\"sysq.rtd\",\"\",\"2867`029.1\")","v":1.18},-3.68,-18.88,{"$f":"X92/$L$4*100","v":5.6996382568299898E-2},{"$f":"(E92/100)*(J92/100)*$D$3","v":-6.8506232064142386E-2},{"$f":"(D92-AC92)/AC92","v":-1.362683438155126E-2},null,{"$f":"(AD92-D92)/D92","v":-9.5642933049946716E-3},-0.14130000000000001,3.5000000000000003E-2,6.9999999999999999E-4,-0.3221,8.9999999999999998E-4,null,-167,11.26,4.53,223.2,3.69,0,41.09,55.14,9.5399999999999991,9.32,9.5,9.35,9.69,9.41,9.5,9.3000000000000007,{"$f":"AJ92-AG92","v":-0.38999999999999879},{"$f":"AI92-AF92","v":0.15000000000000036},{"$f":"AH92-AE92","v":-8.9999999999999858E-2},{"$f":"IF(E92>0,1,0)","v":0},{"$f":"IF(L92>0,1,0)","v":0},{"$f":"IF(N92>0,1,0)","v":0},{"$f":"RTD(\"sysq.rtd\",\"\",\"2867`001.1\")","v":9.4},{"$f":"RTD(\"sysq.rtd\",\"\",\"2867`002.1\")","v":9.41}]
["2880","華南金","銀行業-金控",{"$f":"RTD(\"sysq.rtd\",\"\",\"2880`003.1\")","v":18.399999999999999},{"$f":"RTD(\"sysq.rtd\",\"\",\"2880`010.1\")","v":-1.08},{"$f":"RTD(\"sysq.rtd\",\"\",\"2880`005.1\")","v":250},{"$f":"RTD(\"sysq.rtd\",\"\",\"2880`029.1\")","v":1.0900000000000001},-2.13,-16.36,{"$f":"X93/$L$4*100","v":0.60399822473632792},{"$f":"(E93/100)*(J93/100)*$D$3","v":-0.82531283825131418},{"$f":"(D93-AC93)/AC93","v":-1.3404825737265416E-2},null,{"$f":"(AD93-D93)/D93","v":-8.1521739130434017E-3},{"$f":"AA93-AB93","v":-18.830000000000002},-0.59199999999999997,2.3999999999999998E-3,-3.6126999999999998,2.5000000000000001E-2,null,-144,10.16,-8.89,2365.2800000000002,21.65,6.02,26.77,45.6,18.649999999999999,18.25,18.600000000000001,18.55,18.75,18.399999999999999,18.600000000000001,18.45,{"$f":"AJ93-AG93","v":-0.30000000000000071},{"$f":"AI93-AF93","v":5.0000000000000711E-2},{"$f":"AH93-AE93","v":-0.20000000000000284},{"$f":"IF(E93>0,1,0)","v":0},{"$f":"IF(L93>0,1,0)","v":0},{"$f":"IF(N93>0,1,0)","v":0},{"$f":"RTD(\"sysq.rtd\",\"\",\"2880`001.1\")","v":18.399999999999999},{"$f":"RTD(\"sysq.rtd\",\"\",\"2880`002.1\")","v":18.45}]
["2881","富邦金","銀行業-金控",{"$f":"RTD(\"sysq.rtd\",\"\",\"2881`003.1\")","v":41.7},{"$f":"RTD(\"sysq.rtd\",\"\",\"2881`010.1\")","v":-0.24},{"$f":"RTD(\"sysq.rtd\",\"\",\"2881`005.1\")","v":12},{"$f":"RTD(\"sysq.rtd\",\"\",\"2881`029.1\")","v":0.4},-1.88,-10.130000000000001,{"$f":"X94/$L$4*100","v":1.0897264020420638},{"$f":"(E94/100)*(J94/100)*$D$3","v":-0.33089324252726854},{"$f":"(D94-AC94)/AC94","v":-1.2784090909090889E-2},null,{"$f":"(AD94-D94)/D94","v":-1.3429256594724274E-2},{"$f":"AA94-AB94","v":-12.219999999999999},-0.71779999999999999,0.1447,-4.0297999999999998,0.47449999999999998,null,309,47.98,-3.76,4267.41,6.95,4.78,37.49,49.71,42.24,41.14,41.95,41.95,42.9,41.7,41.8,41.4,{"$f":"AJ94-AG94","v":-1.5},{"$f":"AI94-AF94","v":-0.15000000000000568},{"$f":"AH94-AE94","v":-0.25},{"$f":"IF(E94>0,1,0)","v":0},{"$f":"IF(L94>0,1,0)","v":0},{"$f":"IF(N94>0,1,0)","v":0},{"$f":"RTD(\"sysq.rtd\",\"\",\"2881`001.1\")","v":41.7},{"$f":"RTD(\"sysq.rtd\",\"\",\"2881`002.1\")","v":41.75}]
["2882","國泰金","銀行業-金控",{"$f":"RTD(\"sysq.rtd\",\"\",\"2882`003.1\")","v":39.9},{"$f":"RTD(\"sysq.rtd\",\"\",\"2882`010.1\")","v":0.13},{"$f":"RTD(\"sysq.rtd\",\"\",\"2882`005.1\")","v":32},{"$f":"RTD(\"sysq.rtd\",\"\",\"2882`029.1\")","v":0.64},-1.97,-6.23,{"$f":"X95/$L$4*100","v":1.3417949468314661},{"$f":"(E95/100)*(J95/100)*$D$3","v":0.2206930656750522},{"$f":"(D95-AC95)/AC95","v":-4.9875311720698964E-3},null,{"$f":"(AD95-D95)/D95","v":-5.012531328320695E-3},{"$f":"AA95-AB95","v":-16.57},5.8599999999999999E-2,0.14499999999999999,-0.1527,0.44390000000000002,null,-250,26.37,1.67,5254.52,8.06,5.0199999999999996,35.380000000000003,51.95,40.1,39.700000000000003,39.9,39.9,40.450000000000003,39.9,39.85,39.799999999999997,{"$f":"AJ95-AG95","v":-0.65000000000000568},{"$f":"AI95-AF95","v":-4.9999999999997158E-2},{"$f":"AH95-AE95","v":0},{"$f":"IF(E95>0,1,0)","v":1},{"$f":"IF(L95>0,1,0)","v":0},{"$f":"IF(N95>0,1,0)","v":0},{"$f":"RTD(\"sysq.rtd\",\"\",\"2882`001.1\")","v":39.85},{"$f":"RTD(\"sysq.rtd\",\"\",\"2882`002.1\")","v":39.9}]
["2883","開發金","銀行業-金控",{"$f":"RTD(\"sysq.rtd\",\"\",\"2883`003.1\")","v":8.5299999999999994},{"$f":"RTD(\"sysq.rtd\",\"\",\"2883`010.1\")","v":-0.35},{"$f":"RTD(\"sysq.rtd\",\"\",\"2883`005.1\")","v":580},{"$f":"RTD(\"sysq.rtd\",\"\",\"2883`029.1\")","v":0.49},-1.95,-12.33,{"$f":"X96/$L$4*100","v":0.3261025556953227},{"$f":"(E96/100)*(J96/100)*$D$3","v":-0.14440473371300278},{"$f":"(D96-AC96)/AC96","v":-8.1395348837209631E-3},null,{"$f":"(AD96-D96)/D96","v":-8.2063305978896262E-3},{"$f":"AA96-AB96","v":-2.4400000000000048},-0.28270000000000001,0.1487,-3.2191999999999998,0.46389999999999998,null,-1375,-7.33,-4.05,1277.03,14.22,7.01,36.909999999999997,39.35,8.6,8.4600000000000009,8.5500000000000007,8.5299999999999994,8.6999999999999993,8.5299999999999994,8.56,8.41,{"$f":"AJ96-AG96","v":-0.28999999999999915},{"$f":"AI96-AF96","v":3.0000000000001137E-2},{"$f":"AH96-AE96","v":-2.000000000000135E-2},{"$f":"IF(E96>0,1,0)","v":0},{"$f":"IF(L96>0,1,0)","v":0},{"$f":"IF(N96>0,1,0)","v":0},{"$f":"RTD(\"sysq.rtd\",\"\",\"2883`001.1\")","v":8.5299999999999994},{"$f":"RTD(\"sysq.rtd\",\"\",\"2883`002.1\")","v":8.5399999999999991}]
["2884","玉山金","銀行業-金控",{"$f":"RTD(\"sysq.rtd\",\"\",\"2884`003.1\")","v":27.05},{"$f":"RTD(\"sysq.rtd\",\"\",\"2884`010.1\")","v":-1.28},{"$f":"RTD(\"sysq.rtd\",\"\",\"2884`005.1\")","v":179},{"$f":"RTD(\"sysq.rtd\",\"\",\"2884`029.1\")","v":0.75},-0.18,-3.05,{"$f":"X97/$L$4*100","v":0.86657994636415681},{"$f":"(E97/100)*(J97/100)*$D$3","v":-1.4033880936191119},{"$f":"(D97-AC97)/AC97","v":-1.385344513306595E-2},null,{"$f":"(AD97-D97)/D97","v":-8.5027726432532497E-3},{"$f":"AA97-AB97","v":-9.4600000000000009},-1.4626999999999999,3.3E-3,1.0115000000000001,4.7399999999999998E-2,null,-912,2.83,3.22,3393.56,16.2,5.8,41.91,51.37,27.43,26.82,27.35,27.2,27.55,27.05,27.4,27.05,{"$f":"AJ97-AG97","v":-0.5},{"$f":"AI97-AF97","v":0.19999999999999929},{"$f":"AH97-AE97","v":-0.30000000000000071},{"$f":"IF(E97>0,1,0)","v":0},{"$f":"IF(L97>0,1,0)","v":0},{"$f":"IF(N97>0,1,0)","v":0},{"$f":"RTD(\"sysq.rtd\",\"\",\"2884`001.1\")","v":27.05},{"$f":"RTD(\"sysq.rtd\",\"\",\"2884`002.1\")","v":27.1}]
["2885","元大金","銀行業-金控",{"$f":"RTD(\"sysq.rtd\",\"\",\"2885`003.1\")","v":18.45},{"$f":"RTD(\"sysq.rtd\",\"\",\"2885`010.1\")","v":-0.81},{"$f":"RTD(\"sysq.rtd\",\"\",\"2885`005.1\")","v":21},{"$f":"RTD(\"sysq.rtd\",\"\",\"2885`029.1\")","v":0.84},-1.86,-8.66,{"$f":"X98/$L$4*100","v":0.57184327629098597},{"$f":"(E98/100)*(J98/100)*$D$3","v":-0.58603185166231797},{"$f":"(D98-AC98)/AC98","v":-1.861702127659582E-2},null,{"$f":"(AD98-D98)/D98","v":-1.3550135501355014E-2},{"$f":"AA98-AB98","v":-13.370000000000005},-1.0012000000000001,4.4999999999999997E-3,-2.0230000000000001,3.3099999999999997E-2,null,29,21.21,21.59,2239.36,11.25,5.65,47.37,60.74,18.8,18.2,18.649999999999999,18.649999999999999,18.8,18.45,18.600000000000001,18.45,{"$f":"AJ98-AG98","v":-0.35000000000000142},{"$f":"AI98-AF98","v":-4.9999999999997158E-2},{"$f":"AH98-AE98","v":-0.19999999999999929},{"$f":"IF(E98>0,1,0)","v":0},{"$f":"IF(L98>0,1,0)","v":0},{"$f":"IF(N98>0,1,0)","v":0},{"$f":"RTD(\"sysq.rtd\",\"\",\"2885`001.1\")","v":18.399999999999999},{"$f":"RTD(\"sysq.rtd\",\"\",\"2885`002.1\")","v":18.45}]
["2886","兆豐金","銀行業-金控",{"$f":"RTD(\"sysq.rtd\",\"\",\"2886`003.1\")","v":29.6},{"$f":"RTD(\"sysq.rtd\",\"\",\"2886`010.1\")","v":0},{"$f":"RTD(\"sysq.rtd\",\"\",\"2886`005.1\")","v":65},{"$f":"RTD(\"sysq.rtd\",\"\",\"2886`029.1\")","v":0.95},-1.33,-3.27,{"$f":"X99/$L$4*100","v":1.0279649993181885},{"$f":"(E99/100)*(J99/100)*$D$3","v":0},{"$f":"(D99-AC99)/AC99","v":-6.7114093959731299E-3},null,{"$f":"(AD99-D99)/D99","v":-6.7567567567568525E-3},-0.377,2.1503000000000001,-0.5343,-1.3688,-1.7531000000000001,null,-25,-0.78,-0.26,4025.55,17.309999999999999,5.74,14.65,19.54,29.8,29.4,29.7,29.65,29.9,29.6,29.6,29.4,{"$f":"AJ99-AG99","v":-0.5},{"$f":"AI99-AF99","v":-4.9999999999997158E-2},{"$f":"AH99-AE99","v":-9.9999999999997868E-2},{"$f":"IF(E99>0,1,0)","v":0},{"$f":"IF(L99>0,1,0)","v":0},{"$f":"IF(N99>0,1,0)","v":0},{"$f":"RTD(\"sysq.rtd\",\"\",\"2886`001.1\")","v":29.6},{"$f":"RTD(\"sysq.rtd\",\"\",\"2886`002.1\")","v":29.65}]
["2887","台新金","銀行業-金控",{"$f":"RTD(\"sysq.rtd\",\"\",\"2887`003.1\")","v":13.15},{"$f":"RTD(\"sysq.rtd\",\"\",\"2887`010.1\")","v":-2.23},{"$f":"RTD(\"sysq.rtd\",\"\",\"2887`005.1\")","v":309},{"$f":"RTD(\"sysq.rtd\",\"\",\"2887`029.1\")","v":0.53},-0.38,-9.31,{"$f":"X100/$L$4*100","v":0.36630900925884785},{"$f":"(E100/100)*(J100/100)*$D$3","v":-1.0335027734868762},{"$f":"(D100-AC100)/AC100","v":-3.6630036630036632E-2},null,{"$f":"(AD100-D100)/D100","v":-2.2813688212927809E-2},{"$f":"AA100-AB100","v":-10.069999999999993},-0.6179,1.5E-3,-0.373,2.0400000000000001E-2,null,4140,2.81,1.36,1434.48,11.24,5.95,55.06,65.13,13.65,12.85,13.5,13.1,13.15,13.15,13.45,13,{"$f":"AJ100-AG100","v":-0.15000000000000036},{"$f":"AI100-AF100","v":0.34999999999999964},{"$f":"AH100-AE100","v":-0.34999999999999964},{"$f":"IF(E100>0,1,0)","v":0},{"$f":"IF(L100>0,1,0)","v":0},{"$f":"IF(N100>0,1,0)","v":0},{"$f":"RTD(\"sysq.rtd\",\"\",\"2887`001.1\")","v":13.15},{"$f":"RTD(\"sysq.rtd\",\"\",\"2887`002.1\")","v":13.2}]
["2888","新光金","銀行業-金控",{"$f":"RTD(\"sysq.rtd\",\"\",\"2888`003.1\")","v":8.2200000000000006},{"$f":"RTD(\"sysq.rtd\",\"\",\"2888`010.1\")","v":-0.36},{"$f":"RTD(\"sysq.rtd\",\"\",\"2888`005.1\")","v":3},{"$f":"RTD(\"sysq.rtd\",\"\",\"2888`029.1\")","v":0.66},-2.84,-20.58,{"$f":"X101/$L$4*100","v":0.27330684737992839},{"$f":"(E101/100)*(J101/100)*$D$3","v":-0.12448361638983074},{"$f":"(D101-AC101)/AC101","v":-8.4439083232808829E-3},null,{"$f":"(AD101-D101)/D101","v":-4.8661800486619125E-3},{"$f":"AA101-AB101","v":-13.460000000000004},-0.40889999999999999,2.8999999999999998E-3,-2.7997999999999998,0.02,null,226,-8.94,25.96,1070.28,5.87,4.7300000000000004,30.31,43.77,8.2899999999999991,8.18,8.27,8.27,8.39,8.2200000000000006,8.25,8.18,{"$f":"AJ101-AG101","v":-0.21000000000000085},{"$f":"AI101-AF101","v":-1.9999999999999574E-2},{"$f":"AH101-AE101","v":-4.9999999999998934E-2},{"$f":"IF(E101>0,1,0)","v":0},{"$f":"IF(L101>0,1,0)","v":0},{"$f":"IF(N101>0,1,0)","v":0},{"$f":"RTD(\"sysq.rtd\",\"\",\"2888`001.1\")","v":8.2200000000000006},{"$f":"RTD(\"sysq.rtd\",\"\",\"2888`002.1\")","v":8.23}]
["2889","國票金","銀行業-金控",{"$f":"RTD(\"sysq.rtd\",\"\",\"2889`003.1\")","v":11.55},{"$f":"RTD(\"sysq.rtd\",\"\",\"2889`010.1\")","v":0},{"$f":"RTD(\"sysq.rtd\",\"\",\"2889`005.1\")","v":6},{"$f":"RTD(\"sysq.rtd\",\"\",\"2889`029.1\")","v":0.54},-1.28,2.67,{"$f":"X102/$L$4*100","v":8.542818021684162E-2},{"$f":"(E102/100)*(J102/100)*$D$3","v":0},{"$f":"(D102-AC102)/AC102","v":-1.1976047904191513E-2},null,{"$f":"(AD102-D102)/D102","v":-1.3852813852813865E-2},{"$f":"AA102-AB102","v":-13.149999999999999},-2.0899999999999998E-2,-5.9999999999999995E-4,-0.21160000000000001,-5.9999999999999995E-4,null,14,27.48,21.48,334.54,13.43,7.1,39.53,52.68,11.69,11.39,11.55,11.5,11.7,11.55,11.55,11.5,{"$f":"AJ102-AG102","v":-0.19999999999999929},{"$f":"AI102-AF102","v":5.0000000000000711E-2},{"$f":"AH102-AE102","v":0},{"$f":"IF(E102>0,1,0)","v":0},{"$f":"IF(L102>0,1,0)","v":0},{"$f":"IF(N102>0,1,0)","v":0},{"$f":"RTD(\"sysq.rtd\",\"\",\"2889`001.1\")","v":11.5},{"$f":"RTD(\"sysq.rtd\",\"\",\"2889`002.1\")","v":11.55}]
["2890","永豐金","銀行業-金控",{"$f":"RTD(\"sysq.rtd\",\"\",\"2890`003.1\")","v":10.9},{"$f":"RTD(\"sysq.rtd\",\"\",\"2890`010.1\")","v":0},{"$f":"RTD(\"sysq.rtd\",\"\",\"2890`005.1\")","v":392},{"$f":"RTD(\"sysq.rtd\",\"\",\"2890`029.1\")","v":0.82},-0.91,-16.149999999999999,{"$f":"X103/$L$4*100","v":0.31372014265438691},{"$f":"(E103/100)*(J103/100)*$D$3","v":0},{"$f":"(D103-AC103)/AC103","v":-1.2681159420289747E-2},null,{"$f":"(AD103-D103)/D103","v":-1.467889908256882E-2},{"$f":"AA103-AB103","v":-4.4600000000000009},-0.1056,0.13020000000000001,-1.3041,0.40200000000000002,null,444,31.13,13.58,1228.54,10.58,6.42,52.38,56.84,11.04,10.74,10.85,10.85,10.9,10.9,10.9,10.75,{"$f":"AJ103-AG103","v":-0.15000000000000036},{"$f":"AI103-AF103","v":5.0000000000000711E-2},{"$f":"AH103-AE103","v":5.0000000000000711E-2},{"$f":"IF(E103>0,1,0)","v":0},{"$f":"IF(L103>0,1,0)","v":0},{"$f":"IF(N103>0,1,0)","v":0},{"$f":"RTD(\"sysq.rtd\",\"\",\"2890`001.1\")","v":10.9},{"$f":"RTD(\"sysq.rtd\",\"\",\"2890`002.1\")","v":10.95}]
["2891","中信金","銀行業-金控",{"$f":"RTD(\"sysq.rtd\",\"\",\"2891`003.1\")","v":19.05},{"$f":"RTD(\"sysq.rtd\",\"\",\"2891`010.1\")","v":-0.78},{"$f":"RTD(\"sysq.rtd\",\"\",\"2891`005.1\")","v":203},{"$f":"RTD(\"sysq.rtd\",\"\",\"2891`029.1\")","v":0.73},-2.31,-14.96,{"$f":"X104/$L$4*100","v":0.94845351347458839},{"$f":"(E104/100)*(J104/100)*$D$3","v":-0.93598704049347836},{"$f":"(D104-AC104)/AC104","v":-1.1929460580912885E-2},null,{"$f":"(AD104-D104)/D104","v":-9.4488188976377795E-3},{"$f":"AA104-AB104","v":-7.0499999999999972},-1.8416999999999999,-0.36609999999999998,-13.041399999999999,-1.7321,null,-69,45,-12.94,3714.18,9.16,5.21,21.69,28.74,19.28,18.87,19.2,19.100000000000001,19.350000000000001,19.05,19.2,19,{"$f":"AJ104-AG104","v":-0.35000000000000142},{"$f":"AI104-AF104","v":9.9999999999997868E-2},{"$f":"AH104-AE104","v":-0.14999999999999858},{"$f":"IF(E104>0,1,0)","v":0},{"$f":"IF(L104>0,1,0)","v":0},{"$f":"IF(N104>0,1,0)","v":0},{"$f":"RTD(\"sysq.rtd\",\"\",\"2891`001.1\")","v":19.05},{"$f":"RTD(\"sysq.rtd\",\"\",\"2891`002.1\")","v":19.100000000000001}]
["2892","第一金","銀行業-金控",{"$f":"RTD(\"sysq.rtd\",\"\",\"2892`003.1\")","v":21.35},{"$f":"RTD(\"sysq.rtd\",\"\",\"2892`010.1\")","v":-0.93},{"$f":"RTD(\"sysq.rtd\",\"\",\"2892`005.1\")","v":142},{"$f":"RTD(\"sysq.rtd\",\"\",\"2892`029.1\")","v":0.84},-2.29,-9.92,{"$f":"X105/$L$4*100","v":0.69979913371627145},{"$f":"(E105/100)*(J105/100)*$D$3","v":-0.82340885349937887},{"$f":"(D105-AC105)/AC105","v":-1.1574074074074073E-2},null,{"$f":"(AD105-D105)/D105","v":-7.0257611241218796E-3},{"$f":"AA105-AB105","v":-8.9700000000000024},-0.68320000000000003,0.15709999999999999,-4.4208999999999996,0.50080000000000002,null,-34,22.51,-6.53,2740.44,15.25,6.26,22.54,31.51,21.6,21.2,21.55,21.5,21.7,21.35,21.55,21.35,{"$f":"AJ105-AG105","v":-0.34999999999999787},{"$f":"AI105-AF105","v":5.0000000000000711E-2},{"$f":"AH105-AE105","v":-0.19999999999999929},{"$f":"IF(E105>0,1,0)","v":0},{"$f":"IF(L105>0,1,0)","v":0},{"$f":"IF(N105>0,1,0)","v":0},{"$f":"RTD(\"sysq.rtd\",\"\",\"2892`001.1\")","v":21.35},{"$f":"RTD(\"sysq.rtd\",\"\",\"2892`002.1\")","v":21.4}]
["2903","遠百","百貨業",{"$f":"RTD(\"sysq.rtd\",\"\",\"2903`003.1\")","v":26},{"$f":"RTD(\"sysq.rtd\",\"\",\"2903`010.1\")","v":0.97},{"$f":"RTD(\"sysq.rtd\",\"\",\"2903`005.1\")","v":5},{"$f":"RTD(\"sysq.rtd\",\"\",\"2903`029.1\")","v":1.45},0.97,-0.19,{"$f":"X106/$L$4*100","v":9.4074674454129398E-2},{"$f":"(E106/100)*(J106/100)*$D$3","v":0.11545257977578359},{"$f":"(D106-AC106)/AC106","v":-1.5524422567209395E-2},null,{"$f":"(AD106-D106)/D106","v":-2.6538461538461587E-2},{"$f":"AA106-AB106","v":5.9799999999999898},-0.1066,1.5E-3,-0.26900000000000002,1.5E-3,null,21,6.52,-0.36,368.4,24.53,3.11,84.91,78.930000000000007,26.41,25.31,25.8,25,25.75,26,25.75,24.95,{"$f":"AJ106-AG106","v":-0.80000000000000071},{"$f":"AI106-AF106","v":0.75},{"$f":"AH106-AE106","v":0.19999999999999929},{"$f":"IF(E106>0,1,0)","v":1},{"$f":"IF(L106>0,1,0)","v":0},{"$f":"IF(N106>0,1,0)","v":0},{"$f":"RTD(\"sysq.rtd\",\"\",\"2903`001.1\")","v":25.95},{"$f":"RTD(\"sysq.rtd\",\"\",\"2903`002.1\")","v":26}]
["2912","統一超","量販超市/便利店",{"$f":"RTD(\"sysq.rtd\",\"\",\"2912`003.1\")","v":271},{"$f":"RTD(\"sysq.rtd\",\"\",\"2912`010.1\")","v":0},{"$f":"RTD(\"sysq.rtd\",\"\",\"2912`005.1\")","v":1},{"$f":"RTD(\"sysq.rtd\",\"\",\"2912`029.1\")","v":0.73},-1.0900000000000001,-10.86,{"$f":"X107/$L$4*100","v":0.71944654265356978},{"$f":"(E107/100)*(J107/100)*$D$3","v":0},{"$f":"(D107-AC107)/AC107","v":-1.4545454545454545E-2},null,{"$f":"(AD107-D107)/D107","v":-1.4760147601476014E-2},{"$f":"AA107-AB107","v":-12.530000000000001},-1.7502,5.1000000000000004E-3,-8.5439000000000007,2.9499999999999998E-2,null,8,6.37,3.02,2817.38,27.79,3.32,22.22,34.75,275,267,271,271.5,275,271,271,270.5,{"$f":"AJ107-AG107","v":-4.5},{"$f":"AI107-AF107","v":-0.5},{"$f":"AH107-AE107","v":0},{"$f":"IF(E107>0,1,0)","v":0},{"$f":"IF(L107>0,1,0)","v":0},{"$f":"IF(N107>0,1,0)","v":0},{"$f":"RTD(\"sysq.rtd\",\"\",\"2912`001.1\")","v":271},{"$f":"RTD(\"sysq.rtd\",\"\",\"2912`002.1\")","v":271.5}]
["2915","潤泰全","量販超市/便利店",{"$f":"RTD(\"sysq.rtd\",\"\",\"2915`003.1\")","v":64.8},{"$f":"RTD(\"sysq.rtd\",\"\",\"2915`010.1\")","v":0.15},{"$f":"RTD(\"sysq.rtd\",\"\",\"2915`005.1\")","v":1},{"$f":"RTD(\"sysq.rtd\",\"\",\"2915`029.1\")","v":0.71},-0.92,-11.84,{"$f":"X108/$L$4*100","v":9.3469470929546647E-2},{"$f":"(E108/100)*(J108/100)*$D$3","v":1.7738636193009361E-2},{"$f":"(D108-AC108)/AC108","v":-7.3529411764706488E-3},null,{"$f":"(AD108-D108)/D108","v":-8.0246913580246295E-3},{"$f":"AA108-AB108","v":-7.2700000000000031},-3.2000000000000002E-3,2.0999999999999999E-3,-0.68330000000000002,2.0999999999999999E-3,null,-88,-57,-23.65,366.03,4.9800000000000004,7.73,42.3,49.57,65.28,64.28,64.8,64.599999999999994,66.099999999999994,64.8,64.7,64.099999999999994,{"$f":"AJ108-AG108","v":-2},{"$f":"AI108-AF108","v":0.10000000000000853},{"$f":"AH108-AE108","v":0},{"$f":"IF(E108>0,1,0)","v":1},{"$f":"IF(L108>0,1,0)","v":0},{"$f":"IF(N108>0,1,0)","v":0},{"$f":"RTD(\"sysq.rtd\",\"\",\"2915`001.1\")","v":64.7},{"$f":"RTD(\"sysq.rtd\",\"\",\"2915`002.1\")","v":64.8}]
["3005","神基","PC/NB/平板",{"$f":"RTD(\"sysq.rtd\",\"\",\"3005`003.1\")","v":46.15},{"$f":"RTD(\"sysq.rtd\",\"\",\"3005`010.1\")","v":2.78},{"$f":"RTD(\"sysq.rtd\",\"\",\"3005`005.1\")","v":25},{"$f":"RTD(\"sysq.rtd\",\"\",\"3005`029.1\")","v":2.5499999999999998},3.59,-1.18,{"$f":"X109/$L$4*100","v":6.8824664112043854E-2},{"$f":"(E109/100)*(J109/100)*$D$3","v":0.24207396279607088},{"$f":"(D109-AC109)/AC109","v":-3.4922626516102083E-2},null,{"$f":"(AD109-D109)/D109","v":-4.160346695557967E-2},{"$f":"AA109-AB109","v":3.5900000000000034},-0.09,1.6000000000000001E-3,0.2177,4.24E-2,null,507,5.62,2.29,269.52,11.01,6.24,72.92,69.33,47.82,44.23,46,43.4,44,46.15,44.9,43.05,{"$f":"AJ109-AG109","v":-0.95000000000000284},{"$f":"AI109-AF109","v":1.5},{"$f":"AH109-AE109","v":0.14999999999999858},{"$f":"IF(E109>0,1,0)","v":1},{"$f":"IF(L109>0,1,0)","v":0},{"$f":"IF(N109>0,1,0)","v":0},{"$f":"RTD(\"sysq.rtd\",\"\",\"3005`001.1\")","v":46.15},{"$f":"RTD(\"sysq.rtd\",\"\",\"3005`002.1\")","v":46.2}]
["3008","大立光","光學元件或組裝",{"$f":"RTD(\"sysq.rtd\",\"\",\"3008`003.1\")","v":3605},{"$f":"RTD(\"sysq.rtd\",\"\",\"3008`010.1\")","v":1.69},{"$f":"RTD(\"sysq.rtd\",\"\",\"3008`005.1\")","v":3},{"$f":"RTD(\"sysq.rtd\",\"\",\"3008`029.1\")","v":0.48},-7.56,-27.9,{"$f":"X110/$L$4*100","v":1.2348577822789257},{"$f":"(E110/100)*(J110/100)*$D$3","v":2.6403580917754117},{"$f":"(D110-AC110)/AC110","v":-2.1045485403937542E-2},null,{"$f":"(AD110-D110)/D110","v":-3.3980582524271843E-2},{"$f":"AA110-AB110","v":0.15000000000000213},2.0314999999999999,-3.1399999999999997E-2,-42.366799999999998,-0.54500000000000004,null,34,11.51,-15.17,4835.75,17.05,2.23,26.23,26.08,3682.5,3482.5,3545,3600,3715,3605,3545,3560,{"$f":"AJ110-AG110","v":-155},{"$f":"AI110-AF110","v":-55},{"$f":"AH110-AE110","v":60},{"$f":"IF(E110>0,1,0)","v":1},{"$f":"IF(L110>0,1,0)","v":0},{"$f":"IF(N110>0,1,0)","v":0},{"$f":"RTD(\"sysq.rtd\",\"\",\"3008`001.1\")","v":3600},{"$f":"RTD(\"sysq.rtd\",\"\",\"3008`002.1\")","v":3605}]
["3023","信邦","連接線器",{"$f":"RTD(\"sysq.rtd\",\"\",\"3023`003.1\")","v":168.5},{"$f":"RTD(\"sysq.rtd\",\"\",\"3023`010.1\")","v":-0.88},{"$f":"RTD(\"sysq.rtd\",\"\",\"3023`005.1\")","v":75},{"$f":"RTD(\"sysq.rtd\",\"\",\"3023`029.1\")","v":0.79},-2.88,35.89,{"$f":"X111/$L$4*100","v":0.10015990651776106},{"$f":"(E111/100)*(J111/100)*$D$3","v":-0.11151563607911875},{"$f":"(D111-AC111)/AC111","v":-2.5335492827394699E-2},null,{"$f":"(AD111-D111)/D111","v":-1.5548961424332371E-2},0.22259999999999999,0,1.4E-3,-0.36670000000000003,-2E-3,null,7,4,12.18,392.23,20.88,3.12,37.1,35.06,172.88,165.88,170.5,167,173,168.5,170,166,{"$f":"AJ111-AG111","v":-7},{"$f":"AI111-AF111","v":3},{"$f":"AH111-AE111","v":-2},{"$f":"IF(E111>0,1,0)","v":0},{"$f":"IF(L111>0,1,0)","v":0},{"$f":"IF(N111>0,1,0)","v":0},{"$f":"RTD(\"sysq.rtd\",\"\",\"3023`001.1\")","v":168.5},{"$f":"RTD(\"sysq.rtd\",\"\",\"3023`002.1\")","v":169.5}]
["3034","聯詠","消費性IC設計",{"$f":"RTD(\"sysq.rtd\",\"\",\"3034`003.1\")","v":264},{"$f":"RTD(\"sysq.rtd\",\"\",\"3034`010.1\")","v":0.38},{"$f":"RTD(\"sysq.rtd\",\"\",\"3034`005.1\")","v":5},{"$f":"RTD(\"sysq.rtd\",\"\",\"3034`029.1\")","v":0.5},-8.65,20.55,{"$f":"X112/$L$4*100","v":0.41022839921369508},{"$f":"(E112/100)*(J112/100)*$D$3","v":0.19722796886036345},{"$f":"(D112-AC112)/AC112","v":-1.3563501849568418E-2},null,{"$f":"(AD112-D112)/D112","v":-2.0340909090909107E-2},9.5000000000000001E-2,0.3624,-8.5900000000000004E-2,2.6076999999999999,-5.0934999999999997,null,-93,15.2,24.57,1606.47,18.68,3.99,27.32,23.58,267.63,258.63,260,266,267,264,263,256,{"$f":"AJ112-AG112","v":-11},{"$f":"AI112-AF112","v":-3},{"$f":"AH112-AE112","v":4},{"$f":"IF(E112>0,1,0)","v":1},{"$f":"IF(L112>0,1,0)","v":0},{"$f":"IF(N112>0,1,0)","v":0},{"$f":"RTD(\"sysq.rtd\",\"\",\"3034`001.1\")","v":263.5},{"$f":"RTD(\"sysq.rtd\",\"\",\"3034`002.1\")","v":264}]
["3037","欣興","PCB-高密度板",{"$f":"RTD(\"sysq.rtd\",\"\",\"3037`003.1\")","v":79.2},{"$f":"RTD(\"sysq.rtd\",\"\",\"3037`010.1\")","v":-1.74},{"$f":"RTD(\"sysq.rtd\",\"\",\"3037`005.1\")","v":117},{"$f":"RTD(\"sysq.rtd\",\"\",\"3037`029.1\")","v":0.76},-4.58,88.57,{"$f":"X113/$L$4*100","v":0.30432544321582172},{"$f":"(E113/100)*(J113/100)*$D$3","v":-0.66995663831658425},{"$f":"(D113-AC113)/AC113","v":-6.1277705345501976E-2},null,{"$f":"(AD113-D113)/D113","v":-6.8434343434343459E-2},-2.41E-2,10.1073,-2.3980999999999999,13.658200000000001,-7.1460999999999997,null,-119,8.8000000000000007,5.99,1191.75,27.89,1.35,33.520000000000003,49.35,84.37,73.78,81,80,89,79.2,80.599999999999994,79.7,{"$f":"AJ113-AG113","v":-9.2999999999999972},{"$f":"AI113-AF113","v":0.59999999999999432},{"$f":"AH113-AE113","v":-1.7999999999999972},{"$f":"IF(E113>0,1,0)","v":0},{"$f":"IF(L113>0,1,0)","v":0},{"$f":"IF(N113>0,1,0)","v":0},{"$f":"RTD(\"sysq.rtd\",\"\",\"3037`001.1\")","v":79.099999999999994},{"$f":"RTD(\"sysq.rtd\",\"\",\"3037`002.1\")","v":79.2}]
["3044","健鼎","PCB-高密度板",{"$f":"RTD(\"sysq.rtd\",\"\",\"3044`003.1\")","v":117.5},{"$f":"RTD(\"sysq.rtd\",\"\",\"3044`010.1\")","v":-1.67},{"$f":"RTD(\"sysq.rtd\",\"\",\"3044`005.1\")","v":2},{"$f":"RTD(\"sysq.rtd\",\"\",\"3044`029.1\")","v":0.74},-4.47,-6.37,{"$f":"X114/$L$4*100","v":0.15770786698188324},{"$f":"(E114/100)*(J114/100)*$D$3","v":-0.3332184288201494},{"$f":"(D114-AC114)/AC114","v":-3.5936987200525072E-2},null,{"$f":"(AD114-D114)/D114","v":-3.9319148936170251E-2},{"$f":"AA114-AB114","v":8.0399999999999991},-0.5444,1E-3,-1.3991,-2.1499999999999998E-2,null,-174,11.07,2.41,617.59,10.36,6.07,43.42,35.380000000000003,121.88,112.88,119.5,119,118,117.5,119.5,115,{"$f":"AJ114-AG114","v":-3},{"$f":"AI114-AF114","v":0.5},{"$f":"AH114-AE114","v":-2},{"$f":"IF(E114>0,1,0)","v":0},{"$f":"IF(L114>0,1,0)","v":0},{"$f":"IF(N114>0,1,0)","v":0},{"$f":"RTD(\"sysq.rtd\",\"\",\"3044`001.1\")","v":117},{"$f":"RTD(\"sysq.rtd\",\"\",\"3044`002.1\")","v":117.5}]
["3045","台灣大","電信服務",{"$f":"RTD(\"sysq.rtd\",\"\",\"3045`003.1\")","v":102.5},{"$f":"RTD(\"sysq.rtd\",\"\",\"3045`010.1\")","v":-0.49},{"$f":"RTD(\"sysq.rtd\",\"\",\"3045`005.1\")","v":67},{"$f":"RTD(\"sysq.rtd\",\"\",\"3045`029.1\")","v":0.23},-0.97,-8.48,{"$f":"X115/$L$4*100","v":0.91855850224129598},{"$f":"(E115/100)*(J115/100)*$D$3","v":-0.56945850634748696},{"$f":"(D115-AC115)/AC115","v":-6.1087947251041936E-3},null,{"$f":"(AD115-D115)/D115","v":-3.60975609756102E-3},{"$f":"AA115-AB115","v":2.2900000000000027},-0.20050000000000001,0.15579999999999999,-5.4316000000000004,0.49120000000000003,null,19,-2.13,0.35,3597.11,22.93,4.6100000000000003,27.6,25.31,103.13,102.13,103,103,103,102.5,103,102.5,{"$f":"AJ115-AG115","v":-0.5},{"$f":"AI115-AF115","v":0},{"$f":"AH115-AE115","v":-0.5},{"$f":"IF(E115>0,1,0)","v":0},{"$f":"IF(L115>0,1,0)","v":0},{"$f":"IF(N115>0,1,0)","v":0},{"$f":"RTD(\"sysq.rtd\",\"\",\"3045`001.1\")","v":102.5},{"$f":"RTD(\"sysq.rtd\",\"\",\"3045`002.1\")","v":103}]
["3231","緯創","PC/NB/平板",{"$f":"RTD(\"sysq.rtd\",\"\",\"3231`003.1\")","v":32.6},{"$f":"RTD(\"sysq.rtd\",\"\",\"3231`010.1\")","v":4.1500000000000004},{"$f":"RTD(\"sysq.rtd\",\"\",\"3231`005.1\")","v":9},{"$f":"RTD(\"sysq.rtd\",\"\",\"3231`029.1\")","v":1.35},-5.51,14.99,{"$f":"X116/$L$4*100","v":0.23647370122557546},{"$f":"(E116/100)*(J116/100)*$D$3","v":1.2416240861809822},{"$f":"(D116-AC116)/AC116","v":-4.4268542949281675E-2},null,{"$f":"(AD116-D116)/D116","v":-6.717791411042949E-2},{"$f":"AA116-AB116","v":0.13999999999999702},1.3216000000000001,0.17299999999999999,-6.8684000000000003,0.73909999999999998,null,253,-0.68,17.82,926.04,11.16,6.52,27.99,27.85,34.11,30.41,31.55,31.45,32.450000000000003,32.6,31.3,30.9,{"$f":"AJ116-AG116","v":-1.5500000000000043},{"$f":"AI116-AF116","v":-0.14999999999999858},{"$f":"AH116-AE116","v":1.0500000000000007},{"$f":"IF(E116>0,1,0)","v":1},{"$f":"IF(L116>0,1,0)","v":0},{"$f":"IF(N116>0,1,0)","v":0},{"$f":"RTD(\"sysq.rtd\",\"\",\"3231`001.1\")","v":32.6},{"$f":"RTD(\"sysq.rtd\",\"\",\"3231`002.1\")","v":32.65}]
["3406","玉晶光","光學元件或組裝",{"$f":"RTD(\"sysq.rtd\",\"\",\"3406`003.1\")","v":629},{"$f":"RTD(\"sysq.rtd\",\"\",\"3406`010.1\")","v":2.61},{"$f":"RTD(\"sysq.rtd\",\"\",\"3406`005.1\")","v":28},{"$f":"RTD(\"sysq.rtd\",\"\",\"3406`029.1\")","v":0.87},-5.41,7.16,{"$f":"X117/$L$4*100","v":0.17902788481623519},{"$f":"(E117/100)*(J117/100)*$D$3","v":0.59118086845939699},{"$f":"(D117-AC117)/AC117","v":-3.1562740569668978E-2},null,{"$f":"(AD117-D117)/D117","v":-5.0079491255961846E-2},{"$f":"AA117-AB117","v":3.8900000000000006},3.7363,-3.6799999999999999E-2,15.988,-2.0922999999999998,null,71,40.97,21.83,701.08,21.21,1.47,35.71,31.82,649.5,597.5,614,609,640,629,613,593,{"$f":"AJ117-AG117","v":-47},{"$f":"AI117-AF117","v":4},{"$f":"AH117-AE117","v":15},{"$f":"IF(E117>0,1,0)","v":1},{"$f":"IF(L117>0,1,0)","v":0},{"$f":"IF(N117>0,1,0)","v":0},{"$f":"RTD(\"sysq.rtd\",\"\",\"3406`001.1\")","v":628},{"$f":"RTD(\"sysq.rtd\",\"\",\"3406`002.1\")","v":629}]
["3443","創意","其他IC設計",{"$f":"RTD(\"sysq.rtd\",\"\",\"3443`003.1\")","v":283.5},{"$f":"RTD(\"sysq.rtd\",\"\",\"3443`010.1\")","v":2.16},{"$f":"RTD(\"sysq.rtd\",\"\",\"3443`005.1\")","v":10},{"$f":"RTD(\"sysq.rtd\",\"\",\"3443`029.1\")","v":1.05},-5.81,17.63,{"$f":"X118/$L$4*100","v":9.7016423231848115E-2},{"$f":"(E118/100)*(J118/100)*$D$3","v":0.26512958593353797},{"$f":"(D118-AC118)/AC118","v":-5.5409322626861678E-2},null,{"$f":"(AD118-D118)/D118","v":-5.7742504409171093E-2},{"$f":"AA118-AB118","v":-0.25},1.409,2.9399999999999999E-2,5.9044999999999996,-0.56810000000000005,null,-34,1.9,14.88,379.92,74.209999999999994,1.8,30.06,30.31,300.13,267.13,280.5,275,295.5,283.5,277.5,267.5,{"$f":"AJ118-AG118","v":-28},{"$f":"AI118-AF118","v":2.5},{"$f":"AH118-AE118","v":3},{"$f":"IF(E118>0,1,0)","v":1},{"$f":"IF(L118>0,1,0)","v":0},{"$f":"IF(N118>0,1,0)","v":0},{"$f":"RTD(\"sysq.rtd\",\"\",\"3443`001.1\")","v":283.5},{"$f":"RTD(\"sysq.rtd\",\"\",\"3443`002.1\")","v":284}]
["3481","群創","面板生產",{"$f":"RTD(\"sysq.rtd\",\"\",\"3481`003.1\")","v":8.09},{"$f":"RTD(\"sysq.rtd\",\"\",\"3481`010.1\")","v":0.62},{"$f":"RTD(\"sysq.rtd\",\"\",\"3481`005.1\")","v":160},{"$f":"RTD(\"sysq.rtd\",\"\",\"3481`029.1\")","v":0.81},-2.1800000000000002,-2.88,{"$f":"X119/$L$4*100","v":0.20061858439575919},{"$f":"(E119/100)*(J119/100)*$D$3","v":0.15737003244605902},{"$f":"(D119-AC119)/AC119","v":-2.9976019184652279E-2},null,{"$f":"(AD119-D119)/D119","v":-2.1013597033374527E-2},-0.32379999999999998,0.47860000000000003,-6.9999999999999999E-4,1.2906,-6.9999999999999999E-4,null,-8174,-1.7,15.74,785.63,null,1.24,54.96,43.17,8.34,7.92,8.09,7.85,8.2100000000000009,8.09,8.0399999999999991,7.68,{"$f":"AJ119-AG119","v":-0.53000000000000114},{"$f":"AI119-AF119","v":0.1899999999999995},{"$f":"AH119-AE119","v":0},{"$f":"IF(E119>0,1,0)","v":1},{"$f":"IF(L119>0,1,0)","v":0},{"$f":"IF(N119>0,1,0)","v":0},{"$f":"RTD(\"sysq.rtd\",\"\",\"3481`001.1\")","v":8.09},{"$f":"RTD(\"sysq.rtd\",\"\",\"3481`002.1\")","v":8.1}]
["3532","台勝科","其他IC製造",{"$f":"RTD(\"sysq.rtd\",\"\",\"3532`003.1\")","v":107.5},{"$f":"RTD(\"sysq.rtd\",\"\",\"3532`010.1\")","v":0},{"$f":"RTD(\"sysq.rtd\",\"\",\"3532`005.1\")","v":2},{"$f":"RTD(\"sysq.rtd\",\"\",\"3532`029.1\")","v":2.14},-10.42,-8.1199999999999992,{"$f":"X120/$L$4*100","v":0.1064698555019129},{"$f":"(E120/100)*(J120/100)*$D$3","v":0},{"$f":"(D120-AC120)/AC120","v":-5.9080962800875277E-2},null,{"$f":"(AD120-D120)/D120","v":-6.7441860465116285E-2},{"$f":"AA120-AB120","v":1.5299999999999994},0.1537,-4.1599999999999998E-2,0.13289999999999999,-4.1599999999999998E-2,null,-44,0.57999999999999996,35.86,416.94,34.68,3.26,13.83,12.3,114.25,100.25,108,107,115,107.5,107.5,106,{"$f":"AJ120-AG120","v":-9},{"$f":"AI120-AF120","v":0.5},{"$f":"AH120-AE120","v":-0.5},{"$f":"IF(E120>0,1,0)","v":0},{"$f":"IF(L120>0,1,0)","v":0},{"$f":"IF(N120>0,1,0)","v":0},{"$f":"RTD(\"sysq.rtd\",\"\",\"3532`001.1\")","v":106.5},{"$f":"RTD(\"sysq.rtd\",\"\",\"3532`002.1\")","v":107.5}]
["3533","嘉澤","端子",{"$f":"RTD(\"sysq.rtd\",\"\",\"3533`003.1\")","v":415.5},{"$f":"RTD(\"sysq.rtd\",\"\",\"3533`010.1\")","v":4.66},{"$f":"RTD(\"sysq.rtd\",\"\",\"3533`005.1\")","v":2},{"$f":"RTD(\"sysq.rtd\",\"\",\"3533`029.1\")","v":1.33},-0.95,28.84,{"$f":"X121/$L$4*100","v":0.10979209088369417},{"$f":"(E121/100)*(J121/100)*$D$3","v":0.64731572277899241},{"$f":"(D121-AC121)/AC121","v":-4.8109965635738834E-2},null,{"$f":"(AD121-D121)/D121","v":-6.9795427196149215E-2},-0.1401,-1.4792000000000001,0.58930000000000005,-0.67190000000000005,0.36380000000000001,null,38,-11.15,-2.61,429.95,16.190000000000001,2.64,40.31,25.85,436.5,386.5,400.5,392,403,415.5,397,379,{"$f":"AJ121-AG121","v":-24},{"$f":"AI121-AF121","v":5},{"$f":"AH121-AE121","v":15},{"$f":"IF(E121>0,1,0)","v":1},{"$f":"IF(L121>0,1,0)","v":0},{"$f":"IF(N121>0,1,0)","v":0},{"$f":"RTD(\"sysq.rtd\",\"\",\"3533`001.1\")","v":415},{"$f":"RTD(\"sysq.rtd\",\"\",\"3533`002.1\")","v":415.5}]
["3653","健策","散熱元件",{"$f":"RTD(\"sysq.rtd\",\"\",\"3653`003.1\")","v":305},{"$f":"RTD(\"sysq.rtd\",\"\",\"3653`010.1\")","v":1.67},{"$f":"RTD(\"sysq.rtd\",\"\",\"3653`005.1\")","v":2},{"$f":"RTD(\"sysq.rtd\",\"\",\"3653`029.1\")","v":1.04},-7.58,30.06,{"$f":"X122/$L$4*100","v":9.4261087354106363E-2},{"$f":"(E122/100)*(J122/100)*$D$3","v":0.19916274329309366},{"$f":"(D122-AC122)/AC122","v":-4.4635865309318713E-2},null,{"$f":"(AD122-D122)/D122","v":-5.1639344262295085E-2},{"$f":"AA122-AB122","v":-8.7899999999999991},0.52159999999999995,-0.33400000000000002,-1.4401999999999999,0.31,null,134,-7.82,22.71,369.13,39.770000000000003,1.67,26.4,35.19,319.25,289.25,303,305,320,305,300,298.5,null,null,null,null,null,null,{"$f":"RTD(\"sysq.rtd\",\"\",\"3653`001.1\")","v":305},{"$f":"RTD(\"sysq.rtd\",\"\",\"3653`002.1\")","v":305.5}]
["3702","大聯大","電子組件買賣",{"$f":"RTD(\"sysq.rtd\",\"\",\"3702`003.1\")","v":41},{"$f":"RTD(\"sysq.rtd\",\"\",\"3702`010.1\")","v":1.74},{"$f":"RTD(\"sysq.rtd\",\"\",\"3702`005.1\")","v":7},{"$f":"RTD(\"sysq.rtd\",\"\",\"3702`029.1\")","v":0.89},0.74,4.8600000000000003,{"$f":"X123/$L$4*100","v":0.17579247188101851},{"$f":"(E123/100)*(J123/100)*$D$3","v":0.38699798563752441},{"$f":"(D123-AC123)/AC123","v":-1.4659937515020415E-2},null,{"$f":"(AD123-D123)/D123","v":-2.1707317073170744E-2},{"$f":"AA123-AB123","v":-1.6499999999999986},0.40639999999999998,0.20799999999999999,-0.1183,0.61460000000000004,null,-19,21.04,24.47,688.41,10.57,5.96,55.09,56.74,41.61,40.11,40.549999999999997,40.4,41,41,40.299999999999997,40.1,{"$f":"AJ123-AG123","v":-0.89999999999999858},{"$f":"AI123-AF123","v":-0.10000000000000142},{"$f":"AH123-AE123","v":0.45000000000000284},{"$f":"IF(E123>0,1,0)","v":1},{"$f":"IF(L123>0,1,0)","v":0},{"$f":"IF(N123>0,1,0)","v":0},{"$f":"RTD(\"sysq.rtd\",\"\",\"3702`001.1\")","v":41},{"$f":"RTD(\"sysq.rtd\",\"\",\"3702`002.1\")","v":41.05}]
["3706","神達","PC/NB/平板",{"$f":"RTD(\"sysq.rtd\",\"\",\"3706`003.1\")","v":28.1},{"$f":"RTD(\"sysq.rtd\",\"\",\"3706`010.1\")","v":0.54},{"$f":"RTD(\"sysq.rtd\",\"\",\"3706`005.1\")","v":17},{"$f":"RTD(\"sysq.rtd\",\"\",\"3706`029.1\")","v":0.79},-2.6,-3.1,{"$f":"X124/$L$4*100","v":8.6577300833137985E-2},{"$f":"(E124/100)*(J124/100)*$D$3","v":5.9150304547606537E-2},{"$f":"(D124-AC124)/AC124","v":-6.7161541180628392E-3},null,{"$f":"(AD124-D124)/D124","v":-1.103202846975097E-2},{"$f":"AA124-AB124","v":1.2100000000000009},-3.2599999999999997E-2,1.2999999999999999E-3,-1.6578999999999999,-7.6E-3,null,-123,-7.26,16.16,339.04,9.9600000000000009,7.87,35.15,33.94,28.29,27.79,28,27.75,28.35,28.1,27.95,27.75,{"$f":"AJ124-AG124","v":-0.60000000000000142},{"$f":"AI124-AF124","v":0.19999999999999929},{"$f":"AH124-AE124","v":0.10000000000000142},{"$f":"IF(E124>0,1,0)","v":1},{"$f":"IF(L124>0,1,0)","v":0},{"$f":"IF(N124>0,1,0)","v":0},{"$f":"RTD(\"sysq.rtd\",\"\",\"3706`001.1\")","v":28.05},{"$f":"RTD(\"sysq.rtd\",\"\",\"3706`002.1\")","v":28.1}]
["3711","日月光投控","封裝測試",{"$f":"RTD(\"sysq.rtd\",\"\",\"3711`003.1\")","v":61.3},{"$f":"RTD(\"sysq.rtd\",\"\",\"3711`010.1\")","v":-0.97},{"$f":"RTD(\"sysq.rtd\",\"\",\"3711`005.1\")","v":9},{"$f":"RTD(\"sysq.rtd\",\"\",\"3711`029.1\")","v":0.52},-10.38,-26.32,{"$f":"X125/$L$4*100","v":0.67910730181882806},{"$f":"(E125/100)*(J125/100)*$D$3","v":-0.83343036151334582},{"$f":"(D125-AC125)/AC125","v":-1.9513755598208667E-2},null,{"$f":"(AD125-D125)/D125","v":-1.5823817292006506E-2},{"$f":"AA125-AB125","v":0.96999999999999886},-1.3363,-5.0799999999999998E-2,-10.5113,-0.13769999999999999,null,-36,2.38,2.61,2659.41,11.39,3.23,18.95,17.98,62.52,60.33,62,61.5,64.2,61.3,61.9,61.1,{"$f":"AJ125-AG125","v":-3.1000000000000014},{"$f":"AI125-AF125","v":0.39999999999999858},{"$f":"AH125-AE125","v":-0.70000000000000284},{"$f":"IF(E125>0,1,0)","v":0},{"$f":"IF(L125>0,1,0)","v":0},{"$f":"IF(N125>0,1,0)","v":0},{"$f":"RTD(\"sysq.rtd\",\"\",\"3711`001.1\")","v":61.3},{"$f":"RTD(\"sysq.rtd\",\"\",\"3711`002.1\")","v":61.4}]
["4904","遠傳","電信服務",{"$f":"RTD(\"sysq.rtd\",\"\",\"4904`003.1\")","v":62.3},{"$f":"RTD(\"sysq.rtd\",\"\",\"4904`010.1\")","v":-0.48},{"$f":"RTD(\"sysq.rtd\",\"\",\"4904`005.1\")","v":3},{"$f":"RTD(\"sysq.rtd\",\"\",\"4904`029.1\")","v":0.59},-1.27,-13.59,{"$f":"X126/$L$4*100","v":0.5183938460249875},{"$f":"(E126/100)*(J126/100)*$D$3","v":-0.31481850911559084},{"$f":"(D126-AC126)/AC126","v":-1.0325655281969907E-2},null,{"$f":"(AD126-D126)/D126","v":-8.8282504012840643E-3},{"$f":"AA126-AB126","v":-3.8500000000000014},-0.25340000000000001,0.157,4.1700000000000001E-2,0.48299999999999998,null,-19,1.83,-7.59,2030.05,23.25,5.19,36.729999999999997,40.58,62.95,61.75,62.6,62.4,62.7,62.3,62.6,61.9,{"$f":"AJ126-AG126","v":-0.80000000000000426},{"$f":"AI126-AF126","v":0.20000000000000284},{"$f":"AH126-AE126","v":-0.30000000000000426},{"$f":"IF(E126>0,1,0)","v":0},{"$f":"IF(L126>0,1,0)","v":0},{"$f":"IF(N126>0,1,0)","v":0},{"$f":"RTD(\"sysq.rtd\",\"\",\"4904`001.1\")","v":62.3},{"$f":"RTD(\"sysq.rtd\",\"\",\"4904`002.1\")","v":62.4}]
["4938","和碩","PC/NB/平板",{"$f":"RTD(\"sysq.rtd\",\"\",\"4938`003.1\")","v":63.3},{"$f":"RTD(\"sysq.rtd\",\"\",\"4938`010.1\")","v":-1.71},{"$f":"RTD(\"sysq.rtd\",\"\",\"4938`005.1\")","v":16},{"$f":"RTD(\"sysq.rtd\",\"\",\"4938`029.1\")","v":0.93},-8.39,-7.46,{"$f":"X127/$L$4*100","v":0.42201071593278722},{"$f":"(E127/100)*(J127/100)*$D$3","v":-0.91301680783485761},{"$f":"(D127-AC127)/AC127","v":-2.7649769585253416E-2},null,{"$f":"(AD127-D127)/D127","v":-2.2116903633491291E-2},{"$f":"AA127-AB127","v":-13.519999999999996},-0.9889,0.30030000000000001,1.9841,0.21029999999999999,null,697,-5.41,5.23,1652.61,7.14,6.99,34.78,48.3,65.099999999999994,61.9,64.5,65,66.7,63.3,64.400000000000006,64,{"$f":"AJ127-AG127","v":-2.7000000000000028},{"$f":"AI127-AF127","v":-0.59999999999999432},{"$f":"AH127-AE127","v":-1.2000000000000028},{"$f":"IF(E127>0,1,0)","v":0},{"$f":"IF(L127>0,1,0)","v":0},{"$f":"IF(N127>0,1,0)","v":0},{"$f":"RTD(\"sysq.rtd\",\"\",\"4938`001.1\")","v":63.3},{"$f":"RTD(\"sysq.rtd\",\"\",\"4938`002.1\")","v":63.4}]
["4958","臻鼎-KY","PCB-軟板",{"$f":"RTD(\"sysq.rtd\",\"\",\"4958`003.1\")","v":128},{"$f":"RTD(\"sysq.rtd\",\"\",\"4958`010.1\")","v":-1.1599999999999999},{"$f":"RTD(\"sysq.rtd\",\"\",\"4958`005.1\")","v":7},{"$f":"RTD(\"sysq.rtd\",\"\",\"4958`029.1\")","v":0.74},-5.88,-10.49,{"$f":"X128/$L$4*100","v":0.29490265416219147},{"$f":"(E128/100)*(J128/100)*$D$3","v":-0.43280857213336538},{"$f":"(D128-AC128)/AC128","v":-3.1257095284946614E-2},null,{"$f":"(AD128-D128)/D128","v":-3.8046875000000036E-2},{"$f":"AA128-AB128","v":1.4299999999999997},-1.14E-2,-0.69740000000000002,-5.4863,0.17319999999999999,null,140,18.43,8.73,1154.8499999999999,12.51,3.47,26.49,25.06,132.13,123.13,128.5,126,132,128,129.5,124,{"$f":"AJ128-AG128","v":-8},{"$f":"AI128-AF128","v":3.5},{"$f":"AH128-AE128","v":-0.5},{"$f":"IF(E128>0,1,0)","v":0},{"$f":"IF(L128>0,1,0)","v":0},{"$f":"IF(N128>0,1,0)","v":0},{"$f":"RTD(\"sysq.rtd\",\"\",\"4958`001.1\")","v":128},{"$f":"RTD(\"sysq.rtd\",\"\",\"4958`002.1\")","v":128.5}]
["5269","祥碩","消費性IC設計",{"$f":"RTD(\"sysq.rtd\",\"\",\"5269`003.1\")","v":1765},{"$f":"RTD(\"sysq.rtd\",\"\",\"5269`010.1\")","v":4.75},{"$f":"RTD(\"sysq.rtd\",\"\",\"5269`005.1\")","v":3},{"$f":"RTD(\"sysq.rtd\",\"\",\"5269`029.1\")","v":1.1299999999999999},-0.84,168.65,{"$f":"X129/$L$4*100","v":0.31199135452720328},{"$f":"(E129/100)*(J129/100)*$D$3","v":1.8749744433021334},{"$f":"(D129-AC129)/AC129","v":-3.8147138964577658E-2},null,{"$f":"(AD129-D129)/D129","v":-5.0991501416430593E-2},{"$f":"AA129-AB129","v":6.68},0.72370000000000001,1.1318999999999999,10.3895,-0.2195,null,2,14.37,114.56,1221.77,67.88,0.71,39.36,32.68,1835,1675,1710,1705,1715,1765,1685,1645,{"$f":"AJ129-AG129","v":-70},{"$f":"AI129-AF129","v":-20},{"$f":"AH129-AE129","v":55},{"$f":"IF(E129>0,1,0)","v":1},{"$f":"IF(L129>0,1,0)","v":0},{"$f":"IF(N129>0,1,0)","v":0},{"$f":"RTD(\"sysq.rtd\",\"\",\"5269`001.1\")","v":1760},{"$f":"RTD(\"sysq.rtd\",\"\",\"5269`002.1\")","v":1765}]
["5522","遠雄","建築業",{"$f":"RTD(\"sysq.rtd\",\"\",\"5522`003.1\")","v":44.6},{"$f":"RTD(\"sysq.rtd\",\"\",\"5522`010.1\")","v":0.68},{"$f":"RTD(\"sysq.rtd\",\"\",\"5522`005.1\")","v":"-"},{"$f":"RTD(\"sysq.rtd\",\"\",\"5522`029.1\")","v":0.51},-0.56000000000000005,10.67,{"$f":"X130/$L$4*100","v":8.9015990141055823E-2},{"$f":"(E130/100)*(J130/100)*$D$3","v":7.6583660893995403E-2},{"$f":"(D130-AC130)/AC130","v":-1.65380374862183E-2},null,{"$f":"(AD130-D130)/D130","v":-1.9058295964125591E-2},-0.26179999999999998,4.6399999999999997E-2,8.9999999999999998E-4,7.5499999999999998E-2,8.9999999999999998E-4,null,-43,66.83,-1.71,348.59,11.83,8.15,62.34,60.82,45.35,43.75,44.6,43.05,44.8,44.6,44.3,43.25,{"$f":"AJ130-AG130","v":-1.5499999999999972},{"$f":"AI130-AF130","v":1.25},{"$f":"AH130-AE130","v":0},{"$f":"IF(E130>0,1,0)","v":1},{"$f":"IF(L130>0,1,0)","v":0},{"$f":"IF(N130>0,1,0)","v":0},{"$f":"RTD(\"sysq.rtd\",\"\",\"5522`001.1\")","v":44.55},{"$f":"RTD(\"sysq.rtd\",\"\",\"5522`002.1\")","v":44.6}]
["5871","中租-KY","其他服務",{"$f":"RTD(\"sysq.rtd\",\"\",\"5871`003.1\")","v":132.5},{"$f":"RTD(\"sysq.rtd\",\"\",\"5871`010.1\")","v":-1.1200000000000001},{"$f":"RTD(\"sysq.rtd\",\"\",\"5871`005.1\")","v":5},{"$f":"RTD(\"sysq.rtd\",\"\",\"5871`029.1\")","v":0.48},-2.57,-3.99,{"$f":"X131/$L$4*100","v":0.46737544426279826},{"$f":"(E131/100)*(J131/100)*$D$3","v":-0.66228222153104754},{"$f":"(D131-AC131)/AC131","v":-1.6697588126159554E-2},null,{"$f":"(AD131-D131)/D131","v":-1.3207547169811321E-2},{"$f":"AA131-AB131","v":-3.8500000000000085},-0.72109999999999996,4.4400000000000002E-2,2.8407,0.1096,null,90,5.48,-0.41,1830.26,11.63,3.73,68.41,72.260000000000005,134.75,130.75,134,134.5,137,132.5,134,132.5,{"$f":"AJ131-AG131","v":-4.5},{"$f":"AI131-AF131","v":-0.5},{"$f":"AH131-AE131","v":-1.5},{"$f":"IF(E131>0,1,0)","v":0},{"$f":"IF(L131>0,1,0)","v":0},{"$f":"IF(N131>0,1,0)","v":0},{"$f":"RTD(\"sysq.rtd\",\"\",\"5871`001.1\")","v":132.5},{"$f":"RTD(\"sysq.rtd\",\"\",\"5871`002.1\")","v":133}]
["5876","上海商銀","銀行業-銀行",{"$f":"RTD(\"sysq.rtd\",\"\",\"5876`003.1\")","v":41.35},{"$f":"RTD(\"sysq.rtd\",\"\",\"5876`010.1\")","v":-1.08},{"$f":"RTD(\"sysq.rtd\",\"\",\"5876`005.1\")","v":54},{"$f":"RTD(\"sysq.rtd\",\"\",\"5876`029.1\")","v":0.86},-6.76,-20.48,{"$f":"X132/$L$4*100","v":0.473218084196323},{"$f":"(E132/100)*(J132/100)*$D$3","v":-0.64661276173520288},{"$f":"(D132-AC132)/AC132","v":-2.4534088228355722E-2},null,{"$f":"(AD132-D132)/D132","v":-1.5961305925030318E-2},{"$f":"AA132-AB132","v":-18.05},-0.19939999999999999,1.6000000000000001E-3,-1.7796000000000001,2.6499999999999999E-2,null,-25,32.159999999999997,6.61,1853.14,12.61,4.9000000000000004,24.88,42.93,42.39,40.69,41.9,42.35,42.55,41.35,41.8,41.55,{"$f":"AJ132-AG132","v":-1},{"$f":"AI132-AF132","v":-0.55000000000000426},{"$f":"AH132-AE132","v":-0.54999999999999716},{"$f":"IF(E132>0,1,0)","v":0},{"$f":"IF(L132>0,1,0)","v":0},{"$f":"IF(N132>0,1,0)","v":0},{"$f":"RTD(\"sysq.rtd\",\"\",\"5876`001.1\")","v":41.35},{"$f":"RTD(\"sysq.rtd\",\"\",\"5876`002.1\")","v":41.5}]
["5880","合庫金","銀行業-金控",{"$f":"RTD(\"sysq.rtd\",\"\",\"5880`003.1\")","v":20.25},{"$f":"RTD(\"sysq.rtd\",\"\",\"5880`010.1\")","v":-1.22},{"$f":"RTD(\"sysq.rtd\",\"\",\"5880`005.1\")","v":123},{"$f":"RTD(\"sysq.rtd\",\"\",\"5880`029.1\")","v":0.66},-0.98,-2.41,{"$f":"X133/$L$4*100","v":0.68951833460247325},{"$f":"(E133/100)*(J133/100)*$D$3","v":-1.0643018882656399},{"$f":"(D133-AC133)/AC133","v":-1.4118792599805217E-2},null,{"$f":"(AD133-D133)/D133","v":-1.0370370370370412E-2},{"$f":"AA133-AB133","v":-13.899999999999999},-0.78680000000000005,2.3999999999999998E-3,-3.2644000000000002,4.0300000000000002E-2,null,-6,20.420000000000002,21.93,2700.18,15.23,5.61,52.35,66.25,20.54,20.04,20.45,20.2,20.399999999999999,20.25,20.5,20.149999999999999,{"$f":"AJ133-AG133","v":-0.25},{"$f":"AI133-AF133","v":0.30000000000000071},{"$f":"AH133-AE133","v":-0.19999999999999929},{"$f":"IF(E133>0,1,0)","v":0},{"$f":"IF(L133>0,1,0)","v":0},{"$f":"IF(N133>0,1,0)","v":0},{"$f":"RTD(\"sysq.rtd\",\"\",\"5880`001.1\")","v":20.25},{"$f":"RTD(\"sysq.rtd\",\"\",\"5880`002.1\")","v":20.3}]
["6176","瑞儀","面板零組件",{"$f":"RTD(\"sysq.rtd\",\"\",\"6176`003.1\")","v":110.5},{"$f":"RTD(\"sysq.rtd\",\"\",\"6176`010.1\")","v":-0.45},{"$f":"RTD(\"sysq.rtd\",\"\",\"6176`005.1\")","v":14},{"$f":"RTD(\"sysq.rtd\",\"\",\"6176`029.1\")","v":0.39},-7.14,-7.92,{"$f":"X134/$L$4*100","v":0.13121680637419758},{"$f":"(E134/100)*(J134/100)*$D$3","v":-7.4706976541085657E-2},{"$f":"(D134-AC134)/AC134","v":-2.8571428571428571E-2},null,{"$f":"(AD134-D134)/D134","v":-2.4886877828054297E-2},{"$f":"AA134-AB134","v":-0.31000000000000227},0.13370000000000001,-5.5899999999999998E-2,-3.8959999999999999,-0.1804,null,-29,-2.44,-6.98,513.85,9.51,7.21,29.63,29.94,113.75,107.75,112,109.5,112,110.5,111,108,{"$f":"AJ134-AG134","v":-4},{"$f":"AI134-AF134","v":1.5},{"$f":"AH134-AE134","v":-1.5},{"$f":"IF(E134>0,1,0)","v":0},{"$f":"IF(L134>0,1,0)","v":0},{"$f":"IF(N134>0,1,0)","v":0},{"$f":"RTD(\"sysq.rtd\",\"\",\"6176`001.1\")","v":110.5},{"$f":"RTD(\"sysq.rtd\",\"\",\"6176`002.1\")","v":111}]
["6213","聯茂","PCB原料",{"$f":"RTD(\"sysq.rtd\",\"\",\"6213`003.1\")","v":119.5},{"$f":"RTD(\"sysq.rtd\",\"\",\"6213`010.1\")","v":-1.65},{"$f":"RTD(\"sysq.rtd\",\"\",\"6213`005.1\")","v":4},{"$f":"RTD(\"sysq.rtd\",\"\",\"6213`029.1\")","v":0.55000000000000004},-5.16,-6.27,{"$f":"X135/$L$4*100","v":0.10160269129155539},{"$f":"(E135/100)*(J135/100)*$D$3","v":-0.2121037462864252},{"$f":"(D135-AC135)/AC135","v":-3.1447560382557915E-2},null,{"$f":"(AD135-D135)/D135","v":-2.61087866108787E-2},{"$f":"AA135-AB135","v":8.8000000000000007},-1.0611999999999999,-5.2499999999999998E-2,-1.4119999999999999,-0.66379999999999995,null,-1,-16.52,0.17,397.88,15.16,4.12,30.79,21.99,123.38,116.38,121.5,116,122,119.5,121.5,114,{"$f":"AJ135-AG135","v":-8},{"$f":"AI135-AF135","v":5.5},{"$f":"AH135-AE135","v":-2},{"$f":"IF(E135>0,1,0)","v":0},{"$f":"IF(L135>0,1,0)","v":0},{"$f":"IF(N135>0,1,0)","v":0},{"$f":"RTD(\"sysq.rtd\",\"\",\"6213`001.1\")","v":119.5},{"$f":"RTD(\"sysq.rtd\",\"\",\"6213`002.1\")","v":120}]
["6239","力成","封裝測試",{"$f":"RTD(\"sysq.rtd\",\"\",\"6239`003.1\")","v":88.5},{"$f":"RTD(\"sysq.rtd\",\"\",\"6239`010.1\")","v":1.72},{"$f":"RTD(\"sysq.rtd\",\"\",\"6239`005.1\")","v":1},{"$f":"RTD(\"sysq.rtd\",\"\",\"6239`029.1\")","v":0.46},-4.53,-11.32,{"$f":"X136/$L$4*100","v":0.17608102883577739},{"$f":"(E136/100)*(J136/100)*$D$3","v":0.38317767441480394},{"$f":"(D136-AC136)/AC136","v":-1.9390581717451522E-2},null,{"$f":"(AD136-D136)/D136","v":-2.5423728813559324E-2},{"$f":"AA136-AB136","v":11.369999999999997},2.4400000000000002E-2,0.13469999999999999,-6.5496999999999996,0.35449999999999998,null,90,-1.26,12.63,689.54,9.6999999999999993,5.17,28.33,16.96,90.25,86.25,87.1,86.3,88.8,88.5,87,85.2,{"$f":"AJ136-AG136","v":-3.5999999999999943},{"$f":"AI136-AF136","v":0.70000000000000284},{"$f":"AH136-AE136","v":1.4000000000000057},{"$f":"IF(E136>0,1,0)","v":1},{"$f":"IF(L136>0,1,0)","v":0},{"$f":"IF(N136>0,1,0)","v":0},{"$f":"RTD(\"sysq.rtd\",\"\",\"6239`001.1\")","v":88.5},{"$f":"RTD(\"sysq.rtd\",\"\",\"6239`002.1\")","v":88.6}]
["6269","台郡","PCB-軟板",{"$f":"RTD(\"sysq.rtd\",\"\",\"6269`003.1\")","v":128.5},{"$f":"RTD(\"sysq.rtd\",\"\",\"6269`010.1\")","v":1.98},{"$f":"RTD(\"sysq.rtd\",\"\",\"6269`005.1\")","v":3},{"$f":"RTD(\"sysq.rtd\",\"\",\"6269`029.1\")","v":0.67},-5.17,12.23,{"$f":"X137/$L$4*100","v":0.1112016788396844},{"$f":"(E137/100)*(J137/100)*$D$3","v":0.27857088085457804},{"$f":"(D137-AC137)/AC137","v":-3.0188679245283019E-2},null,{"$f":"(AD137-D137)/D137","v":-3.1128404669260701E-2},{"$f":"AA137-AB137","v":2.25},-0.5101,0.19470000000000001,6.4053000000000004,2.4E-2,null,42,15.6,-3.88,435.47,11.71,3.94,30.29,28.04,132.5,124.5,128.5,125,131,128.5,126,121.5,{"$f":"AJ137-AG137","v":-9.5},{"$f":"AI137-AF137","v":1},{"$f":"AH137-AE137","v":0},{"$f":"IF(E137>0,1,0)","v":1},{"$f":"IF(L137>0,1,0)","v":0},{"$f":"IF(N137>0,1,0)","v":0},{"$f":"RTD(\"sysq.rtd\",\"\",\"6269`001.1\")","v":128.5},{"$f":"RTD(\"sysq.rtd\",\"\",\"6269`002.1\")","v":129}]
["6278","台表科","面板零組件",{"$f":"RTD(\"sysq.rtd\",\"\",\"6278`003.1\")","v":122.5},{"$f":"RTD(\"sysq.rtd\",\"\",\"6278`010.1\")","v":2.94},{"$f":"RTD(\"sysq.rtd\",\"\",\"6278`005.1\")","v":10},{"$f":"RTD(\"sysq.rtd\",\"\",\"6278`029.1\")","v":0.56999999999999995},-10.26,4.7,{"$f":"X138/$L$4*100","v":9.1467447455821416E-2},{"$f":"(E138/100)*(J138/100)*$D$3","v":0.34023036669204948},{"$f":"(D138-AC138)/AC138","v":-3.9215686274509803E-2},null,{"$f":"(AD138-D138)/D138","v":-5.7142857142857141E-2},{"$f":"AA138-AB138","v":-5.1099999999999994},1.6109,-0.2235,2.1522000000000001,-2.6398000000000001,null,175,14.91,7.17,358.19,20.25,2.35,21.44,26.55,127.5,115.5,119,119,131.5,122.5,119,119,{"$f":"AJ138-AG138","v":-12.5},{"$f":"AI138-AF138","v":0},{"$f":"AH138-AE138","v":3.5},{"$f":"IF(E138>0,1,0)","v":1},{"$f":"IF(L138>0,1,0)","v":0},{"$f":"IF(N138>0,1,0)","v":0},{"$f":"RTD(\"sysq.rtd\",\"\",\"6278`001.1\")","v":122},{"$f":"RTD(\"sysq.rtd\",\"\",\"6278`002.1\")","v":122.5}]
["6285","啟碁","網路通訊設備",{"$f":"RTD(\"sysq.rtd\",\"\",\"6285`003.1\")","v":74},{"$f":"RTD(\"sysq.rtd\",\"\",\"6285`010.1\")","v":6.17},{"$f":"RTD(\"sysq.rtd\",\"\",\"6285`005.1\")","v":21},{"$f":"RTD(\"sysq.rtd\",\"\",\"6285`029.1\")","v":2.31},6.63,-1.99,{"$f":"X139/$L$4*100","v":7.3740346748422766E-2},{"$f":"(E139/100)*(J139/100)*$D$3","v":0.57563808897666457},{"$f":"(D139-AC139)/AC139","v":-5.7924888605983417E-2},null,{"$f":"(AD139-D139)/D139","v":-7.9054054054053982E-2},{"$f":"AA139-AB139","v":3.2199999999999989},-1.4104000000000001,0.1741,-6.0151000000000003,0.58919999999999995,null,895,5.86,-6.32,288.77,19.420000000000002,3.59,73.67,70.45,78.55,68.150000000000006,71.5,66.099999999999994,67.2,74,69.7,65.8,{"$f":"AJ139-AG139","v":-1.4000000000000057},{"$f":"AI139-AF139","v":3.6000000000000085},{"$f":"AH139-AE139","v":2.5},{"$f":"IF(E139>0,1,0)","v":1},{"$f":"IF(L139>0,1,0)","v":0},{"$f":"IF(N139>0,1,0)","v":0},{"$f":"RTD(\"sysq.rtd\",\"\",\"6285`001.1\")","v":74},{"$f":"RTD(\"sysq.rtd\",\"\",\"6285`002.1\")","v":74.099999999999994}]
["6409","旭隼","其他電子或零件",{"$f":"RTD(\"sysq.rtd\",\"\",\"6409`003.1\")","v":1155},{"$f":"RTD(\"sysq.rtd\",\"\",\"6409`010.1\")","v":10},{"$f":"RTD(\"sysq.rtd\",\"\",\"6409`005.1\")","v":"-"},{"$f":"RTD(\"sysq.rtd\",\"\",\"6409`029.1\")","v":1.6},17.38,61.54,{"$f":"X140/$L$4*100","v":0.24568964856827233},{"$f":"(E140/100)*(J140/100)*$D$3","v":3.1084654336857813},{"$f":"(D140-AC140)/AC140","v":-5.2307692307692305E-2},null,{"$f":"(AD140-D140)/D140","v":-9.1991341991341985E-2},{"$f":"AA140-AB140","v":7.539999999999992},-0.1022,0,0.31130000000000002,0,null,4,-3.96,20.56,962.13,40.99,2.2599999999999998,74.319999999999993,66.78,1218.75,1048.75,1070,994,999,1155,1050,984,{"$f":"AJ140-AG140","v":-15},{"$f":"AI140-AF140","v":56},{"$f":"AH140-AE140","v":85},{"$f":"IF(E140>0,1,0)","v":1},{"$f":"IF(L140>0,1,0)","v":0},{"$f":"IF(N140>0,1,0)","v":0},{"$f":"RTD(\"sysq.rtd\",\"\",\"6409`001.1\")","v":1155},{"$f":"RTD(\"sysq.rtd\",\"\",\"6409`002.1\")","v":"-"}]
["6415","矽力-KY","類比或通訊IC設計",{"$f":"RTD(\"sysq.rtd\",\"\",\"6415`003.1\")","v":1870},{"$f":"RTD(\"sysq.rtd\",\"\",\"6415`010.1\")","v":5.35},{"$f":"RTD(\"sysq.rtd\",\"\",\"6415`005.1\")","v":"-"},{"$f":"RTD(\"sysq.rtd\",\"\",\"6415`029.1\")","v":0.82},8.41,96.84,{"$f":"X141/$L$4*100","v":0.44018980408259578},{"$f":"(E141/100)*(J141/100)*$D$3","v":2.9795655496703559},{"$f":"(D141-AC141)/AC141","v":-6.3829787234042548E-2},null,{"$f":"(AD141-D141)/D141","v":-0.10294117647058823},{"$f":"AA141-AB141","v":17.150000000000006},1.7245999999999999,-0.47089999999999999,7.0038,-1.7349000000000001,null,-8,9.0399999999999991,28.53,1723.8,63.95,0.42,70.790000000000006,53.64,1997.5,1677.5,1755,1805,1630,1870,1775,1790,{"$f":"AJ141-AG141","v":160},{"$f":"AI141-AF141","v":-30},{"$f":"AH141-AE141","v":115},{"$f":"IF(E141>0,1,0)","v":1},{"$f":"IF(L141>0,1,0)","v":0},{"$f":"IF(N141>0,1,0)","v":0},{"$f":"RTD(\"sysq.rtd\",\"\",\"6415`001.1\")","v":1865},{"$f":"RTD(\"sysq.rtd\",\"\",\"6415`002.1\")","v":1870}]
["6456","GIS-KY","面板生產",{"$f":"RTD(\"sysq.rtd\",\"\",\"6456`003.1\")","v":122.5},{"$f":"RTD(\"sysq.rtd\",\"\",\"6456`010.1\")","v":0.82},{"$f":"RTD(\"sysq.rtd\",\"\",\"6456`005.1\")","v":10},{"$f":"RTD(\"sysq.rtd\",\"\",\"6456`029.1\")","v":0.57999999999999996},-8.92,8.41,{"$f":"X142/$L$4*100","v":0.10618129854715404},{"$f":"(E142/100)*(J142/100)*$D$3","v":0.1101592747159246},{"$f":"(D142-AC142)/AC142","v":-3.1620553359683792E-2},null,{"$f":"(AD142-D142)/D142","v":-4.8979591836734691E-2},{"$f":"AA142-AB142","v":2.360000000000003},1.04,-1.6999999999999999E-3,4.0480999999999998,-1.2716000000000001,null,68,-16.170000000000002,-0.4,415.81,11.61,2.88,32.270000000000003,29.91,126.5,116.5,120,118.5,123.5,122.5,121.5,116,{"$f":"AJ142-AG142","v":-7.5},{"$f":"AI142-AF142","v":3},{"$f":"AH142-AE142","v":2.5},{"$f":"IF(E142>0,1,0)","v":1},{"$f":"IF(L142>0,1,0)","v":0},{"$f":"IF(N142>0,1,0)","v":0},{"$f":"RTD(\"sysq.rtd\",\"\",\"6456`001.1\")","v":122},{"$f":"RTD(\"sysq.rtd\",\"\",\"6456`002.1\")","v":122.5}]
["6505","台塑化","油品相關",{"$f":"RTD(\"sysq.rtd\",\"\",\"6505`003.1\")","v":82.1},{"$f":"RTD(\"sysq.rtd\",\"\",\"6505`010.1\")","v":-1.2},{"$f":"RTD(\"sysq.rtd\",\"\",\"6505`005.1\")","v":6},{"$f":"RTD(\"sysq.rtd\",\"\",\"6505`029.1\")","v":0.59},-2.96,-15.79,{"$f":"X143/$L$4*100","v":1.9971231126970679},{"$f":"(E143/100)*(J143/100)*$D$3","v":-3.0321121946211966},{"$f":"(D143-AC143)/AC143","v":-1.4642342774843962E-2},null,{"$f":"(AD143-D143)/D143","v":-1.1814859926918379E-2},{"$f":"AA143-AB143","v":-9.93},-0.18720000000000001,8.9999999999999993E-3,-1.2235,3.5499999999999997E-2,null,-83,4.49,-41.24,7820.81,912.22,3.49,50.85,60.78,83.32,81.13,82.7,82.4,83.3,82.1,83.1,81.599999999999994,{"$f":"AJ143-AG143","v":-1.7000000000000028},{"$f":"AI143-AF143","v":0.69999999999998863},{"$f":"AH143-AE143","v":-0.60000000000000853},{"$f":"IF(E143>0,1,0)","v":0},{"$f":"IF(L143>0,1,0)","v":0},{"$f":"IF(N143>0,1,0)","v":0},{"$f":"RTD(\"sysq.rtd\",\"\",\"6505`001.1\")","v":82.1},{"$f":"RTD(\"sysq.rtd\",\"\",\"6505`002.1\")","v":82.3}]
["6592","和潤企業","其他服務",{"$f":"RTD(\"sysq.rtd\",\"\",\"6592`003.1\")","v":79.400000000000006},{"$f":"RTD(\"sysq.rtd\",\"\",\"6592`010.1\")","v":1.02},{"$f":"RTD(\"sysq.rtd\",\"\",\"6592`005.1\")","v":1},{"$f":"RTD(\"sysq.rtd\",\"\",\"6592`029.1\")","v":0.98},-0.25,-10.69,{"$f":"X144/$L$4*100","v":0.10441931360216627},{"$f":"(E144/100)*(J144/100)*$D$3","v":0.13475354188085001},{"$f":"(D144-AC144)/AC144","v":-9.9750623441396159E-3},null,{"$f":"(AD144-D144)/D144","v":-1.5113350125944619E-2},{"$f":"AA144-AB144","v":8.2199999999999989},0.41449999999999998,3.5000000000000001E-3,0.31190000000000001,-4.1500000000000002E-2,null,-6,4.7,5.6,408.91,17.72,3.94,55.85,47.63,80.2,78.2,78.599999999999994,77.400000000000006,79,79.400000000000006,78.599999999999994,77.099999999999994,{"$f":"AJ144-AG144","v":-1.9000000000000057},{"$f":"AI144-AF144","v":1.1999999999999886},{"$f":"AH144-AE144","v":0.80000000000001137},{"$f":"IF(E144>0,1,0)","v":1},{"$f":"IF(L144>0,1,0)","v":0},{"$f":"IF(N144>0,1,0)","v":0},{"$f":"RTD(\"sysq.rtd\",\"\",\"6592`001.1\")","v":79.3},{"$f":"RTD(\"sysq.rtd\",\"\",\"6592`002.1\")","v":79.400000000000006}]
["6669","緯穎","工業電腦",{"$f":"RTD(\"sysq.rtd\",\"\",\"6669`003.1\")","v":798},{"$f":"RTD(\"sysq.rtd\",\"\",\"6669`010.1\")","v":3.64},{"$f":"RTD(\"sysq.rtd\",\"\",\"6669`005.1\")","v":3},{"$f":"RTD(\"sysq.rtd\",\"\",\"6669`029.1\")","v":1.31},0.25,25.67,{"$f":"X145/$L$4*100","v":0.35628357028200441},{"$f":"(E145/100)*(J145/100)*$D$3","v":1.6408027021596829},{"$f":"(D145-AC145)/AC145","v":-4.0577096483318302E-2},null,{"$f":"(AD145-D145)/D145","v":-6.5476190476190479E-2},-1.1424000000000001,3.0636000000000001,8.5000000000000006E-3,3.5198999999999998,-1.8144,null,-13,-30.32,38.53,1395.22,20.079999999999998,2.99,40.56,31.78,831.75,745.75,769,766,806,798,770,753,{"$f":"AJ145-AG145","v":-53},{"$f":"AI145-AF145","v":4},{"$f":"AH145-AE145","v":29},{"$f":"IF(E145>0,1,0)","v":1},{"$f":"IF(L145>0,1,0)","v":0},{"$f":"IF(N145>0,1,0)","v":0},{"$f":"RTD(\"sysq.rtd\",\"\",\"6669`001.1\")","v":796},{"$f":"RTD(\"sysq.rtd\",\"\",\"6669`002.1\")","v":798}]
["8046","南電","IC載板",{"$f":"RTD(\"sysq.rtd\",\"\",\"8046`003.1\")","v":132},{"$f":"RTD(\"sysq.rtd\",\"\",\"8046`010.1\")","v":-6.05},{"$f":"RTD(\"sysq.rtd\",\"\",\"8046`005.1\")","v":90},{"$f":"RTD(\"sysq.rtd\",\"\",\"8046`029.1\")","v":0.84},-4.6900000000000004,187.27,{"$f":"X146/$L$4*100","v":0.21780687521418332},{"$f":"(E146/100)*(J146/100)*$D$3","v":-1.6671940140519577},{"$f":"(D146-AC146)/AC146","v":-9.5890410958904104E-2},null,{"$f":"(AD146-D146)/D146","v":-9.0909090909090912E-2},{"$f":"AA146-AB146","v":-10.730000000000004},-6.8006000000000002,-0.85650000000000004,2.2444999999999999,-4.1862000000000004,null,768,4.1399999999999997,21.67,852.94,44.15,0.5,61.53,72.260000000000005,146,120,139.5,132.5,142,132,140.5,128,{"$f":"AJ146-AG146","v":-14},{"$f":"AI146-AF146","v":8},{"$f":"AH146-AE146","v":-7.5},{"$f":"IF(E146>0,1,0)","v":0},{"$f":"IF(L146>0,1,0)","v":0},{"$f":"IF(N146>0,1,0)","v":0},{"$f":"RTD(\"sysq.rtd\",\"\",\"8046`001.1\")","v":132},{"$f":"RTD(\"sysq.rtd\",\"\",\"8046`002.1\")","v":132.5}]
["8341","日友","其他服務",{"$f":"RTD(\"sysq.rtd\",\"\",\"8341`003.1\")","v":253},{"$f":"RTD(\"sysq.rtd\",\"\",\"8341`010.1\")","v":1.2},{"$f":"RTD(\"sysq.rtd\",\"\",\"8341`005.1\")","v":"-"},{"$f":"RTD(\"sysq.rtd\",\"\",\"8341`029.1\")","v":0.27},-2.5,8.1199999999999992,{"$f":"X147/$L$4*100","v":7.2037094634934601E-2},{"$f":"(E147/100)*(J147/100)*$D$3","v":0.10936959855854311},{"$f":"(D147-AC147)/AC147","v":-1.6520894071914479E-2},null,{"$f":"(AD147-D147)/D147","v":-2.2727272727272728E-2},{"$f":"AA147-AB147","v":2.5700000000000003},0,1.6999999999999999E-3,-0.40279999999999999,-0.1133,null,3,10.69,3.19,282.10000000000002,27.99,3.2,27.37,24.8,257.25,247.25,250,251.5,255.5,253,250,252,{"$f":"AJ147-AG147","v":-3.5},{"$f":"AI147-AF147","v":-1.5},{"$f":"AH147-AE147","v":3},{"$f":"IF(E147>0,1,0)","v":1},{"$f":"IF(L147>0,1,0)","v":0},{"$f":"IF(N147>0,1,0)","v":0},{"$f":"RTD(\"sysq.rtd\",\"\",\"8341`001.1\")","v":253},{"$f":"RTD(\"sysq.rtd\",\"\",\"8341`002.1\")","v":253.5}]
["8454","富邦媒","專賣店/其他零售",{"$f":"RTD(\"sysq.rtd\",\"\",\"8454`003.1\")","v":682},{"$f":"RTD(\"sysq.rtd\",\"\",\"8454`010.1\")","v":0.44},{"$f":"RTD(\"sysq.rtd\",\"\",\"8454`005.1\")","v":"-"},{"$f":"RTD(\"sysq.rtd\",\"\",\"8454`029.1\")","v":0.46},12.36,135.16999999999999,{"$f":"X148/$L$4*100","v":0.24392000281917592},{"$f":"(E148/100)*(J148/100)*$D$3","v":0.13578733852940142},{"$f":"(D148-AC148)/AC148","v":-2.187163858013625E-2},null,{"$f":"(AD148-D148)/D148","v":-1.5762463343108504E-2},{"$f":"AA148-AB148","v":11.04},0.28670000000000001,8.9499999999999996E-2,2.2383000000000002,1.5205,null,28,-5.99,26.72,955.2,59.77,1.25,70.36,59.32,697.25,671.25,686,687,690,682,679,675,{"$f":"AJ148-AG148","v":-15},{"$f":"AI148-AF148","v":-8},{"$f":"AH148-AE148","v":-4},{"$f":"IF(E148>0,1,0)","v":1},{"$f":"IF(L148>0,1,0)","v":0},{"$f":"IF(N148>0,1,0)","v":0},{"$f":"RTD(\"sysq.rtd\",\"\",\"8454`001.1\")","v":682},{"$f":"RTD(\"sysq.rtd\",\"\",\"8454`002.1\")","v":685}]
["8464","億豐","其他製造",{"$f":"RTD(\"sysq.rtd\",\"\",\"8464`003.1\")","v":361},{"$f":"RTD(\"sysq.rtd\",\"\",\"8464`010.1\")","v":4.18},{"$f":"RTD(\"sysq.rtd\",\"\",\"8464`005.1\")","v":"-"},{"$f":"RTD(\"sysq.rtd\",\"\",\"8464`029.1\")","v":1.68},3.74,30.32,{"$f":"X149/$L$4*100","v":0.27011995287073309},{"$f":"(E149/100)*(J149/100)*$D$3","v":1.4285390950751753},{"$f":"(D149-AC149)/AC149","v":-5.0949050949050938E-2},null,{"$f":"(AD149-D149)/D149","v":-7.096952908587259E-2},{"$f":"AA149-AB149","v":-2.2600000000000051},-0.1696,0.61299999999999999,0.89729999999999999,0.98919999999999997,null,7,4.1399999999999997,1.49,1057.8,23.08,2.89,52.69,54.95,380.38,335.38,352.5,348,365,361,346.5,338.5,{"$f":"AJ149-AG149","v":-26.5},{"$f":"AI149-AF149","v":-1.5},{"$f":"AH149-AE149","v":8.5},{"$f":"IF(E149>0,1,0)","v":1},{"$f":"IF(L149>0,1,0)","v":0},{"$f":"IF(N149>0,1,0)","v":0},{"$f":"RTD(\"sysq.rtd\",\"\",\"8464`001.1\")","v":361},{"$f":"RTD(\"sysq.rtd\",\"\",\"8464`002.1\")","v":362.5}]
["9904","寶成","製鞋",{"$f":"RTD(\"sysq.rtd\",\"\",\"9904`003.1\")","v":27.55},{"$f":"RTD(\"sysq.rtd\",\"\",\"9904`010.1\")","v":2.61},{"$f":"RTD(\"sysq.rtd\",\"\",\"9904`005.1\")","v":10},{"$f":"RTD(\"sysq.rtd\",\"\",\"9904`029.1\")","v":0.74},-4.17,-29.72,{"$f":"X150/$L$4*100","v":0.20731157358534316},{"$f":"(E150/100)*(J150/100)*$D$3","v":0.68457847356945967},{"$f":"(D150-AC150)/AC150","v":-2.5123849964614326E-2},null,{"$f":"(AD150-D150)/D150","v":-3.5934664246824025E-2},{"$f":"AA150-AB150","v":-4.7899999999999991},0.48459999999999998,0.1229,-6.7595999999999998,0.4037,null,267,-9.85,-22.81,811.84,14.65,4.66,33.79,38.58,28.26,26.56,27,27.1,27.1,27.55,26.85,26.7,{"$f":"AJ150-AG150","v":-0.40000000000000213},{"$f":"AI150-AF150","v":-0.25},{"$f":"AH150-AE150","v":0.55000000000000071},{"$f":"IF(E150>0,1,0)","v":1},{"$f":"IF(L150>0,1,0)","v":0},{"$f":"IF(N150>0,1,0)","v":0},{"$f":"RTD(\"sysq.rtd\",\"\",\"9904`001.1\")","v":27.5},{"$f":"RTD(\"sysq.rtd\",\"\",\"9904`002.1\")","v":27.55}]
["9910","豐泰","製鞋",{"$f":"RTD(\"sysq.rtd\",\"\",\"9910`003.1\")","v":182},{"$f":"RTD(\"sysq.rtd\",\"\",\"9910`010.1\")","v":3.41},{"$f":"RTD(\"sysq.rtd\",\"\",\"9910`005.1\")","v":2},{"$f":"RTD(\"sysq.rtd\",\"\",\"9910`029.1\")","v":0.81},-8.5399999999999991,-6.67,{"$f":"X151/$L$4*100","v":0.40976619736580699},{"$f":"(E151/100)*(J151/100)*$D$3","v":1.7678674178136167},{"$f":"(D151-AC151)/AC151","v":-5.1490514905149026E-2},null,{"$f":"(AD151-D151)/D151","v":-7.2087912087912112E-2},{"$f":"AA151-AB151","v":1.3199999999999932},-3.7499999999999999E-2,0.9597,-3.456,3.3628999999999998,null,20,-5.64,-17.32,1604.66,25.07,3.41,84.36,83.04,191.88,168.88,176,173.5,179,182,176,169.5,{"$f":"AJ151-AG151","v":-9.5},{"$f":"AI151-AF151","v":2.5},{"$f":"AH151-AE151","v":6},{"$f":"IF(E151>0,1,0)","v":1},{"$f":"IF(L151>0,1,0)","v":0},{"$f":"IF(N151>0,1,0)","v":0},{"$f":"RTD(\"sysq.rtd\",\"\",\"9910`001.1\")","v":182},{"$f":"RTD(\"sysq.rtd\",\"\",\"9910`002.1\")","v":183}]
["9914","美利達","其他製造",{"$f":"RTD(\"sysq.rtd\",\"\",\"9914`003.1\")","v":254.5},{"$f":"RTD(\"sysq.rtd\",\"\",\"9914`010.1\")","v":-1.17},{"$f":"RTD(\"sysq.rtd\",\"\",\"9914`005.1\")","v":3},{"$f":"RTD(\"sysq.rtd\",\"\",\"9914`029.1\")","v":0.86},1.39,44.19,{"$f":"X152/$L$4*100","v":0.19430608181023779},{"$f":"(E152/100)*(J152/100)*$D$3","v":-0.28762818400638601},{"$f":"(D152-AC152)/AC152","v":-6.0885608856088562E-2},null,{"$f":"(AD152-D152)/D152","v":-6.8762278978389005E-2},{"$f":"AA152-AB152","v":8.8699999999999974},0.46829999999999999,0.22040000000000001,0.13400000000000001,0.32590000000000002,null,-9,-13.46,-10.4,760.91,25.2,1.63,54.33,45.46,271,237,253,243.5,252,254.5,257.5,240.5,{"$f":"AJ152-AG152","v":-11.5},{"$f":"AI152-AF152","v":14},{"$f":"AH152-AE152","v":1.5},{"$f":"IF(E152>0,1,0)","v":0},{"$f":"IF(L152>0,1,0)","v":0},{"$f":"IF(N152>0,1,0)","v":0},{"$f":"RTD(\"sysq.rtd\",\"\",\"9914`001.1\")","v":254.5},{"$f":"RTD(\"sysq.rtd\",\"\",\"9914`002.1\")","v":256}]
["9917","中保科","其他服務",{"$f":"RTD(\"sysq.rtd\",\"\",\"9917`003.1\")","v":85.8},{"$f":"RTD(\"sysq.rtd\",\"\",\"9917`010.1\")","v":0.35},{"$f":"RTD(\"sysq.rtd\",\"\",\"9917`005.1\")","v":"-"},{"$f":"RTD(\"sysq.rtd\",\"\",\"9917`029.1\")","v":0.45},0,-3.38,{"$f":"X153/$L$4*100","v":9.8857569819291835E-2},{"$f":"(E153/100)*(J153/100)*$D$3","v":4.3776109067378804E-2},{"$f":"(D153-AC153)/AC153","v":-4.4093757252263825E-3},null,{"$f":"(AD153-D153)/D153","v":-7.2261072261071138E-3},{"$f":"AA153-AB153","v":0.85000000000000142},-1.12E-2,1.9E-3,-0.37840000000000001,1.9E-3,null,0,-5.76,0.03,387.13,17.690000000000001,4.68,41.29,40.44,86.18,85.18,85.8,85.9,86,85.8,85.5,85.5,{"$f":"AJ153-AG153","v":-0.5},{"$f":"AI153-AF153","v":-0.40000000000000568},{"$f":"AH153-AE153","v":0},{"$f":"IF(E153>0,1,0)","v":1},{"$f":"IF(L153>0,1,0)","v":0},{"$f":"IF(N153>0,1,0)","v":0},{"$f":"RTD(\"sysq.rtd\",\"\",\"9917`001.1\")","v":85.7},{"$f":"RTD(\"sysq.rtd\",\"\",\"9917`002.1\")","v":85.8}]
["9921","巨大","其他製造",{"$f":"RTD(\"sysq.rtd\",\"\",\"9921`003.1\")","v":312},{"$f":"RTD(\"sysq.rtd\",\"\",\"9921`010.1\")","v":-0.48},{"$f":"RTD(\"sysq.rtd\",\"\",\"9921`005.1\")","v":2},{"$f":"RTD(\"sysq.rtd\",\"\",\"9921`029.1\")","v":0.66},-1.42,46.48,{"$f":"X154/$L$4*100","v":0.29882243226444694},{"$f":"(E154/100)*(J154/100)*$D$3","v":-0.18147366782446955},{"$f":"(D154-AC154)/AC154","v":-4.697904575722401E-2},null,{"$f":"(AD154-D154)/D154","v":-5.6474358974358992E-2},{"$f":"AA154-AB154","v":8.2899999999999991},0.62160000000000004,3.49E-2,6.2073,3.8699999999999998E-2,null,-22,-11.07,27.81,1170.2,30.77,1.47,58.78,50.49,327.38,294.38,306.5,299.5,306.5,312,313.5,300,{"$f":"AJ154-AG154","v":-6.5},{"$f":"AI154-AF154","v":14},{"$f":"AH154-AE154","v":5.5},{"$f":"IF(E154>0,1,0)","v":0},{"$f":"IF(L154>0,1,0)","v":0},{"$f":"IF(N154>0,1,0)","v":0},{"$f":"RTD(\"sysq.rtd\",\"\",\"9921`001.1\")","v":312},{"$f":"RTD(\"sysq.rtd\",\"\",\"9921`002.1\")","v":313}]
["9933","中鼎","其他服務",{"$f":"RTD(\"sysq.rtd\",\"\",\"9933`003.1\")","v":34.75},{"$f":"RTD(\"sysq.rtd\",\"\",\"9933`010.1\")","v":-0.56999999999999995},{"$f":"RTD(\"sysq.rtd\",\"\",\"9933`005.1\")","v":2},{"$f":"RTD(\"sysq.rtd\",\"\",\"9933`029.1\")","v":0.79},-1.1399999999999999,-8.7899999999999991,{"$f":"X155/$L$4*100","v":6.7734276327247073E-2},{"$f":"(E155/100)*(J155/100)*$D$3","v":-4.8847521653262803E-2},{"$f":"(D155-AC155)/AC155","v":-1.2503552145495816E-2},null,{"$f":"(AD155-D155)/D155","v":-1.3237410071942471E-2},{"$f":"AA155-AB155","v":3.2899999999999991},-0.10249999999999999,2.2000000000000001E-3,-0.26619999999999999,2.3E-3,null,10,36.549999999999997,-4.97,265.25,26.73,5.72,30.29,27,35.19,34.29,34.950000000000003,35.200000000000003,34.9,34.75,34.950000000000003,35,{"$f":"AJ155-AG155","v":0.10000000000000142},{"$f":"AI155-AF155","v":-0.25},{"$f":"AH155-AE155","v":-0.20000000000000284},{"$f":"IF(E155>0,1,0)","v":0},{"$f":"IF(L155>0,1,0)","v":0},{"$f":"IF(N155>0,1,0)","v":0},{"$f":"RTD(\"sysq.rtd\",\"\",\"9933`001.1\")","v":34.75},{"$f":"RTD(\"sysq.rtd\",\"\",\"9933`002.1\")","v":34.799999999999997}]
["9941","裕融","其他服務",{"$f":"RTD(\"sysq.rtd\",\"\",\"9941`003.1\")","v":113.5},{"$f":"RTD(\"sysq.rtd\",\"\",\"9941`010.1\")","v":0},{"$f":"RTD(\"sysq.rtd\",\"\",\"9941`005.1\")","v":45},{"$f":"RTD(\"sysq.rtd\",\"\",\"9941`029.1\")","v":1.69},-1.3,-0.87,{"$f":"X156/$L$4*100","v":8.7555330157674666E-2},{"$f":"(E156/100)*(J156/100)*$D$3","v":0},{"$f":"(D156-AC156)/AC156","v":-1.7316017316017316E-2},null,{"$f":"(AD156-D156)/D156","v":-1.7621145374449341E-2},{"$f":"AA156-AB156","v":-4.3200000000000074},0.13389999999999999,-4.0000000000000002E-4,0.2099,0.68059999999999998,null,108,2.1,4.9000000000000004,342.87,15.19,4.8499999999999996,76.13,80.45,115.5,111.5,114,113.5,115,113.5,113.5,112,{"$f":"AJ156-AG156","v":-3},{"$f":"AI156-AF156","v":0},{"$f":"AH156-AE156","v":-0.5},{"$f":"IF(E156>0,1,0)","v":0},{"$f":"IF(L156>0,1,0)","v":0},{"$f":"IF(N156>0,1,0)","v":0},{"$f":"RTD(\"sysq.rtd\",\"\",\"9941`001.1\")","v":113},{"$f":"RTD(\"sysq.rtd\",\"\",\"9941`002.1\")","v":113.5}]
["9945","潤泰新","其他服務",{"$f":"RTD(\"sysq.rtd\",\"\",\"9945`003.1\")","v":37.85},{"$f":"RTD(\"sysq.rtd\",\"\",\"9945`010.1\")","v":-1.05},{"$f":"RTD(\"sysq.rtd\",\"\",\"9945`005.1\")","v":32},{"$f":"RTD(\"sysq.rtd\",\"\",\"9945`029.1\")","v":1.03},-30.42,-16.260000000000002,{"$f":"X157/$L$4*100","v":0.14545313400942483},{"$f":"(E157/100)*(J157/100)*$D$3","v":-0.19322867040616051},{"$f":"(D157-AC157)/AC157","v":-2.8241335044929431E-2},null,{"$f":"(AD157-D157)/D157","v":-2.3778071334213963E-2},{"$f":"AA157-AB157","v":-5.8299999999999983},-1.2635000000000001,8.9999999999999998E-4,-4.8418999999999999,1.1999999999999999E-3,null,593,26.76,-2.15,569.6,5.0599999999999996,15.69,69.150000000000006,74.98,38.950000000000003,36.950000000000003,38.4,37.85,39.049999999999997,37.85,38.25,37.450000000000003,{"$f":"AJ157-AG157","v":-1.5999999999999943},{"$f":"AI157-AF157","v":0.39999999999999858},{"$f":"AH157-AE157","v":-0.54999999999999716},{"$f":"IF(E157>0,1,0)","v":0},{"$f":"IF(L157>0,1,0)","v":0},{"$f":"IF(N157>0,1,0)","v":0},{"$f":"RTD(\"sysq.rtd\",\"\",\"9945`001.1\")","v":37.799999999999997},{"$f":"RTD(\"sysq.rtd\",\"\",\"9945`002.1\")","v":37.85}]

{"sheet":"戰略地圖","index":1,"n_rows":0,"n_cols":0,"rows_kept":0,"cut":false,"hidden":false,"merged":[]}

{"sheet":"10大權值","index":2,"n_rows":12,"n_cols":11,"rows_kept":12,"cut":false,"hidden":true,"merged":[]}
["","日期",20200824,{"$f":"RTD(\"sysq.rtd\",\"\",\"TWNT0000`078.1\")","v":" 2020/08/24"},{"$f":"RTD(\"sysq.rtd\",\"\",\"TWNT0000`078.1\")","v":" 2020/08/24"},{"$f":"RTD(\"sysq.rtd\",\"\",\"TWNT0000`078.1\")","v":" 2020/08/24"},{"$f":"RTD(\"sysq.rtd\",\"\",\"TWNT0000`078.1\")","v":" 2020/08/24"}]
["代碼","名稱","收盤","開盤","今高","今低","成交","開","高","低","收"]
["2330","台積電",428,{"$f":"RTD(\"sysq.rtd\",\"\",\"2330`011.1\")","v":427.5},{"$f":"RTD(\"sysq.rtd\",\"\",\"2330`012.1\")","v":434.5},{"$f":"RTD(\"sysq.rtd\",\"\",\"2330`013.1\")","v":425},{"$f":"RTD(\"sysq.rtd\",\"\",\"2330`003.1\")","v":428},{"$f":"(D3-$C3)/$C3","v":-1.1682242990654205E-3},{"$f":"(E3-$C3)/$C3","v":1.5186915887850467E-2},{"$f":"(F3-$C3)/$C3","v":-7.0093457943925233E-3},{"$f":"(G3-$C3)/$C3","v":0}]
["2454","聯發科",585,{"$f":"RTD(\"sysq.rtd\",\"\",\"2454`011.1\")","v":599},{"$f":"RTD(\"sysq.rtd\",\"\",\"2454`012.1\")","v":600},{"$f":"RTD(\"sysq.rtd\",\"\",\"2454`013.1\")","v":583},{"$f":"RTD(\"sysq.rtd\",\"\",\"2454`003.1\")","v":585},{"$f":"(D4-$C4)/$C4","v":2.3931623931623933E-2},{"$f":"(E4-$C4)/$C4","v":2.564102564102564E-2},{"$f":"(F4-$C4)/$C4","v":-3.4188034188034188E-3},{"$f":"(G4-$C4)/$C4","v":0}]
["2317","鴻海",77.599999999999994,{"$f":"RTD(\"sysq.rtd\",\"\",\"2317`011.1\")","v":78.2},{"$f":"RTD(\"sysq.rtd\",\"\",\"2317`012.1\")","v":78.400000000000006},{"$f":"RTD(\"sysq.rtd\",\"\",\"2317`013.1\")","v":77.599999999999994},{"$f":"RTD(\"sysq.rtd\",\"\",\"2317`003.1\")","v":77.599999999999994},{"$f":"(D5-$C5)/$C5","v":7.7319587628867084E-3},{"$f":"(E5-$C5)/$C5","v":1.0309278350515611E-2},{"$f":"(F5-$C5)/$C5","v":0},{"$f":"(G5-$C5)/$C5","v":0}]
["2412","中華電",109,{"$f":"RTD(\"sysq.rtd\",\"\",\"2412`011.1\")","v":109.5},{"$f":"RTD(\"sysq.rtd\",\"\",\"2412`012.1\")","v":109.5},{"$f":"RTD(\"sysq.rtd\",\"\",\"2412`013.1\")","v":109},{"$f":"RTD(\"sysq.rtd\",\"\",\"2412`003.1\")","v":109},{"$f":"(D6-$C6)/$C6","v":4.5871559633027525E-3},{"$f":"(E6-$C6)/$C6","v":4.5871559633027525E-3},{"$f":"(F6-$C6)/$C6","v":0},{"$f":"(G6-$C6)/$C6","v":0}]
["6505","台塑化",82.1,{"$f":"RTD(\"sysq.rtd\",\"\",\"6505`011.1\")","v":82.7},{"$f":"RTD(\"sysq.rtd\",\"\",\"6505`012.1\")","v":82.9},{"$f":"RTD(\"sysq.rtd\",\"\",\"6505`013.1\")","v":81.8},{"$f":"RTD(\"sysq.rtd\",\"\",\"6505`003.1\")","v":82.1},{"$f":"(D7-$C7)/$C7","v":7.3081607795372544E-3},{"$f":"(E7-$C7)/$C7","v":9.7442143727163397E-3},{"$f":"(F7-$C7)/$C7","v":-3.6540803897685404E-3},{"$f":"(G7-$C7)/$C7","v":0}]
["3008","大立光",3605,{"$f":"RTD(\"sysq.rtd\",\"\",\"3008`011.1\")","v":3545},{"$f":"RTD(\"sysq.rtd\",\"\",\"3008`012.1\")","v":3610},{"$f":"RTD(\"sysq.rtd\",\"\",\"3008`013.1\")","v":3510},{"$f":"RTD(\"sysq.rtd\",\"\",\"3008`003.1\")","v":3605},{"$f":"(D8-$C8)/$C8","v":-1.6643550624133148E-2},{"$f":"(E8-$C8)/$C8","v":1.3869625520110957E-3},{"$f":"(F8-$C8)/$C8","v":-2.6352288488210817E-2},{"$f":"(G8-$C8)/$C8","v":0}]
["2882","國泰金",39.9,{"$f":"RTD(\"sysq.rtd\",\"\",\"2882`011.1\")","v":39.9},{"$f":"RTD(\"sysq.rtd\",\"\",\"2882`012.1\")","v":40},{"$f":"RTD(\"sysq.rtd\",\"\",\"2882`013.1\")","v":39.799999999999997},{"$f":"RTD(\"sysq.rtd\",\"\",\"2882`003.1\")","v":39.9},{"$f":"(D9-$C9)/$C9","v":0},{"$f":"(E9-$C9)/$C9","v":2.5062656641604369E-3},{"$f":"(F9-$C9)/$C9","v":-2.5062656641604369E-3},{"$f":"(G9-$C9)/$C9","v":0}]
["1301","台塑",79.2,{"$f":"RTD(\"sysq.rtd\",\"\",\"1301`011.1\")","v":79.7},{"$f":"RTD(\"sysq.rtd\",\"\",\"1301`012.1\")","v":79.7},{"$f":"RTD(\"sysq.rtd\",\"\",\"1301`013.1\")","v":79},{"$f":"RTD(\"sysq.rtd\",\"\",\"1301`003.1\")","v":79.2},{"$f":"(D10-$C10)/$C10","v":6.313131313131313E-3},{"$f":"(E10-$C10)/$C10","v":6.313131313131313E-3},{"$f":"(F10-$C10)/$C10","v":-2.525252525252561E-3},{"$f":"(G10-$C10)/$C10","v":0}]
["1303","南亞",61.8,{"$f":"RTD(\"sysq.rtd\",\"\",\"1303`011.1\")","v":62.2},{"$f":"RTD(\"sysq.rtd\",\"\",\"1303`012.1\")","v":62.3},{"$f":"RTD(\"sysq.rtd\",\"\",\"1303`013.1\")","v":61.6},{"$f":"RTD(\"sysq.rtd\",\"\",\"1303`003.1\")","v":61.8},{"$f":"(D11-$C11)/$C11","v":6.4724919093852055E-3},{"$f":"(E11-$C11)/$C11","v":8.0906148867313926E-3},{"$f":"(F11-$C11)/$C11","v":-3.2362459546924878E-3},{"$f":"(G11-$C11)/$C11","v":0}]
["2308","台達電",197,{"$f":"RTD(\"sysq.rtd\",\"\",\"2308`011.1\")","v":190},{"$f":"RTD(\"sysq.rtd\",\"\",\"2308`012.1\")","v":197.5},{"$f":"RTD(\"sysq.rtd\",\"\",\"2308`013.1\")","v":189.5},{"$f":"RTD(\"sysq.rtd\",\"\",\"2308`003.1\")","v":197},{"$f":"(D12-$C12)/$C12","v":-3.553299492385787E-2},{"$f":"(E12-$C12)/$C12","v":2.5380710659898475E-3},{"$f":"(F12-$C12)/$C12","v":-3.8071065989847719E-2},{"$f":"(G12-$C12)/$C12","v":0}]

{"sheet":"操作說明","index":3,"n_rows":1,"n_cols":1,"rows_kept":1,"cut":false,"hidden":false,"merged":[[0,0,0,14]]}
["說明：\n1.【台指大腕】為操作台指期，判斷重量級權值股狀態的工具，講究內力操盤，結合即時走勢、權重%、影響大盤點數、技術指標、籌碼、業績等面向數據研判大盤動向\n2.使用時，請每日開盤前或下午5點選功能列[更新全部]，保持數據為最新狀態；開啟數據贏家看盤室軟體，excel會開始串流即時行情\n3.本情境設有快捷鍵[權重排名][上漲貢獻][下跌貢獻]為您立即顯示最新影響大盤的個股\n4.技術指標部份，[突破壓力][跌破支撐]採CDP短線當沖指標計算，右方竄出代表行情可能有突破盤整的機率\n5.投資人可自設訊號及條件，一鍵式分析，如需協助或客製化，可洽精誠資訊業務\n6.本情境權值股樣本為台灣50，及中型100成份股\n7.大腕選股條件為[外資5日買超>0，月營收mom>0，月營收yoy>0，量變排名(由大至小)]"]

{"sheet":"分線設定","index":4,"n_rows":1146,"n_cols":8,"rows_kept":1146,"cut":false,"hidden":false,"merged":[]}
["日期",{"$f":"RTD(\"sysq.rtd\",\"\",\"WTX&`078.10\")","v":" 2020/08/25"},{"$f":"RTD(\"sysq.rtd\",\"\",\"WTX&`078.10\")","v":" 2020/08/25"},{"$f":"RTD(\"sysq.rtd\",\"\",\"WTX&`078.10\")","v":" 2020/08/25"},{"$f":"RTD(\"sysq.rtd\",\"\",\"WTX&`078.10\")","v":" 2020/08/25"},{"$f":"RTD(\"sysq.rtd\",\"\",\"WTX&`078.10\")","v":" 2020/08/25"},{"$f":"RTD(\"sysq.rtd\",\"\",\"WTX&`078.10\")","v":" 2020/08/25"}]
["欄位","期貨指標","期貨指標","期貨指標","期貨指標","期貨指標","漲跌"]
["最新",{"$f":"RTD(\"sysq.rtd\",\"\",\"!DTSH`LC.99\")","v":116},{"$f":"RTD(\"sysq.rtd\",\"\",\"!DTDH`LC.99\")","v":824},{"$f":"RTD(\"sysq.rtd\",\"\",\"!XTSH`LC.99\")","v":356},{"$f":"RTD(\"sysq.rtd\",\"\",\"!XTDH`LC.99\")","v":-226},{"$f":"RTD(\"sysq.rtd\",\"\",\"!DTAI`LC.99\")","v":312.88204715740801},{"$f":"RTD(\"sysq.rtd\",\"\",\"WTX&`004.10\")","v":49}]
["名稱","大台散狐","大台大狐","小台散狐","小台大狐","TAI","臺股指數期貨"]
["0845",{"$f":"RTD(\"sysq.rtd\",\"\",\"!DTSH`LC.99-0845:2\")","v":{"$error":"#N/A"}},{"$f":"RTD(\"sysq.rtd\",\"\",\"!DTDH`LC.99-0845:2\")","v":{"$error":"#N/A"}},{"$f":"RTD(\"sysq.rtd\",\"\",\"!XTSH`LC.99-0845:2\")","v":{"$error":"#N/A"}},{"$f":"RTD(\"sysq.rtd\",\"\",\"!XTDH`LC.99-0845:2\")","v":{"$error":"#N/A"}},{"$f":"RTD(\"sysq.rtd\",\"\",\"!DTAI`LC.99-0845:2\")","v":{"$error":"#N/A"}},{"$f":"RTD(\"sysq.rtd\",\"\",\"WTX&`004.10-0845:2\")","v":{"$error":"#N/A"}},{"$f":"SQRT(ABS(F5))*(ABS(F5)/F5)","v":{"$error":"#N/A"}}]
["0846",{"$f":"RTD(\"sysq.rtd\",\"\",\"!DTSH`LC.99-0846:2\")","v":{"$error":"#N/A"}},{"$f":"RTD(\"sysq.rtd\",\"\",\"!DTDH`LC.99-0846:2\")","v":{"$error":"#N/A"}},{"$f":"RTD(\"sysq.rtd\",\"\",\"!XTSH`LC.99-0846:2\")","v":{"$error":"#N/A"}},{"$f":"RTD(\"sysq.rtd\",\"\",\"!XTDH`LC.99-0846:2\")","v":{"$error":"#N/A"}},{"$f":"RTD(\"sysq.rtd\",\"\",\"!DTAI`LC.99-0846:2\")","v":{"$error":"#N/A"}},{"$f":"RTD(\"sysq.rtd\",\"\",\"WTX&`004.10-0846:2\")","v":{"$error":"#N/A"}},{"$f":"SQRT(ABS(F6))*(ABS(F6)/F6)","v":{"$error":"#N/A"}}]
["0847",{"$f":"RTD(\"sysq.rtd\",\"\",\"!DTSH`LC.99-0847:2\")","v":{"$error":"#N/A"}},{"$f":"RTD(\"sysq.rtd\",\"\",\"!DTDH`LC.99-0847:2\")","v":{"$error":"#N/A"}},{"$f":"RTD(\"sysq.rtd\",\"\",\"!XTSH`LC.99-0847:2\")","v":{"$error":"#N/A"}},{"$f":"RTD(\"sysq.rtd\",\"\",\"!XTDH`LC.99-0847:2\")","v":{"$error":"#N/A"}},{"$f":"RTD(\"sysq.rtd\",\"\",\"!DTAI`LC.99-0847:2\")","v":{"$error":"#N/A"}},{"$f":"RTD(\"sysq.rtd\",\"\",\"WTX&`004.10-0847:2\")","v":{"$error":"#N/A"}},{"$error":"#N/A"}]
["0848",{"$f":"RTD(\"sysq.rtd\",\"\",\"!DTSH`LC.99-0848:2\")","v":{"$error":"#N/A"}},{"$f":"RTD(\"sysq.rtd\",\"\",\"!DTDH`LC.99-0848:2\")","v":{"$error":"#N/A"}},{"$f":"RTD(\"sysq.rtd\",\"\",\"!XTSH`LC.99-0848:2\")","v":{"$error":"#N/A"}},{"$f":"RTD(\"sysq.rtd\",\"\",\"!XTDH`LC.99-0848:2\")","v":{"$error":"#N/A"}},{"$f":"RTD(\"sysq.rtd\",\"\",\"!DTAI`LC.99-0848:2\")","v":{"$error":"#N/A"}},{"$f":"RTD(\"sysq.rtd\",\"\",\"WTX&`004.10-0848:2\")","v":{"$error":"#N/A"}},{"$error":"#N/A"}]
["0849",{"$f":"RTD(\"sysq.rtd\",\"\",\"!DTSH`LC.99-0849:2\")","v":{"$error":"#N/A"}},{"$f":"RTD(\"sysq.rtd\",\"\",\"!DTDH`LC.99-0849:2\")","v":{"$error":"#N/A"}},{"$f":"RTD(\"sysq.rtd\",\"\",\"!XTSH`LC.99-0849:2\")","v":{"$error":"#N/A"}},{"$f":"RTD(\"sysq.rtd\",\"\",\"!XTDH`LC.99-0849:2\")","v":{"$error":"#N/A"}},{"$f":"RTD(\"sysq.rtd\",\"\",\"!DTAI`LC.99-0849:2\")","v":{"$error":"#N/A"}},{"$f":"RTD(\"sysq.rtd\",\"\",\"WTX&`004.10-0849:2\")","v":{"$error":"#N/A"}},{"$error":"#N/A"}]
["0850",{"$f":"RTD(\"sysq.rtd\",\"\",\"!DTSH`LC.99-0850:2\")","v":{"$error":"#N/A"}},{"$f":"RTD(\"sysq.rtd\",\"\",\"!DTDH`LC.99-0850:2\")","v":{"$error":"#N/A"}},{"$f":"RTD(\"sysq.rtd\",\"\",\"!XTSH`LC.99-0850:2\")","v":{"$error":"#N/A"}},{"$f":"RTD(\"sysq.rtd\",\"\",\"!XTDH`LC.99-0850:2\")","v":{"$error":"#N/A"}},{"$f":"RTD(\"sysq.rtd\",\"\",\"!DTAI`LC.99-0850:2\")","v":{"$error":"#N/A"}},{"$f":"RTD(\"sysq.rtd\",\"\",\"WTX&`004.10-0850:2\")","v":{"$error":"#N/A"}},{"$error":"#N/A"}]
["0851",{"$f":"RTD(\"sysq.rtd\",\"\",\"!DTSH`LC.99-0851:2\")","v":{"$error":"#N/A"}},{"$f":"RTD(\"sysq.rtd\",\"\",\"!DTDH`LC.99-0851:2\")","v":{"$error":"#N/A"}},{"$f":"RTD(\"sysq.rtd\",\"\",\"!XTSH`LC.99-0851:2\")","v":{"$error":"#N/A"}},{"$f":"RTD(\"sysq.rtd\",\"\",\"!XTDH`LC.99-0851:2\")","v":{"$error":"#N/A"}},{"$f":"RTD(\"sysq.rtd\",\"\",\"!DTAI`LC.99-0851:2\")","v":{"$error":"#N/A"}},{"$f":"RTD(\"sysq.rtd\",\"\",\"WTX&`004.10-0851:2\")","v":{"$error":"#N/A"}},{"$error":"#N/A"}]
["0852",{"$f":"RTD(\"sysq.rtd\",\"\",\"!DTSH`LC.99-0852:2\")","v":{"$error":"#N/A"}},{"$f":"RTD(\"sysq.rtd\",\"\",\"!DTDH`LC.99-0852:2\")","v":{"$error":"#N/A"}},{"$f":"RTD(\"sysq.rtd\",\"\",\"!XTSH`LC.99-0852:2\")","v":{"$error":"#N/A"}},{"$f":"RTD(\"sysq.rtd\",\"\",\"!XTDH`LC.99-0852:2\")","v":{"$error":"#N/A"}},{"$f":"RTD(\"sysq.rtd\",\"\",\"!DTAI`LC.99-0852:2\")","v":{"$error":"#N/A"}},{"$f":"RTD(\"sysq.rtd\",\"\",\"WTX&`004.10-0852:2\")","v":{"$error":"#N/A"}},{"$error":"#N/A"}]
["0853",{"$f":"RTD(\"sysq.rtd\",\"\",\"!DTSH`LC.99-0853:2\")","v":{"$error":"#N/A"}},{"$f":"RTD(\"sysq.rtd\",\"\",\"!DTDH`LC.99-0853:2\")","v":{"$error":"#N/A"}},{"$f":"RTD(\"sysq.rtd\",\"\",\"!XTSH`LC.99-0853:2\")","v":{"$error":"#N/A"}},{"$f":"RTD(\"sysq.rtd\",\"\",\"!XTDH`LC.99-0853:2\")","v":{"$error":"#N/A"}},{"$f":"RTD(\"sysq.rtd\",\"\",\"!DTAI`LC.99-0853:2\")","v":{"$error":"#N/A"}},{"$f":"RTD(\"sysq.rtd\",\"\",\"WTX&`004.10-0853:2\")","v":{"$error":"#N/A"}},{"$error":"#N/A"}]
["0854",{"$f":"RTD(\"sysq.rtd\",\"\",\"!DTSH`LC.99-0854:2\")","v":{"$error":"#N/A"}},{"$f":"RTD(\"sysq.rtd\",\"\",\"!DTDH`LC.99-0854:2\")","v":{"$error":"#N/A"}},{"$f":"RTD(\"sysq.rtd\",\"\",\"!XTSH`LC.99-0854:2\")","v":{"$error":"#N/A"}},{"$f":"RTD(\"sysq.rtd\",\"\",\"!XTDH`LC.99-0854:2\")","v":{"$error":"#N/A"}},{"$f":"RTD(\"sysq.rtd\",\"\",\"!DTAI`LC.99-0854:2\")","v":{"$error":"#N/A"}},{"$f":"RTD(\"sysq.rtd\",\"\",\"WTX&`004.10-0854:2\")","v":{"$error":"#N/A"}},{"$error":"#N/A"}]
["0855",{"$f":"RTD(\"sysq.rtd\",\"\",\"!DTSH`LC.99-0855:2\")","v":{"$error":"#N/A"}},{"$f":"RTD(\"sysq.rtd\",\"\",\"!DTDH`LC.99-0855:2\")","v":{"$error":"#N/A"}},{"$f":"RTD(\"sysq.rtd\",\"\",\"!XTSH`LC.99-0855:2\")","v":{"$error":"#N/A"}},{"$f":"RTD(\"sysq.rtd\",\"\",\"!XTDH`LC.99-0855:2\")","v":{"$error":"#N/A"}},{"$f":"RTD(\"sysq.rtd\",\"\",\"!DTAI`LC.99-0855:2\")","v":{"$error":"#N/A"}},{"$f":"RTD(\"sysq.rtd\",\"\",\"WTX&`004.10-0855:2\")","v":{"$error":"#N/A"}},{"$error":"#N/A"}]
["0856",{"$f":"RTD(\"sysq.rtd\",\"\",\"!DTSH`LC.99-0856:2\")","v":{"$error":"#N/A"}},{"$f":"RTD(\"sysq.rtd\",\"\",\"!DTDH`LC.99-0856:2\")","v":{"$error":"#N/A"}},{"$f":"RTD(\"sysq.rtd\",\"\",\"!XTSH`LC.99-0856:2\")","v":{"$error":"#N/A"}},{"$f":"RTD(\"sysq.rtd\",\"\",\"!XTDH`LC.99-0856:2\")","v":{"$error":"#N/A"}},{"$f":"RTD(\"sysq.rtd\",\"\",\"!DTAI`LC.99-0856:2\")","v":{"$error":"#N/A"}},{"$f":"RTD(\"sysq.rtd\",\"\",\"WTX&`004.10-0856:2\")","v":{"$error":"#N/A"}},{"$error":"#N/A"}]
["0857",{"$f":"RTD(\"sysq.rtd\",\"\",\"!DTSH`LC.99-0857:2\")","v":{"$error":"#N/A"}},{"$f":"RTD(\"sysq.rtd\",\"\",\"!DTDH`LC.99-0857:2\")","v":{"$error":"#N/A"}},{"$f":"RTD(\"sysq.rtd\",\"\",\"!XTSH`LC.99-0857:2\")","v":{"$error":"#N/A"}},{"$f":"RTD(\"sysq.rtd\",\"\",\"!XTDH`LC.99-0857:2\")","v":{"$error":"#N/A"}},{"$f":"RTD(\"sysq.rtd\",\"\",\"!DTAI`LC.99-0857:2\")","v":{"$error":"#N/A"}},{"$f":"RTD(\"sysq.rtd\",\"\",\"WTX&`004.10-0857:2\")","v":{"$error":"#N/A"}},{"$error":"#N/A"}]
["0858",{"$f":"RTD(\"sysq.rtd\",\"\",\"!DTSH`LC.99-0858:2\")","v":{"$error":"#N/A"}},{"$f":"RTD(\"sysq.rtd\",\"\",\"!DTDH`LC.99-0858:2\")","v":{"$error":"#N/A"}},{"$f":"RTD(\"sysq.rtd\",\"\",\"!XTSH`LC.99-0858:2\")","v":{"$error":"#N/A"}},{"$f":"RTD(\"sysq.rtd\",\"\",\"!XTDH`LC.99-0858:2\")","v":{"$error":"#N/A"}},{"$f":"RTD(\"sysq.rtd\",\"\",\"!DTAI`LC.99-0858:2\")","v":{"$error":"#N/A"}},{"$f":"RTD(\"sysq.rtd\",\"\",\"WTX&`004.10-0858:2\")","v":{"$error":"#N/A"}},{"$error":"#N/A"}]
["0859",{"$f":"RTD(\"sysq.rtd\",\"\",\"!DTSH`LC.99-0859:2\")","v":{"$error":"#N/A"}},{"$f":"RTD(\"sysq.rtd\",\"\",\"!DTDH`LC.99-0859:2\")","v":{"$error":"#N/A"}},{"$f":"RTD(\"sysq.rtd\",\"\",\"!XTSH`LC.99-0859:2\")","v":{"$error":"#N/A"}},{"$f":"RTD(\"sysq.rtd\",\"\",\"!XTDH`LC.99-0859:2\")","v":{"$error":"#N/A"}},{"$f":"RTD(\"sysq.rtd\",\"\",\"!DTAI`LC.99-0859:2\")","v":{"$error":"#N/A"}},{"$f":"RTD(\"sysq.rtd\",\"\",\"WTX&`004.10-0859:2\")","v":{"$error":"#N/A"}},{"$error":"#N/A"}]
["0900",{"$f":"RTD(\"sysq.rtd\",\"\",\"!DTSH`LC.99-0900:2\")","v":{"$error":"#N/A"}},{"$f":"RTD(\"sysq.rtd\",\"\",\"!DTDH`LC.99-0900:2\")","v":{"$error":"#N/A"}},{"$f":"RTD(\"sysq.rtd\",\"\",\"!XTSH`LC.99-0900:2\")","v":{"$error":"#N/A"}},{"$f":"RTD(\"sysq.rtd\",\"\",\"!XTDH`LC.99-0900:2\")","v":{"$error":"#N/A"}},{"$f":"RTD(\"sysq.rtd\",\"\",\"!DTAI`LC.99-0900:2\")","v":{"$error":"#N/A"}},{"$f":"RTD(\"sysq.rtd\",\"\",\"WTX&`004.10-0900:2\")","v":{"$error":"#N/A"}},{"$error":"#N/A"}]
["0901",{"$f":"RTD(\"sysq.rtd\",\"\",\"!DTSH`LC.99-0901:2\")","v":{"$error":"#N/A"}},{"$f":"RTD(\"sysq.rtd\",\"\",\"!DTDH`LC.99-0901:2\")","v":{"$error":"#N/A"}},{"$f":"RTD(\"sysq.rtd\",\"\",\"!XTSH`LC.99-0901:2\")","v":{"$error":"#N/A"}},{"$f":"RTD(\"sysq.rtd\",\"\",\"!XTDH`LC.99-0901:2\")","v":{"$error":"#N/A"}},{"$f":"RTD(\"sysq.rtd\",\"\",\"!DTAI`LC.99-0901:2\")","v":{"$error":"#N/A"}},{"$f":"RTD(\"sysq.rtd\",\"\",\"WTX&`004.10-0901:2\")","v":{"$error":"#N/A"}},{"$error":"#N/A"}]
["0902",{"$f":"RTD(\"sysq.rtd\",\"\",\"!DTSH`LC.99-0902:2\")","v":{"$error":"#N/A"}},{"$f":"RTD(\"sysq.rtd\",\"\",\"!DTDH`LC.99-0902:2\")","v":{"$error":"#N/A"}},{"$f":"RTD(\"sysq.rtd\",\"\",\"!XTSH`LC.99-0902:2\")","v":{"$error":"#N/A"}},{"$f":"RTD(\"sysq.rtd\",\"\",\"!XTDH`LC.99-0902:2\")","v":{"$error":"#N/A"}},{"$f":"RTD(\"sysq.rtd\",\"\",\"!DTAI`LC.99-0902:2\")","v":{"$error":"#N/A"}},{"$f":"RTD(\"sysq.rtd\",\"\",\"WTX&`004.10-0902:2\")","v":{"$error":"#N/A"}},{"$error":"#N/A"}]
["0903",{"$f":"RTD(\"sysq.rtd\",\"\",\"!DTSH`LC.99-0903:2\")","v":{"$error":"#N/A"}},{"$f":"RTD(\"sysq.rtd\",\"\",\"!DTDH`LC.99-0903:2\")","v":{"$error":"#N/A"}},{"$f":"RTD(\"sysq.rtd\",\"\",\"!XTSH`LC.99-0903:2\")","v":{"$error":"#N/A"}},{"$f":"RTD(\"sysq.rtd\",\"\",\"!XTDH`LC.99-0903:2\")","v":{"$error":"#N/A"}},{"$f":"RTD(\"sysq.rtd\",\"\",\"!DTAI`LC.99-0903:2\")","v":{"$error":"#N/A"}},{"$f":"RTD(\"sysq.rtd\",\"\",\"WTX&`004.10-0903:2\")","v":{"$error":"#N/A"}},{"$error":"#N/A"}]
["0904",{"$f":"RTD(\"sysq.rtd\",\"\",\"!DTSH`LC.99-0904:2\")","v":{"$error":"#N/A"}},{"$f":"RTD(\"sysq.rtd\",\"\",\"!DTDH`LC.99-0904:2\")","v":{"$error":"#N/A"}},{"$f":"RTD(\"sysq.rtd\",\"\",\"!XTSH`LC.99-0904:2\")","v":{"$error":"#N/A"}},{"$f":"RTD(\"sysq.rtd\",\"\",\"!XTDH`LC.99-0904:2\")","v":{"$error":"#N/A"}},{"$f":"RTD(\"sysq.rtd\",\"\",\"!DTAI`LC.99-0904:2\")","v":{"$error":"#N/A"}},{"$f":"RTD(\"sysq.rtd\",\"\",\"WTX&`004.10-0904:2\")","v":{"$error":"#N/A"}},{"$error":"#N/A"}]
["0905",{"$f":"RTD(\"sysq.rtd\",\"\",\"!DTSH`LC.99-0905:2\")","v":{"$error":"#N/A"}},{"$f":"RTD(\"sysq.rtd\",\"\",\"!DTDH`LC.99-0905:2\")","v":{"$error":"#N/A"}},{"$f":"RTD(\"sysq.rtd\",\"\",\"!XTSH`LC.99-0905:2\")","v":{"$error":"#N/A"}},{"$f":"RTD(\"sysq.rtd\",\"\",\"!XTDH`LC.99-0905:2\")","v":{"$error":"#N/A"}},{"$f":"RTD(\"sysq.rtd\",\"\",\"!DTAI`LC.99-0905:2\")","v":{"$error":"#N/A"}},{"$f":"RTD(\"sysq.rtd\",\"\",\"WTX&`004.10-0905:2\")","v":{"$error":"#N/A"}},{"$error":"#N/A"}]
["0906",{"$f":"RTD(\"sysq.rtd\",\"\",\"!DTSH`LC.99-0906:2\")","v":{"$error":"#N/A"}},{"$f":"RTD(\"sysq.rtd\",\"\",\"!DTDH`LC.99-0906:2\")","v":{"$error":"#N/A"}},{"$f":"RTD(\"sysq.rtd\",\"\",\"!XTSH`LC.99-0906:2\")","v":{"$error":"#N/A"}},{"$f":"RTD(\"sysq.rtd\",\"\",\"!XTDH`LC.99-0906:2\")","v":{"$error":"#N/A"}},{"$f":"RTD(\"sysq.rtd\",\"\",\"!DTAI`LC.99-0906:2\")","v":{"$error":"#N/A"}},{"$f":"RTD(\"sysq.rtd\",\"\",\"WTX&`004.10-0906:2\")","v":{"$error":"#N/A"}},{"$error":"#N/A"}]
["0907",{"$f":"RTD(\"sysq.rtd\",\"\",\"!DTSH`LC.99-0907:2\")","v":{"$error":"#N/A"}},{"$f":"RTD(\"sysq.rtd\",\"\",\"!DTDH`LC.99-0907:2\")","v":{"$error":"#N/A"}},{"$f":"RTD(\"sysq.rtd\",\"\",\"!XTSH`LC.99-0907:2\")","v":{"$error":"#N/A"}},{"$f":"RTD(\"sysq.rtd\",\"\",\"!XTDH`LC.99-0907:2\")","v":{"$error":"#N/A"}},{"$f":"RTD(\"sysq.rtd\",\"\",\"!DTAI`LC.99-0907:2\")","v":{"$error":"#N/A"}},{"$f":"RTD(\"sysq.rtd\",\"\",\"WTX&`004.10-0907:2\")","v":{"$error":"#N/A"}},{"$error":"#N/A"}]
["0908",{"$f":"RTD(\"sysq.rtd\",\"\",\"!DTSH`LC.99-0908:2\")","v":{"$error":"#N/A"}},{"$f":"RTD(\"sysq.rtd\",\"\",\"!DTDH`LC.99-0908:2\")","v":{"$error":"#N/A"}},{"$f":"RTD(\"sysq.rtd\",\"\",\"!XTSH`LC.99-0908:2\")","v":{"$error":"#N/A"}},{"$f":"RTD(\"sysq.rtd\",\"\",\"!XTDH`LC.99-0908:2\")","v":{"$error":"#N/A"}},{"$f":"RTD(\"sysq.rtd\",\"\",\"!DTAI`LC.99-0908:2\")","v":{"$error":"#N/A"}},{"$f":"RTD(\"sysq.rtd\",\"\",\"WTX&`004.10-0908:2\")","v":{"$error":"#N/A"}},{"$error":"#N/A"}]
["0909",{"$f":"RTD(\"sysq.rtd\",\"\",\"!DTSH`LC.99-0909:2\")","v":{"$error":"#N/A"}},{"$f":"RTD(\"sysq.rtd\",\"\",\"!DTDH`LC.99-0909:2\")","v":{"$error":"#N/A"}},{"$f":"RTD(\"sysq.rtd\",\"\",\"!XTSH`LC.99-0909:2\")","v":{"$error":"#N/A"}},{"$f":"RTD(\"sysq.rtd\",\"\",\"!XTDH`LC.99-0909:2\")","v":{"$error":"#N/A"}},{"$f":"RTD(\"sysq.rtd\",\"\",\"!DTAI`LC.99-0909:2\")","v":{"$error":"#N/A"}},{"$f":"RTD(\"sysq.rtd\",\"\",\"WTX&`004.10-0909:2\")","v":{"$error":"#N/A"}},{"$error":"#N/A"}]
["0910",{"$f":"RTD(\"sysq.rtd\",\"\",\"!DTSH`LC.99-0910:2\")","v":{"$error":"#N/A"}},{"$f":"RTD(\"sysq.rtd\",\"\",\"!DTDH`LC.99-0910:2\")","v":{"$error":"#N/A"}},{"$f":"RTD(\"sysq.rtd\",\"\",\"!XTSH`LC.99-0910:2\")","v":{"$error":"#N/A"}},{"$f":"RTD(\"sysq.rtd\",\"\",\"!XTDH`LC.99-0910:2\")","v":{"$error":"#N/A"}},{"$f":"RTD(\"sysq.rtd\",\"\",\"!DTAI`LC.99-0910:2\")","v":{"$error":"#N/A"}},{"$f":"RTD(\"sysq.rtd\",\"\",\"WTX&`004.10-0910:2\")","v":{"$error":"#N/A"}},{"$error":"#N/A"}]
["0911",{"$f":"RTD(\"sysq.rtd\",\"\",\"!DTSH`LC.99-0911:2\")","v":{"$error":"#N/A"}},{"$f":"RTD(\"sysq.rtd\",\"\",\"!DTDH`LC.99-0911:2\")","v":{"$error":"#N/A"}},{"$f":"RTD(\"sysq.rtd\",\"\",\"!XTSH`LC.99-0911:2\")","v":{"$error":"#N/A"}},{"$f":"RTD(\"sysq.rtd\",\"\",\"!XTDH`LC.99-0911:2\")","v":{"$error":"#N/A"}},{"$f":"RTD(\"sysq.rtd\",\"\",\"!DTAI`LC.99-0911:2\")","v":{"$error":"#N/A"}},{"$f":"RTD(\"sysq.rtd\",\"\",\"WTX&`004.10-0911:2\")","v":{"$error":"#N/A"}},{"$error":"#N/A"}]
["0912",{"$f":"RTD(\"sysq.rtd\",\"\",\"!DTSH`LC.99-0912:2\")","v":{"$error":"#N/A"}},{"$f":"RTD(\"sysq.rtd\",\"\",\"!DTDH`LC.99-0912:2\")","v":{"$error":"#N/A"}},{"$f":"RTD(\"sysq.rtd\",\"\",\"!XTSH`LC.99-0912:2\")","v":{"$error":"#N/A"}},{"$f":"RTD(\"sysq.rtd\",\"\",\"!XTDH`LC.99-0912:2\")","v":{"$error":"#N/A"}},{"$f":"RTD(\"sysq.rtd\",\"\",\"!DTAI`LC.99-0912:2\")","v":{"$error":"#N/A"}},{"$f":"RTD(\"sysq.rtd\",\"\",\"WTX&`004.10-0912:2\")","v":{"$error":"#N/A"}},{"$error":"#N/A"}]
["0913",{"$f":"RTD(\"sysq.rtd\",\"\",\"!DTSH`LC.99-0913:2\")","v":{"$error":"#N/A"}},{"$f":"RTD(\"sysq.rtd\",\"\",\"!DTDH`LC.99-0913:2\")","v":{"$error":"#N/A"}},{"$f":"RTD(\"sysq.rtd\",\"\",\"!XTSH`LC.99-0913:2\")","v":{"$error":"#N/A"}},{"$f":"RTD(\"sysq.rtd\",\"\",\"!XTDH`LC.99-0913:2\")","v":{"$error":"#N/A"}},{"$f":"RTD(\"sysq.rtd\",\"\",\"!DTAI`LC.99-0913:2\")","v":{"$error":"#N/A"}},{"$f":"RTD(\"sysq.rtd\",\"\",\"WTX&`004.10-0913:2\")","v":{"$error":"#N/A"}},{"$error":"#N/A"}]
["0914",{"$f":"RTD(\"sysq.rtd\",\"\",\"!DTSH`LC.99-0914:2\")","v":{"$error":"#N/A"}},{"$f":"RTD(\"sysq.rtd\",\"\",\"!DTDH`LC.99-0914:2\")","v":{"$error":"#N/A"}},{"$f":"RTD(\"sysq.rtd\",\"\",\"!XTSH`LC.99-0914:2\")","v":{"$error":"#N/A"}},{"$f":"RTD(\"sysq.rtd\",\"\",\"!XTDH`LC.99-0914:2\")","v":{"$error":"#N/A"}},{"$f":"RTD(\"sysq.rtd\",\"\",\"!DTAI`LC.99-0914:2\")","v":{"$error":"#N/A"}},{"$f":"RTD(\"sysq.rtd\",\"\",\"WTX&`004.10-0914:2\")","v":{"$error":"#N/A"}},{"$error":"#N/A"}]
["0915",{"$f":"RTD(\"sysq.rtd\",\"\",\"!DTSH`LC.99-0915:2\")","v":{"$error":"#N/A"}},{"$f":"RTD(\"sysq.rtd\",\"\",\"!DTDH`LC.99-0915:2\")","v":{"$error":"#N/A"}},{"$f":"RTD(\"sysq.rtd\",\"\",\"!XTSH`LC.99-0915:2\")","v":{"$error":"#N/A"}},{"$f":"RTD(\"sysq.rtd\",\"\",\"!XTDH`LC.99-0915:2\")","v":{"$error":"#N/A"}},{"$f":"RTD(\"sysq.rtd\",\"\",\"!DTAI`LC.99-0915:2\")","v":{"$error":"#N/A"}},{"$f":"RTD(\"sysq.rtd\",\"\",\"WTX&`004.10-0915:2\")","v":{"$error":"#N/A"}},{"$error":"#N/A"}]
["0916",{"$f":"RTD(\"sysq.rtd\",\"\",\"!DTSH`LC.99-0916:2\")","v":{"$error":"#N/A"}},{"$f":"RTD(\"sysq.rtd\",\"\",\"!DTDH`LC.99-0916:2\")","v":{"$error":"#N/A"}},{"$f":"RTD(\"sysq.rtd\",\"\",\"!XTSH`LC.99-0916:2\")","v":{"$error":"#N/A"}},{"$f":"RTD(\"sysq.rtd\",\"\",\"!XTDH`LC.99-0916:2\")","v":{"$error":"#N/A"}},{"$f":"RTD(\"sysq.rtd\",\"\",\"!DTAI`LC.99-0916:2\")","v":{"$error":"#N/A"}},{"$f":"RTD(\"sysq.rtd\",\"\",\"WTX&`004.10-0916:2\")","v":{"$error":"#N/A"}},{"$error":"#N/A"}]
["0917",{"$f":"RTD(\"sysq.rtd\",\"\",\"!DTSH`LC.99-0917:2\")","v":{"$error":"#N/A"}},{"$f":"RTD(\"sysq.rtd\",\"\",\"!DTDH`LC.99-0917:2\")","v":{"$error":"#N/A"}},{"$f":"RTD(\"sysq.rtd\",\"\",\"!XTSH`LC.99-0917:2\")","v":{"$error":"#N/A"}},{"$f":"RTD(\"sysq.rtd\",\"\",\"!XTDH`LC.99-0917:2\")","v":{"$error":"#N/A"}},{"$f":"RTD(\"sysq.rtd\",\"\",\"!DTAI`LC.99-0917:2\")","v":{"$error":"#N/A"}},{"$f":"RTD(\"sysq.rtd\",\"\",\"WTX&`004.10-0917:2\")","v":{"$error":"#N/A"}},{"$error":"#N/A"}]
["0918",{"$f":"RTD(\"sysq.rtd\",\"\",\"!DTSH`LC.99-0918:2\")","v":{"$error":"#N/A"}},{"$f":"RTD(\"sysq.rtd\",\"\",\"!DTDH`LC.99-0918:2\")","v":{"$error":"#N/A"}},{"$f":"RTD(\"sysq.rtd\",\"\",\"!XTSH`LC.99-0918:2\")","v":{"$error":"#N/A"}},{"$f":"RTD(\"sysq.rtd\",\"\",\"!XTDH`LC.99-0918:2\")","v":{"$error":"#N/A"}},{"$f":"RTD(\"sysq.rtd\",\"\",\"!DTAI`LC.99-0918:2\")","v":{"$error":"#N/A"}},{"$f":"RTD(\"sysq.rtd\",\"\",\"WTX&`004.10-0918:2\")","v":{"$error":"#N/A"}},{"$error":"#N/A"}]
["0919",{"$f":"RTD(\"sysq.rtd\",\"\",\"!DTSH`LC.99-0919:2\")","v":{"$error":"#N/A"}},{"$f":"RTD(\"sysq.rtd\",\"\",\"!DTDH`LC.99-0919:2\")","v":{"$error":"#N/A"}},{"$f":"RTD(\"sysq.rtd\",\"\",\"!XTSH`LC.99-0919:2\")","v":{"$error":"#N/A"}},{"$f":"RTD(\"sysq.rtd\",\"\",\"!XTDH`LC.99-0919:2\")","v":{"$error":"#N/A"}},{"$f":"RTD(\"sysq.rtd\",\"\",\"!DTAI`LC.99-0919:2\")","v":{"$error":"#N/A"}},{"$f":"RTD(\"sysq.rtd\",\"\",\"WTX&`004.10-0919:2\")","v":{"$error":"#N/A"}},{"$error":"#N/A"}]
["0920",{"$f":"RTD(\"sysq.rtd\",\"\",\"!DTSH`LC.99-0920:2\")","v":{"$error":"#N/A"}},{"$f":"RTD(\"sysq.rtd\",\"\",\"!DTDH`LC.99-0920:2\")","v":{"$error":"#N/A"}},{"$f":"RTD(\"sysq.rtd\",\"\",\"!XTSH`LC.99-0920:2\")","v":{"$error":"#N/A"}},{"$f":"RTD(\"sysq.rtd\",\"\",\"!XTDH`LC.99-0920:2\")","v":{"$error":"#N/A"}},{"$f":"RTD(\"sysq.rtd\",\"\",\"!DTAI`LC.99-0920:2\")","v":{"$error":"#N/A"}},{"$f":"RTD(\"sysq.rtd\",\"\",\"WTX&`004.10-0920:2\")","v":{"$error":"#N/A"}},{"$error":"#N/A"}]
["0921",{"$f":"RTD(\"sysq.rtd\",\"\",\"!DTSH`LC.99-0921:2\")","v":{"$error":"#N/A"}},{"$f":"RTD(\"sysq.rtd\",\"\",\"!DTDH`LC.99-0921:2\")","v":{"$error":"#N/A"}},{"$f":"RTD(\"sysq.rtd\",\"\",\"!XTSH`LC.99-0921:2\")","v":{"$error":"#N/A"}},{"$f":"RTD(\"sysq.rtd\",\"\",\"!XTDH`LC.99-0921:2\")","v":{"$error":"#N/A"}},{"$f":"RTD(\"sysq.rtd\",\"\",\"!DTAI`LC.99-0921:2\")","v":{"$error":"#N/A"}},{"$f":"RTD(\"sysq.rtd\",\"\",\"WTX&`004.10-0921:2\")","v":{"$error":"#N/A"}},{"$error":"#N/A"}]
["0922",{"$f":"RTD(\"sysq.rtd\",\"\",\"!DTSH`LC.99-0922:2\")","v":{"$error":"#N/A"}},{"$f":"RTD(\"sysq.rtd\",\"\",\"!DTDH`LC.99-0922:2\")","v":{"$error":"#N/A"}},{"$f":"RTD(\"sysq.rtd\",\"\",\"!XTSH`LC.99-0922:2\")","v":{"$error":"#N/A"}},{"$f":"RTD(\"sysq.rtd\",\"\",\"!XTDH`LC.99-0922:2\")","v":{"$error":"#N/A"}},{"$f":"RTD(\"sysq.rtd\",\"\",\"!DTAI`LC.99-0922:2\")","v":{"$error":"#N/A"}},{"$f":"RTD(\"sysq.rtd\",\"\",\"WTX&`004.10-0922:2\")","v":{"$error":"#N/A"}},{"$error":"#N/A"}]
["0923",{"$f":"RTD(\"sysq.rtd\",\"\",\"!DTSH`LC.99-0923:2\")","v":{"$error":"#N/A"}},{"$f":"RTD(\"sysq.rtd\",\"\",\"!DTDH`LC.99-0923:2\")","v":{"$error":"#N/A"}},{"$f":"RTD(\"sysq.rtd\",\"\",\"!XTSH`LC.99-0923:2\")","v":{"$error":"#N/A"}},{"$f":"RTD(\"sysq.rtd\",\"\",\"!XTDH`LC.99-0923:2\")","v":{"$error":"#N/A"}},{"$f":"RTD(\"sysq.rtd\",\"\",\"!DTAI`LC.99-0923:2\")","v":{"$error":"#N/A"}},{"$f":"RTD(\"sysq.rtd\",\"\",\"WTX&`004.10-0923:2\")","v":{"$error":"#N/A"}},{"$error":"#N/A"}]
["0924",{"$f":"RTD(\"sysq.rtd\",\"\",\"!DTSH`LC.99-0924:2\")","v":{"$error":"#N/A"}},{"$f":"RTD(\"sysq.rtd\",\"\",\"!DTDH`LC.99-0924:2\")","v":{"$error":"#N/A"}},{"$f":"RTD(\"sysq.rtd\",\"\",\"!XTSH`LC.99-0924:2\")","v":{"$error":"#N/A"}},{"$f":"RTD(\"sysq.rtd\",\"\",\"!XTDH`LC.99-0924:2\")","v":{"$error":"#N/A"}},{"$f":"RTD(\"sysq.rtd\",\"\",\"!DTAI`LC.99-0924:2\")","v":{"$error":"#N/A"}},{"$f":"RTD(\"sysq.rtd\",\"\",\"WTX&`004.10-0924:2\")","v":{"$error":"#N/A"}},{"$error":"#N/A"}]
["0925",{"$f":"RTD(\"sysq.rtd\",\"\",\"!DTSH`LC.99-0925:2\")","v":{"$error":"#N/A"}},{"$f":"RTD(\"sysq.rtd\",\"\",\"!DTDH`LC.99-0925:2\")","v":{"$error":"#N/A"}},{"$f":"RTD(\"sysq.rtd\",\"\",\"!XTSH`LC.99-0925:2\")","v":{"$error":"#N/A"}},{"$f":"RTD(\"sysq.rtd\",\"\",\"!XTDH`LC.99-0925:2\")","v":{"$error":"#N/A"}},{"$f":"RTD(\"sysq.rtd\",\"\",\"!DTAI`LC.99-0925:2\")","v":{"$error":"#N/A"}},{"$f":"RTD(\"sysq.rtd\",\"\",\"WTX&`004.10-0925:2\")","v":{"$error":"#N/A"}},{"$error":"#N/A"}]
["0926",{"$f":"RTD(\"sysq.rtd\",\"\",\"!DTSH`LC.99-0926:2\")","v":{"$error":"#N/A"}},{"$f":"RTD(\"sysq.rtd\",\"\",\"!DTDH`LC.99-0926:2\")","v":{"$error":"#N/A"}},{"$f":"RTD(\"sysq.rtd\",\"\",\"!XTSH`LC.99-0926:2\")","v":{"$error":"#N/A"}},{"$f":"RTD(\"sysq.rtd\",\"\",\"!XTDH`LC.99-0926:2\")","v":{"$error":"#N/A"}},{"$f":"RTD(\"sysq.rtd\",\"\",\"!DTAI`LC.99-0926:2\")","v":{"$error":"#N/A"}},{"$f":"RTD(\"sysq.rtd\",\"\",\"WTX&`004.10-0926:2\")","v":{"$error":"#N/A"}},{"$error":"#N/A"}]
["0927",{"$f":"RTD(\"sysq.rtd\",\"\",\"!DTSH`LC.99-0927:2\")","v":{"$error":"#N/A"}},{"$f":"RTD(\"sysq.rtd\",\"\",\"!DTDH`LC.99-0927:2\")","v":{"$error":"#N/A"}},{"$f":"RTD(\"sysq.rtd\",\"\",\"!XTSH`LC.99-0927:2\")","v":{"$error":"#N/A"}},{"$f":"RTD(\"sysq.rtd\",\"\",\"!XTDH`LC.99-0927:2\")","v":{"$error":"#N/A"}},{"$f":"RTD(\"sysq.rtd\",\"\",\"!DTAI`LC.99-0927:2\")","v":{"$error":"#N/A"}},{"$f":"RTD(\"sysq.rtd\",\"\",\"WTX&`004.10-0927:2\")","v":{"$error":"#N/A"}},{"$error":"#N/A"}]
["0928",{"$f":"RTD(\"sysq.rtd\",\"\",\"!DTSH`LC.99-0928:2\")","v":{"$error":"#N/A"}},{"$f":"RTD(\"sysq.rtd\",\"\",\"!DTDH`LC.99-0928:2\")","v":{"$error":"#N/A"}},{"$f":"RTD(\"sysq.rtd\",\"\",\"!XTSH`LC.99-0928:2\")","v":{"$error":"#N/A"}},{"$f":"RTD(\"sysq.rtd\",\"\",\"!XTDH`LC.99-0928:2\")","v":{"$error":"#N/A"}},{"$f":"RTD(\"sysq.rtd\",\"\",\"!DTAI`LC.99-0928:2\")","v":{"$error":"#N/A"}},{"$f":"RTD(\"sysq.rtd\",\"\",\"WTX&`004.10-0928:2\")","v":{"$error":"#N/A"}},{"$error":"#N/A"}]
["0929",{"$f":"RTD(\"sysq.rtd\",\"\",\"!DTSH`LC.99-0929:2\")","v":{"$error":"#N/A"}},{"$f":"RTD(\"sysq.rtd\",\"\",\"!DTDH`LC.99-0929:2\")","v":{"$error":"#N/A"}},{"$f":"RTD(\"sysq.rtd\",\"\",\"!XTSH`LC.99-0929:2\")","v":{"$error":"#N/A"}},{"$f":"RTD(\"sysq.rtd\",\"\",\"!XTDH`LC.99-0929:2\")","v":{"$error":"#N/A"}},{"$f":"RTD(\"sysq.rtd\",\"\",\"!DTAI`LC.99-0929:2\")","v":{"$error":"#N/A"}},{"$f":"RTD(\"sysq.rtd\",\"\",\"WTX&`004.10-0929:2\")","v":{"$error":"#N/A"}},{"$error":"#N/A"}]
["0930",{"$f":"RTD(\"sysq.rtd\",\"\",\"!DTSH`LC.99-0930:2\")","v":{"$error":"#N/A"}},{"$f":"RTD(\"sysq.rtd\",\"\",\"!DTDH`LC.99-0930:2\")","v":{"$error":"#N/A"}},{"$f":"RTD(\"sysq.rtd\",\"\",\"!XTSH`LC.99-0930:2\")","v":{"$error":"#N/A"}},{"$f":"RTD(\"sysq.rtd\",\"\",\"!XTDH`LC.99-0930:2\")","v":{"$error":"#N/A"}},{"$f":"RTD(\"sysq.rtd\",\"\",\"!DTAI`LC.99-0930:2\")","v":{"$error":"#N/A"}},{"$f":"RTD(\"sysq.rtd\",\"\",\"WTX&`004.10-0930:2\")","v":{"$error":"#N/A"}},{"$error":"#N/A"}]
["0931",{"$f":"RTD(\"sysq.rtd\",\"\",\"!DTSH`LC.99-0931:2\")","v":{"$error":"#N/A"}},{"$f":"RTD(\"sysq.rtd\",\"\",\"!DTDH`LC.99-0931:2\")","v":{"$error":"#N/A"}},{"$f":"RTD(\"sysq.rtd\",\"\",\"!XTSH`LC.99-0931:2\")","v":{"$error":"#N/A"}},{"$f":"RTD(\"sysq.rtd\",\"\",\"!XTDH`LC.99-0931:2\")","v":{"$error":"#N/A"}},{"$f":"RTD(\"sysq.rtd\",\"\",\"!DTAI`LC.99-0931:2\")","v":{"$error":"#N/A"}},{"$f":"RTD(\"sysq.rtd\",\"\",\"WTX&`004.10-0931:2\")","v":{"$error":"#N/A"}},{"$error":"#N/A"}]
["0932",{"$f":"RTD(\"sysq.rtd\",\"\",\"!DTSH`LC.99-0932:2\")","v":{"$error":"#N/A"}},{"$f":"RTD(\"sysq.rtd\",\"\",\"!DTDH`LC.99-0932:2\")","v":{"$error":"#N/A"}},{"$f":"RTD(\"sysq.rtd\",\"\",\"!XTSH`LC.99-0932:2\")","v":{"$error":"#N/A"}},{"$f":"RTD(\"sysq.rtd\",\"\",\"!XTDH`LC.99-0932:2\")","v":{"$error":"#N/A"}},{"$f":"RTD(\"sysq.rtd\",\"\",\"!DTAI`LC.99-0932:2\")","v":{"$error":"#N/A"}},{"$f":"RTD(\"sysq.rtd\",\"\",\"WTX&`004.10-0932:2\")","v":{"$error":"#N/A"}},{"$error":"#N/A"}]
["0933",{"$f":"RTD(\"sysq.rtd\",\"\",\"!DTSH`LC.99-0933:2\")","v":{"$error":"#N/A"}},{"$f":"RTD(\"sysq.rtd\",\"\",\"!DTDH`LC.99-0933:2\")","v":{"$error":"#N/A"}},{"$f":"RTD(\"sysq.rtd\",\"\",\"!XTSH`LC.99-0933:2\")","v":{"$error":"#N/A"}},{"$f":"RTD(\"sysq.rtd\",\"\",\"!XTDH`LC.99-0933:2\")","v":{"$error":"#N/A"}},{"$f":"RTD(\"sysq.rtd\",\"\",\"!DTAI`LC.99-0933:2\")","v":{"$error":"#N/A"}},{"$f":"RTD(\"sysq.rtd\",\"\",\"WTX&`004.10-0933:2\")","v":{"$error":"#N/A"}},{"$error":"#N/A"}]
["0934",{"$f":"RTD(\"sysq.rtd\",\"\",\"!DTSH`LC.99-0934:2\")","v":{"$error":"#N/A"}},{"$f":"RTD(\"sysq.rtd\",\"\",\"!DTDH`LC.99-0934:2\")","v":{"$error":"#N/A"}},{"$f":"RTD(\"sysq.rtd\",\"\",\"!XTSH`LC.99-0934:2\")","v":{"$error":"#N/A"}},{"$f":"RTD(\"sysq.rtd\",\"\",\"!XTDH`LC.99-0934:2\")","v":{"$error":"#N/A"}},{"$f":"RTD(\"sysq.rtd\",\"\",\"!DTAI`LC.99-0934:2\")","v":{"$error":"#N/A"}},{"$f":"RTD(\"sysq.rtd\",\"\",\"WTX&`004.10-0934:2\")","v":{"$error":"#N/A"}},{"$error":"#N/A"}]
["0935",{"$f":"RTD(\"sysq.rtd\",\"\",\"!DTSH`LC.99-0935:2\")","v":{"$error":"#N/A"}},{"$f":"RTD(\"sysq.rtd\",\"\",\"!DTDH`LC.99-0935:2\")","v":{"$error":"#N/A"}},{"$f":"RTD(\"sysq.rtd\",\"\",\"!XTSH`LC.99-0935:2\")","v":{"$error":"#N/A"}},{"$f":"RTD(\"sysq.rtd\",\"\",\"!XTDH`LC.99-0935:2\")","v":{"$error":"#N/A"}},{"$f":"RTD(\"sysq.rtd\",\"\",\"!DTAI`LC.99-0935:2\")","v":{"$error":"#N/A"}},{"$f":"RTD(\"sysq.rtd\",\"\",\"WTX&`004.10-0935:2\")","v":{"$error":"#N/A"}},{"$error":"#N/A"}]
["0936",{"$f":"RTD(\"sysq.rtd\",\"\",\"!DTSH`LC.99-0936:2\")","v":{"$error":"#N/A"}},{"$f":"RTD(\"sysq.rtd\",\"\",\"!DTDH`LC.99-0936:2\")","v":{"$error":"#N/A"}},{"$f":"RTD(\"sysq.rtd\",\"\",\"!XTSH`LC.99-0936:2\")","v":{"$error":"#N/A"}},{"$f":"RTD(\"sysq.rtd\",\"\",\"!XTDH`LC.99-0936:2\")","v":{"$error":"#N/A"}},{"$f":"RTD(\"sysq.rtd\",\"\",\"!DTAI`LC.99-0936:2\")","v":{"$error":"#N/A"}},{"$f":"RTD(\"sysq.rtd\",\"\",\"WTX&`004.10-0936:2\")","v":{"$error":"#N/A"}},{"$error":"#N/A"}]
["0937",{"$f":"RTD(\"sysq.rtd\",\"\",\"!DTSH`LC.99-0937:2\")","v":{"$error":"#N/A"}},{"$f":"RTD(\"sysq.rtd\",\"\",\"!DTDH`LC.99-0937:2\")","v":{"$error":"#N/A"}},{"$f":"RTD(\"sysq.rtd\",\"\",\"!XTSH`LC.99-0937:2\")","v":{"$error":"#N/A"}},{"$f":"RTD(\"sysq.rtd\",\"\",\"!XTDH`LC.99-0937:2\")","v":{"$error":"#N/A"}},{"$f":"RTD(\"sysq.rtd\",\"\",\"!DTAI`LC.99-0937:2\")","v":{"$error":"#N/A"}},{"$f":"RTD(\"sysq.rtd\",\"\",\"WTX&`004.10-0937:2\")","v":{"$error":"#N/A"}},{"$error":"#N/A"}]
["0938",{"$f":"RTD(\"sysq.rtd\",\"\",\"!DTSH`LC.99-0938:2\")","v":{"$error":"#N/A"}},{"$f":"RTD(\"sysq.rtd\",\"\",\"!DTDH`LC.99-0938:2\")","v":{"$error":"#N/A"}},{"$f":"RTD(\"sysq.rtd\",\"\",\"!XTSH`LC.99-0938:2\")","v":{"$error":"#N/A"}},{"$f":"RTD(\"sysq.rtd\",\"\",\"!XTDH`LC.99-0938:2\")","v":{"$error":"#N/A"}},{"$f":"RTD(\"sysq.rtd\",\"\",\"!DTAI`LC.99-0938:2\")","v":{"$error":"#N/A"}},{"$f":"RTD(\"sysq.rtd\",\"\",\"WTX&`004.10-0938:2\")","v":{"$error":"#N/A"}},{"$error":"#N/A"}]
["0939",{"$f":"RTD(\"sysq.rtd\",\"\",\"!DTSH`LC.99-0939:2\")","v":{"$error":"#N/A"}},{"$f":"RTD(\"sysq.rtd\",\"\",\"!DTDH`LC.99-0939:2\")","v":{"$error":"#N/A"}},{"$f":"RTD(\"sysq.rtd\",\"\",\"!XTSH`LC.99-0939:2\")","v":{"$error":"#N/A"}},{"$f":"RTD(\"sysq.rtd\",\"\",\"!XTDH`LC.99-0939:2\")","v":{"$error":"#N/A"}},{"$f":"RTD(\"sysq.rtd\",\"\",\"!DTAI`LC.99-0939:2\")","v":{"$error":"#N/A"}},{"$f":"RTD(\"sysq.rtd\",\"\",\"WTX&`004.10-0939:2\")","v":{"$error":"#N/A"}},{"$error":"#N/A"}]
["0940",{"$f":"RTD(\"sysq.rtd\",\"\",\"!DTSH`LC.99-0940:2\")","v":{"$error":"#N/A"}},{"$f":"RTD(\"sysq.rtd\",\"\",\"!DTDH`LC.99-0940:2\")","v":{"$error":"#N/A"}},{"$f":"RTD(\"sysq.rtd\",\"\",\"!XTSH`LC.99-0940:2\")","v":{"$error":"#N/A"}},{"$f":"RTD(\"sysq.rtd\",\"\",\"!XTDH`LC.99-0940:2\")","v":{"$error":"#N/A"}},{"$f":"RTD(\"sysq.rtd\",\"\",\"!DTAI`LC.99-0940:2\")","v":{"$error":"#N/A"}},{"$f":"RTD(\"sysq.rtd\",\"\",\"WTX&`004.10-0940:2\")","v":{"$error":"#N/A"}},{"$error":"#N/A"}]
["0941",{"$f":"RTD(\"sysq.rtd\",\"\",\"!DTSH`LC.99-0941:2\")","v":{"$error":"#N/A"}},{"$f":"RTD(\"sysq.rtd\",\"\",\"!DTDH`LC.99-0941:2\")","v":{"$error":"#N/A"}},{"$f":"RTD(\"sysq.rtd\",\"\",\"!XTSH`LC.99-0941:2\")","v":{"$error":"#N/A"}},{"$f":"RTD(\"sysq.rtd\",\"\",\"!XTDH`LC.99-0941:2\")","v":{"$error":"#N/A"}},{"$f":"RTD(\"sysq.rtd\",\"\",\"!DTAI`LC.99-0941:2\")","v":{"$error":"#N/A"}},{"$f":"RTD(\"sysq.rtd\",\"\",\"WTX&`004.10-0941:2\")","v":{"$error":"#N/A"}},{"$error":"#N/A"}]
["0942",{"$f":"RTD(\"sysq.rtd\",\"\",\"!DTSH`LC.99-0942:2\")","v":{"$error":"#N/A"}},{"$f":"RTD(\"sysq.rtd\",\"\",\"!DTDH`LC.99-0942:2\")","v":{"$error":"#N/A"}},{"$f":"RTD(\"sysq.rtd\",\"\",\"!XTSH`LC.99-0942:2\")","v":{"$error":"#N/A"}},{"$f":"RTD(\"sysq.rtd\",\"\",\"!XTDH`LC.99-0942:2\")","v":{"$error":"#N/A"}},{"$f":"RTD(\"sysq.rtd\",\"\",\"!DTAI`LC.99-0942:2\")","v":{"$error":"#N/A"}},{"$f":"RTD(\"sysq.rtd\",\"\",\"WTX&`004.10-0942:2\")","v":{"$error":"#N/A"}},{"$error":"#N/A"}]
["0943",{"$f":"RTD(\"sysq.rtd\",\"\",\"!DTSH`LC.99-0943:2\")","v":{"$error":"#N/A"}},{"$f":"RTD(\"sysq.rtd\",\"\",\"!DTDH`LC.99-0943:2\")","v":{"$error":"#N/A"}},{"$f":"RTD(\"sysq.rtd\",\"\",\"!XTSH`LC.99-0943:2\")","v":{"$error":"#N/A"}},{"$f":"RTD(\"sysq.rtd\",\"\",\"!XTDH`LC.99-0943:2\")","v":{"$error":"#N/A"}},{"$f":"RTD(\"sysq.rtd\",\"\",\"!DTAI`LC.99-0943:2\")","v":{"$error":"#N/A"}},{"$f":"RTD(\"sysq.rtd\",\"\",\"WTX&`004.10-0943:2\")","v":{"$error":"#N/A"}},{"$error":"#N/A"}]
["0944",{"$f":"RTD(\"sysq.rtd\",\"\",\"!DTSH`LC.99-0944:2\")","v":{"$error":"#N/A"}},{"$f":"RTD(\"sysq.rtd\",\"\",\"!DTDH`LC.99-0944:2\")","v":{"$error":"#N/A"}},{"$f":"RTD(\"sysq.rtd\",\"\",\"!XTSH`LC.99-0944:2\")","v":{"$error":"#N/A"}},{"$f":"RTD(\"sysq.rtd\",\"\",\"!XTDH`LC.99-0944:2\")","v":{"$error":"#N/A"}},{"$f":"RTD(\"sysq.rtd\",\"\",\"!DTAI`LC.99-0944:2\")","v":{"$error":"#N/A"}},{"$f":"RTD(\"sysq.rtd\",\"\",\"WTX&`004.10-0944:2\")","v":{"$error":"#N/A"}},{"$error":"#N/A"}]
["0945",{"$f":"RTD(\"sysq.rtd\",\"\",\"!DTSH`LC.99-0945:2\")","v":{"$error":"#N/A"}},{"$f":"RTD(\"sysq.rtd\",\"\",\"!DTDH`LC.99-0945:2\")","v":{"$error":"#N/A"}},{"$f":"RTD(\"sysq.rtd\",\"\",\"!XTSH`LC.99-0945:2\")","v":{"$error":"#N/A"}},{"$f":"RTD(\"sysq.rtd\",\"\",\"!XTDH`LC.99-0945:2\")","v":{"$error":"#N/A"}},{"$f":"RTD(\"sysq.rtd\",\"\",\"!DTAI`LC.99-0945:2\")","v":{"$error":"#N/A"}},{"$f":"RTD(\"sysq.rtd\",\"\",\"WTX&`004.10-0945:2\")","v":{"$error":"#N/A"}},{"$error":"#N/A"}]
["0946",{"$f":"RTD(\"sysq.rtd\",\"\",\"!DTSH`LC.99-0946:2\")","v":{"$error":"#N/A"}},{"$f":"RTD(\"sysq.rtd\",\"\",\"!DTDH`LC.99-0946:2\")","v":{"$error":"#N/A"}},{"$f":"RTD(\"sysq.rtd\",\"\",\"!XTSH`LC.99-0946:2\")","v":{"$error":"#N/A"}},{"$f":"RTD(\"sysq.rtd\",\"\",\"!XTDH`LC.99-0946:2\")","v":{"$error":"#N/A"}},{"$f":"RTD(\"sysq.rtd\",\"\",\"!DTAI`LC.99-0946:2\")","v":{"$error":"#N/A"}},{"$f":"RTD(\"sysq.rtd\",\"\",\"WTX&`004.10-0946:2\")","v":{"$error":"#N/A"}},{"$error":"#N/A"}]
["0947",{"$f":"RTD(\"sysq.rtd\",\"\",\"!DTSH`LC.99-0947:2\")","v":{"$error":"#N/A"}},{"$f":"RTD(\"sysq.rtd\",\"\",\"!DTDH`LC.99-0947:2\")","v":{"$error":"#N/A"}},{"$f":"RTD(\"sysq.rtd\",\"\",\"!XTSH`LC.99-0947:2\")","v":{"$error":"#N/A"}},{"$f":"RTD(\"sysq.rtd\",\"\",\"!XTDH`LC.99-0947:2\")","v":{"$error":"#N/A"}},{"$f":"RTD(\"sysq.rtd\",\"\",\"!DTAI`LC.99-0947:2\")","v":{"$error":"#N/A"}},{"$f":"RTD(\"sysq.rtd\",\"\",\"WTX&`004.10-0947:2\")","v":{"$error":"#N/A"}},{"$error":"#N/A"}]
["0948",{"$f":"RTD(\"sysq.rtd\",\"\",\"!DTSH`LC.99-0948:2\")","v":{"$error":"#N/A"}},{"$f":"RTD(\"sysq.rtd\",\"\",\"!DTDH`LC.99-0948:2\")","v":{"$error":"#N/A"}},{"$f":"RTD(\"sysq.rtd\",\"\",\"!XTSH`LC.99-0948:2\")","v":{"$error":"#N/A"}},{"$f":"RTD(\"sysq.rtd\",\"\",\"!XTDH`LC.99-0948:2\")","v":{"$error":"#N/A"}},{"$f":"RTD(\"sysq.rtd\",\"\",\"!DTAI`LC.99-0948:2\")","v":{"$error":"#N/A"}},{"$f":"RTD(\"sysq.rtd\",\"\",\"WTX&`004.10-0948:2\")","v":{"$error":"#N/A"}},{"$error":"#N/A"}]
["0949",{"$f":"RTD(\"sysq.rtd\",\"\",\"!DTSH`LC.99-0949:2\")","v":{"$error":"#N/A"}},{"$f":"RTD(\"sysq.rtd\",\"\",\"!DTDH`LC.99-0949:2\")","v":{"$error":"#N/A"}},{"$f":"RTD(\"sysq.rtd\",\"\",\"!XTSH`LC.99-0949:2\")","v":{"$error":"#N/A"}},{"$f":"RTD(\"sysq.rtd\",\"\",\"!XTDH`LC.99-0949:2\")","v":{"$error":"#N/A"}},{"$f":"RTD(\"sysq.rtd\",\"\",\"!DTAI`LC.99-0949:2\")","v":{"$error":"#N/A"}},{"$f":"RTD(\"sysq.rtd\",\"\",\"WTX&`004.10-0949:2\")","v":{"$error":"#N/A"}},{"$error":"#N/A"}]
["0950",{"$f":"RTD(\"sysq.rtd\",\"\",\"!DTSH`LC.99-0950:2\")","v":{"$error":"#N/A"}},{"$f":"RTD(\"sysq.rtd\",\"\",\"!DTDH`LC.99-0950:2\")","v":{"$error":"#N/A"}},{"$f":"RTD(\"sysq.rtd\",\"\",\"!XTSH`LC.99-0950:2\")","v":{"$error":"#N/A"}},{"$f":"RTD(\"sysq.rtd\",\"\",\"!XTDH`LC.99-0950:2\")","v":{"$error":"#N/A"}},{"$f":"RTD(\"sysq.rtd\",\"\",\"!DTAI`LC.99-0950:2\")","v":{"$error":"#N/A"}},{"$f":"RTD(\"sysq.rtd\",\"\",\"WTX&`004.10-0950:2\")","v":{"$error":"#N/A"}},{"$f":"SQRT(ABS(F70))*(ABS(F70)/F70)","v":{"$error":"#N/A"}}]
["0951",{"$f":"RTD(\"sysq.rtd\",\"\",\"!DTSH`LC.99-0951:2\")","v":{"$error":"#N/A"}},{"$f":"RTD(\"sysq.rtd\",\"\",\"!DTDH`LC.99-0951:2\")","v":{"$error":"#N/A"}},{"$f":"RTD(\"sysq.rtd\",\"\",\"!XTSH`LC.99-0951:2\")","v":{"$error":"#N/A"}},{"$f":"RTD(\"sysq.rtd\",\"\",\"!XTDH`LC.99-0951:2\")","v":{"$error":"#N/A"}},{"$f":"RTD(\"sysq.rtd\",\"\",\"!DTAI`LC.99-0951:2\")","v":{"$error":"#N/A"}},{"$f":"RTD(\"sysq.rtd\",\"\",\"WTX&`004.10-0951:2\")","v":{"$error":"#N/A"}},{"$error":"#N/A"}]
["0952",{"$f":"RTD(\"sysq.rtd\",\"\",\"!DTSH`LC.99-0952:2\")","v":{"$error":"#N/A"}},{"$f":"RTD(\"sysq.rtd\",\"\",\"!DTDH`LC.99-0952:2\")","v":{"$error":"#N/A"}},{"$f":"RTD(\"sysq.rtd\",\"\",\"!XTSH`LC.99-0952:2\")","v":{"$error":"#N/A"}},{"$f":"RTD(\"sysq.rtd\",\"\",\"!XTDH`LC.99-0952:2\")","v":{"$error":"#N/A"}},{"$f":"RTD(\"sysq.rtd\",\"\",\"!DTAI`LC.99-0952:2\")","v":{"$error":"#N/A"}},{"$f":"RTD(\"sysq.rtd\",\"\",\"WTX&`004.10-0952:2\")","v":{"$error":"#N/A"}},{"$error":"#N/A"}]
["0953",{"$f":"RTD(\"sysq.rtd\",\"\",\"!DTSH`LC.99-0953:2\")","v":{"$error":"#N/A"}},{"$f":"RTD(\"sysq.rtd\",\"\",\"!DTDH`LC.99-0953:2\")","v":{"$error":"#N/A"}},{"$f":"RTD(\"sysq.rtd\",\"\",\"!XTSH`LC.99-0953:2\")","v":{"$error":"#N/A"}},{"$f":"RTD(\"sysq.rtd\",\"\",\"!XTDH`LC.99-0953:2\")","v":{"$error":"#N/A"}},{"$f":"RTD(\"sysq.rtd\",\"\",\"!DTAI`LC.99-0953:2\")","v":{"$error":"#N/A"}},{"$f":"RTD(\"sysq.rtd\",\"\",\"WTX&`004.10-0953:2\")","v":{"$error":"#N/A"}},{"$error":"#N/A"}]
["0954",{"$f":"RTD(\"sysq.rtd\",\"\",\"!DTSH`LC.99-0954:2\")","v":{"$error":"#N/A"}},{"$f":"RTD(\"sysq.rtd\",\"\",\"!DTDH`LC.99-0954:2\")","v":{"$error":"#N/A"}},{"$f":"RTD(\"sysq.rtd\",\"\",\"!XTSH`LC.99-0954:2\")","v":{"$error":"#N/A"}},{"$f":"RTD(\"sysq.rtd\",\"\",\"!XTDH`LC.99-0954:2\")","v":{"$error":"#N/A"}},{"$f":"RTD(\"sysq.rtd\",\"\",\"!DTAI`LC.99-0954:2\")","v":{"$error":"#N/A"}},{"$f":"RTD(\"sysq.rtd\",\"\",\"WTX&`004.10-0954:2\")","v":{"$error":"#N/A"}},{"$error":"#N/A"}]
["0955",{"$f":"RTD(\"sysq.rtd\",\"\",\"!DTSH`LC.99-0955:2\")","v":{"$error":"#N/A"}},{"$f":"RTD(\"sysq.rtd\",\"\",\"!DTDH`LC.99-0955:2\")","v":{"$error":"#N/A"}},{"$f":"RTD(\"sysq.rtd\",\"\",\"!XTSH`LC.99-0955:2\")","v":{"$error":"#N/A"}},{"$f":"RTD(\"sysq.rtd\",\"\",\"!XTDH`LC.99-0955:2\")","v":{"$error":"#N/A"}},{"$f":"RTD(\"sysq.rtd\",\"\",\"!DTAI`LC.99-0955:2\")","v":{"$error":"#N/A"}},{"$f":"RTD(\"sysq.rtd\",\"\",\"WTX&`004.10-0955:2\")","v":{"$error":"#N/A"}},{"$error":"#N/A"}]
["0956",{"$f":"RTD(\"sysq.rtd\",\"\",\"!DTSH`LC.99-0956:2\")","v":{"$error":"#N/A"}},{"$f":"RTD(\"sysq.rtd\",\"\",\"!DTDH`LC.99-0956:2\")","v":{"$error":"#N/A"}},{"$f":"RTD(\"sysq.rtd\",\"\",\"!XTSH`LC.99-0956:2\")","v":{"$error":"#N/A"}},{"$f":"RTD(\"sysq.rtd\",\"\",\"!XTDH`LC.99-0956:2\")","v":{"$error":"#N/A"}},{"$f":"RTD(\"sysq.rtd\",\"\",\"!DTAI`LC.99-0956:2\")","v":{"$error":"#N/A"}},{"$f":"RTD(\"sysq.rtd\",\"\",\"WTX&`004.10-0956:2\")","v":{"$error":"#N/A"}},{"$error":"#N/A"}]
["0957",{"$f":"RTD(\"sysq.rtd\",\"\",\"!DTSH`LC.99-0957:2\")","v":{"$error":"#N/A"}},{"$f":"RTD(\"sysq.rtd\",\"\",\"!DTDH`LC.99-0957:2\")","v":{"$error":"#N/A"}},{"$f":"RTD(\"sysq.rtd\",\"\",\"!XTSH`LC.99-0957:2\")","v":{"$error":"#N/A"}},{"$f":"RTD(\"sysq.rtd\",\"\",\"!XTDH`LC.99-0957:2\")","v":{"$error":"#N/A"}},{"$f":"RTD(\"sysq.rtd\",\"\",\"!DTAI`LC.99-0957:2\")","v":{"$error":"#N/A"}},{"$f":"RTD(\"sysq.rtd\",\"\",\"WTX&`004.10-0957:2\")","v":{"$error":"#N/A"}},{"$error":"#N/A"}]
["0958",{"$f":"RTD(\"sysq.rtd\",\"\",\"!DTSH`LC.99-0958:2\")","v":{"$error":"#N/A"}},{"$f":"RTD(\"sysq.rtd\",\"\",\"!DTDH`LC.99-0958:2\")","v":{"$error":"#N/A"}},{"$f":"RTD(\"sysq.rtd\",\"\",\"!XTSH`LC.99-0958:2\")","v":{"$error":"#N/A"}},{"$f":"RTD(\"sysq.rtd\",\"\",\"!XTDH`LC.99-0958:2\")","v":{"$error":"#N/A"}},{"$f":"RTD(\"sysq.rtd\",\"\",\"!DTAI`LC.99-0958:2\")","v":{"$error":"#N/A"}},{"$f":"RTD(\"sysq.rtd\",\"\",\"WTX&`004.10-0958:2\")","v":{"$error":"#N/A"}},{"$error":"#N/A"}]
["0959",{"$f":"RTD(\"sysq.rtd\",\"\",\"!DTSH`LC.99-0959:2\")","v":{"$error":"#N/A"}},{"$f":"RTD(\"sysq.rtd\",\"\",\"!DTDH`LC.99-0959:2\")","v":{"$error":"#N/A"}},{"$f":"RTD(\"sysq.rtd\",\"\",\"!XTSH`LC.99-0959:2\")","v":{"$error":"#N/A"}},{"$f":"RTD(\"sysq.rtd\",\"\",\"!XTDH`LC.99-0959:2\")","v":{"$error":"#N/A"}},{"$f":"RTD(\"sysq.rtd\",\"\",\"!DTAI`LC.99-0959:2\")","v":{"$error":"#N/A"}},{"$f":"RTD(\"sysq.rtd\",\"\",\"WTX&`004.10-0959:2\")","v":{"$error":"#N/A"}},{"$error":"#N/A"}]
["1000",{"$f":"RTD(\"sysq.rtd\",\"\",\"!DTSH`LC.99-1000:2\")","v":{"$error":"#N/A"}},{"$f":"RTD(\"sysq.rtd\",\"\",\"!DTDH`LC.99-1000:2\")","v":{"$error":"#N/A"}},{"$f":"RTD(\"sysq.rtd\",\"\",\"!XTSH`LC.99-1000:2\")","v":{"$error":"#N/A"}},{"$f":"RTD(\"sysq.rtd\",\"\",\"!XTDH`LC.99-1000:2\")","v":{"$error":"#N/A"}},{"$f":"RTD(\"sysq.rtd\",\"\",\"!DTAI`LC.99-1000:2\")","v":{"$error":"#N/A"}},{"$f":"RTD(\"sysq.rtd\",\"\",\"WTX&`004.10-1000:2\")","v":{"$error":"#N/A"}},{"$error":"#N/A"}]
["1001",{"$f":"RTD(\"sysq.rtd\",\"\",\"!DTSH`LC.99-1001:2\")","v":{"$error":"#N/A"}},{"$f":"RTD(\"sysq.rtd\",\"\",\"!DTDH`LC.99-1001:2\")","v":{"$error":"#N/A"}},{"$f":"RTD(\"sysq.rtd\",\"\",\"!XTSH`LC.99-1001:2\")","v":{"$error":"#N/A"}},{"$f":"RTD(\"sysq.rtd\",\"\",\"!XTDH`LC.99-1001:2\")","v":{"$error":"#N/A"}},{"$f":"RTD(\"sysq.rtd\",\"\",\"!DTAI`LC.99-1001:2\")","v":{"$error":"#N/A"}},{"$f":"RTD(\"sysq.rtd\",\"\",\"WTX&`004.10-1001:2\")","v":{"$error":"#N/A"}},{"$error":"#N/A"}]
["1002",{"$f":"RTD(\"sysq.rtd\",\"\",\"!DTSH`LC.99-1002:2\")","v":{"$error":"#N/A"}},{"$f":"RTD(\"sysq.rtd\",\"\",\"!DTDH`LC.99-1002:2\")","v":{"$error":"#N/A"}},{"$f":"RTD(\"sysq.rtd\",\"\",\"!XTSH`LC.99-1002:2\")","v":{"$error":"#N/A"}},{"$f":"RTD(\"sysq.rtd\",\"\",\"!XTDH`LC.99-1002:2\")","v":{"$error":"#N/A"}},{"$f":"RTD(\"sysq.rtd\",\"\",\"!DTAI`LC.99-1002:2\")","v":{"$error":"#N/A"}},{"$f":"RTD(\"sysq.rtd\",\"\",\"WTX&`004.10-1002:2\")","v":{"$error":"#N/A"}},{"$error":"#N/A"}]
["1003",{"$f":"RTD(\"sysq.rtd\",\"\",\"!DTSH`LC.99-1003:2\")","v":{"$error":"#N/A"}},{"$f":"RTD(\"sysq.rtd\",\"\",\"!DTDH`LC.99-1003:2\")","v":{"$error":"#N/A"}},{"$f":"RTD(\"sysq.rtd\",\"\",\"!XTSH`LC.99-1003:2\")","v":{"$error":"#N/A"}},{"$f":"RTD(\"sysq.rtd\",\"\",\"!XTDH`LC.99-1003:2\")","v":{"$error":"#N/A"}},{"$f":"RTD(\"sysq.rtd\",\"\",\"!DTAI`LC.99-1003:2\")","v":{"$error":"#N/A"}},{"$f":"RTD(\"sysq.rtd\",\"\",\"WTX&`004.10-1003:2\")","v":{"$error":"#N/A"}},{"$error":"#N/A"}]
["1004",{"$f":"RTD(\"sysq.rtd\",\"\",\"!DTSH`LC.99-1004:2\")","v":{"$error":"#N/A"}},{"$f":"RTD(\"sysq.rtd\",\"\",\"!DTDH`LC.99-1004:2\")","v":{"$error":"#N/A"}},{"$f":"RTD(\"sysq.rtd\",\"\",\"!XTSH`LC.99-1004:2\")","v":{"$error":"#N/A"}},{"$f":"RTD(\"sysq.rtd\",\"\",\"!XTDH`LC.99-1004:2\")","v":{"$error":"#N/A"}},{"$f":"RTD(\"sysq.rtd\",\"\",\"!DTAI`LC.99-1004:2\")","v":{"$error":"#N/A"}},{"$f":"RTD(\"sysq.rtd\",\"\",\"WTX&`004.10-1004:2\")","v":{"$error":"#N/A"}},{"$error":"#N/A"}]
["1005",{"$f":"RTD(\"sysq.rtd\",\"\",\"!DTSH`LC.99-1005:2\")","v":{"$error":"#N/A"}},{"$f":"RTD(\"sysq.rtd\",\"\",\"!DTDH`LC.99-1005:2\")","v":{"$error":"#N/A"}},{"$f":"RTD(\"sysq.rtd\",\"\",\"!XTSH`LC.99-1005:2\")","v":{"$error":"#N/A"}},{"$f":"RTD(\"sysq.rtd\",\"\",\"!XTDH`LC.99-1005:2\")","v":{"$error":"#N/A"}},{"$f":"RTD(\"sysq.rtd\",\"\",\"!DTAI`LC.99-1005:2\")","v":{"$error":"#N/A"}},{"$f":"RTD(\"sysq.rtd\",\"\",\"WTX&`004.10-1005:2\")","v":{"$error":"#N/A"}},{"$error":"#N/A"}]
["1006",{"$f":"RTD(\"sysq.rtd\",\"\",\"!DTSH`LC.99-1006:2\")","v":{"$error":"#N/A"}},{"$f":"RTD(\"sysq.rtd\",\"\",\"!DTDH`LC.99-1006:2\")","v":{"$error":"#N/A"}},{"$f":"RTD(\"sysq.rtd\",\"\",\"!XTSH`LC.99-1006:2\")","v":{"$error":"#N/A"}},{"$f":"RTD(\"sysq.rtd\",\"\",\"!XTDH`LC.99-1006:2\")","v":{"$error":"#N/A"}},{"$f":"RTD(\"sysq.rtd\",\"\",\"!DTAI`LC.99-1006:2\")","v":{"$error":"#N/A"}},{"$f":"RTD(\"sysq.rtd\",\"\",\"WTX&`004.10-1006:2\")","v":{"$error":"#N/A"}},{"$error":"#N/A"}]
["1007",{"$f":"RTD(\"sysq.rtd\",\"\",\"!DTSH`LC.99-1007:2\")","v":{"$error":"#N/A"}},{"$f":"RTD(\"sysq.rtd\",\"\",\"!DTDH`LC.99-1007:2\")","v":{"$error":"#N/A"}},{"$f":"RTD(\"sysq.rtd\",\"\",\"!XTSH`LC.99-1007:2\")","v":{"$error":"#N/A"}},{"$f":"RTD(\"sysq.rtd\",\"\",\"!XTDH`LC.99-1007:2\")","v":{"$error":"#N/A"}},{"$f":"RTD(\"sysq.rtd\",\"\",\"!DTAI`LC.99-1007:2\")","v":{"$error":"#N/A"}},{"$f":"RTD(\"sysq.rtd\",\"\",\"WTX&`004.10-1007:2\")","v":{"$error":"#N/A"}},{"$error":"#N/A"}]
["1008",{"$f":"RTD(\"sysq.rtd\",\"\",\"!DTSH`LC.99-1008:2\")","v":{"$error":"#N/A"}},{"$f":"RTD(\"sysq.rtd\",\"\",\"!DTDH`LC.99-1008:2\")","v":{"$error":"#N/A"}},{"$f":"RTD(\"sysq.rtd\",\"\",\"!XTSH`LC.99-1008:2\")","v":{"$error":"#N/A"}},{"$f":"RTD(\"sysq.rtd\",\"\",\"!XTDH`LC.99-1008:2\")","v":{"$error":"#N/A"}},{"$f":"RTD(\"sysq.rtd\",\"\",\"!DTAI`LC.99-1008:2\")","v":{"$error":"#N/A"}},{"$f":"RTD(\"sysq.rtd\",\"\",\"WTX&`004.10-1008:2\")","v":{"$error":"#N/A"}},{"$error":"#N/A"}]
["1009",{"$f":"RTD(\"sysq.rtd\",\"\",\"!DTSH`LC.99-1009:2\")","v":{"$error":"#N/A"}},{"$f":"RTD(\"sysq.rtd\",\"\",\"!DTDH`LC.99-1009:2\")","v":{"$error":"#N/A"}},{"$f":"RTD(\"sysq.rtd\",\"\",\"!XTSH`LC.99-1009:2\")","v":{"$error":"#N/A"}},{"$f":"RTD(\"sysq.rtd\",\"\",\"!XTDH`LC.99-1009:2\")","v":{"$error":"#N/A"}},{"$f":"RTD(\"sysq.rtd\",\"\",\"!DTAI`LC.99-1009:2\")","v":{"$error":"#N/A"}},{"$f":"RTD(\"sysq.rtd\",\"\",\"WTX&`004.10-1009:2\")","v":{"$error":"#N/A"}},{"$error":"#N/A"}]
["1010",{"$f":"RTD(\"sysq.rtd\",\"\",\"!DTSH`LC.99-1010:2\")","v":{"$error":"#N/A"}},{"$f":"RTD(\"sysq.rtd\",\"\",\"!DTDH`LC.99-1010:2\")","v":{"$error":"#N/A"}},{"$f":"RTD(\"sysq.rtd\",\"\",\"!XTSH`LC.99-1010:2\")","v":{"$error":"#N/A"}},{"$f":"RTD(\"sysq.rtd\",\"\",\"!XTDH`LC.99-1010:2\")","v":{"$error":"#N/A"}},{"$f":"RTD(\"sysq.rtd\",\"\",\"!DTAI`LC.99-1010:2\")","v":{"$error":"#N/A"}},{"$f":"RTD(\"sysq.rtd\",\"\",\"WTX&`004.10-1010:2\")","v":{"$error":"#N/A"}},{"$error":"#N/A"}]
["1011",{"$f":"RTD(\"sysq.rtd\",\"\",\"!DTSH`LC.99-1011:2\")","v":{"$error":"#N/A"}},{"$f":"RTD(\"sysq.rtd\",\"\",\"!DTDH`LC.99-1011:2\")","v":{"$error":"#N/A"}},{"$f":"RTD(\"sysq.rtd\",\"\",\"!XTSH`LC.99-1011:2\")","v":{"$error":"#N/A"}},{"$f":"RTD(\"sysq.rtd\",\"\",\"!XTDH`LC.99-1011:2\")","v":{"$error":"#N/A"}},{"$f":"RTD(\"sysq.rtd\",\"\",\"!DTAI`LC.99-1011:2\")","v":{"$error":"#N/A"}},{"$f":"RTD(\"sysq.rtd\",\"\",\"WTX&`004.10-1011:2\")","v":{"$error":"#N/A"}},{"$error":"#N/A"}]
["1012",{"$f":"RTD(\"sysq.rtd\",\"\",\"!DTSH`LC.99-1012:2\")","v":{"$error":"#N/A"}},{"$f":"RTD(\"sysq.rtd\",\"\",\"!DTDH`LC.99-1012:2\")","v":{"$error":"#N/A"}},{"$f":"RTD(\"sysq.rtd\",\"\",\"!XTSH`LC.99-1012:2\")","v":{"$error":"#N/A"}},{"$f":"RTD(\"sysq.rtd\",\"\",\"!XTDH`LC.99-1012:2\")","v":{"$error":"#N/A"}},{"$f":"RTD(\"sysq.rtd\",\"\",\"!DTAI`LC.99-1012:2\")","v":{"$error":"#N/A"}},{"$f":"RTD(\"sysq.rtd\",\"\",\"WTX&`004.10-1012:2\")","v":{"$error":"#N/A"}},{"$error":"#N/A"}]
["1013",{"$f":"RTD(\"sysq.rtd\",\"\",\"!DTSH`LC.99-1013:2\")","v":{"$error":"#N/A"}},{"$f":"RTD(\"sysq.rtd\",\"\",\"!DTDH`LC.99-1013:2\")","v":{"$error":"#N/A"}},{"$f":"RTD(\"sysq.rtd\",\"\",\"!XTSH`LC.99-1013:2\")","v":{"$error":"#N/A"}},{"$f":"RTD(\"sysq.rtd\",\"\",\"!XTDH`LC.99-1013:2\")","v":{"$error":"#N/A"}},{"$f":"RTD(\"sysq.rtd\",\"\",\"!DTAI`LC.99-1013:2\")","v":{"$error":"#N/A"}},{"$f":"RTD(\"sysq.rtd\",\"\",\"WTX&`004.10-1013:2\")","v":{"$error":"#N/A"}},{"$error":"#N/A"}]
["1014",{"$f":"RTD(\"sysq.rtd\",\"\",\"!DTSH`LC.99-1014:2\")","v":{"$error":"#N/A"}},{"$f":"RTD(\"sysq.rtd\",\"\",\"!DTDH`LC.99-1014:2\")","v":{"$error":"#N/A"}},{"$f":"RTD(\"sysq.rtd\",\"\",\"!XTSH`LC.99-1014:2\")","v":{"$error":"#N/A"}},{"$f":"RTD(\"sysq.rtd\",\"\",\"!XTDH`LC.99-1014:2\")","v":{"$error":"#N/A"}},{"$f":"RTD(\"sysq.rtd\",\"\",\"!DTAI`LC.99-1014:2\")","v":{"$error":"#N/A"}},{"$f":"RTD(\"sysq.rtd\",\"\",\"WTX&`004.10-1014:2\")","v":{"$error":"#N/A"}},{"$error":"#N/A"}]
["1015",{"$f":"RTD(\"sysq.rtd\",\"\",\"!DTSH`LC.99-1015:2\")","v":{"$error":"#N/A"}},{"$f":"RTD(\"sysq.rtd\",\"\",\"!DTDH`LC.99-1015:2\")","v":{"$error":"#N/A"}},{"$f":"RTD(\"sysq.rtd\",\"\",\"!XTSH`LC.99-1015:2\")","v":{"$error":"#N/A"}},{"$f":"RTD(\"sysq.rtd\",\"\",\"!XTDH`LC.99-1015:2\")","v":{"$error":"#N/A"}},{"$f":"RTD(\"sysq.rtd\",\"\",\"!DTAI`LC.99-1015:2\")","v":{"$error":"#N/A"}},{"$f":"RTD(\"sysq.rtd\",\"\",\"WTX&`004.10-1015:2\")","v":{"$error":"#N/A"}},{"$error":"#N/A"}]
["1016",{"$f":"RTD(\"sysq.rtd\",\"\",\"!DTSH`LC.99-1016:2\")","v":{"$error":"#N/A"}},{"$f":"RTD(\"sysq.rtd\",\"\",\"!DTDH`LC.99-1016:2\")","v":{"$error":"#N/A"}},{"$f":"RTD(\"sysq.rtd\",\"\",\"!XTSH`LC.99-1016:2\")","v":{"$error":"#N/A"}},{"$f":"RTD(\"sysq.rtd\",\"\",\"!XTDH`LC.99-1016:2\")","v":{"$error":"#N/A"}},{"$f":"RTD(\"sysq.rtd\",\"\",\"!DTAI`LC.99-1016:2\")","v":{"$error":"#N/A"}},{"$f":"RTD(\"sysq.rtd\",\"\",\"WTX&`004.10-1016:2\")","v":{"$error":"#N/A"}},{"$error":"#N/A"}]
["1017",{"$f":"RTD(\"sysq.rtd\",\"\",\"!DTSH`LC.99-1017:2\")","v":{"$error":"#N/A"}},{"$f":"RTD(\"sysq.rtd\",\"\",\"!DTDH`LC.99-1017:2\")","v":{"$error":"#N/A"}},{"$f":"RTD(\"sysq.rtd\",\"\",\"!XTSH`LC.99-1017:2\")","v":{"$error":"#N/A"}},{"$f":"RTD(\"sysq.rtd\",\"\",\"!XTDH`LC.99-1017:2\")","v":{"$error":"#N/A"}},{"$f":"RTD(\"sysq.rtd\",\"\",\"!DTAI`LC.99-1017:2\")","v":{"$error":"#N/A"}},{"$f":"RTD(\"sysq.rtd\",\"\",\"WTX&`004.10-1017:2\")","v":{"$error":"#N/A"}},{"$error":"#N/A"}]
["1018",{"$f":"RTD(\"sysq.rtd\",\"\",\"!DTSH`LC.99-1018:2\")","v":{"$error":"#N/A"}},{"$f":"RTD(\"sysq.rtd\",\"\",\"!DTDH`LC.99-1018:2\")","v":{"$error":"#N/A"}},{"$f":"RTD(\"sysq.rtd\",\"\",\"!XTSH`LC.99-1018:2\")","v":{"$error":"#N/A"}},{"$f":"RTD(\"sysq.rtd\",\"\",\"!XTDH`LC.99-1018:2\")","v":{"$error":"#N/A"}},{"$f":"RTD(\"sysq.rtd\",\"\",\"!DTAI`LC.99-1018:2\")","v":{"$error":"#N/A"}},{"$f":"RTD(\"sysq.rtd\",\"\",\"WTX&`004.10-1018:2\")","v":{"$error":"#N/A"}},{"$error":"#N/A"}]
["1019",{"$f":"RTD(\"sysq.rtd\",\"\",\"!DTSH`LC.99-1019:2\")","v":{"$error":"#N/A"}},{"$f":"RTD(\"sysq.rtd\",\"\",\"!DTDH`LC.99-1019:2\")","v":{"$error":"#N/A"}},{"$f":"RTD(\"sysq.rtd\",\"\",\"!XTSH`LC.99-1019:2\")","v":{"$error":"#N/A"}},{"$f":"RTD(\"sysq.rtd\",\"\",\"!XTDH`LC.99-1019:2\")","v":{"$error":"#N/A"}},{"$f":"RTD(\"sysq.rtd\",\"\",\"!DTAI`LC.99-1019:2\")","v":{"$error":"#N/A"}},{"$f":"RTD(\"sysq.rtd\",\"\",\"WTX&`004.10-1019:2\")","v":{"$error":"#N/A"}},{"$error":"#N/A"}]
["1020",{"$f":"RTD(\"sysq.rtd\",\"\",\"!DTSH`LC.99-1020:2\")","v":{"$error":"#N/A"}},{"$f":"RTD(\"sysq.rtd\",\"\",\"!DTDH`LC.99-1020:2\")","v":{"$error":"#N/A"}},{"$f":"RTD(\"sysq.rtd\",\"\",\"!XTSH`LC.99-1020:2\")","v":{"$error":"#N/A"}},{"$f":"RTD(\"sysq.rtd\",\"\",\"!XTDH`LC.99-1020:2\")","v":{"$error":"#N/A"}},{"$f":"RTD(\"sysq.rtd\",\"\",\"!DTAI`LC.99-1020:2\")","v":{"$error":"#N/A"}},{"$f":"RTD(\"sysq.rtd\",\"\",\"WTX&`004.10-1020:2\")","v":{"$error":"#N/A"}},{"$error":"#N/A"}]
["1021",{"$f":"RTD(\"sysq.rtd\",\"\",\"!DTSH`LC.99-1021:2\")","v":{"$error":"#N/A"}},{"$f":"RTD(\"sysq.rtd\",\"\",\"!DTDH`LC.99-1021:2\")","v":{"$error":"#N/A"}},{"$f":"RTD(\"sysq.rtd\",\"\",\"!XTSH`LC.99-1021:2\")","v":{"$error":"#N/A"}},{"$f":"RTD(\"sysq.rtd\",\"\",\"!XTDH`LC.99-1021:2\")","v":{"$error":"#N/A"}},{"$f":"RTD(\"sysq.rtd\",\"\",\"!DTAI`LC.99-1021:2\")","v":{"$error":"#N/A"}},{"$f":"RTD(\"sysq.rtd\",\"\",\"WTX&`004.10-1021:2\")","v":{"$error":"#N/A"}},{"$error":"#N/A"}]
["1022",{"$f":"RTD(\"sysq.rtd\",\"\",\"!DTSH`LC.99-1022:2\")","v":{"$error":"#N/A"}},{"$f":"RTD(\"sysq.rtd\",\"\",\"!DTDH`LC.99-1022:2\")","v":{"$error":"#N/A"}},{"$f":"RTD(\"sysq.rtd\",\"\",\"!XTSH`LC.99-1022:2\")","v":{"$error":"#N/A"}},{"$f":"RTD(\"sysq.rtd\",\"\",\"!XTDH`LC.99-1022:2\")","v":{"$error":"#N/A"}},{"$f":"RTD(\"sysq.rtd\",\"\",\"!DTAI`LC.99-1022:2\")","v":{"$error":"#N/A"}},{"$f":"RTD(\"sysq.rtd\",\"\",\"WTX&`004.10-1022:2\")","v":{"$error":"#N/A"}},{"$error":"#N/A"}]
["1023",{"$f":"RTD(\"sysq.rtd\",\"\",\"!DTSH`LC.99-1023:2\")","v":{"$error":"#N/A"}},{"$f":"RTD(\"sysq.rtd\",\"\",\"!DTDH`LC.99-1023:2\")","v":{"$error":"#N/A"}},{"$f":"RTD(\"sysq.rtd\",\"\",\"!XTSH`LC.99-1023:2\")","v":{"$error":"#N/A"}},{"$f":"RTD(\"sysq.rtd\",\"\",\"!XTDH`LC.99-1023:2\")","v":{"$error":"#N/A"}},{"$f":"RTD(\"sysq.rtd\",\"\",\"!DTAI`LC.99-1023:2\")","v":{"$error":"#N/A"}},{"$f":"RTD(\"sysq.rtd\",\"\",\"WTX&`004.10-1023:2\")","v":{"$error":"#N/A"}},{"$error":"#N/A"}]
["1024",{"$f":"RTD(\"sysq.rtd\",\"\",\"!DTSH`LC.99-1024:2\")","v":{"$error":"#N/A"}},{"$f":"RTD(\"sysq.rtd\",\"\",\"!DTDH`LC.99-1024:2\")","v":{"$error":"#N/A"}},{"$f":"RTD(\"sysq.rtd\",\"\",\"!XTSH`LC.99-1024:2\")","v":{"$error":"#N/A"}},{"$f":"RTD(\"sysq.rtd\",\"\",\"!XTDH`LC.99-1024:2\")","v":{"$error":"#N/A"}},{"$f":"RTD(\"sysq.rtd\",\"\",\"!DTAI`LC.99-1024:2\")","v":{"$error":"#N/A"}},{"$f":"RTD(\"sysq.rtd\",\"\",\"WTX&`004.10-1024:2\")","v":{"$error":"#N/A"}},{"$error":"#N/A"}]
["1025",{"$f":"RTD(\"sysq.rtd\",\"\",\"!DTSH`LC.99-1025:2\")","v":{"$error":"#N/A"}},{"$f":"RTD(\"sysq.rtd\",\"\",\"!DTDH`LC.99-1025:2\")","v":{"$error":"#N/A"}},{"$f":"RTD(\"sysq.rtd\",\"\",\"!XTSH`LC.99-1025:2\")","v":{"$error":"#N/A"}},{"$f":"RTD(\"sysq.rtd\",\"\",\"!XTDH`LC.99-1025:2\")","v":{"$error":"#N/A"}},{"$f":"RTD(\"sysq.rtd\",\"\",\"!DTAI`LC.99-1025:2\")","v":{"$error":"#N/A"}},{"$f":"RTD(\"sysq.rtd\",\"\",\"WTX&`004.10-1025:2\")","v":{"$error":"#N/A"}},{"$error":"#N/A"}]
["1026",{"$f":"RTD(\"sysq.rtd\",\"\",\"!DTSH`LC.99-1026:2\")","v":{"$error":"#N/A"}},{"$f":"RTD(\"sysq.rtd\",\"\",\"!DTDH`LC.99-1026:2\")","v":{"$error":"#N/A"}},{"$f":"RTD(\"sysq.rtd\",\"\",\"!XTSH`LC.99-1026:2\")","v":{"$error":"#N/A"}},{"$f":"RTD(\"sysq.rtd\",\"\",\"!XTDH`LC.99-1026:2\")","v":{"$error":"#N/A"}},{"$f":"RTD(\"sysq.rtd\",\"\",\"!DTAI`LC.99-1026:2\")","v":{"$error":"#N/A"}},{"$f":"RTD(\"sysq.rtd\",\"\",\"WTX&`004.10-1026:2\")","v":{"$error":"#N/A"}},{"$error":"#N/A"}]
["1027",{"$f":"RTD(\"sysq.rtd\",\"\",\"!DTSH`LC.99-1027:2\")","v":{"$error":"#N/A"}},{"$f":"RTD(\"sysq.rtd\",\"\",\"!DTDH`LC.99-1027:2\")","v":{"$error":"#N/A"}},{"$f":"RTD(\"sysq.rtd\",\"\",\"!XTSH`LC.99-1027:2\")","v":{"$error":"#N/A"}},{"$f":"RTD(\"sysq.rtd\",\"\",\"!XTDH`LC.99-1027:2\")","v":{"$error":"#N/A"}},{"$f":"RTD(\"sysq.rtd\",\"\",\"!DTAI`LC.99-1027:2\")","v":{"$error":"#N/A"}},{"$f":"RTD(\"sysq.rtd\",\"\",\"WTX&`004.10-1027:2\")","v":{"$error":"#N/A"}},{"$error":"#N/A"}]
["1028",{"$f":"RTD(\"sysq.rtd\",\"\",\"!DTSH`LC.99-1028:2\")","v":{"$error":"#N/A"}},{"$f":"RTD(\"sysq.rtd\",\"\",\"!DTDH`LC.99-1028:2\")","v":{"$error":"#N/A"}},{"$f":"RTD(\"sysq.rtd\",\"\",\"!XTSH`LC.99-1028:2\")","v":{"$error":"#N/A"}},{"$f":"RTD(\"sysq.rtd\",\"\",\"!XTDH`LC.99-1028:2\")","v":{"$error":"#N/A"}},{"$f":"RTD(\"sysq.rtd\",\"\",\"!DTAI`LC.99-1028:2\")","v":{"$error":"#N/A"}},{"$f":"RTD(\"sysq.rtd\",\"\",\"WTX&`004.10-1028:2\")","v":{"$error":"#N/A"}},{"$error":"#N/A"}]
["1029",{"$f":"RTD(\"sysq.rtd\",\"\",\"!DTSH`LC.99-1029:2\")","v":{"$error":"#N/A"}},{"$f":"RTD(\"sysq.rtd\",\"\",\"!DTDH`LC.99-1029:2\")","v":{"$error":"#N/A"}},{"$f":"RTD(\"sysq.rtd\",\"\",\"!XTSH`LC.99-1029:2\")","v":{"$error":"#N/A"}},{"$f":"RTD(\"sysq.rtd\",\"\",\"!XTDH`LC.99-1029:2\")","v":{"$error":"#N/A"}},{"$f":"RTD(\"sysq.rtd\",\"\",\"!DTAI`LC.99-1029:2\")","v":{"$error":"#N/A"}},{"$f":"RTD(\"sysq.rtd\",\"\",\"WTX&`004.10-1029:2\")","v":{"$error":"#N/A"}},{"$error":"#N/A"}]
["1030",{"$f":"RTD(\"sysq.rtd\",\"\",\"!DTSH`LC.99-1030:2\")","v":{"$error":"#N/A"}},{"$f":"RTD(\"sysq.rtd\",\"\",\"!DTDH`LC.99-1030:2\")","v":{"$error":"#N/A"}},{"$f":"RTD(\"sysq.rtd\",\"\",\"!XTSH`LC.99-1030:2\")","v":{"$error":"#N/A"}},{"$f":"RTD(\"sysq.rtd\",\"\",\"!XTDH`LC.99-1030:2\")","v":{"$error":"#N/A"}},{"$f":"RTD(\"sysq.rtd\",\"\",\"!DTAI`LC.99-1030:2\")","v":{"$error":"#N/A"}},{"$f":"RTD(\"sysq.rtd\",\"\",\"WTX&`004.10-1030:2\")","v":{"$error":"#N/A"}},{"$error":"#N/A"}]
["1031",{"$f":"RTD(\"sysq.rtd\",\"\",\"!DTSH`LC.99-1031:2\")","v":{"$error":"#N/A"}},{"$f":"RTD(\"sysq.rtd\",\"\",\"!DTDH`LC.99-1031:2\")","v":{"$error":"#N/A"}},{"$f":"RTD(\"sysq.rtd\",\"\",\"!XTSH`LC.99-1031:2\")","v":{"$error":"#N/A"}},{"$f":"RTD(\"sysq.rtd\",\"\",\"!XTDH`LC.99-1031:2\")","v":{"$error":"#N/A"}},{"$f":"RTD(\"sysq.rtd\",\"\",\"!DTAI`LC.99-1031:2\")","v":{"$error":"#N/A"}},{"$f":"RTD(\"sysq.rtd\",\"\",\"WTX&`004.10-1031:2\")","v":{"$error":"#N/A"}},{"$error":"#N/A"}]
["1032",{"$f":"RTD(\"sysq.rtd\",\"\",\"!DTSH`LC.99-1032:2\")","v":{"$error":"#N/A"}},{"$f":"RTD(\"sysq.rtd\",\"\",\"!DTDH`LC.99-1032:2\")","v":{"$error":"#N/A"}},{"$f":"RTD(\"sysq.rtd\",\"\",\"!XTSH`LC.99-1032:2\")","v":{"$error":"#N/A"}},{"$f":"RTD(\"sysq.rtd\",\"\",\"!XTDH`LC.99-1032:2\")","v":{"$error":"#N/A"}},{"$f":"RTD(\"sysq.rtd\",\"\",\"!DTAI`LC.99-1032:2\")","v":{"$error":"#N/A"}},{"$f":"RTD(\"sysq.rtd\",\"\",\"WTX&`004.10-1032:2\")","v":{"$error":"#N/A"}},{"$error":"#N/A"}]
["1033",{"$f":"RTD(\"sysq.rtd\",\"\",\"!DTSH`LC.99-1033:2\")","v":{"$error":"#N/A"}},{"$f":"RTD(\"sysq.rtd\",\"\",\"!DTDH`LC.99-1033:2\")","v":{"$error":"#N/A"}},{"$f":"RTD(\"sysq.rtd\",\"\",\"!XTSH`LC.99-1033:2\")","v":{"$error":"#N/A"}},{"$f":"RTD(\"sysq.rtd\",\"\",\"!XTDH`LC.99-1033:2\")","v":{"$error":"#N/A"}},{"$f":"RTD(\"sysq.rtd\",\"\",\"!DTAI`LC.99-1033:2\")","v":{"$error":"#N/A"}},{"$f":"RTD(\"sysq.rtd\",\"\",\"WTX&`004.10-1033:2\")","v":{"$error":"#N/A"}},{"$error":"#N/A"}]
["1034",{"$f":"RTD(\"sysq.rtd\",\"\",\"!DTSH`LC.99-1034:2\")","v":{"$error":"#N/A"}},{"$f":"RTD(\"sysq.rtd\",\"\",\"!DTDH`LC.99-1034:2\")","v":{"$error":"#N/A"}},{"$f":"RTD(\"sysq.rtd\",\"\",\"!XTSH`LC.99-1034:2\")","v":{"$error":"#N/A"}},{"$f":"RTD(\"sysq.rtd\",\"\",\"!XTDH`LC.99-1034:2\")","v":{"$error":"#N/A"}},{"$f":"RTD(\"sysq.rtd\",\"\",\"!DTAI`LC.99-1034:2\")","v":{"$error":"#N/A"}},{"$f":"RTD(\"sysq.rtd\",\"\",\"WTX&`004.10-1034:2\")","v":{"$error":"#N/A"}},{"$error":"#N/A"}]
["1035",{"$f":"RTD(\"sysq.rtd\",\"\",\"!DTSH`LC.99-1035:2\")","v":{"$error":"#N/A"}},{"$f":"RTD(\"sysq.rtd\",\"\",\"!DTDH`LC.99-1035:2\")","v":{"$error":"#N/A"}},{"$f":"RTD(\"sysq.rtd\",\"\",\"!XTSH`LC.99-1035:2\")","v":{"$error":"#N/A"}},{"$f":"RTD(\"sysq.rtd\",\"\",\"!XTDH`LC.99-1035:2\")","v":{"$error":"#N/A"}},{"$f":"RTD(\"sysq.rtd\",\"\",\"!DTAI`LC.99-1035:2\")","v":{"$error":"#N/A"}},{"$f":"RTD(\"sysq.rtd\",\"\",\"WTX&`004.10-1035:2\")","v":{"$error":"#N/A"}},{"$error":"#N/A"}]
["1036",{"$f":"RTD(\"sysq.rtd\",\"\",\"!DTSH`LC.99-1036:2\")","v":{"$error":"#N/A"}},{"$f":"RTD(\"sysq.rtd\",\"\",\"!DTDH`LC.99-1036:2\")","v":{"$error":"#N/A"}},{"$f":"RTD(\"sysq.rtd\",\"\",\"!XTSH`LC.99-1036:2\")","v":{"$error":"#N/A"}},{"$f":"RTD(\"sysq.rtd\",\"\",\"!XTDH`LC.99-1036:2\")","v":{"$error":"#N/A"}},{"$f":"RTD(\"sysq.rtd\",\"\",\"!DTAI`LC.99-1036:2\")","v":{"$error":"#N/A"}},{"$f":"RTD(\"sysq.rtd\",\"\",\"WTX&`004.10-1036:2\")","v":{"$error":"#N/A"}},{"$error":"#N/A"}]
["1037",{"$f":"RTD(\"sysq.rtd\",\"\",\"!DTSH`LC.99-1037:2\")","v":{"$error":"#N/A"}},{"$f":"RTD(\"sysq.rtd\",\"\",\"!DTDH`LC.99-1037:2\")","v":{"$error":"#N/A"}},{"$f":"RTD(\"sysq.rtd\",\"\",\"!XTSH`LC.99-1037:2\")","v":{"$error":"#N/A"}},{"$f":"RTD(\"sysq.rtd\",\"\",\"!XTDH`LC.99-1037:2\")","v":{"$error":"#N/A"}},{"$f":"RTD(\"sysq.rtd\",\"\",\"!DTAI`LC.99-1037:2\")","v":{"$error":"#N/A"}},{"$f":"RTD(\"sysq.rtd\",\"\",\"WTX&`004.10-1037:2\")","v":{"$error":"#N/A"}},{"$error":"#N/A"}]
["1038",{"$f":"RTD(\"sysq.rtd\",\"\",\"!DTSH`LC.99-1038:2\")","v":{"$error":"#N/A"}},{"$f":"RTD(\"sysq.rtd\",\"\",\"!DTDH`LC.99-1038:2\")","v":{"$error":"#N/A"}},{"$f":"RTD(\"sysq.rtd\",\"\",\"!XTSH`LC.99-1038:2\")","v":{"$error":"#N/A"}},{"$f":"RTD(\"sysq.rtd\",\"\",\"!XTDH`LC.99-1038:2\")","v":{"$error":"#N/A"}},{"$f":"RTD(\"sysq.rtd\",\"\",\"!DTAI`LC.99-1038:2\")","v":{"$error":"#N/A"}},{"$f":"RTD(\"sysq.rtd\",\"\",\"WTX&`004.10-1038:2\")","v":{"$error":"#N/A"}},{"$error":"#N/A"}]
["1039",{"$f":"RTD(\"sysq.rtd\",\"\",\"!DTSH`LC.99-1039:2\")","v":{"$error":"#N/A"}},{"$f":"RTD(\"sysq.rtd\",\"\",\"!DTDH`LC.99-1039:2\")","v":{"$error":"#N/A"}},{"$f":"RTD(\"sysq.rtd\",\"\",\"!XTSH`LC.99-1039:2\")","v":{"$error":"#N/A"}},{"$f":"RTD(\"sysq.rtd\",\"\",\"!XTDH`LC.99-1039:2\")","v":{"$error":"#N/A"}},{"$f":"RTD(\"sysq.rtd\",\"\",\"!DTAI`LC.99-1039:2\")","v":{"$error":"#N/A"}},{"$f":"RTD(\"sysq.rtd\",\"\",\"WTX&`004.10-1039:2\")","v":{"$error":"#N/A"}},{"$error":"#N/A"}]
["1040",{"$f":"RTD(\"sysq.rtd\",\"\",\"!DTSH`LC.99-1040:2\")","v":{"$error":"#N/A"}},{"$f":"RTD(\"sysq.rtd\",\"\",\"!DTDH`LC.99-1040:2\")","v":{"$error":"#N/A"}},{"$f":"RTD(\"sysq.rtd\",\"\",\"!XTSH`LC.99-1040:2\")","v":{"$error":"#N/A"}},{"$f":"RTD(\"sysq.rtd\",\"\",\"!XTDH`LC.99-1040:2\")","v":{"$error":"#N/A"}},{"$f":"RTD(\"sysq.rtd\",\"\",\"!DTAI`LC.99-1040:2\")","v":{"$error":"#N/A"}},{"$f":"RTD(\"sysq.rtd\",\"\",\"WTX&`004.10-1040:2\")","v":{"$error":"#N/A"}},{"$error":"#N/A"}]
["1041",{"$f":"RTD(\"sysq.rtd\",\"\",\"!DTSH`LC.99-1041:2\")","v":{"$error":"#N/A"}},{"$f":"RTD(\"sysq.rtd\",\"\",\"!DTDH`LC.99-1041:2\")","v":{"$error":"#N/A"}},{"$f":"RTD(\"sysq.rtd\",\"\",\"!XTSH`LC.99-1041:2\")","v":{"$error":"#N/A"}},{"$f":"RTD(\"sysq.rtd\",\"\",\"!XTDH`LC.99-1041:2\")","v":{"$error":"#N/A"}},{"$f":"RTD(\"sysq.rtd\",\"\",\"!DTAI`LC.99-1041:2\")","v":{"$error":"#N/A"}},{"$f":"RTD(\"sysq.rtd\",\"\",\"WTX&`004.10-1041:2\")","v":{"$error":"#N/A"}},{"$error":"#N/A"}]
["1042",{"$f":"RTD(\"sysq.rtd\",\"\",\"!DTSH`LC.99-1042:2\")","v":{"$error":"#N/A"}},{"$f":"RTD(\"sysq.rtd\",\"\",\"!DTDH`LC.99-1042:2\")","v":{"$error":"#N/A"}},{"$f":"RTD(\"sysq.rtd\",\"\",\"!XTSH`LC.99-1042:2\")","v":{"$error":"#N/A"}},{"$f":"RTD(\"sysq.rtd\",\"\",\"!XTDH`LC.99-1042:2\")","v":{"$error":"#N/A"}},{"$f":"RTD(\"sysq.rtd\",\"\",\"!DTAI`LC.99-1042:2\")","v":{"$error":"#N/A"}},{"$f":"RTD(\"sysq.rtd\",\"\",\"WTX&`004.10-1042:2\")","v":{"$error":"#N/A"}},{"$error":"#N/A"}]
["1043",{"$f":"RTD(\"sysq.rtd\",\"\",\"!DTSH`LC.99-1043:2\")","v":{"$error":"#N/A"}},{"$f":"RTD(\"sysq.rtd\",\"\",\"!DTDH`LC.99-1043:2\")","v":{"$error":"#N/A"}},{"$f":"RTD(\"sysq.rtd\",\"\",\"!XTSH`LC.99-1043:2\")","v":{"$error":"#N/A"}},{"$f":"RTD(\"sysq.rtd\",\"\",\"!XTDH`LC.99-1043:2\")","v":{"$error":"#N/A"}},{"$f":"RTD(\"sysq.rtd\",\"\",\"!DTAI`LC.99-1043:2\")","v":{"$error":"#N/A"}},{"$f":"RTD(\"sysq.rtd\",\"\",\"WTX&`004.10-1043:2\")","v":{"$error":"#N/A"}},{"$error":"#N/A"}]
["1044",{"$f":"RTD(\"sysq.rtd\",\"\",\"!DTSH`LC.99-1044:2\")","v":{"$error":"#N/A"}},{"$f":"RTD(\"sysq.rtd\",\"\",\"!DTDH`LC.99-1044:2\")","v":{"$error":"#N/A"}},{"$f":"RTD(\"sysq.rtd\",\"\",\"!XTSH`LC.99-1044:2\")","v":{"$error":"#N/A"}},{"$f":"RTD(\"sysq.rtd\",\"\",\"!XTDH`LC.99-1044:2\")","v":{"$error":"#N/A"}},{"$f":"RTD(\"sysq.rtd\",\"\",\"!DTAI`LC.99-1044:2\")","v":{"$error":"#N/A"}},{"$f":"RTD(\"sysq.rtd\",\"\",\"WTX&`004.10-1044:2\")","v":{"$error":"#N/A"}},{"$error":"#N/A"}]
["1045",{"$f":"RTD(\"sysq.rtd\",\"\",\"!DTSH`LC.99-1045:2\")","v":{"$error":"#N/A"}},{"$f":"RTD(\"sysq.rtd\",\"\",\"!DTDH`LC.99-1045:2\")","v":{"$error":"#N/A"}},{"$f":"RTD(\"sysq.rtd\",\"\",\"!XTSH`LC.99-1045:2\")","v":{"$error":"#N/A"}},{"$f":"RTD(\"sysq.rtd\",\"\",\"!XTDH`LC.99-1045:2\")","v":{"$error":"#N/A"}},{"$f":"RTD(\"sysq.rtd\",\"\",\"!DTAI`LC.99-1045:2\")","v":{"$error":"#N/A"}},{"$f":"RTD(\"sysq.rtd\",\"\",\"WTX&`004.10-1045:2\")","v":{"$error":"#N/A"}},{"$error":"#N/A"}]
["1046",{"$f":"RTD(\"sysq.rtd\",\"\",\"!DTSH`LC.99-1046:2\")","v":{"$error":"#N/A"}},{"$f":"RTD(\"sysq.rtd\",\"\",\"!DTDH`LC.99-1046:2\")","v":{"$error":"#N/A"}},{"$f":"RTD(\"sysq.rtd\",\"\",\"!XTSH`LC.99-1046:2\")","v":{"$error":"#N/A"}},{"$f":"RTD(\"sysq.rtd\",\"\",\"!XTDH`LC.99-1046:2\")","v":{"$error":"#N/A"}},{"$f":"RTD(\"sysq.rtd\",\"\",\"!DTAI`LC.99-1046:2\")","v":{"$error":"#N/A"}},{"$f":"RTD(\"sysq.rtd\",\"\",\"WTX&`004.10-1046:2\")","v":{"$error":"#N/A"}},{"$error":"#N/A"}]
["1047",{"$f":"RTD(\"sysq.rtd\",\"\",\"!DTSH`LC.99-1047:2\")","v":{"$error":"#N/A"}},{"$f":"RTD(\"sysq.rtd\",\"\",\"!DTDH`LC.99-1047:2\")","v":{"$error":"#N/A"}},{"$f":"RTD(\"sysq.rtd\",\"\",\"!XTSH`LC.99-1047:2\")","v":{"$error":"#N/A"}},{"$f":"RTD(\"sysq.rtd\",\"\",\"!XTDH`LC.99-1047:2\")","v":{"$error":"#N/A"}},{"$f":"RTD(\"sysq.rtd\",\"\",\"!DTAI`LC.99-1047:2\")","v":{"$error":"#N/A"}},{"$f":"RTD(\"sysq.rtd\",\"\",\"WTX&`004.10-1047:2\")","v":{"$error":"#N/A"}},{"$error":"#N/A"}]
["1048",{"$f":"RTD(\"sysq.rtd\",\"\",\"!DTSH`LC.99-1048:2\")","v":{"$error":"#N/A"}},{"$f":"RTD(\"sysq.rtd\",\"\",\"!DTDH`LC.99-1048:2\")","v":{"$error":"#N/A"}},{"$f":"RTD(\"sysq.rtd\",\"\",\"!XTSH`LC.99-1048:2\")","v":{"$error":"#N/A"}},{"$f":"RTD(\"sysq.rtd\",\"\",\"!XTDH`LC.99-1048:2\")","v":{"$error":"#N/A"}},{"$f":"RTD(\"sysq.rtd\",\"\",\"!DTAI`LC.99-1048:2\")","v":{"$error":"#N/A"}},{"$f":"RTD(\"sysq.rtd\",\"\",\"WTX&`004.10-1048:2\")","v":{"$error":"#N/A"}},{"$error":"#N/A"}]
["1049",{"$f":"RTD(\"sysq.rtd\",\"\",\"!DTSH`LC.99-1049:2\")","v":{"$error":"#N/A"}},{"$f":"RTD(\"sysq.rtd\",\"\",\"!DTDH`LC.99-1049:2\")","v":{"$error":"#N/A"}},{"$f":"RTD(\"sysq.rtd\",\"\",\"!XTSH`LC.99-1049:2\")","v":{"$error":"#N/A"}},{"$f":"RTD(\"sysq.rtd\",\"\",\"!XTDH`LC.99-1049:2\")","v":{"$error":"#N/A"}},{"$f":"RTD(\"sysq.rtd\",\"\",\"!DTAI`LC.99-1049:2\")","v":{"$error":"#N/A"}},{"$f":"RTD(\"sysq.rtd\",\"\",\"WTX&`004.10-1049:2\")","v":{"$error":"#N/A"}},{"$error":"#N/A"}]
["1050",{"$f":"RTD(\"sysq.rtd\",\"\",\"!DTSH`LC.99-1050:2\")","v":{"$error":"#N/A"}},{"$f":"RTD(\"sysq.rtd\",\"\",\"!DTDH`LC.99-1050:2\")","v":{"$error":"#N/A"}},{"$f":"RTD(\"sysq.rtd\",\"\",\"!XTSH`LC.99-1050:2\")","v":{"$error":"#N/A"}},{"$f":"RTD(\"sysq.rtd\",\"\",\"!XTDH`LC.99-1050:2\")","v":{"$error":"#N/A"}},{"$f":"RTD(\"sysq.rtd\",\"\",\"!DTAI`LC.99-1050:2\")","v":{"$error":"#N/A"}},{"$f":"RTD(\"sysq.rtd\",\"\",\"WTX&`004.10-1050:2\")","v":{"$error":"#N/A"}},{"$error":"#N/A"}]
["1051",{"$f":"RTD(\"sysq.rtd\",\"\",\"!DTSH`LC.99-1051:2\")","v":{"$error":"#N/A"}},{"$f":"RTD(\"sysq.rtd\",\"\",\"!DTDH`LC.99-1051:2\")","v":{"$error":"#N/A"}},{"$f":"RTD(\"sysq.rtd\",\"\",\"!XTSH`LC.99-1051:2\")","v":{"$error":"#N/A"}},{"$f":"RTD(\"sysq.rtd\",\"\",\"!XTDH`LC.99-1051:2\")","v":{"$error":"#N/A"}},{"$f":"RTD(\"sysq.rtd\",\"\",\"!DTAI`LC.99-1051:2\")","v":{"$error":"#N/A"}},{"$f":"RTD(\"sysq.rtd\",\"\",\"WTX&`004.10-1051:2\")","v":{"$error":"#N/A"}},{"$error":"#N/A"}]
["1052",{"$f":"RTD(\"sysq.rtd\",\"\",\"!DTSH`LC.99-1052:2\")","v":{"$error":"#N/A"}},{"$f":"RTD(\"sysq.rtd\",\"\",\"!DTDH`LC.99-1052:2\")","v":{"$error":"#N/A"}},{"$f":"RTD(\"sysq.rtd\",\"\",\"!XTSH`LC.99-1052:2\")","v":{"$error":"#N/A"}},{"$f":"RTD(\"sysq.rtd\",\"\",\"!XTDH`LC.99-1052:2\")","v":{"$error":"#N/A"}},{"$f":"RTD(\"sysq.rtd\",\"\",\"!DTAI`LC.99-1052:2\")","v":{"$error":"#N/A"}},{"$f":"RTD(\"sysq.rtd\",\"\",\"WTX&`004.10-1052:2\")","v":{"$error":"#N/A"}},{"$error":"#N/A"}]
["1053",{"$f":"RTD(\"sysq.rtd\",\"\",\"!DTSH`LC.99-1053:2\")","v":{"$error":"#N/A"}},{"$f":"RTD(\"sysq.rtd\",\"\",\"!DTDH`LC.99-1053:2\")","v":{"$error":"#N/A"}},{"$f":"RTD(\"sysq.rtd\",\"\",\"!XTSH`LC.99-1053:2\")","v":{"$error":"#N/A"}},{"$f":"RTD(\"sysq.rtd\",\"\",\"!XTDH`LC.99-1053:2\")","v":{"$error":"#N/A"}},{"$f":"RTD(\"sysq.rtd\",\"\",\"!DTAI`LC.99-1053:2\")","v":{"$error":"#N/A"}},{"$f":"RTD(\"sysq.rtd\",\"\",\"WTX&`004.10-1053:2\")","v":{"$error":"#N/A"}},{"$error":"#N/A"}]
["1054",{"$f":"RTD(\"sysq.rtd\",\"\",\"!DTSH`LC.99-1054:2\")","v":{"$error":"#N/A"}},{"$f":"RTD(\"sysq.rtd\",\"\",\"!DTDH`LC.99-1054:2\")","v":{"$error":"#N/A"}},{"$f":"RTD(\"sysq.rtd\",\"\",\"!XTSH`LC.99-1054:2\")","v":{"$error":"#N/A"}},{"$f":"RTD(\"sysq.rtd\",\"\",\"!XTDH`LC.99-1054:2\")","v":{"$error":"#N/A"}},{"$f":"RTD(\"sysq.rtd\",\"\",\"!DTAI`LC.99-1054:2\")","v":{"$error":"#N/A"}},{"$f":"RTD(\"sysq.rtd\",\"\",\"WTX&`004.10-1054:2\")","v":{"$error":"#N/A"}},{"$f":"SQRT(ABS(F134))*(ABS(F134)/F134)","v":{"$error":"#N/A"}}]
["1055",{"$f":"RTD(\"sysq.rtd\",\"\",\"!DTSH`LC.99-1055:2\")","v":{"$error":"#N/A"}},{"$f":"RTD(\"sysq.rtd\",\"\",\"!DTDH`LC.99-1055:2\")","v":{"$error":"#N/A"}},{"$f":"RTD(\"sysq.rtd\",\"\",\"!XTSH`LC.99-1055:2\")","v":{"$error":"#N/A"}},{"$f":"RTD(\"sysq.rtd\",\"\",\"!XTDH`LC.99-1055:2\")","v":{"$error":"#N/A"}},{"$f":"RTD(\"sysq.rtd\",\"\",\"!DTAI`LC.99-1055:2\")","v":{"$error":"#N/A"}},{"$f":"RTD(\"sysq.rtd\",\"\",\"WTX&`004.10-1055:2\")","v":{"$error":"#N/A"}},{"$error":"#N/A"}]
["1056",{"$f":"RTD(\"sysq.rtd\",\"\",\"!DTSH`LC.99-1056:2\")","v":{"$error":"#N/A"}},{"$f":"RTD(\"sysq.rtd\",\"\",\"!DTDH`LC.99-1056:2\")","v":{"$error":"#N/A"}},{"$f":"RTD(\"sysq.rtd\",\"\",\"!XTSH`LC.99-1056:2\")","v":{"$error":"#N/A"}},{"$f":"RTD(\"sysq.rtd\",\"\",\"!XTDH`LC.99-1056:2\")","v":{"$error":"#N/A"}},{"$f":"RTD(\"sysq.rtd\",\"\",\"!DTAI`LC.99-1056:2\")","v":{"$error":"#N/A"}},{"$f":"RTD(\"sysq.rtd\",\"\",\"WTX&`004.10-1056:2\")","v":{"$error":"#N/A"}},{"$error":"#N/A"}]
["1057",{"$f":"RTD(\"sysq.rtd\",\"\",\"!DTSH`LC.99-1057:2\")","v":{"$error":"#N/A"}},{"$f":"RTD(\"sysq.rtd\",\"\",\"!DTDH`LC.99-1057:2\")","v":{"$error":"#N/A"}},{"$f":"RTD(\"sysq.rtd\",\"\",\"!XTSH`LC.99-1057:2\")","v":{"$error":"#N/A"}},{"$f":"RTD(\"sysq.rtd\",\"\",\"!XTDH`LC.99-1057:2\")","v":{"$error":"#N/A"}},{"$f":"RTD(\"sysq.rtd\",\"\",\"!DTAI`LC.99-1057:2\")","v":{"$error":"#N/A"}},{"$f":"RTD(\"sysq.rtd\",\"\",\"WTX&`004.10-1057:2\")","v":{"$error":"#N/A"}},{"$error":"#N/A"}]
["1058",{"$f":"RTD(\"sysq.rtd\",\"\",\"!DTSH`LC.99-1058:2\")","v":{"$error":"#N/A"}},{"$f":"RTD(\"sysq.rtd\",\"\",\"!DTDH`LC.99-1058:2\")","v":{"$error":"#N/A"}},{"$f":"RTD(\"sysq.rtd\",\"\",\"!XTSH`LC.99-1058:2\")","v":{"$error":"#N/A"}},{"$f":"RTD(\"sysq.rtd\",\"\",\"!XTDH`LC.99-1058:2\")","v":{"$error":"#N/A"}},{"$f":"RTD(\"sysq.rtd\",\"\",\"!DTAI`LC.99-1058:2\")","v":{"$error":"#N/A"}},{"$f":"RTD(\"sysq.rtd\",\"\",\"WTX&`004.10-1058:2\")","v":{"$error":"#N/A"}},{"$error":"#N/A"}]
["1059",{"$f":"RTD(\"sysq.rtd\",\"\",\"!DTSH`LC.99-1059:2\")","v":{"$error":"#N/A"}},{"$f":"RTD(\"sysq.rtd\",\"\",\"!DTDH`LC.99-1059:2\")","v":{"$error":"#N/A"}},{"$f":"RTD(\"sysq.rtd\",\"\",\"!XTSH`LC.99-1059:2\")","v":{"$error":"#N/A"}},{"$f":"RTD(\"sysq.rtd\",\"\",\"!XTDH`LC.99-1059:2\")","v":{"$error":"#N/A"}},{"$f":"RTD(\"sysq.rtd\",\"\",\"!DTAI`LC.99-1059:2\")","v":{"$error":"#N/A"}},{"$f":"RTD(\"sysq.rtd\",\"\",\"WTX&`004.10-1059:2\")","v":{"$error":"#N/A"}},{"$error":"#N/A"}]
["1100",{"$f":"RTD(\"sysq.rtd\",\"\",\"!DTSH`LC.99-1100:2\")","v":{"$error":"#N/A"}},{"$f":"RTD(\"sysq.rtd\",\"\",\"!DTDH`LC.99-1100:2\")","v":{"$error":"#N/A"}},{"$f":"RTD(\"sysq.rtd\",\"\",\"!XTSH`LC.99-1100:2\")","v":{"$error":"#N/A"}},{"$f":"RTD(\"sysq.rtd\",\"\",\"!XTDH`LC.99-1100:2\")","v":{"$error":"#N/A"}},{"$f":"RTD(\"sysq.rtd\",\"\",\"!DTAI`LC.99-1100:2\")","v":{"$error":"#N/A"}},{"$f":"RTD(\"sysq.rtd\",\"\",\"WTX&`004.10-1100:2\")","v":{"$error":"#N/A"}},{"$error":"#N/A"}]
["1101",{"$f":"RTD(\"sysq.rtd\",\"\",\"!DTSH`LC.99-1101:2\")","v":{"$error":"#N/A"}},{"$f":"RTD(\"sysq.rtd\",\"\",\"!DTDH`LC.99-1101:2\")","v":{"$error":"#N/A"}},{"$f":"RTD(\"sysq.rtd\",\"\",\"!XTSH`LC.99-1101:2\")","v":{"$error":"#N/A"}},{"$f":"RTD(\"sysq.rtd\",\"\",\"!XTDH`LC.99-1101:2\")","v":{"$error":"#N/A"}},{"$f":"RTD(\"sysq.rtd\",\"\",\"!DTAI`LC.99-1101:2\")","v":{"$error":"#N/A"}},{"$f":"RTD(\"sysq.rtd\",\"\",\"WTX&`004.10-1101:2\")","v":{"$error":"#N/A"}},{"$error":"#N/A"}]
["1102",{"$f":"RTD(\"sysq.rtd\",\"\",\"!DTSH`LC.99-1102:2\")","v":{"$error":"#N/A"}},{"$f":"RTD(\"sysq.rtd\",\"\",\"!DTDH`LC.99-1102:2\")","v":{"$error":"#N/A"}},{"$f":"RTD(\"sysq.rtd\",\"\",\"!XTSH`LC.99-1102:2\")","v":{"$error":"#N/A"}},{"$f":"RTD(\"sysq.rtd\",\"\",\"!XTDH`LC.99-1102:2\")","v":{"$error":"#N/A"}},{"$f":"RTD(\"sysq.rtd\",\"\",\"!DTAI`LC.99-1102:2\")","v":{"$error":"#N/A"}},{"$f":"RTD(\"sysq.rtd\",\"\",\"WTX&`004.10-1102:2\")","v":{"$error":"#N/A"}},{"$error":"#N/A"}]
["1103",{"$f":"RTD(\"sysq.rtd\",\"\",\"!DTSH`LC.99-1103:2\")","v":{"$error":"#N/A"}},{"$f":"RTD(\"sysq.rtd\",\"\",\"!DTDH`LC.99-1103:2\")","v":{"$error":"#N/A"}},{"$f":"RTD(\"sysq.rtd\",\"\",\"!XTSH`LC.99-1103:2\")","v":{"$error":"#N/A"}},{"$f":"RTD(\"sysq.rtd\",\"\",\"!XTDH`LC.99-1103:2\")","v":{"$error":"#N/A"}},{"$f":"RTD(\"sysq.rtd\",\"\",\"!DTAI`LC.99-1103:2\")","v":{"$error":"#N/A"}},{"$f":"RTD(\"sysq.rtd\",\"\",\"WTX&`004.10-1103:2\")","v":{"$error":"#N/A"}},{"$error":"#N/A"}]
["1104",{"$f":"RTD(\"sysq.rtd\",\"\",\"!DTSH`LC.99-1104:2\")","v":{"$error":"#N/A"}},{"$f":"RTD(\"sysq.rtd\",\"\",\"!DTDH`LC.99-1104:2\")","v":{"$error":"#N/A"}},{"$f":"RTD(\"sysq.rtd\",\"\",\"!XTSH`LC.99-1104:2\")","v":{"$error":"#N/A"}},{"$f":"RTD(\"sysq.rtd\",\"\",\"!XTDH`LC.99-1104:2\")","v":{"$error":"#N/A"}},{"$f":"RTD(\"sysq.rtd\",\"\",\"!DTAI`LC.99-1104:2\")","v":{"$error":"#N/A"}},{"$f":"RTD(\"sysq.rtd\",\"\",\"WTX&`004.10-1104:2\")","v":{"$error":"#N/A"}},{"$error":"#N/A"}]
["1105",{"$f":"RTD(\"sysq.rtd\",\"\",\"!DTSH`LC.99-1105:2\")","v":{"$error":"#N/A"}},{"$f":"RTD(\"sysq.rtd\",\"\",\"!DTDH`LC.99-1105:2\")","v":{"$error":"#N/A"}},{"$f":"RTD(\"sysq.rtd\",\"\",\"!XTSH`LC.99-1105:2\")","v":{"$error":"#N/A"}},{"$f":"RTD(\"sysq.rtd\",\"\",\"!XTDH`LC.99-1105:2\")","v":{"$error":"#N/A"}},{"$f":"RTD(\"sysq.rtd\",\"\",\"!DTAI`LC.99-1105:2\")","v":{"$error":"#N/A"}},{"$f":"RTD(\"sysq.rtd\",\"\",\"WTX&`004.10-1105:2\")","v":{"$error":"#N/A"}},{"$error":"#N/A"}]
["1106",{"$f":"RTD(\"sysq.rtd\",\"\",\"!DTSH`LC.99-1106:2\")","v":{"$error":"#N/A"}},{"$f":"RTD(\"sysq.rtd\",\"\",\"!DTDH`LC.99-1106:2\")","v":{"$error":"#N/A"}},{"$f":"RTD(\"sysq.rtd\",\"\",\"!XTSH`LC.99-1106:2\")","v":{"$error":"#N/A"}},{"$f":"RTD(\"sysq.rtd\",\"\",\"!XTDH`LC.99-1106:2\")","v":{"$error":"#N/A"}},{"$f":"RTD(\"sysq.rtd\",\"\",\"!DTAI`LC.99-1106:2\")","v":{"$error":"#N/A"}},{"$f":"RTD(\"sysq.rtd\",\"\",\"WTX&`004.10-1106:2\")","v":{"$error":"#N/A"}},{"$error":"#N/A"}]
["1107",{"$f":"RTD(\"sysq.rtd\",\"\",\"!DTSH`LC.99-1107:2\")","v":{"$error":"#N/A"}},{"$f":"RTD(\"sysq.rtd\",\"\",\"!DTDH`LC.99-1107:2\")","v":{"$error":"#N/A"}},{"$f":"RTD(\"sysq.rtd\",\"\",\"!XTSH`LC.99-1107:2\")","v":{"$error":"#N/A"}},{"$f":"RTD(\"sysq.rtd\",\"\",\"!XTDH`LC.99-1107:2\")","v":{"$error":"#N/A"}},{"$f":"RTD(\"sysq.rtd\",\"\",\"!DTAI`LC.99-1107:2\")","v":{"$error":"#N/A"}},{"$f":"RTD(\"sysq.rtd\",\"\",\"WTX&`004.10-1107:2\")","v":{"$error":"#N/A"}},{"$error":"#N/A"}]
["1108",{"$f":"RTD(\"sysq.rtd\",\"\",\"!DTSH`LC.99-1108:2\")","v":{"$error":"#N/A"}},{"$f":"RTD(\"sysq.rtd\",\"\",\"!DTDH`LC.99-1108:2\")","v":{"$error":"#N/A"}},{"$f":"RTD(\"sysq.rtd\",\"\",\"!XTSH`LC.99-1108:2\")","v":{"$error":"#N/A"}},{"$f":"RTD(\"sysq.rtd\",\"\",\"!XTDH`LC.99-1108:2\")","v":{"$error":"#N/A"}},{"$f":"RTD(\"sysq.rtd\",\"\",\"!DTAI`LC.99-1108:2\")","v":{"$error":"#N/A"}},{"$f":"RTD(\"sysq.rtd\",\"\",\"WTX&`004.10-1108:2\")","v":{"$error":"#N/A"}},{"$error":"#N/A"}]
["1109",{"$f":"RTD(\"sysq.rtd\",\"\",\"!DTSH`LC.99-1109:2\")","v":{"$error":"#N/A"}},{"$f":"RTD(\"sysq.rtd\",\"\",\"!DTDH`LC.99-1109:2\")","v":{"$error":"#N/A"}},{"$f":"RTD(\"sysq.rtd\",\"\",\"!XTSH`LC.99-1109:2\")","v":{"$error":"#N/A"}},{"$f":"RTD(\"sysq.rtd\",\"\",\"!XTDH`LC.99-1109:2\")","v":{"$error":"#N/A"}},{"$f":"RTD(\"sysq.rtd\",\"\",\"!DTAI`LC.99-1109:2\")","v":{"$error":"#N/A"}},{"$f":"RTD(\"sysq.rtd\",\"\",\"WTX&`004.10-1109:2\")","v":{"$error":"#N/A"}},{"$error":"#N/A"}]
["1110",{"$f":"RTD(\"sysq.rtd\",\"\",\"!DTSH`LC.99-1110:2\")","v":{"$error":"#N/A"}},{"$f":"RTD(\"sysq.rtd\",\"\",\"!DTDH`LC.99-1110:2\")","v":{"$error":"#N/A"}},{"$f":"RTD(\"sysq.rtd\",\"\",\"!XTSH`LC.99-1110:2\")","v":{"$error":"#N/A"}},{"$f":"RTD(\"sysq.rtd\",\"\",\"!XTDH`LC.99-1110:2\")","v":{"$error":"#N/A"}},{"$f":"RTD(\"sysq.rtd\",\"\",\"!DTAI`LC.99-1110:2\")","v":{"$error":"#N/A"}},{"$f":"RTD(\"sysq.rtd\",\"\",\"WTX&`004.10-1110:2\")","v":{"$error":"#N/A"}},{"$error":"#N/A"}]
["1111",{"$f":"RTD(\"sysq.rtd\",\"\",\"!DTSH`LC.99-1111:2\")","v":{"$error":"#N/A"}},{"$f":"RTD(\"sysq.rtd\",\"\",\"!DTDH`LC.99-1111:2\")","v":{"$error":"#N/A"}},{"$f":"RTD(\"sysq.rtd\",\"\",\"!XTSH`LC.99-1111:2\")","v":{"$error":"#N/A"}},{"$f":"RTD(\"sysq.rtd\",\"\",\"!XTDH`LC.99-1111:2\")","v":{"$error":"#N/A"}},{"$f":"RTD(\"sysq.rtd\",\"\",\"!DTAI`LC.99-1111:2\")","v":{"$error":"#N/A"}},{"$f":"RTD(\"sysq.rtd\",\"\",\"WTX&`004.10-1111:2\")","v":{"$error":"#N/A"}},{"$error":"#N/A"}]
["1112",{"$f":"RTD(\"sysq.rtd\",\"\",\"!DTSH`LC.99-1112:2\")","v":{"$error":"#N/A"}},{"$f":"RTD(\"sysq.rtd\",\"\",\"!DTDH`LC.99-1112:2\")","v":{"$error":"#N/A"}},{"$f":"RTD(\"sysq.rtd\",\"\",\"!XTSH`LC.99-1112:2\")","v":{"$error":"#N/A"}},{"$f":"RTD(\"sysq.rtd\",\"\",\"!XTDH`LC.99-1112:2\")","v":{"$error":"#N/A"}},{"$f":"RTD(\"sysq.rtd\",\"\",\"!DTAI`LC.99-1112:2\")","v":{"$error":"#N/A"}},{"$f":"RTD(\"sysq.rtd\",\"\",\"WTX&`004.10-1112:2\")","v":{"$error":"#N/A"}},{"$error":"#N/A"}]
["1113",{"$f":"RTD(\"sysq.rtd\",\"\",\"!DTSH`LC.99-1113:2\")","v":{"$error":"#N/A"}},{"$f":"RTD(\"sysq.rtd\",\"\",\"!DTDH`LC.99-1113:2\")","v":{"$error":"#N/A"}},{"$f":"RTD(\"sysq.rtd\",\"\",\"!XTSH`LC.99-1113:2\")","v":{"$error":"#N/A"}},{"$f":"RTD(\"sysq.rtd\",\"\",\"!XTDH`LC.99-1113:2\")","v":{"$error":"#N/A"}},{"$f":"RTD(\"sysq.rtd\",\"\",\"!DTAI`LC.99-1113:2\")","v":{"$error":"#N/A"}},{"$f":"RTD(\"sysq.rtd\",\"\",\"WTX&`004.10-1113:2\")","v":{"$error":"#N/A"}},{"$error":"#N/A"}]
["1114",{"$f":"RTD(\"sysq.rtd\",\"\",\"!DTSH`LC.99-1114:2\")","v":{"$error":"#N/A"}},{"$f":"RTD(\"sysq.rtd\",\"\",\"!DTDH`LC.99-1114:2\")","v":{"$error":"#N/A"}},{"$f":"RTD(\"sysq.rtd\",\"\",\"!XTSH`LC.99-1114:2\")","v":{"$error":"#N/A"}},{"$f":"RTD(\"sysq.rtd\",\"\",\"!XTDH`LC.99-1114:2\")","v":{"$error":"#N/A"}},{"$f":"RTD(\"sysq.rtd\",\"\",\"!DTAI`LC.99-1114:2\")","v":{"$error":"#N/A"}},{"$f":"RTD(\"sysq.rtd\",\"\",\"WTX&`004.10-1114:2\")","v":{"$error":"#N/A"}},{"$error":"#N/A"}]
["1115",{"$f":"RTD(\"sysq.rtd\",\"\",\"!DTSH`LC.99-1115:2\")","v":{"$error":"#N/A"}},{"$f":"RTD(\"sysq.rtd\",\"\",\"!DTDH`LC.99-1115:2\")","v":{"$error":"#N/A"}},{"$f":"RTD(\"sysq.rtd\",\"\",\"!XTSH`LC.99-1115:2\")","v":{"$error":"#N/A"}},{"$f":"RTD(\"sysq.rtd\",\"\",\"!XTDH`LC.99-1115:2\")","v":{"$error":"#N/A"}},{"$f":"RTD(\"sysq.rtd\",\"\",\"!DTAI`LC.99-1115:2\")","v":{"$error":"#N/A"}},{"$f":"RTD(\"sysq.rtd\",\"\",\"WTX&`004.10-1115:2\")","v":{"$error":"#N/A"}},{"$error":"#N/A"}]
["1116",{"$f":"RTD(\"sysq.rtd\",\"\",\"!DTSH`LC.99-1116:2\")","v":{"$error":"#N/A"}},{"$f":"RTD(\"sysq.rtd\",\"\",\"!DTDH`LC.99-1116:2\")","v":{"$error":"#N/A"}},{"$f":"RTD(\"sysq.rtd\",\"\",\"!XTSH`LC.99-1116:2\")","v":{"$error":"#N/A"}},{"$f":"RTD(\"sysq.rtd\",\"\",\"!XTDH`LC.99-1116:2\")","v":{"$error":"#N/A"}},{"$f":"RTD(\"sysq.rtd\",\"\",\"!DTAI`LC.99-1116:2\")","v":{"$error":"#N/A"}},{"$f":"RTD(\"sysq.rtd\",\"\",\"WTX&`004.10-1116:2\")","v":{"$error":"#N/A"}},{"$error":"#N/A"}]
["1117",{"$f":"RTD(\"sysq.rtd\",\"\",\"!DTSH`LC.99-1117:2\")","v":{"$error":"#N/A"}},{"$f":"RTD(\"sysq.rtd\",\"\",\"!DTDH`LC.99-1117:2\")","v":{"$error":"#N/A"}},{"$f":"RTD(\"sysq.rtd\",\"\",\"!XTSH`LC.99-1117:2\")","v":{"$error":"#N/A"}},{"$f":"RTD(\"sysq.rtd\",\"\",\"!XTDH`LC.99-1117:2\")","v":{"$error":"#N/A"}},{"$f":"RTD(\"sysq.rtd\",\"\",\"!DTAI`LC.99-1117:2\")","v":{"$error":"#N/A"}},{"$f":"RTD(\"sysq.rtd\",\"\",\"WTX&`004.10-1117:2\")","v":{"$error":"#N/A"}},{"$error":"#N/A"}]
["1118",{"$f":"RTD(\"sysq.rtd\",\"\",\"!DTSH`LC.99-1118:2\")","v":{"$error":"#N/A"}},{"$f":"RTD(\"sysq.rtd\",\"\",\"!DTDH`LC.99-1118:2\")","v":{"$error":"#N/A"}},{"$f":"RTD(\"sysq.rtd\",\"\",\"!XTSH`LC.99-1118:2\")","v":{"$error":"#N/A"}},{"$f":"RTD(\"sysq.rtd\",\"\",\"!XTDH`LC.99-1118:2\")","v":{"$error":"#N/A"}},{"$f":"RTD(\"sysq.rtd\",\"\",\"!DTAI`LC.99-1118:2\")","v":{"$error":"#N/A"}},{"$f":"RTD(\"sysq.rtd\",\"\",\"WTX&`004.10-1118:2\")","v":{"$error":"#N/A"}},{"$error":"#N/A"}]
["1119",{"$f":"RTD(\"sysq.rtd\",\"\",\"!DTSH`LC.99-1119:2\")","v":{"$error":"#N/A"}},{"$f":"RTD(\"sysq.rtd\",\"\",\"!DTDH`LC.99-1119:2\")","v":{"$error":"#N/A"}},{"$f":"RTD(\"sysq.rtd\",\"\",\"!XTSH`LC.99-1119:2\")","v":{"$error":"#N/A"}},{"$f":"RTD(\"sysq.rtd\",\"\",\"!XTDH`LC.99-1119:2\")","v":{"$error":"#N/A"}},{"$f":"RTD(\"sysq.rtd\",\"\",\"!DTAI`LC.99-1119:2\")","v":{"$error":"#N/A"}},{"$f":"RTD(\"sysq.rtd\",\"\",\"WTX&`004.10-1119:2\")","v":{"$error":"#N/A"}},{"$error":"#N/A"}]
["1120",{"$f":"RTD(\"sysq.rtd\",\"\",\"!DTSH`LC.99-1120:2\")","v":{"$error":"#N/A"}},{"$f":"RTD(\"sysq.rtd\",\"\",\"!DTDH`LC.99-1120:2\")","v":{"$error":"#N/A"}},{"$f":"RTD(\"sysq.rtd\",\"\",\"!XTSH`LC.99-1120:2\")","v":{"$error":"#N/A"}},{"$f":"RTD(\"sysq.rtd\",\"\",\"!XTDH`LC.99-1120:2\")","v":{"$error":"#N/A"}},{"$f":"RTD(\"sysq.rtd\",\"\",\"!DTAI`LC.99-1120:2\")","v":{"$error":"#N/A"}},{"$f":"RTD(\"sysq.rtd\",\"\",\"WTX&`004.10-1120:2\")","v":{"$error":"#N/A"}},{"$error":"#N/A"}]
["1121",{"$f":"RTD(\"sysq.rtd\",\"\",\"!DTSH`LC.99-1121:2\")","v":{"$error":"#N/A"}},{"$f":"RTD(\"sysq.rtd\",\"\",\"!DTDH`LC.99-1121:2\")","v":{"$error":"#N/A"}},{"$f":"RTD(\"sysq.rtd\",\"\",\"!XTSH`LC.99-1121:2\")","v":{"$error":"#N/A"}},{"$f":"RTD(\"sysq.rtd\",\"\",\"!XTDH`LC.99-1121:2\")","v":{"$error":"#N/A"}},{"$f":"RTD(\"sysq.rtd\",\"\",\"!DTAI`LC.99-1121:2\")","v":{"$error":"#N/A"}},{"$f":"RTD(\"sysq.rtd\",\"\",\"WTX&`004.10-1121:2\")","v":{"$error":"#N/A"}},{"$error":"#N/A"}]
["1122",{"$f":"RTD(\"sysq.rtd\",\"\",\"!DTSH`LC.99-1122:2\")","v":{"$error":"#N/A"}},{"$f":"RTD(\"sysq.rtd\",\"\",\"!DTDH`LC.99-1122:2\")","v":{"$error":"#N/A"}},{"$f":"RTD(\"sysq.rtd\",\"\",\"!XTSH`LC.99-1122:2\")","v":{"$error":"#N/A"}},{"$f":"RTD(\"sysq.rtd\",\"\",\"!XTDH`LC.99-1122:2\")","v":{"$error":"#N/A"}},{"$f":"RTD(\"sysq.rtd\",\"\",\"!DTAI`LC.99-1122:2\")","v":{"$error":"#N/A"}},{"$f":"RTD(\"sysq.rtd\",\"\",\"WTX&`004.10-1122:2\")","v":{"$error":"#N/A"}},{"$error":"#N/A"}]
["1123",{"$f":"RTD(\"sysq.rtd\",\"\",\"!DTSH`LC.99-1123:2\")","v":{"$error":"#N/A"}},{"$f":"RTD(\"sysq.rtd\",\"\",\"!DTDH`LC.99-1123:2\")","v":{"$error":"#N/A"}},{"$f":"RTD(\"sysq.rtd\",\"\",\"!XTSH`LC.99-1123:2\")","v":{"$error":"#N/A"}},{"$f":"RTD(\"sysq.rtd\",\"\",\"!XTDH`LC.99-1123:2\")","v":{"$error":"#N/A"}},{"$f":"RTD(\"sysq.rtd\",\"\",\"!DTAI`LC.99-1123:2\")","v":{"$error":"#N/A"}},{"$f":"RTD(\"sysq.rtd\",\"\",\"WTX&`004.10-1123:2\")","v":{"$error":"#N/A"}},{"$error":"#N/A"}]
["1124",{"$f":"RTD(\"sysq.rtd\",\"\",\"!DTSH`LC.99-1124:2\")","v":{"$error":"#N/A"}},{"$f":"RTD(\"sysq.rtd\",\"\",\"!DTDH`LC.99-1124:2\")","v":{"$error":"#N/A"}},{"$f":"RTD(\"sysq.rtd\",\"\",\"!XTSH`LC.99-1124:2\")","v":{"$error":"#N/A"}},{"$f":"RTD(\"sysq.rtd\",\"\",\"!XTDH`LC.99-1124:2\")","v":{"$error":"#N/A"}},{"$f":"RTD(\"sysq.rtd\",\"\",\"!DTAI`LC.99-1124:2\")","v":{"$error":"#N/A"}},{"$f":"RTD(\"sysq.rtd\",\"\",\"WTX&`004.10-1124:2\")","v":{"$error":"#N/A"}},{"$error":"#N/A"}]
["1125",{"$f":"RTD(\"sysq.rtd\",\"\",\"!DTSH`LC.99-1125:2\")","v":{"$error":"#N/A"}},{"$f":"RTD(\"sysq.rtd\",\"\",\"!DTDH`LC.99-1125:2\")","v":{"$error":"#N/A"}},{"$f":"RTD(\"sysq.rtd\",\"\",\"!XTSH`LC.99-1125:2\")","v":{"$error":"#N/A"}},{"$f":"RTD(\"sysq.rtd\",\"\",\"!XTDH`LC.99-1125:2\")","v":{"$error":"#N/A"}},{"$f":"RTD(\"sysq.rtd\",\"\",\"!DTAI`LC.99-1125:2\")","v":{"$error":"#N/A"}},{"$f":"RTD(\"sysq.rtd\",\"\",\"WTX&`004.10-1125:2\")","v":{"$error":"#N/A"}},{"$error":"#N/A"}]
["1126",{"$f":"RTD(\"sysq.rtd\",\"\",\"!DTSH`LC.99-1126:2\")","v":{"$error":"#N/A"}},{"$f":"RTD(\"sysq.rtd\",\"\",\"!DTDH`LC.99-1126:2\")","v":{"$error":"#N/A"}},{"$f":"RTD(\"sysq.rtd\",\"\",\"!XTSH`LC.99-1126:2\")","v":{"$error":"#N/A"}},{"$f":"RTD(\"sysq.rtd\",\"\",\"!XTDH`LC.99-1126:2\")","v":{"$error":"#N/A"}},{"$f":"RTD(\"sysq.rtd\",\"\",\"!DTAI`LC.99-1126:2\")","v":{"$error":"#N/A"}},{"$f":"RTD(\"sysq.rtd\",\"\",\"WTX&`004.10-1126:2\")","v":{"$error":"#N/A"}},{"$error":"#N/A"}]
["1127",{"$f":"RTD(\"sysq.rtd\",\"\",\"!DTSH`LC.99-1127:2\")","v":{"$error":"#N/A"}},{"$f":"RTD(\"sysq.rtd\",\"\",\"!DTDH`LC.99-1127:2\")","v":{"$error":"#N/A"}},{"$f":"RTD(\"sysq.rtd\",\"\",\"!XTSH`LC.99-1127:2\")","v":{"$error":"#N/A"}},{"$f":"RTD(\"sysq.rtd\",\"\",\"!XTDH`LC.99-1127:2\")","v":{"$error":"#N/A"}},{"$f":"RTD(\"sysq.rtd\",\"\",\"!DTAI`LC.99-1127:2\")","v":{"$error":"#N/A"}},{"$f":"RTD(\"sysq.rtd\",\"\",\"WTX&`004.10-1127:2\")","v":{"$error":"#N/A"}},{"$error":"#N/A"}]
["1128",{"$f":"RTD(\"sysq.rtd\",\"\",\"!DTSH`LC.99-1128:2\")","v":{"$error":"#N/A"}},{"$f":"RTD(\"sysq.rtd\",\"\",\"!DTDH`LC.99-1128:2\")","v":{"$error":"#N/A"}},{"$f":"RTD(\"sysq.rtd\",\"\",\"!XTSH`LC.99-1128:2\")","v":{"$error":"#N/A"}},{"$f":"RTD(\"sysq.rtd\",\"\",\"!XTDH`LC.99-1128:2\")","v":{"$error":"#N/A"}},{"$f":"RTD(\"sysq.rtd\",\"\",\"!DTAI`LC.99-1128:2\")","v":{"$error":"#N/A"}},{"$f":"RTD(\"sysq.rtd\",\"\",\"WTX&`004.10-1128:2\")","v":{"$error":"#N/A"}},{"$error":"#N/A"}]
["1129",{"$f":"RTD(\"sysq.rtd\",\"\",\"!DTSH`LC.99-1129:2\")","v":{"$error":"#N/A"}},{"$f":"RTD(\"sysq.rtd\",\"\",\"!DTDH`LC.99-1129:2\")","v":{"$error":"#N/A"}},{"$f":"RTD(\"sysq.rtd\",\"\",\"!XTSH`LC.99-1129:2\")","v":{"$error":"#N/A"}},{"$f":"RTD(\"sysq.rtd\",\"\",\"!XTDH`LC.99-1129:2\")","v":{"$error":"#N/A"}},{"$f":"RTD(\"sysq.rtd\",\"\",\"!DTAI`LC.99-1129:2\")","v":{"$error":"#N/A"}},{"$f":"RTD(\"sysq.rtd\",\"\",\"WTX&`004.10-1129:2\")","v":{"$error":"#N/A"}},{"$error":"#N/A"}]
["1130",{"$f":"RTD(\"sysq.rtd\",\"\",\"!DTSH`LC.99-1130:2\")","v":{"$error":"#N/A"}},{"$f":"RTD(\"sysq.rtd\",\"\",\"!DTDH`LC.99-1130:2\")","v":{"$error":"#N/A"}},{"$f":"RTD(\"sysq.rtd\",\"\",\"!XTSH`LC.99-1130:2\")","v":{"$error":"#N/A"}},{"$f":"RTD(\"sysq.rtd\",\"\",\"!XTDH`LC.99-1130:2\")","v":{"$error":"#N/A"}},{"$f":"RTD(\"sysq.rtd\",\"\",\"!DTAI`LC.99-1130:2\")","v":{"$error":"#N/A"}},{"$f":"RTD(\"sysq.rtd\",\"\",\"WTX&`004.10-1130:2\")","v":{"$error":"#N/A"}},{"$error":"#N/A"}]
["1131",{"$f":"RTD(\"sysq.rtd\",\"\",\"!DTSH`LC.99-1131:2\")","v":{"$error":"#N/A"}},{"$f":"RTD(\"sysq.rtd\",\"\",\"!DTDH`LC.99-1131:2\")","v":{"$error":"#N/A"}},{"$f":"RTD(\"sysq.rtd\",\"\",\"!XTSH`LC.99-1131:2\")","v":{"$error":"#N/A"}},{"$f":"RTD(\"sysq.rtd\",\"\",\"!XTDH`LC.99-1131:2\")","v":{"$error":"#N/A"}},{"$f":"RTD(\"sysq.rtd\",\"\",\"!DTAI`LC.99-1131:2\")","v":{"$error":"#N/A"}},{"$f":"RTD(\"sysq.rtd\",\"\",\"WTX&`004.10-1131:2\")","v":{"$error":"#N/A"}},{"$error":"#N/A"}]
["1132",{"$f":"RTD(\"sysq.rtd\",\"\",\"!DTSH`LC.99-1132:2\")","v":{"$error":"#N/A"}},{"$f":"RTD(\"sysq.rtd\",\"\",\"!DTDH`LC.99-1132:2\")","v":{"$error":"#N/A"}},{"$f":"RTD(\"sysq.rtd\",\"\",\"!XTSH`LC.99-1132:2\")","v":{"$error":"#N/A"}},{"$f":"RTD(\"sysq.rtd\",\"\",\"!XTDH`LC.99-1132:2\")","v":{"$error":"#N/A"}},{"$f":"RTD(\"sysq.rtd\",\"\",\"!DTAI`LC.99-1132:2\")","v":{"$error":"#N/A"}},{"$f":"RTD(\"sysq.rtd\",\"\",\"WTX&`004.10-1132:2\")","v":{"$error":"#N/A"}},{"$error":"#N/A"}]
["1133",{"$f":"RTD(\"sysq.rtd\",\"\",\"!DTSH`LC.99-1133:2\")","v":{"$error":"#N/A"}},{"$f":"RTD(\"sysq.rtd\",\"\",\"!DTDH`LC.99-1133:2\")","v":{"$error":"#N/A"}},{"$f":"RTD(\"sysq.rtd\",\"\",\"!XTSH`LC.99-1133:2\")","v":{"$error":"#N/A"}},{"$f":"RTD(\"sysq.rtd\",\"\",\"!XTDH`LC.99-1133:2\")","v":{"$error":"#N/A"}},{"$f":"RTD(\"sysq.rtd\",\"\",\"!DTAI`LC.99-1133:2\")","v":{"$error":"#N/A"}},{"$f":"RTD(\"sysq.rtd\",\"\",\"WTX&`004.10-1133:2\")","v":{"$error":"#N/A"}},{"$error":"#N/A"}]
["1134",{"$f":"RTD(\"sysq.rtd\",\"\",\"!DTSH`LC.99-1134:2\")","v":{"$error":"#N/A"}},{"$f":"RTD(\"sysq.rtd\",\"\",\"!DTDH`LC.99-1134:2\")","v":{"$error":"#N/A"}},{"$f":"RTD(\"sysq.rtd\",\"\",\"!XTSH`LC.99-1134:2\")","v":{"$error":"#N/A"}},{"$f":"RTD(\"sysq.rtd\",\"\",\"!XTDH`LC.99-1134:2\")","v":{"$error":"#N/A"}},{"$f":"RTD(\"sysq.rtd\",\"\",\"!DTAI`LC.99-1134:2\")","v":{"$error":"#N/A"}},{"$f":"RTD(\"sysq.rtd\",\"\",\"WTX&`004.10-1134:2\")","v":{"$error":"#N/A"}},{"$error":"#N/A"}]
["1135",{"$f":"RTD(\"sysq.rtd\",\"\",\"!DTSH`LC.99-1135:2\")","v":{"$error":"#N/A"}},{"$f":"RTD(\"sysq.rtd\",\"\",\"!DTDH`LC.99-1135:2\")","v":{"$error":"#N/A"}},{"$f":"RTD(\"sysq.rtd\",\"\",\"!XTSH`LC.99-1135:2\")","v":{"$error":"#N/A"}},{"$f":"RTD(\"sysq.rtd\",\"\",\"!XTDH`LC.99-1135:2\")","v":{"$error":"#N/A"}},{"$f":"RTD(\"sysq.rtd\",\"\",\"!DTAI`LC.99-1135:2\")","v":{"$error":"#N/A"}},{"$f":"RTD(\"sysq.rtd\",\"\",\"WTX&`004.10-1135:2\")","v":{"$error":"#N/A"}},{"$error":"#N/A"}]
["1136",{"$f":"RTD(\"sysq.rtd\",\"\",\"!DTSH`LC.99-1136:2\")","v":{"$error":"#N/A"}},{"$f":"RTD(\"sysq.rtd\",\"\",\"!DTDH`LC.99-1136:2\")","v":{"$error":"#N/A"}},{"$f":"RTD(\"sysq.rtd\",\"\",\"!XTSH`LC.99-1136:2\")","v":{"$error":"#N/A"}},{"$f":"RTD(\"sysq.rtd\",\"\",\"!XTDH`LC.99-1136:2\")","v":{"$error":"#N/A"}},{"$f":"RTD(\"sysq.rtd\",\"\",\"!DTAI`LC.99-1136:2\")","v":{"$error":"#N/A"}},{"$f":"RTD(\"sysq.rtd\",\"\",\"WTX&`004.10-1136:2\")","v":{"$error":"#N/A"}},{"$error":"#N/A"}]
["1137",{"$f":"RTD(\"sysq.rtd\",\"\",\"!DTSH`LC.99-1137:2\")","v":{"$error":"#N/A"}},{"$f":"RTD(\"sysq.rtd\",\"\",\"!DTDH`LC.99-1137:2\")","v":{"$error":"#N/A"}},{"$f":"RTD(\"sysq.rtd\",\"\",\"!XTSH`LC.99-1137:2\")","v":{"$error":"#N/A"}},{"$f":"RTD(\"sysq.rtd\",\"\",\"!XTDH`LC.99-1137:2\")","v":{"$error":"#N/A"}},{"$f":"RTD(\"sysq.rtd\",\"\",\"!DTAI`LC.99-1137:2\")","v":{"$error":"#N/A"}},{"$f":"RTD(\"sysq.rtd\",\"\",\"WTX&`004.10-1137:2\")","v":{"$error":"#N/A"}},{"$error":"#N/A"}]
["1138",{"$f":"RTD(\"sysq.rtd\",\"\",\"!DTSH`LC.99-1138:2\")","v":{"$error":"#N/A"}},{"$f":"RTD(\"sysq.rtd\",\"\",\"!DTDH`LC.99-1138:2\")","v":{"$error":"#N/A"}},{"$f":"RTD(\"sysq.rtd\",\"\",\"!XTSH`LC.99-1138:2\")","v":{"$error":"#N/A"}},{"$f":"RTD(\"sysq.rtd\",\"\",\"!XTDH`LC.99-1138:2\")","v":{"$error":"#N/A"}},{"$f":"RTD(\"sysq.rtd\",\"\",\"!DTAI`LC.99-1138:2\")","v":{"$error":"#N/A"}},{"$f":"RTD(\"sysq.rtd\",\"\",\"WTX&`004.10-1138:2\")","v":{"$error":"#N/A"}},{"$error":"#N/A"}]
["1139",{"$f":"RTD(\"sysq.rtd\",\"\",\"!DTSH`LC.99-1139:2\")","v":{"$error":"#N/A"}},{"$f":"RTD(\"sysq.rtd\",\"\",\"!DTDH`LC.99-1139:2\")","v":{"$error":"#N/A"}},{"$f":"RTD(\"sysq.rtd\",\"\",\"!XTSH`LC.99-1139:2\")","v":{"$error":"#N/A"}},{"$f":"RTD(\"sysq.rtd\",\"\",\"!XTDH`LC.99-1139:2\")","v":{"$error":"#N/A"}},{"$f":"RTD(\"sysq.rtd\",\"\",\"!DTAI`LC.99-1139:2\")","v":{"$error":"#N/A"}},{"$f":"RTD(\"sysq.rtd\",\"\",\"WTX&`004.10-1139:2\")","v":{"$error":"#N/A"}},{"$error":"#N/A"}]
["1140",{"$f":"RTD(\"sysq.rtd\",\"\",\"!DTSH`LC.99-1140:2\")","v":{"$error":"#N/A"}},{"$f":"RTD(\"sysq.rtd\",\"\",\"!DTDH`LC.99-1140:2\")","v":{"$error":"#N/A"}},{"$f":"RTD(\"sysq.rtd\",\"\",\"!XTSH`LC.99-1140:2\")","v":{"$error":"#N/A"}},{"$f":"RTD(\"sysq.rtd\",\"\",\"!XTDH`LC.99-1140:2\")","v":{"$error":"#N/A"}},{"$f":"RTD(\"sysq.rtd\",\"\",\"!DTAI`LC.99-1140:2\")","v":{"$error":"#N/A"}},{"$f":"RTD(\"sysq.rtd\",\"\",\"WTX&`004.10-1140:2\")","v":{"$error":"#N/A"}},{"$error":"#N/A"}]
["1141",{"$f":"RTD(\"sysq.rtd\",\"\",\"!DTSH`LC.99-1141:2\")","v":{"$error":"#N/A"}},{"$f":"RTD(\"sysq.rtd\",\"\",\"!DTDH`LC.99-1141:2\")","v":{"$error":"#N/A"}},{"$f":"RTD(\"sysq.rtd\",\"\",\"!XTSH`LC.99-1141:2\")","v":{"$error":"#N/A"}},{"$f":"RTD(\"sysq.rtd\",\"\",\"!XTDH`LC.99-1141:2\")","v":{"$error":"#N/A"}},{"$f":"RTD(\"sysq.rtd\",\"\",\"!DTAI`LC.99-1141:2\")","v":{"$error":"#N/A"}},{"$f":"RTD(\"sysq.rtd\",\"\",\"WTX&`004.10-1141:2\")","v":{"$error":"#N/A"}},{"$error":"#N/A"}]
["1142",{"$f":"RTD(\"sysq.rtd\",\"\",\"!DTSH`LC.99-1142:2\")","v":{"$error":"#N/A"}},{"$f":"RTD(\"sysq.rtd\",\"\",\"!DTDH`LC.99-1142:2\")","v":{"$error":"#N/A"}},{"$f":"RTD(\"sysq.rtd\",\"\",\"!XTSH`LC.99-1142:2\")","v":{"$error":"#N/A"}},{"$f":"RTD(\"sysq.rtd\",\"\",\"!XTDH`LC.99-1142:2\")","v":{"$error":"#N/A"}},{"$f":"RTD(\"sysq.rtd\",\"\",\"!DTAI`LC.99-1142:2\")","v":{"$error":"#N/A"}},{"$f":"RTD(\"sysq.rtd\",\"\",\"WTX&`004.10-1142:2\")","v":{"$error":"#N/A"}},{"$error":"#N/A"}]
["1143",{"$f":"RTD(\"sysq.rtd\",\"\",\"!DTSH`LC.99-1143:2\")","v":{"$error":"#N/A"}},{"$f":"RTD(\"sysq.rtd\",\"\",\"!DTDH`LC.99-1143:2\")","v":{"$error":"#N/A"}},{"$f":"RTD(\"sysq.rtd\",\"\",\"!XTSH`LC.99-1143:2\")","v":{"$error":"#N/A"}},{"$f":"RTD(\"sysq.rtd\",\"\",\"!XTDH`LC.99-1143:2\")","v":{"$error":"#N/A"}},{"$f":"RTD(\"sysq.rtd\",\"\",\"!DTAI`LC.99-1143:2\")","v":{"$error":"#N/A"}},{"$f":"RTD(\"sysq.rtd\",\"\",\"WTX&`004.10-1143:2\")","v":{"$error":"#N/A"}},{"$error":"#N/A"}]
["1144",{"$f":"RTD(\"sysq.rtd\",\"\",\"!DTSH`LC.99-1144:2\")","v":{"$error":"#N/A"}},{"$f":"RTD(\"sysq.rtd\",\"\",\"!DTDH`LC.99-1144:2\")","v":{"$error":"#N/A"}},{"$f":"RTD(\"sysq.rtd\",\"\",\"!XTSH`LC.99-1144:2\")","v":{"$error":"#N/A"}},{"$f":"RTD(\"sysq.rtd\",\"\",\"!XTDH`LC.99-1144:2\")","v":{"$error":"#N/A"}},{"$f":"RTD(\"sysq.rtd\",\"\",\"!DTAI`LC.99-1144:2\")","v":{"$error":"#N/A"}},{"$f":"RTD(\"sysq.rtd\",\"\",\"WTX&`004.10-1144:2\")","v":{"$error":"#N/A"}},{"$error":"#N/A"}]
["1145",{"$f":"RTD(\"sysq.rtd\",\"\",\"!DTSH`LC.99-1145:2\")","v":{"$error":"#N/A"}},{"$f":"RTD(\"sysq.rtd\",\"\",\"!DTDH`LC.99-1145:2\")","v":{"$error":"#N/A"}},{"$f":"RTD(\"sysq.rtd\",\"\",\"!XTSH`LC.99-1145:2\")","v":{"$error":"#N/A"}},{"$f":"RTD(\"sysq.rtd\",\"\",\"!XTDH`LC.99-1145:2\")","v":{"$error":"#N/A"}},{"$f":"RTD(\"sysq.rtd\",\"\",\"!DTAI`LC.99-1145:2\")","v":{"$error":"#N/A"}},{"$f":"RTD(\"sysq.rtd\",\"\",\"WTX&`004.10-1145:2\")","v":{"$error":"#N/A"}},{"$error":"#N/A"}]
["1146",{"$f":"RTD(\"sysq.rtd\",\"\",\"!DTSH`LC.99-1146:2\")","v":{"$error":"#N/A"}},{"$f":"RTD(\"sysq.rtd\",\"\",\"!DTDH`LC.99-1146:2\")","v":{"$error":"#N/A"}},{"$f":"RTD(\"sysq.rtd\",\"\",\"!XTSH`LC.99-1146:2\")","v":{"$error":"#N/A"}},{"$f":"RTD(\"sysq.rtd\",\"\",\"!XTDH`LC.99-1146:2\")","v":{"$error":"#N/A"}},{"$f":"RTD(\"sysq.rtd\",\"\",\"!DTAI`LC.99-1146:2\")","v":{"$error":"#N/A"}},{"$f":"RTD(\"sysq.rtd\",\"\",\"WTX&`004.10-1146:2\")","v":{"$error":"#N/A"}},{"$error":"#N/A"}]
["1147",{"$f":"RTD(\"sysq.rtd\",\"\",\"!DTSH`LC.99-1147:2\")","v":{"$error":"#N/A"}},{"$f":"RTD(\"sysq.rtd\",\"\",\"!DTDH`LC.99-1147:2\")","v":{"$error":"#N/A"}},{"$f":"RTD(\"sysq.rtd\",\"\",\"!XTSH`LC.99-1147:2\")","v":{"$error":"#N/A"}},{"$f":"RTD(\"sysq.rtd\",\"\",\"!XTDH`LC.99-1147:2\")","v":{"$error":"#N/A"}},{"$f":"RTD(\"sysq.rtd\",\"\",\"!DTAI`LC.99-1147:2\")","v":{"$error":"#N/A"}},{"$f":"RTD(\"sysq.rtd\",\"\",\"WTX&`004.10-1147:2\")","v":{"$error":"#N/A"}},{"$error":"#N/A"}]
["1148",{"$f":"RTD(\"sysq.rtd\",\"\",\"!DTSH`LC.99-1148:2\")","v":{"$error":"#N/A"}},{"$f":"RTD(\"sysq.rtd\",\"\",\"!DTDH`LC.99-1148:2\")","v":{"$error":"#N/A"}},{"$f":"RTD(\"sysq.rtd\",\"\",\"!XTSH`LC.99-1148:2\")","v":{"$error":"#N/A"}},{"$f":"RTD(\"sysq.rtd\",\"\",\"!XTDH`LC.99-1148:2\")","v":{"$error":"#N/A"}},{"$f":"RTD(\"sysq.rtd\",\"\",\"!DTAI`LC.99-1148:2\")","v":{"$error":"#N/A"}},{"$f":"RTD(\"sysq.rtd\",\"\",\"WTX&`004.10-1148:2\")","v":{"$error":"#N/A"}},{"$error":"#N/A"}]
["1149",{"$f":"RTD(\"sysq.rtd\",\"\",\"!DTSH`LC.99-1149:2\")","v":{"$error":"#N/A"}},{"$f":"RTD(\"sysq.rtd\",\"\",\"!DTDH`LC.99-1149:2\")","v":{"$error":"#N/A"}},{"$f":"RTD(\"sysq.rtd\",\"\",\"!XTSH`LC.99-1149:2\")","v":{"$error":"#N/A"}},{"$f":"RTD(\"sysq.rtd\",\"\",\"!XTDH`LC.99-1149:2\")","v":{"$error":"#N/A"}},{"$f":"RTD(\"sysq.rtd\",\"\",\"!DTAI`LC.99-1149:2\")","v":{"$error":"#N/A"}},{"$f":"RTD(\"sysq.rtd\",\"\",\"WTX&`004.10-1149:2\")","v":{"$error":"#N/A"}},{"$error":"#N/A"}]
["1150",{"$f":"RTD(\"sysq.rtd\",\"\",\"!DTSH`LC.99-1150:2\")","v":{"$error":"#N/A"}},{"$f":"RTD(\"sysq.rtd\",\"\",\"!DTDH`LC.99-1150:2\")","v":{"$error":"#N/A"}},{"$f":"RTD(\"sysq.rtd\",\"\",\"!XTSH`LC.99-1150:2\")","v":{"$error":"#N/A"}},{"$f":"RTD(\"sysq.rtd\",\"\",\"!XTDH`LC.99-1150:2\")","v":{"$error":"#N/A"}},{"$f":"RTD(\"sysq.rtd\",\"\",\"!DTAI`LC.99-1150:2\")","v":{"$error":"#N/A"}},{"$f":"RTD(\"sysq.rtd\",\"\",\"WTX&`004.10-1150:2\")","v":{"$error":"#N/A"}},{"$error":"#N/A"}]
["1151",{"$f":"RTD(\"sysq.rtd\",\"\",\"!DTSH`LC.99-1151:2\")","v":{"$error":"#N/A"}},{"$f":"RTD(\"sysq.rtd\",\"\",\"!DTDH`LC.99-1151:2\")","v":{"$error":"#N/A"}},{"$f":"RTD(\"sysq.rtd\",\"\",\"!XTSH`LC.99-1151:2\")","v":{"$error":"#N/A"}},{"$f":"RTD(\"sysq.rtd\",\"\",\"!XTDH`LC.99-1151:2\")","v":{"$error":"#N/A"}},{"$f":"RTD(\"sysq.rtd\",\"\",\"!DTAI`LC.99-1151:2\")","v":{"$error":"#N/A"}},{"$f":"RTD(\"sysq.rtd\",\"\",\"WTX&`004.10-1151:2\")","v":{"$error":"#N/A"}},{"$error":"#N/A"}]
["1152",{"$f":"RTD(\"sysq.rtd\",\"\",\"!DTSH`LC.99-1152:2\")","v":{"$error":"#N/A"}},{"$f":"RTD(\"sysq.rtd\",\"\",\"!DTDH`LC.99-1152:2\")","v":{"$error":"#N/A"}},{"$f":"RTD(\"sysq.rtd\",\"\",\"!XTSH`LC.99-1152:2\")","v":{"$error":"#N/A"}},{"$f":"RTD(\"sysq.rtd\",\"\",\"!XTDH`LC.99-1152:2\")","v":{"$error":"#N/A"}},{"$f":"RTD(\"sysq.rtd\",\"\",\"!DTAI`LC.99-1152:2\")","v":{"$error":"#N/A"}},{"$f":"RTD(\"sysq.rtd\",\"\",\"WTX&`004.10-1152:2\")","v":{"$error":"#N/A"}},{"$error":"#N/A"}]
["1153",{"$f":"RTD(\"sysq.rtd\",\"\",\"!DTSH`LC.99-1153:2\")","v":{"$error":"#N/A"}},{"$f":"RTD(\"sysq.rtd\",\"\",\"!DTDH`LC.99-1153:2\")","v":{"$error":"#N/A"}},{"$f":"RTD(\"sysq.rtd\",\"\",\"!XTSH`LC.99-1153:2\")","v":{"$error":"#N/A"}},{"$f":"RTD(\"sysq.rtd\",\"\",\"!XTDH`LC.99-1153:2\")","v":{"$error":"#N/A"}},{"$f":"RTD(\"sysq.rtd\",\"\",\"!DTAI`LC.99-1153:2\")","v":{"$error":"#N/A"}},{"$f":"RTD(\"sysq.rtd\",\"\",\"WTX&`004.10-1153:2\")","v":{"$error":"#N/A"}},{"$error":"#N/A"}]
["1154",{"$f":"RTD(\"sysq.rtd\",\"\",\"!DTSH`LC.99-1154:2\")","v":{"$error":"#N/A"}},{"$f":"RTD(\"sysq.rtd\",\"\",\"!DTDH`LC.99-1154:2\")","v":{"$error":"#N/A"}},{"$f":"RTD(\"sysq.rtd\",\"\",\"!XTSH`LC.99-1154:2\")","v":{"$error":"#N/A"}},{"$f":"RTD(\"sysq.rtd\",\"\",\"!XTDH`LC.99-1154:2\")","v":{"$error":"#N/A"}},{"$f":"RTD(\"sysq.rtd\",\"\",\"!DTAI`LC.99-1154:2\")","v":{"$error":"#N/A"}},{"$f":"RTD(\"sysq.rtd\",\"\",\"WTX&`004.10-1154:2\")","v":{"$error":"#N/A"}},{"$error":"#N/A"}]
["1155",{"$f":"RTD(\"sysq.rtd\",\"\",\"!DTSH`LC.99-1155:2\")","v":{"$error":"#N/A"}},{"$f":"RTD(\"sysq.rtd\",\"\",\"!DTDH`LC.99-1155:2\")","v":{"$error":"#N/A"}},{"$f":"RTD(\"sysq.rtd\",\"\",\"!XTSH`LC.99-1155:2\")","v":{"$error":"#N/A"}},{"$f":"RTD(\"sysq.rtd\",\"\",\"!XTDH`LC.99-1155:2\")","v":{"$error":"#N/A"}},{"$f":"RTD(\"sysq.rtd\",\"\",\"!DTAI`LC.99-1155:2\")","v":{"$error":"#N/A"}},{"$f":"RTD(\"sysq.rtd\",\"\",\"WTX&`004.10-1155:2\")","v":{"$error":"#N/A"}},{"$error":"#N/A"}]
["1156",{"$f":"RTD(\"sysq.rtd\",\"\",\"!DTSH`LC.99-1156:2\")","v":{"$error":"#N/A"}},{"$f":"RTD(\"sysq.rtd\",\"\",\"!DTDH`LC.99-1156:2\")","v":{"$error":"#N/A"}},{"$f":"RTD(\"sysq.rtd\",\"\",\"!XTSH`LC.99-1156:2\")","v":{"$error":"#N/A"}},{"$f":"RTD(\"sysq.rtd\",\"\",\"!XTDH`LC.99-1156:2\")","v":{"$error":"#N/A"}},{"$f":"RTD(\"sysq.rtd\",\"\",\"!DTAI`LC.99-1156:2\")","v":{"$error":"#N/A"}},{"$f":"RTD(\"sysq.rtd\",\"\",\"WTX&`004.10-1156:2\")","v":{"$error":"#N/A"}},{"$error":"#N/A"}]
["1157",{"$f":"RTD(\"sysq.rtd\",\"\",\"!DTSH`LC.99-1157:2\")","v":{"$error":"#N/A"}},{"$f":"RTD(\"sysq.rtd\",\"\",\"!DTDH`LC.99-1157:2\")","v":{"$error":"#N/A"}},{"$f":"RTD(\"sysq.rtd\",\"\",\"!XTSH`LC.99-1157:2\")","v":{"$error":"#N/A"}},{"$f":"RTD(\"sysq.rtd\",\"\",\"!XTDH`LC.99-1157:2\")","v":{"$error":"#N/A"}},{"$f":"RTD(\"sysq.rtd\",\"\",\"!DTAI`LC.99-1157:2\")","v":{"$error":"#N/A"}},{"$f":"RTD(\"sysq.rtd\",\"\",\"WTX&`004.10-1157:2\")","v":{"$error":"#N/A"}},{"$error":"#N/A"}]
["1158",{"$f":"RTD(\"sysq.rtd\",\"\",\"!DTSH`LC.99-1158:2\")","v":{"$error":"#N/A"}},{"$f":"RTD(\"sysq.rtd\",\"\",\"!DTDH`LC.99-1158:2\")","v":{"$error":"#N/A"}},{"$f":"RTD(\"sysq.rtd\",\"\",\"!XTSH`LC.99-1158:2\")","v":{"$error":"#N/A"}},{"$f":"RTD(\"sysq.rtd\",\"\",\"!XTDH`LC.99-1158:2\")","v":{"$error":"#N/A"}},{"$f":"RTD(\"sysq.rtd\",\"\",\"!DTAI`LC.99-1158:2\")","v":{"$error":"#N/A"}},{"$f":"RTD(\"sysq.rtd\",\"\",\"WTX&`004.10-1158:2\")","v":{"$error":"#N/A"}},{"$f":"SQRT(ABS(F198))*(ABS(F198)/F198)","v":{"$error":"#N/A"}}]
["1159",{"$f":"RTD(\"sysq.rtd\",\"\",\"!DTSH`LC.99-1159:2\")","v":{"$error":"#N/A"}},{"$f":"RTD(\"sysq.rtd\",\"\",\"!DTDH`LC.99-1159:2\")","v":{"$error":"#N/A"}},{"$f":"RTD(\"sysq.rtd\",\"\",\"!XTSH`LC.99-1159:2\")","v":{"$error":"#N/A"}},{"$f":"RTD(\"sysq.rtd\",\"\",\"!XTDH`LC.99-1159:2\")","v":{"$error":"#N/A"}},{"$f":"RTD(\"sysq.rtd\",\"\",\"!DTAI`LC.99-1159:2\")","v":{"$error":"#N/A"}},{"$f":"RTD(\"sysq.rtd\",\"\",\"WTX&`004.10-1159:2\")","v":{"$error":"#N/A"}},{"$error":"#N/A"}]
["1200",{"$f":"RTD(\"sysq.rtd\",\"\",\"!DTSH`LC.99-1200:2\")","v":{"$error":"#N/A"}},{"$f":"RTD(\"sysq.rtd\",\"\",\"!DTDH`LC.99-1200:2\")","v":{"$error":"#N/A"}},{"$f":"RTD(\"sysq.rtd\",\"\",\"!XTSH`LC.99-1200:2\")","v":{"$error":"#N/A"}},{"$f":"RTD(\"sysq.rtd\",\"\",\"!XTDH`LC.99-1200:2\")","v":{"$error":"#N/A"}},{"$f":"RTD(\"sysq.rtd\",\"\",\"!DTAI`LC.99-1200:2\")","v":{"$error":"#N/A"}},{"$f":"RTD(\"sysq.rtd\",\"\",\"WTX&`004.10-1200:2\")","v":{"$error":"#N/A"}},{"$error":"#N/A"}]
["1201",{"$f":"RTD(\"sysq.rtd\",\"\",\"!DTSH`LC.99-1201:2\")","v":{"$error":"#N/A"}},{"$f":"RTD(\"sysq.rtd\",\"\",\"!DTDH`LC.99-1201:2\")","v":{"$error":"#N/A"}},{"$f":"RTD(\"sysq.rtd\",\"\",\"!XTSH`LC.99-1201:2\")","v":{"$error":"#N/A"}},{"$f":"RTD(\"sysq.rtd\",\"\",\"!XTDH`LC.99-1201:2\")","v":{"$error":"#N/A"}},{"$f":"RTD(\"sysq.rtd\",\"\",\"!DTAI`LC.99-1201:2\")","v":{"$error":"#N/A"}},{"$f":"RTD(\"sysq.rtd\",\"\",\"WTX&`004.10-1201:2\")","v":{"$error":"#N/A"}},{"$error":"#N/A"}]
["1202",{"$f":"RTD(\"sysq.rtd\",\"\",\"!DTSH`LC.99-1202:2\")","v":{"$error":"#N/A"}},{"$f":"RTD(\"sysq.rtd\",\"\",\"!DTDH`LC.99-1202:2\")","v":{"$error":"#N/A"}},{"$f":"RTD(\"sysq.rtd\",\"\",\"!XTSH`LC.99-1202:2\")","v":{"$error":"#N/A"}},{"$f":"RTD(\"sysq.rtd\",\"\",\"!XTDH`LC.99-1202:2\")","v":{"$error":"#N/A"}},{"$f":"RTD(\"sysq.rtd\",\"\",\"!DTAI`LC.99-1202:2\")","v":{"$error":"#N/A"}},{"$f":"RTD(\"sysq.rtd\",\"\",\"WTX&`004.10-1202:2\")","v":{"$error":"#N/A"}},{"$error":"#N/A"}]
["1203",{"$f":"RTD(\"sysq.rtd\",\"\",\"!DTSH`LC.99-1203:2\")","v":{"$error":"#N/A"}},{"$f":"RTD(\"sysq.rtd\",\"\",\"!DTDH`LC.99-1203:2\")","v":{"$error":"#N/A"}},{"$f":"RTD(\"sysq.rtd\",\"\",\"!XTSH`LC.99-1203:2\")","v":{"$error":"#N/A"}},{"$f":"RTD(\"sysq.rtd\",\"\",\"!XTDH`LC.99-1203:2\")","v":{"$error":"#N/A"}},{"$f":"RTD(\"sysq.rtd\",\"\",\"!DTAI`LC.99-1203:2\")","v":{"$error":"#N/A"}},{"$f":"RTD(\"sysq.rtd\",\"\",\"WTX&`004.10-1203:2\")","v":{"$error":"#N/A"}},{"$error":"#N/A"}]
["1204",{"$f":"RTD(\"sysq.rtd\",\"\",\"!DTSH`LC.99-1204:2\")","v":{"$error":"#N/A"}},{"$f":"RTD(\"sysq.rtd\",\"\",\"!DTDH`LC.99-1204:2\")","v":{"$error":"#N/A"}},{"$f":"RTD(\"sysq.rtd\",\"\",\"!XTSH`LC.99-1204:2\")","v":{"$error":"#N/A"}},{"$f":"RTD(\"sysq.rtd\",\"\",\"!XTDH`LC.99-1204:2\")","v":{"$error":"#N/A"}},{"$f":"RTD(\"sysq.rtd\",\"\",\"!DTAI`LC.99-1204:2\")","v":{"$error":"#N/A"}},{"$f":"RTD(\"sysq.rtd\",\"\",\"WTX&`004.10-1204:2\")","v":{"$error":"#N/A"}},{"$error":"#N/A"}]
["1205",{"$f":"RTD(\"sysq.rtd\",\"\",\"!DTSH`LC.99-1205:2\")","v":{"$error":"#N/A"}},{"$f":"RTD(\"sysq.rtd\",\"\",\"!DTDH`LC.99-1205:2\")","v":{"$error":"#N/A"}},{"$f":"RTD(\"sysq.rtd\",\"\",\"!XTSH`LC.99-1205:2\")","v":{"$error":"#N/A"}},{"$f":"RTD(\"sysq.rtd\",\"\",\"!XTDH`LC.99-1205:2\")","v":{"$error":"#N/A"}},{"$f":"RTD(\"sysq.rtd\",\"\",\"!DTAI`LC.99-1205:2\")","v":{"$error":"#N/A"}},{"$f":"RTD(\"sysq.rtd\",\"\",\"WTX&`004.10-1205:2\")","v":{"$error":"#N/A"}},{"$error":"#N/A"}]
["1206",{"$f":"RTD(\"sysq.rtd\",\"\",\"!DTSH`LC.99-1206:2\")","v":{"$error":"#N/A"}},{"$f":"RTD(\"sysq.rtd\",\"\",\"!DTDH`LC.99-1206:2\")","v":{"$error":"#N/A"}},{"$f":"RTD(\"sysq.rtd\",\"\",\"!XTSH`LC.99-1206:2\")","v":{"$error":"#N/A"}},{"$f":"RTD(\"sysq.rtd\",\"\",\"!XTDH`LC.99-1206:2\")","v":{"$error":"#N/A"}},{"$f":"RTD(\"sysq.rtd\",\"\",\"!DTAI`LC.99-1206:2\")","v":{"$error":"#N/A"}},{"$f":"RTD(\"sysq.rtd\",\"\",\"WTX&`004.10-1206:2\")","v":{"$error":"#N/A"}},{"$error":"#N/A"}]
["1207",{"$f":"RTD(\"sysq.rtd\",\"\",\"!DTSH`LC.99-1207:2\")","v":{"$error":"#N/A"}},{"$f":"RTD(\"sysq.rtd\",\"\",\"!DTDH`LC.99-1207:2\")","v":{"$error":"#N/A"}},{"$f":"RTD(\"sysq.rtd\",\"\",\"!XTSH`LC.99-1207:2\")","v":{"$error":"#N/A"}},{"$f":"RTD(\"sysq.rtd\",\"\",\"!XTDH`LC.99-1207:2\")","v":{"$error":"#N/A"}},{"$f":"RTD(\"sysq.rtd\",\"\",\"!DTAI`LC.99-1207:2\")","v":{"$error":"#N/A"}},{"$f":"RTD(\"sysq.rtd\",\"\",\"WTX&`004.10-1207:2\")","v":{"$error":"#N/A"}},{"$error":"#N/A"}]
["1208",{"$f":"RTD(\"sysq.rtd\",\"\",\"!DTSH`LC.99-1208:2\")","v":{"$error":"#N/A"}},{"$f":"RTD(\"sysq.rtd\",\"\",\"!DTDH`LC.99-1208:2\")","v":{"$error":"#N/A"}},{"$f":"RTD(\"sysq.rtd\",\"\",\"!XTSH`LC.99-1208:2\")","v":{"$error":"#N/A"}},{"$f":"RTD(\"sysq.rtd\",\"\",\"!XTDH`LC.99-1208:2\")","v":{"$error":"#N/A"}},{"$f":"RTD(\"sysq.rtd\",\"\",\"!DTAI`LC.99-1208:2\")","v":{"$error":"#N/A"}},{"$f":"RTD(\"sysq.rtd\",\"\",\"WTX&`004.10-1208:2\")","v":{"$error":"#N/A"}},{"$error":"#N/A"}]
["1209",{"$f":"RTD(\"sysq.rtd\",\"\",\"!DTSH`LC.99-1209:2\")","v":{"$error":"#N/A"}},{"$f":"RTD(\"sysq.rtd\",\"\",\"!DTDH`LC.99-1209:2\")","v":{"$error":"#N/A"}},{"$f":"RTD(\"sysq.rtd\",\"\",\"!XTSH`LC.99-1209:2\")","v":{"$error":"#N/A"}},{"$f":"RTD(\"sysq.rtd\",\"\",\"!XTDH`LC.99-1209:2\")","v":{"$error":"#N/A"}},{"$f":"RTD(\"sysq.rtd\",\"\",\"!DTAI`LC.99-1209:2\")","v":{"$error":"#N/A"}},{"$f":"RTD(\"sysq.rtd\",\"\",\"WTX&`004.10-1209:2\")","v":{"$error":"#N/A"}},{"$error":"#N/A"}]
["1210",{"$f":"RTD(\"sysq.rtd\",\"\",\"!DTSH`LC.99-1210:2\")","v":{"$error":"#N/A"}},{"$f":"RTD(\"sysq.rtd\",\"\",\"!DTDH`LC.99-1210:2\")","v":{"$error":"#N/A"}},{"$f":"RTD(\"sysq.rtd\",\"\",\"!XTSH`LC.99-1210:2\")","v":{"$error":"#N/A"}},{"$f":"RTD(\"sysq.rtd\",\"\",\"!XTDH`LC.99-1210:2\")","v":{"$error":"#N/A"}},{"$f":"RTD(\"sysq.rtd\",\"\",\"!DTAI`LC.99-1210:2\")","v":{"$error":"#N/A"}},{"$f":"RTD(\"sysq.rtd\",\"\",\"WTX&`004.10-1210:2\")","v":{"$error":"#N/A"}},{"$error":"#N/A"}]
["1211",{"$f":"RTD(\"sysq.rtd\",\"\",\"!DTSH`LC.99-1211:2\")","v":{"$error":"#N/A"}},{"$f":"RTD(\"sysq.rtd\",\"\",\"!DTDH`LC.99-1211:2\")","v":{"$error":"#N/A"}},{"$f":"RTD(\"sysq.rtd\",\"\",\"!XTSH`LC.99-1211:2\")","v":{"$error":"#N/A"}},{"$f":"RTD(\"sysq.rtd\",\"\",\"!XTDH`LC.99-1211:2\")","v":{"$error":"#N/A"}},{"$f":"RTD(\"sysq.rtd\",\"\",\"!DTAI`LC.99-1211:2\")","v":{"$error":"#N/A"}},{"$f":"RTD(\"sysq.rtd\",\"\",\"WTX&`004.10-1211:2\")","v":{"$error":"#N/A"}},{"$error":"#N/A"}]
["1212",{"$f":"RTD(\"sysq.rtd\",\"\",\"!DTSH`LC.99-1212:2\")","v":{"$error":"#N/A"}},{"$f":"RTD(\"sysq.rtd\",\"\",\"!DTDH`LC.99-1212:2\")","v":{"$error":"#N/A"}},{"$f":"RTD(\"sysq.rtd\",\"\",\"!XTSH`LC.99-1212:2\")","v":{"$error":"#N/A"}},{"$f":"RTD(\"sysq.rtd\",\"\",\"!XTDH`LC.99-1212:2\")","v":{"$error":"#N/A"}},{"$f":"RTD(\"sysq.rtd\",\"\",\"!DTAI`LC.99-1212:2\")","v":{"$error":"#N/A"}},{"$f":"RTD(\"sysq.rtd\",\"\",\"WTX&`004.10-1212:2\")","v":{"$error":"#N/A"}},{"$error":"#N/A"}]
["1213",{"$f":"RTD(\"sysq.rtd\",\"\",\"!DTSH`LC.99-1213:2\")","v":{"$error":"#N/A"}},{"$f":"RTD(\"sysq.rtd\",\"\",\"!DTDH`LC.99-1213:2\")","v":{"$error":"#N/A"}},{"$f":"RTD(\"sysq.rtd\",\"\",\"!XTSH`LC.99-1213:2\")","v":{"$error":"#N/A"}},{"$f":"RTD(\"sysq.rtd\",\"\",\"!XTDH`LC.99-1213:2\")","v":{"$error":"#N/A"}},{"$f":"RTD(\"sysq.rtd\",\"\",\"!DTAI`LC.99-1213:2\")","v":{"$error":"#N/A"}},{"$f":"RTD(\"sysq.rtd\",\"\",\"WTX&`004.10-1213:2\")","v":{"$error":"#N/A"}},{"$error":"#N/A"}]
["1214",{"$f":"RTD(\"sysq.rtd\",\"\",\"!DTSH`LC.99-1214:2\")","v":{"$error":"#N/A"}},{"$f":"RTD(\"sysq.rtd\",\"\",\"!DTDH`LC.99-1214:2\")","v":{"$error":"#N/A"}},{"$f":"RTD(\"sysq.rtd\",\"\",\"!XTSH`LC.99-1214:2\")","v":{"$error":"#N/A"}},{"$f":"RTD(\"sysq.rtd\",\"\",\"!XTDH`LC.99-1214:2\")","v":{"$error":"#N/A"}},{"$f":"RTD(\"sysq.rtd\",\"\",\"!DTAI`LC.99-1214:2\")","v":{"$error":"#N/A"}},{"$f":"RTD(\"sysq.rtd\",\"\",\"WTX&`004.10-1214:2\")","v":{"$error":"#N/A"}},{"$error":"#N/A"}]
["1215",{"$f":"RTD(\"sysq.rtd\",\"\",\"!DTSH`LC.99-1215:2\")","v":{"$error":"#N/A"}},{"$f":"RTD(\"sysq.rtd\",\"\",\"!DTDH`LC.99-1215:2\")","v":{"$error":"#N/A"}},{"$f":"RTD(\"sysq.rtd\",\"\",\"!XTSH`LC.99-1215:2\")","v":{"$error":"#N/A"}},{"$f":"RTD(\"sysq.rtd\",\"\",\"!XTDH`LC.99-1215:2\")","v":{"$error":"#N/A"}},{"$f":"RTD(\"sysq.rtd\",\"\",\"!DTAI`LC.99-1215:2\")","v":{"$error":"#N/A"}},{"$f":"RTD(\"sysq.rtd\",\"\",\"WTX&`004.10-1215:2\")","v":{"$error":"#N/A"}},{"$error":"#N/A"}]
["1216",{"$f":"RTD(\"sysq.rtd\",\"\",\"!DTSH`LC.99-1216:2\")","v":{"$error":"#N/A"}},{"$f":"RTD(\"sysq.rtd\",\"\",\"!DTDH`LC.99-1216:2\")","v":{"$error":"#N/A"}},{"$f":"RTD(\"sysq.rtd\",\"\",\"!XTSH`LC.99-1216:2\")","v":{"$error":"#N/A"}},{"$f":"RTD(\"sysq.rtd\",\"\",\"!XTDH`LC.99-1216:2\")","v":{"$error":"#N/A"}},{"$f":"RTD(\"sysq.rtd\",\"\",\"!DTAI`LC.99-1216:2\")","v":{"$error":"#N/A"}},{"$f":"RTD(\"sysq.rtd\",\"\",\"WTX&`004.10-1216:2\")","v":{"$error":"#N/A"}},{"$error":"#N/A"}]
["1217",{"$f":"RTD(\"sysq.rtd\",\"\",\"!DTSH`LC.99-1217:2\")","v":{"$error":"#N/A"}},{"$f":"RTD(\"sysq.rtd\",\"\",\"!DTDH`LC.99-1217:2\")","v":{"$error":"#N/A"}},{"$f":"RTD(\"sysq.rtd\",\"\",\"!XTSH`LC.99-1217:2\")","v":{"$error":"#N/A"}},{"$f":"RTD(\"sysq.rtd\",\"\",\"!XTDH`LC.99-1217:2\")","v":{"$error":"#N/A"}},{"$f":"RTD(\"sysq.rtd\",\"\",\"!DTAI`LC.99-1217:2\")","v":{"$error":"#N/A"}},{"$f":"RTD(\"sysq.rtd\",\"\",\"WTX&`004.10-1217:2\")","v":{"$error":"#N/A"}},{"$error":"#N/A"}]
["1218",{"$f":"RTD(\"sysq.rtd\",\"\",\"!DTSH`LC.99-1218:2\")","v":{"$error":"#N/A"}},{"$f":"RTD(\"sysq.rtd\",\"\",\"!DTDH`LC.99-1218:2\")","v":{"$error":"#N/A"}},{"$f":"RTD(\"sysq.rtd\",\"\",\"!XTSH`LC.99-1218:2\")","v":{"$error":"#N/A"}},{"$f":"RTD(\"sysq.rtd\",\"\",\"!XTDH`LC.99-1218:2\")","v":{"$error":"#N/A"}},{"$f":"RTD(\"sysq.rtd\",\"\",\"!DTAI`LC.99-1218:2\")","v":{"$error":"#N/A"}},{"$f":"RTD(\"sysq.rtd\",\"\",\"WTX&`004.10-1218:2\")","v":{"$error":"#N/A"}},{"$error":"#N/A"}]
["1219",{"$f":"RTD(\"sysq.rtd\",\"\",\"!DTSH`LC.99-1219:2\")","v":{"$error":"#N/A"}},{"$f":"RTD(\"sysq.rtd\",\"\",\"!DTDH`LC.99-1219:2\")","v":{"$error":"#N/A"}},{"$f":"RTD(\"sysq.rtd\",\"\",\"!XTSH`LC.99-1219:2\")","v":{"$error":"#N/A"}},{"$f":"RTD(\"sysq.rtd\",\"\",\"!XTDH`LC.99-1219:2\")","v":{"$error":"#N/A"}},{"$f":"RTD(\"sysq.rtd\",\"\",\"!DTAI`LC.99-1219:2\")","v":{"$error":"#N/A"}},{"$f":"RTD(\"sysq.rtd\",\"\",\"WTX&`004.10-1219:2\")","v":{"$error":"#N/A"}},{"$error":"#N/A"}]
["1220",{"$f":"RTD(\"sysq.rtd\",\"\",\"!DTSH`LC.99-1220:2\")","v":{"$error":"#N/A"}},{"$f":"RTD(\"sysq.rtd\",\"\",\"!DTDH`LC.99-1220:2\")","v":{"$error":"#N/A"}},{"$f":"RTD(\"sysq.rtd\",\"\",\"!XTSH`LC.99-1220:2\")","v":{"$error":"#N/A"}},{"$f":"RTD(\"sysq.rtd\",\"\",\"!XTDH`LC.99-1220:2\")","v":{"$error":"#N/A"}},{"$f":"RTD(\"sysq.rtd\",\"\",\"!DTAI`LC.99-1220:2\")","v":{"$error":"#N/A"}},{"$f":"RTD(\"sysq.rtd\",\"\",\"WTX&`004.10-1220:2\")","v":{"$error":"#N/A"}},{"$error":"#N/A"}]
["1221",{"$f":"RTD(\"sysq.rtd\",\"\",\"!DTSH`LC.99-1221:2\")","v":{"$error":"#N/A"}},{"$f":"RTD(\"sysq.rtd\",\"\",\"!DTDH`LC.99-1221:2\")","v":{"$error":"#N/A"}},{"$f":"RTD(\"sysq.rtd\",\"\",\"!XTSH`LC.99-1221:2\")","v":{"$error":"#N/A"}},{"$f":"RTD(\"sysq.rtd\",\"\",\"!XTDH`LC.99-1221:2\")","v":{"$error":"#N/A"}},{"$f":"RTD(\"sysq.rtd\",\"\",\"!DTAI`LC.99-1221:2\")","v":{"$error":"#N/A"}},{"$f":"RTD(\"sysq.rtd\",\"\",\"WTX&`004.10-1221:2\")","v":{"$error":"#N/A"}},{"$error":"#N/A"}]
["1222",{"$f":"RTD(\"sysq.rtd\",\"\",\"!DTSH`LC.99-1222:2\")","v":{"$error":"#N/A"}},{"$f":"RTD(\"sysq.rtd\",\"\",\"!DTDH`LC.99-1222:2\")","v":{"$error":"#N/A"}},{"$f":"RTD(\"sysq.rtd\",\"\",\"!XTSH`LC.99-1222:2\")","v":{"$error":"#N/A"}},{"$f":"RTD(\"sysq.rtd\",\"\",\"!XTDH`LC.99-1222:2\")","v":{"$error":"#N/A"}},{"$f":"RTD(\"sysq.rtd\",\"\",\"!DTAI`LC.99-1222:2\")","v":{"$error":"#N/A"}},{"$f":"RTD(\"sysq.rtd\",\"\",\"WTX&`004.10-1222:2\")","v":{"$error":"#N/A"}},{"$error":"#N/A"}]
["1223",{"$f":"RTD(\"sysq.rtd\",\"\",\"!DTSH`LC.99-1223:2\")","v":{"$error":"#N/A"}},{"$f":"RTD(\"sysq.rtd\",\"\",\"!DTDH`LC.99-1223:2\")","v":{"$error":"#N/A"}},{"$f":"RTD(\"sysq.rtd\",\"\",\"!XTSH`LC.99-1223:2\")","v":{"$error":"#N/A"}},{"$f":"RTD(\"sysq.rtd\",\"\",\"!XTDH`LC.99-1223:2\")","v":{"$error":"#N/A"}},{"$f":"RTD(\"sysq.rtd\",\"\",\"!DTAI`LC.99-1223:2\")","v":{"$error":"#N/A"}},{"$f":"RTD(\"sysq.rtd\",\"\",\"WTX&`004.10-1223:2\")","v":{"$error":"#N/A"}},{"$error":"#N/A"}]
["1224",{"$f":"RTD(\"sysq.rtd\",\"\",\"!DTSH`LC.99-1224:2\")","v":{"$error":"#N/A"}},{"$f":"RTD(\"sysq.rtd\",\"\",\"!DTDH`LC.99-1224:2\")","v":{"$error":"#N/A"}},{"$f":"RTD(\"sysq.rtd\",\"\",\"!XTSH`LC.99-1224:2\")","v":{"$error":"#N/A"}},{"$f":"RTD(\"sysq.rtd\",\"\",\"!XTDH`LC.99-1224:2\")","v":{"$error":"#N/A"}},{"$f":"RTD(\"sysq.rtd\",\"\",\"!DTAI`LC.99-1224:2\")","v":{"$error":"#N/A"}},{"$f":"RTD(\"sysq.rtd\",\"\",\"WTX&`004.10-1224:2\")","v":{"$error":"#N/A"}},{"$error":"#N/A"}]
["1225",{"$f":"RTD(\"sysq.rtd\",\"\",\"!DTSH`LC.99-1225:2\")","v":{"$error":"#N/A"}},{"$f":"RTD(\"sysq.rtd\",\"\",\"!DTDH`LC.99-1225:2\")","v":{"$error":"#N/A"}},{"$f":"RTD(\"sysq.rtd\",\"\",\"!XTSH`LC.99-1225:2\")","v":{"$error":"#N/A"}},{"$f":"RTD(\"sysq.rtd\",\"\",\"!XTDH`LC.99-1225:2\")","v":{"$error":"#N/A"}},{"$f":"RTD(\"sysq.rtd\",\"\",\"!DTAI`LC.99-1225:2\")","v":{"$error":"#N/A"}},{"$f":"RTD(\"sysq.rtd\",\"\",\"WTX&`004.10-1225:2\")","v":{"$error":"#N/A"}},{"$error":"#N/A"}]
["1226",{"$f":"RTD(\"sysq.rtd\",\"\",\"!DTSH`LC.99-1226:2\")","v":{"$error":"#N/A"}},{"$f":"RTD(\"sysq.rtd\",\"\",\"!DTDH`LC.99-1226:2\")","v":{"$error":"#N/A"}},{"$f":"RTD(\"sysq.rtd\",\"\",\"!XTSH`LC.99-1226:2\")","v":{"$error":"#N/A"}},{"$f":"RTD(\"sysq.rtd\",\"\",\"!XTDH`LC.99-1226:2\")","v":{"$error":"#N/A"}},{"$f":"RTD(\"sysq.rtd\",\"\",\"!DTAI`LC.99-1226:2\")","v":{"$error":"#N/A"}},{"$f":"RTD(\"sysq.rtd\",\"\",\"WTX&`004.10-1226:2\")","v":{"$error":"#N/A"}},{"$error":"#N/A"}]
["1227",{"$f":"RTD(\"sysq.rtd\",\"\",\"!DTSH`LC.99-1227:2\")","v":{"$error":"#N/A"}},{"$f":"RTD(\"sysq.rtd\",\"\",\"!DTDH`LC.99-1227:2\")","v":{"$error":"#N/A"}},{"$f":"RTD(\"sysq.rtd\",\"\",\"!XTSH`LC.99-1227:2\")","v":{"$error":"#N/A"}},{"$f":"RTD(\"sysq.rtd\",\"\",\"!XTDH`LC.99-1227:2\")","v":{"$error":"#N/A"}},{"$f":"RTD(\"sysq.rtd\",\"\",\"!DTAI`LC.99-1227:2\")","v":{"$error":"#N/A"}},{"$f":"RTD(\"sysq.rtd\",\"\",\"WTX&`004.10-1227:2\")","v":{"$error":"#N/A"}},{"$error":"#N/A"}]
["1228",{"$f":"RTD(\"sysq.rtd\",\"\",\"!DTSH`LC.99-1228:2\")","v":{"$error":"#N/A"}},{"$f":"RTD(\"sysq.rtd\",\"\",\"!DTDH`LC.99-1228:2\")","v":{"$error":"#N/A"}},{"$f":"RTD(\"sysq.rtd\",\"\",\"!XTSH`LC.99-1228:2\")","v":{"$error":"#N/A"}},{"$f":"RTD(\"sysq.rtd\",\"\",\"!XTDH`LC.99-1228:2\")","v":{"$error":"#N/A"}},{"$f":"RTD(\"sysq.rtd\",\"\",\"!DTAI`LC.99-1228:2\")","v":{"$error":"#N/A"}},{"$f":"RTD(\"sysq.rtd\",\"\",\"WTX&`004.10-1228:2\")","v":{"$error":"#N/A"}},{"$error":"#N/A"}]
["1229",{"$f":"RTD(\"sysq.rtd\",\"\",\"!DTSH`LC.99-1229:2\")","v":{"$error":"#N/A"}},{"$f":"RTD(\"sysq.rtd\",\"\",\"!DTDH`LC.99-1229:2\")","v":{"$error":"#N/A"}},{"$f":"RTD(\"sysq.rtd\",\"\",\"!XTSH`LC.99-1229:2\")","v":{"$error":"#N/A"}},{"$f":"RTD(\"sysq.rtd\",\"\",\"!XTDH`LC.99-1229:2\")","v":{"$error":"#N/A"}},{"$f":"RTD(\"sysq.rtd\",\"\",\"!DTAI`LC.99-1229:2\")","v":{"$error":"#N/A"}},{"$f":"RTD(\"sysq.rtd\",\"\",\"WTX&`004.10-1229:2\")","v":{"$error":"#N/A"}},{"$error":"#N/A"}]
["1230",{"$f":"RTD(\"sysq.rtd\",\"\",\"!DTSH`LC.99-1230:2\")","v":{"$error":"#N/A"}},{"$f":"RTD(\"sysq.rtd\",\"\",\"!DTDH`LC.99-1230:2\")","v":{"$error":"#N/A"}},{"$f":"RTD(\"sysq.rtd\",\"\",\"!XTSH`LC.99-1230:2\")","v":{"$error":"#N/A"}},{"$f":"RTD(\"sysq.rtd\",\"\",\"!XTDH`LC.99-1230:2\")","v":{"$error":"#N/A"}},{"$f":"RTD(\"sysq.rtd\",\"\",\"!DTAI`LC.99-1230:2\")","v":{"$error":"#N/A"}},{"$f":"RTD(\"sysq.rtd\",\"\",\"WTX&`004.10-1230:2\")","v":{"$error":"#N/A"}},{"$error":"#N/A"}]
["1231",{"$f":"RTD(\"sysq.rtd\",\"\",\"!DTSH`LC.99-1231:2\")","v":{"$error":"#N/A"}},{"$f":"RTD(\"sysq.rtd\",\"\",\"!DTDH`LC.99-1231:2\")","v":{"$error":"#N/A"}},{"$f":"RTD(\"sysq.rtd\",\"\",\"!XTSH`LC.99-1231:2\")","v":{"$error":"#N/A"}},{"$f":"RTD(\"sysq.rtd\",\"\",\"!XTDH`LC.99-1231:2\")","v":{"$error":"#N/A"}},{"$f":"RTD(\"sysq.rtd\",\"\",\"!DTAI`LC.99-1231:2\")","v":{"$error":"#N/A"}},{"$f":"RTD(\"sysq.rtd\",\"\",\"WTX&`004.10-1231:2\")","v":{"$error":"#N/A"}},{"$error":"#N/A"}]
["1232",{"$f":"RTD(\"sysq.rtd\",\"\",\"!DTSH`LC.99-1232:2\")","v":{"$error":"#N/A"}},{"$f":"RTD(\"sysq.rtd\",\"\",\"!DTDH`LC.99-1232:2\")","v":{"$error":"#N/A"}},{"$f":"RTD(\"sysq.rtd\",\"\",\"!XTSH`LC.99-1232:2\")","v":{"$error":"#N/A"}},{"$f":"RTD(\"sysq.rtd\",\"\",\"!XTDH`LC.99-1232:2\")","v":{"$error":"#N/A"}},{"$f":"RTD(\"sysq.rtd\",\"\",\"!DTAI`LC.99-1232:2\")","v":{"$error":"#N/A"}},{"$f":"RTD(\"sysq.rtd\",\"\",\"WTX&`004.10-1232:2\")","v":{"$error":"#N/A"}},{"$error":"#N/A"}]
["1233",{"$f":"RTD(\"sysq.rtd\",\"\",\"!DTSH`LC.99-1233:2\")","v":{"$error":"#N/A"}},{"$f":"RTD(\"sysq.rtd\",\"\",\"!DTDH`LC.99-1233:2\")","v":{"$error":"#N/A"}},{"$f":"RTD(\"sysq.rtd\",\"\",\"!XTSH`LC.99-1233:2\")","v":{"$error":"#N/A"}},{"$f":"RTD(\"sysq.rtd\",\"\",\"!XTDH`LC.99-1233:2\")","v":{"$error":"#N/A"}},{"$f":"RTD(\"sysq.rtd\",\"\",\"!DTAI`LC.99-1233:2\")","v":{"$error":"#N/A"}},{"$f":"RTD(\"sysq.rtd\",\"\",\"WTX&`004.10-1233:2\")","v":{"$error":"#N/A"}},{"$error":"#N/A"}]
["1234",{"$f":"RTD(\"sysq.rtd\",\"\",\"!DTSH`LC.99-1234:2\")","v":{"$error":"#N/A"}},{"$f":"RTD(\"sysq.rtd\",\"\",\"!DTDH`LC.99-1234:2\")","v":{"$error":"#N/A"}},{"$f":"RTD(\"sysq.rtd\",\"\",\"!XTSH`LC.99-1234:2\")","v":{"$error":"#N/A"}},{"$f":"RTD(\"sysq.rtd\",\"\",\"!XTDH`LC.99-1234:2\")","v":{"$error":"#N/A"}},{"$f":"RTD(\"sysq.rtd\",\"\",\"!DTAI`LC.99-1234:2\")","v":{"$error":"#N/A"}},{"$f":"RTD(\"sysq.rtd\",\"\",\"WTX&`004.10-1234:2\")","v":{"$error":"#N/A"}},{"$error":"#N/A"}]
["1235",{"$f":"RTD(\"sysq.rtd\",\"\",\"!DTSH`LC.99-1235:2\")","v":{"$error":"#N/A"}},{"$f":"RTD(\"sysq.rtd\",\"\",\"!DTDH`LC.99-1235:2\")","v":{"$error":"#N/A"}},{"$f":"RTD(\"sysq.rtd\",\"\",\"!XTSH`LC.99-1235:2\")","v":{"$error":"#N/A"}},{"$f":"RTD(\"sysq.rtd\",\"\",\"!XTDH`LC.99-1235:2\")","v":{"$error":"#N/A"}},{"$f":"RTD(\"sysq.rtd\",\"\",\"!DTAI`LC.99-1235:2\")","v":{"$error":"#N/A"}},{"$f":"RTD(\"sysq.rtd\",\"\",\"WTX&`004.10-1235:2\")","v":{"$error":"#N/A"}},{"$error":"#N/A"}]
["1236",{"$f":"RTD(\"sysq.rtd\",\"\",\"!DTSH`LC.99-1236:2\")","v":{"$error":"#N/A"}},{"$f":"RTD(\"sysq.rtd\",\"\",\"!DTDH`LC.99-1236:2\")","v":{"$error":"#N/A"}},{"$f":"RTD(\"sysq.rtd\",\"\",\"!XTSH`LC.99-1236:2\")","v":{"$error":"#N/A"}},{"$f":"RTD(\"sysq.rtd\",\"\",\"!XTDH`LC.99-1236:2\")","v":{"$error":"#N/A"}},{"$f":"RTD(\"sysq.rtd\",\"\",\"!DTAI`LC.99-1236:2\")","v":{"$error":"#N/A"}},{"$f":"RTD(\"sysq.rtd\",\"\",\"WTX&`004.10-1236:2\")","v":{"$error":"#N/A"}},{"$error":"#N/A"}]
["1237",{"$f":"RTD(\"sysq.rtd\",\"\",\"!DTSH`LC.99-1237:2\")","v":{"$error":"#N/A"}},{"$f":"RTD(\"sysq.rtd\",\"\",\"!DTDH`LC.99-1237:2\")","v":{"$error":"#N/A"}},{"$f":"RTD(\"sysq.rtd\",\"\",\"!XTSH`LC.99-1237:2\")","v":{"$error":"#N/A"}},{"$f":"RTD(\"sysq.rtd\",\"\",\"!XTDH`LC.99-1237:2\")","v":{"$error":"#N/A"}},{"$f":"RTD(\"sysq.rtd\",\"\",\"!DTAI`LC.99-1237:2\")","v":{"$error":"#N/A"}},{"$f":"RTD(\"sysq.rtd\",\"\",\"WTX&`004.10-1237:2\")","v":{"$error":"#N/A"}},{"$error":"#N/A"}]
["1238",{"$f":"RTD(\"sysq.rtd\",\"\",\"!DTSH`LC.99-1238:2\")","v":{"$error":"#N/A"}},{"$f":"RTD(\"sysq.rtd\",\"\",\"!DTDH`LC.99-1238:2\")","v":{"$error":"#N/A"}},{"$f":"RTD(\"sysq.rtd\",\"\",\"!XTSH`LC.99-1238:2\")","v":{"$error":"#N/A"}},{"$f":"RTD(\"sysq.rtd\",\"\",\"!XTDH`LC.99-1238:2\")","v":{"$error":"#N/A"}},{"$f":"RTD(\"sysq.rtd\",\"\",\"!DTAI`LC.99-1238:2\")","v":{"$error":"#N/A"}},{"$f":"RTD(\"sysq.rtd\",\"\",\"WTX&`004.10-1238:2\")","v":{"$error":"#N/A"}},{"$error":"#N/A"}]
["1239",{"$f":"RTD(\"sysq.rtd\",\"\",\"!DTSH`LC.99-1239:2\")","v":{"$error":"#N/A"}},{"$f":"RTD(\"sysq.rtd\",\"\",\"!DTDH`LC.99-1239:2\")","v":{"$error":"#N/A"}},{"$f":"RTD(\"sysq.rtd\",\"\",\"!XTSH`LC.99-1239:2\")","v":{"$error":"#N/A"}},{"$f":"RTD(\"sysq.rtd\",\"\",\"!XTDH`LC.99-1239:2\")","v":{"$error":"#N/A"}},{"$f":"RTD(\"sysq.rtd\",\"\",\"!DTAI`LC.99-1239:2\")","v":{"$error":"#N/A"}},{"$f":"RTD(\"sysq.rtd\",\"\",\"WTX&`004.10-1239:2\")","v":{"$error":"#N/A"}},{"$error":"#N/A"}]
["1240",{"$f":"RTD(\"sysq.rtd\",\"\",\"!DTSH`LC.99-1240:2\")","v":{"$error":"#N/A"}},{"$f":"RTD(\"sysq.rtd\",\"\",\"!DTDH`LC.99-1240:2\")","v":{"$error":"#N/A"}},{"$f":"RTD(\"sysq.rtd\",\"\",\"!XTSH`LC.99-1240:2\")","v":{"$error":"#N/A"}},{"$f":"RTD(\"sysq.rtd\",\"\",\"!XTDH`LC.99-1240:2\")","v":{"$error":"#N/A"}},{"$f":"RTD(\"sysq.rtd\",\"\",\"!DTAI`LC.99-1240:2\")","v":{"$error":"#N/A"}},{"$f":"RTD(\"sysq.rtd\",\"\",\"WTX&`004.10-1240:2\")","v":{"$error":"#N/A"}},{"$error":"#N/A"}]
["1241",{"$f":"RTD(\"sysq.rtd\",\"\",\"!DTSH`LC.99-1241:2\")","v":{"$error":"#N/A"}},{"$f":"RTD(\"sysq.rtd\",\"\",\"!DTDH`LC.99-1241:2\")","v":{"$error":"#N/A"}},{"$f":"RTD(\"sysq.rtd\",\"\",\"!XTSH`LC.99-1241:2\")","v":{"$error":"#N/A"}},{"$f":"RTD(\"sysq.rtd\",\"\",\"!XTDH`LC.99-1241:2\")","v":{"$error":"#N/A"}},{"$f":"RTD(\"sysq.rtd\",\"\",\"!DTAI`LC.99-1241:2\")","v":{"$error":"#N/A"}},{"$f":"RTD(\"sysq.rtd\",\"\",\"WTX&`004.10-1241:2\")","v":{"$error":"#N/A"}},{"$error":"#N/A"}]
["1242",{"$f":"RTD(\"sysq.rtd\",\"\",\"!DTSH`LC.99-1242:2\")","v":{"$error":"#N/A"}},{"$f":"RTD(\"sysq.rtd\",\"\",\"!DTDH`LC.99-1242:2\")","v":{"$error":"#N/A"}},{"$f":"RTD(\"sysq.rtd\",\"\",\"!XTSH`LC.99-1242:2\")","v":{"$error":"#N/A"}},{"$f":"RTD(\"sysq.rtd\",\"\",\"!XTDH`LC.99-1242:2\")","v":{"$error":"#N/A"}},{"$f":"RTD(\"sysq.rtd\",\"\",\"!DTAI`LC.99-1242:2\")","v":{"$error":"#N/A"}},{"$f":"RTD(\"sysq.rtd\",\"\",\"WTX&`004.10-1242:2\")","v":{"$error":"#N/A"}},{"$error":"#N/A"}]
["1243",{"$f":"RTD(\"sysq.rtd\",\"\",\"!DTSH`LC.99-1243:2\")","v":{"$error":"#N/A"}},{"$f":"RTD(\"sysq.rtd\",\"\",\"!DTDH`LC.99-1243:2\")","v":{"$error":"#N/A"}},{"$f":"RTD(\"sysq.rtd\",\"\",\"!XTSH`LC.99-1243:2\")","v":{"$error":"#N/A"}},{"$f":"RTD(\"sysq.rtd\",\"\",\"!XTDH`LC.99-1243:2\")","v":{"$error":"#N/A"}},{"$f":"RTD(\"sysq.rtd\",\"\",\"!DTAI`LC.99-1243:2\")","v":{"$error":"#N/A"}},{"$f":"RTD(\"sysq.rtd\",\"\",\"WTX&`004.10-1243:2\")","v":{"$error":"#N/A"}},{"$error":"#N/A"}]
["1244",{"$f":"RTD(\"sysq.rtd\",\"\",\"!DTSH`LC.99-1244:2\")","v":{"$error":"#N/A"}},{"$f":"RTD(\"sysq.rtd\",\"\",\"!DTDH`LC.99-1244:2\")","v":{"$error":"#N/A"}},{"$f":"RTD(\"sysq.rtd\",\"\",\"!XTSH`LC.99-1244:2\")","v":{"$error":"#N/A"}},{"$f":"RTD(\"sysq.rtd\",\"\",\"!XTDH`LC.99-1244:2\")","v":{"$error":"#N/A"}},{"$f":"RTD(\"sysq.rtd\",\"\",\"!DTAI`LC.99-1244:2\")","v":{"$error":"#N/A"}},{"$f":"RTD(\"sysq.rtd\",\"\",\"WTX&`004.10-1244:2\")","v":{"$error":"#N/A"}},{"$error":"#N/A"}]
["1245",{"$f":"RTD(\"sysq.rtd\",\"\",\"!DTSH`LC.99-1245:2\")","v":{"$error":"#N/A"}},{"$f":"RTD(\"sysq.rtd\",\"\",\"!DTDH`LC.99-1245:2\")","v":{"$error":"#N/A"}},{"$f":"RTD(\"sysq.rtd\",\"\",\"!XTSH`LC.99-1245:2\")","v":{"$error":"#N/A"}},{"$f":"RTD(\"sysq.rtd\",\"\",\"!XTDH`LC.99-1245:2\")","v":{"$error":"#N/A"}},{"$f":"RTD(\"sysq.rtd\",\"\",\"!DTAI`LC.99-1245:2\")","v":{"$error":"#N/A"}},{"$f":"RTD(\"sysq.rtd\",\"\",\"WTX&`004.10-1245:2\")","v":{"$error":"#N/A"}},{"$error":"#N/A"}]
["1246",{"$f":"RTD(\"sysq.rtd\",\"\",\"!DTSH`LC.99-1246:2\")","v":{"$error":"#N/A"}},{"$f":"RTD(\"sysq.rtd\",\"\",\"!DTDH`LC.99-1246:2\")","v":{"$error":"#N/A"}},{"$f":"RTD(\"sysq.rtd\",\"\",\"!XTSH`LC.99-1246:2\")","v":{"$error":"#N/A"}},{"$f":"RTD(\"sysq.rtd\",\"\",\"!XTDH`LC.99-1246:2\")","v":{"$error":"#N/A"}},{"$f":"RTD(\"sysq.rtd\",\"\",\"!DTAI`LC.99-1246:2\")","v":{"$error":"#N/A"}},{"$f":"RTD(\"sysq.rtd\",\"\",\"WTX&`004.10-1246:2\")","v":{"$error":"#N/A"}},{"$error":"#N/A"}]
["1247",{"$f":"RTD(\"sysq.rtd\",\"\",\"!DTSH`LC.99-1247:2\")","v":{"$error":"#N/A"}},{"$f":"RTD(\"sysq.rtd\",\"\",\"!DTDH`LC.99-1247:2\")","v":{"$error":"#N/A"}},{"$f":"RTD(\"sysq.rtd\",\"\",\"!XTSH`LC.99-1247:2\")","v":{"$error":"#N/A"}},{"$f":"RTD(\"sysq.rtd\",\"\",\"!XTDH`LC.99-1247:2\")","v":{"$error":"#N/A"}},{"$f":"RTD(\"sysq.rtd\",\"\",\"!DTAI`LC.99-1247:2\")","v":{"$error":"#N/A"}},{"$f":"RTD(\"sysq.rtd\",\"\",\"WTX&`004.10-1247:2\")","v":{"$error":"#N/A"}},{"$error":"#N/A"}]
["1248",{"$f":"RTD(\"sysq.rtd\",\"\",\"!DTSH`LC.99-1248:2\")","v":{"$error":"#N/A"}},{"$f":"RTD(\"sysq.rtd\",\"\",\"!DTDH`LC.99-1248:2\")","v":{"$error":"#N/A"}},{"$f":"RTD(\"sysq.rtd\",\"\",\"!XTSH`LC.99-1248:2\")","v":{"$error":"#N/A"}},{"$f":"RTD(\"sysq.rtd\",\"\",\"!XTDH`LC.99-1248:2\")","v":{"$error":"#N/A"}},{"$f":"RTD(\"sysq.rtd\",\"\",\"!DTAI`LC.99-1248:2\")","v":{"$error":"#N/A"}},{"$f":"RTD(\"sysq.rtd\",\"\",\"WTX&`004.10-1248:2\")","v":{"$error":"#N/A"}},{"$error":"#N/A"}]
["1249",{"$f":"RTD(\"sysq.rtd\",\"\",\"!DTSH`LC.99-1249:2\")","v":{"$error":"#N/A"}},{"$f":"RTD(\"sysq.rtd\",\"\",\"!DTDH`LC.99-1249:2\")","v":{"$error":"#N/A"}},{"$f":"RTD(\"sysq.rtd\",\"\",\"!XTSH`LC.99-1249:2\")","v":{"$error":"#N/A"}},{"$f":"RTD(\"sysq.rtd\",\"\",\"!XTDH`LC.99-1249:2\")","v":{"$error":"#N/A"}},{"$f":"RTD(\"sysq.rtd\",\"\",\"!DTAI`LC.99-1249:2\")","v":{"$error":"#N/A"}},{"$f":"RTD(\"sysq.rtd\",\"\",\"WTX&`004.10-1249:2\")","v":{"$error":"#N/A"}},{"$error":"#N/A"}]
["1250",{"$f":"RTD(\"sysq.rtd\",\"\",\"!DTSH`LC.99-1250:2\")","v":{"$error":"#N/A"}},{"$f":"RTD(\"sysq.rtd\",\"\",\"!DTDH`LC.99-1250:2\")","v":{"$error":"#N/A"}},{"$f":"RTD(\"sysq.rtd\",\"\",\"!XTSH`LC.99-1250:2\")","v":{"$error":"#N/A"}},{"$f":"RTD(\"sysq.rtd\",\"\",\"!XTDH`LC.99-1250:2\")","v":{"$error":"#N/A"}},{"$f":"RTD(\"sysq.rtd\",\"\",\"!DTAI`LC.99-1250:2\")","v":{"$error":"#N/A"}},{"$f":"RTD(\"sysq.rtd\",\"\",\"WTX&`004.10-1250:2\")","v":{"$error":"#N/A"}},{"$error":"#N/A"}]
["1251",{"$f":"RTD(\"sysq.rtd\",\"\",\"!DTSH`LC.99-1251:2\")","v":{"$error":"#N/A"}},{"$f":"RTD(\"sysq.rtd\",\"\",\"!DTDH`LC.99-1251:2\")","v":{"$error":"#N/A"}},{"$f":"RTD(\"sysq.rtd\",\"\",\"!XTSH`LC.99-1251:2\")","v":{"$error":"#N/A"}},{"$f":"RTD(\"sysq.rtd\",\"\",\"!XTDH`LC.99-1251:2\")","v":{"$error":"#N/A"}},{"$f":"RTD(\"sysq.rtd\",\"\",\"!DTAI`LC.99-1251:2\")","v":{"$error":"#N/A"}},{"$f":"RTD(\"sysq.rtd\",\"\",\"WTX&`004.10-1251:2\")","v":{"$error":"#N/A"}},{"$error":"#N/A"}]
["1252",{"$f":"RTD(\"sysq.rtd\",\"\",\"!DTSH`LC.99-1252:2\")","v":{"$error":"#N/A"}},{"$f":"RTD(\"sysq.rtd\",\"\",\"!DTDH`LC.99-1252:2\")","v":{"$error":"#N/A"}},{"$f":"RTD(\"sysq.rtd\",\"\",\"!XTSH`LC.99-1252:2\")","v":{"$error":"#N/A"}},{"$f":"RTD(\"sysq.rtd\",\"\",\"!XTDH`LC.99-1252:2\")","v":{"$error":"#N/A"}},{"$f":"RTD(\"sysq.rtd\",\"\",\"!DTAI`LC.99-1252:2\")","v":{"$error":"#N/A"}},{"$f":"RTD(\"sysq.rtd\",\"\",\"WTX&`004.10-1252:2\")","v":{"$error":"#N/A"}},{"$error":"#N/A"}]
["1253",{"$f":"RTD(\"sysq.rtd\",\"\",\"!DTSH`LC.99-1253:2\")","v":{"$error":"#N/A"}},{"$f":"RTD(\"sysq.rtd\",\"\",\"!DTDH`LC.99-1253:2\")","v":{"$error":"#N/A"}},{"$f":"RTD(\"sysq.rtd\",\"\",\"!XTSH`LC.99-1253:2\")","v":{"$error":"#N/A"}},{"$f":"RTD(\"sysq.rtd\",\"\",\"!XTDH`LC.99-1253:2\")","v":{"$error":"#N/A"}},{"$f":"RTD(\"sysq.rtd\",\"\",\"!DTAI`LC.99-1253:2\")","v":{"$error":"#N/A"}},{"$f":"RTD(\"sysq.rtd\",\"\",\"WTX&`004.10-1253:2\")","v":{"$error":"#N/A"}},{"$error":"#N/A"}]
["1254",{"$f":"RTD(\"sysq.rtd\",\"\",\"!DTSH`LC.99-1254:2\")","v":{"$error":"#N/A"}},{"$f":"RTD(\"sysq.rtd\",\"\",\"!DTDH`LC.99-1254:2\")","v":{"$error":"#N/A"}},{"$f":"RTD(\"sysq.rtd\",\"\",\"!XTSH`LC.99-1254:2\")","v":{"$error":"#N/A"}},{"$f":"RTD(\"sysq.rtd\",\"\",\"!XTDH`LC.99-1254:2\")","v":{"$error":"#N/A"}},{"$f":"RTD(\"sysq.rtd\",\"\",\"!DTAI`LC.99-1254:2\")","v":{"$error":"#N/A"}},{"$f":"RTD(\"sysq.rtd\",\"\",\"WTX&`004.10-1254:2\")","v":{"$error":"#N/A"}},{"$error":"#N/A"}]
["1255",{"$f":"RTD(\"sysq.rtd\",\"\",\"!DTSH`LC.99-1255:2\")","v":{"$error":"#N/A"}},{"$f":"RTD(\"sysq.rtd\",\"\",\"!DTDH`LC.99-1255:2\")","v":{"$error":"#N/A"}},{"$f":"RTD(\"sysq.rtd\",\"\",\"!XTSH`LC.99-1255:2\")","v":{"$error":"#N/A"}},{"$f":"RTD(\"sysq.rtd\",\"\",\"!XTDH`LC.99-1255:2\")","v":{"$error":"#N/A"}},{"$f":"RTD(\"sysq.rtd\",\"\",\"!DTAI`LC.99-1255:2\")","v":{"$error":"#N/A"}},{"$f":"RTD(\"sysq.rtd\",\"\",\"WTX&`004.10-1255:2\")","v":{"$error":"#N/A"}},{"$error":"#N/A"}]
["1256",{"$f":"RTD(\"sysq.rtd\",\"\",\"!DTSH`LC.99-1256:2\")","v":{"$error":"#N/A"}},{"$f":"RTD(\"sysq.rtd\",\"\",\"!DTDH`LC.99-1256:2\")","v":{"$error":"#N/A"}},{"$f":"RTD(\"sysq.rtd\",\"\",\"!XTSH`LC.99-1256:2\")","v":{"$error":"#N/A"}},{"$f":"RTD(\"sysq.rtd\",\"\",\"!XTDH`LC.99-1256:2\")","v":{"$error":"#N/A"}},{"$f":"RTD(\"sysq.rtd\",\"\",\"!DTAI`LC.99-1256:2\")","v":{"$error":"#N/A"}},{"$f":"RTD(\"sysq.rtd\",\"\",\"WTX&`004.10-1256:2\")","v":{"$error":"#N/A"}},{"$error":"#N/A"}]
["1257",{"$f":"RTD(\"sysq.rtd\",\"\",\"!DTSH`LC.99-1257:2\")","v":{"$error":"#N/A"}},{"$f":"RTD(\"sysq.rtd\",\"\",\"!DTDH`LC.99-1257:2\")","v":{"$error":"#N/A"}},{"$f":"RTD(\"sysq.rtd\",\"\",\"!XTSH`LC.99-1257:2\")","v":{"$error":"#N/A"}},{"$f":"RTD(\"sysq.rtd\",\"\",\"!XTDH`LC.99-1257:2\")","v":{"$error":"#N/A"}},{"$f":"RTD(\"sysq.rtd\",\"\",\"!DTAI`LC.99-1257:2\")","v":{"$error":"#N/A"}},{"$f":"RTD(\"sysq.rtd\",\"\",\"WTX&`004.10-1257:2\")","v":{"$error":"#N/A"}},{"$error":"#N/A"}]
["1258",{"$f":"RTD(\"sysq.rtd\",\"\",\"!DTSH`LC.99-1258:2\")","v":{"$error":"#N/A"}},{"$f":"RTD(\"sysq.rtd\",\"\",\"!DTDH`LC.99-1258:2\")","v":{"$error":"#N/A"}},{"$f":"RTD(\"sysq.rtd\",\"\",\"!XTSH`LC.99-1258:2\")","v":{"$error":"#N/A"}},{"$f":"RTD(\"sysq.rtd\",\"\",\"!XTDH`LC.99-1258:2\")","v":{"$error":"#N/A"}},{"$f":"RTD(\"sysq.rtd\",\"\",\"!DTAI`LC.99-1258:2\")","v":{"$error":"#N/A"}},{"$f":"RTD(\"sysq.rtd\",\"\",\"WTX&`004.10-1258:2\")","v":{"$error":"#N/A"}},{"$error":"#N/A"}]
["1259",{"$f":"RTD(\"sysq.rtd\",\"\",\"!DTSH`LC.99-1259:2\")","v":{"$error":"#N/A"}},{"$f":"RTD(\"sysq.rtd\",\"\",\"!DTDH`LC.99-1259:2\")","v":{"$error":"#N/A"}},{"$f":"RTD(\"sysq.rtd\",\"\",\"!XTSH`LC.99-1259:2\")","v":{"$error":"#N/A"}},{"$f":"RTD(\"sysq.rtd\",\"\",\"!XTDH`LC.99-1259:2\")","v":{"$error":"#N/A"}},{"$f":"RTD(\"sysq.rtd\",\"\",\"!DTAI`LC.99-1259:2\")","v":{"$error":"#N/A"}},{"$f":"RTD(\"sysq.rtd\",\"\",\"WTX&`004.10-1259:2\")","v":{"$error":"#N/A"}},{"$error":"#N/A"}]
["1300",{"$f":"RTD(\"sysq.rtd\",\"\",\"!DTSH`LC.99-1300:2\")","v":{"$error":"#N/A"}},{"$f":"RTD(\"sysq.rtd\",\"\",\"!DTDH`LC.99-1300:2\")","v":{"$error":"#N/A"}},{"$f":"RTD(\"sysq.rtd\",\"\",\"!XTSH`LC.99-1300:2\")","v":{"$error":"#N/A"}},{"$f":"RTD(\"sysq.rtd\",\"\",\"!XTDH`LC.99-1300:2\")","v":{"$error":"#N/A"}},{"$f":"RTD(\"sysq.rtd\",\"\",\"!DTAI`LC.99-1300:2\")","v":{"$error":"#N/A"}},{"$f":"RTD(\"sysq.rtd\",\"\",\"WTX&`004.10-1300:2\")","v":{"$error":"#N/A"}},{"$error":"#N/A"}]
["1301",{"$f":"RTD(\"sysq.rtd\",\"\",\"!DTSH`LC.99-1301:2\")","v":{"$error":"#N/A"}},{"$f":"RTD(\"sysq.rtd\",\"\",\"!DTDH`LC.99-1301:2\")","v":{"$error":"#N/A"}},{"$f":"RTD(\"sysq.rtd\",\"\",\"!XTSH`LC.99-1301:2\")","v":{"$error":"#N/A"}},{"$f":"RTD(\"sysq.rtd\",\"\",\"!XTDH`LC.99-1301:2\")","v":{"$error":"#N/A"}},{"$f":"RTD(\"sysq.rtd\",\"\",\"!DTAI`LC.99-1301:2\")","v":{"$error":"#N/A"}},{"$f":"RTD(\"sysq.rtd\",\"\",\"WTX&`004.10-1301:2\")","v":{"$error":"#N/A"}},{"$error":"#N/A"}]
["1302",{"$f":"RTD(\"sysq.rtd\",\"\",\"!DTSH`LC.99-1302:2\")","v":{"$error":"#N/A"}},{"$f":"RTD(\"sysq.rtd\",\"\",\"!DTDH`LC.99-1302:2\")","v":{"$error":"#N/A"}},{"$f":"RTD(\"sysq.rtd\",\"\",\"!XTSH`LC.99-1302:2\")","v":{"$error":"#N/A"}},{"$f":"RTD(\"sysq.rtd\",\"\",\"!XTDH`LC.99-1302:2\")","v":{"$error":"#N/A"}},{"$f":"RTD(\"sysq.rtd\",\"\",\"!DTAI`LC.99-1302:2\")","v":{"$error":"#N/A"}},{"$f":"RTD(\"sysq.rtd\",\"\",\"WTX&`004.10-1302:2\")","v":{"$error":"#N/A"}},{"$f":"SQRT(ABS(F262))*(ABS(F262)/F262)","v":{"$error":"#N/A"}}]
["1303",{"$f":"RTD(\"sysq.rtd\",\"\",\"!DTSH`LC.99-1303:2\")","v":{"$error":"#N/A"}},{"$f":"RTD(\"sysq.rtd\",\"\",\"!DTDH`LC.99-1303:2\")","v":{"$error":"#N/A"}},{"$f":"RTD(\"sysq.rtd\",\"\",\"!XTSH`LC.99-1303:2\")","v":{"$error":"#N/A"}},{"$f":"RTD(\"sysq.rtd\",\"\",\"!XTDH`LC.99-1303:2\")","v":{"$error":"#N/A"}},{"$f":"RTD(\"sysq.rtd\",\"\",\"!DTAI`LC.99-1303:2\")","v":{"$error":"#N/A"}},{"$f":"RTD(\"sysq.rtd\",\"\",\"WTX&`004.10-1303:2\")","v":{"$error":"#N/A"}},{"$error":"#N/A"}]
["1304",{"$f":"RTD(\"sysq.rtd\",\"\",\"!DTSH`LC.99-1304:2\")","v":{"$error":"#N/A"}},{"$f":"RTD(\"sysq.rtd\",\"\",\"!DTDH`LC.99-1304:2\")","v":{"$error":"#N/A"}},{"$f":"RTD(\"sysq.rtd\",\"\",\"!XTSH`LC.99-1304:2\")","v":{"$error":"#N/A"}},{"$f":"RTD(\"sysq.rtd\",\"\",\"!XTDH`LC.99-1304:2\")","v":{"$error":"#N/A"}},{"$f":"RTD(\"sysq.rtd\",\"\",\"!DTAI`LC.99-1304:2\")","v":{"$error":"#N/A"}},{"$f":"RTD(\"sysq.rtd\",\"\",\"WTX&`004.10-1304:2\")","v":{"$error":"#N/A"}},{"$error":"#N/A"}]
["1305",{"$f":"RTD(\"sysq.rtd\",\"\",\"!DTSH`LC.99-1305:2\")","v":{"$error":"#N/A"}},{"$f":"RTD(\"sysq.rtd\",\"\",\"!DTDH`LC.99-1305:2\")","v":{"$error":"#N/A"}},{"$f":"RTD(\"sysq.rtd\",\"\",\"!XTSH`LC.99-1305:2\")","v":{"$error":"#N/A"}},{"$f":"RTD(\"sysq.rtd\",\"\",\"!XTDH`LC.99-1305:2\")","v":{"$error":"#N/A"}},{"$f":"RTD(\"sysq.rtd\",\"\",\"!DTAI`LC.99-1305:2\")","v":{"$error":"#N/A"}},{"$f":"RTD(\"sysq.rtd\",\"\",\"WTX&`004.10-1305:2\")","v":{"$error":"#N/A"}},{"$error":"#N/A"}]
["1306",{"$f":"RTD(\"sysq.rtd\",\"\",\"!DTSH`LC.99-1306:2\")","v":{"$error":"#N/A"}},{"$f":"RTD(\"sysq.rtd\",\"\",\"!DTDH`LC.99-1306:2\")","v":{"$error":"#N/A"}},{"$f":"RTD(\"sysq.rtd\",\"\",\"!XTSH`LC.99-1306:2\")","v":{"$error":"#N/A"}},{"$f":"RTD(\"sysq.rtd\",\"\",\"!XTDH`LC.99-1306:2\")","v":{"$error":"#N/A"}},{"$f":"RTD(\"sysq.rtd\",\"\",\"!DTAI`LC.99-1306:2\")","v":{"$error":"#N/A"}},{"$f":"RTD(\"sysq.rtd\",\"\",\"WTX&`004.10-1306:2\")","v":{"$error":"#N/A"}},{"$error":"#N/A"}]
["1307",{"$f":"RTD(\"sysq.rtd\",\"\",\"!DTSH`LC.99-1307:2\")","v":{"$error":"#N/A"}},{"$f":"RTD(\"sysq.rtd\",\"\",\"!DTDH`LC.99-1307:2\")","v":{"$error":"#N/A"}},{"$f":"RTD(\"sysq.rtd\",\"\",\"!XTSH`LC.99-1307:2\")","v":{"$error":"#N/A"}},{"$f":"RTD(\"sysq.rtd\",\"\",\"!XTDH`LC.99-1307:2\")","v":{"$error":"#N/A"}},{"$f":"RTD(\"sysq.rtd\",\"\",\"!DTAI`LC.99-1307:2\")","v":{"$error":"#N/A"}},{"$f":"RTD(\"sysq.rtd\",\"\",\"WTX&`004.10-1307:2\")","v":{"$error":"#N/A"}},{"$error":"#N/A"}]
["1308",{"$f":"RTD(\"sysq.rtd\",\"\",\"!DTSH`LC.99-1308:2\")","v":{"$error":"#N/A"}},{"$f":"RTD(\"sysq.rtd\",\"\",\"!DTDH`LC.99-1308:2\")","v":{"$error":"#N/A"}},{"$f":"RTD(\"sysq.rtd\",\"\",\"!XTSH`LC.99-1308:2\")","v":{"$error":"#N/A"}},{"$f":"RTD(\"sysq.rtd\",\"\",\"!XTDH`LC.99-1308:2\")","v":{"$error":"#N/A"}},{"$f":"RTD(\"sysq.rtd\",\"\",\"!DTAI`LC.99-1308:2\")","v":{"$error":"#N/A"}},{"$f":"RTD(\"sysq.rtd\",\"\",\"WTX&`004.10-1308:2\")","v":{"$error":"#N/A"}},{"$error":"#N/A"}]
["1309",{"$f":"RTD(\"sysq.rtd\",\"\",\"!DTSH`LC.99-1309:2\")","v":{"$error":"#N/A"}},{"$f":"RTD(\"sysq.rtd\",\"\",\"!DTDH`LC.99-1309:2\")","v":{"$error":"#N/A"}},{"$f":"RTD(\"sysq.rtd\",\"\",\"!XTSH`LC.99-1309:2\")","v":{"$error":"#N/A"}},{"$f":"RTD(\"sysq.rtd\",\"\",\"!XTDH`LC.99-1309:2\")","v":{"$error":"#N/A"}},{"$f":"RTD(\"sysq.rtd\",\"\",\"!DTAI`LC.99-1309:2\")","v":{"$error":"#N/A"}},{"$f":"RTD(\"sysq.rtd\",\"\",\"WTX&`004.10-1309:2\")","v":{"$error":"#N/A"}},{"$error":"#N/A"}]
["1310",{"$f":"RTD(\"sysq.rtd\",\"\",\"!DTSH`LC.99-1310:2\")","v":{"$error":"#N/A"}},{"$f":"RTD(\"sysq.rtd\",\"\",\"!DTDH`LC.99-1310:2\")","v":{"$error":"#N/A"}},{"$f":"RTD(\"sysq.rtd\",\"\",\"!XTSH`LC.99-1310:2\")","v":{"$error":"#N/A"}},{"$f":"RTD(\"sysq.rtd\",\"\",\"!XTDH`LC.99-1310:2\")","v":{"$error":"#N/A"}},{"$f":"RTD(\"sysq.rtd\",\"\",\"!DTAI`LC.99-1310:2\")","v":{"$error":"#N/A"}},{"$f":"RTD(\"sysq.rtd\",\"\",\"WTX&`004.10-1310:2\")","v":{"$error":"#N/A"}},{"$error":"#N/A"}]
["1311",{"$f":"RTD(\"sysq.rtd\",\"\",\"!DTSH`LC.99-1311:2\")","v":{"$error":"#N/A"}},{"$f":"RTD(\"sysq.rtd\",\"\",\"!DTDH`LC.99-1311:2\")","v":{"$error":"#N/A"}},{"$f":"RTD(\"sysq.rtd\",\"\",\"!XTSH`LC.99-1311:2\")","v":{"$error":"#N/A"}},{"$f":"RTD(\"sysq.rtd\",\"\",\"!XTDH`LC.99-1311:2\")","v":{"$error":"#N/A"}},{"$f":"RTD(\"sysq.rtd\",\"\",\"!DTAI`LC.99-1311:2\")","v":{"$error":"#N/A"}},{"$f":"RTD(\"sysq.rtd\",\"\",\"WTX&`004.10-1311:2\")","v":{"$error":"#N/A"}},{"$error":"#N/A"}]
["1312",{"$f":"RTD(\"sysq.rtd\",\"\",\"!DTSH`LC.99-1312:2\")","v":{"$error":"#N/A"}},{"$f":"RTD(\"sysq.rtd\",\"\",\"!DTDH`LC.99-1312:2\")","v":{"$error":"#N/A"}},{"$f":"RTD(\"sysq.rtd\",\"\",\"!XTSH`LC.99-1312:2\")","v":{"$error":"#N/A"}},{"$f":"RTD(\"sysq.rtd\",\"\",\"!XTDH`LC.99-1312:2\")","v":{"$error":"#N/A"}},{"$f":"RTD(\"sysq.rtd\",\"\",\"!DTAI`LC.99-1312:2\")","v":{"$error":"#N/A"}},{"$f":"RTD(\"sysq.rtd\",\"\",\"WTX&`004.10-1312:2\")","v":{"$error":"#N/A"}},{"$error":"#N/A"}]
["1313",{"$f":"RTD(\"sysq.rtd\",\"\",\"!DTSH`LC.99-1313:2\")","v":{"$error":"#N/A"}},{"$f":"RTD(\"sysq.rtd\",\"\",\"!DTDH`LC.99-1313:2\")","v":{"$error":"#N/A"}},{"$f":"RTD(\"sysq.rtd\",\"\",\"!XTSH`LC.99-1313:2\")","v":{"$error":"#N/A"}},{"$f":"RTD(\"sysq.rtd\",\"\",\"!XTDH`LC.99-1313:2\")","v":{"$error":"#N/A"}},{"$f":"RTD(\"sysq.rtd\",\"\",\"!DTAI`LC.99-1313:2\")","v":{"$error":"#N/A"}},{"$f":"RTD(\"sysq.rtd\",\"\",\"WTX&`004.10-1313:2\")","v":{"$error":"#N/A"}},{"$error":"#N/A"}]
["1314",{"$f":"RTD(\"sysq.rtd\",\"\",\"!DTSH`LC.99-1314:2\")","v":{"$error":"#N/A"}},{"$f":"RTD(\"sysq.rtd\",\"\",\"!DTDH`LC.99-1314:2\")","v":{"$error":"#N/A"}},{"$f":"RTD(\"sysq.rtd\",\"\",\"!XTSH`LC.99-1314:2\")","v":{"$error":"#N/A"}},{"$f":"RTD(\"sysq.rtd\",\"\",\"!XTDH`LC.99-1314:2\")","v":{"$error":"#N/A"}},{"$f":"RTD(\"sysq.rtd\",\"\",\"!DTAI`LC.99-1314:2\")","v":{"$error":"#N/A"}},{"$f":"RTD(\"sysq.rtd\",\"\",\"WTX&`004.10-1314:2\")","v":{"$error":"#N/A"}},{"$error":"#N/A"}]
["1315",{"$f":"RTD(\"sysq.rtd\",\"\",\"!DTSH`LC.99-1315:2\")","v":{"$error":"#N/A"}},{"$f":"RTD(\"sysq.rtd\",\"\",\"!DTDH`LC.99-1315:2\")","v":{"$error":"#N/A"}},{"$f":"RTD(\"sysq.rtd\",\"\",\"!XTSH`LC.99-1315:2\")","v":{"$error":"#N/A"}},{"$f":"RTD(\"sysq.rtd\",\"\",\"!XTDH`LC.99-1315:2\")","v":{"$error":"#N/A"}},{"$f":"RTD(\"sysq.rtd\",\"\",\"!DTAI`LC.99-1315:2\")","v":{"$error":"#N/A"}},{"$f":"RTD(\"sysq.rtd\",\"\",\"WTX&`004.10-1315:2\")","v":{"$error":"#N/A"}},{"$error":"#N/A"}]
["1316",{"$f":"RTD(\"sysq.rtd\",\"\",\"!DTSH`LC.99-1316:2\")","v":{"$error":"#N/A"}},{"$f":"RTD(\"sysq.rtd\",\"\",\"!DTDH`LC.99-1316:2\")","v":{"$error":"#N/A"}},{"$f":"RTD(\"sysq.rtd\",\"\",\"!XTSH`LC.99-1316:2\")","v":{"$error":"#N/A"}},{"$f":"RTD(\"sysq.rtd\",\"\",\"!XTDH`LC.99-1316:2\")","v":{"$error":"#N/A"}},{"$f":"RTD(\"sysq.rtd\",\"\",\"!DTAI`LC.99-1316:2\")","v":{"$error":"#N/A"}},{"$f":"RTD(\"sysq.rtd\",\"\",\"WTX&`004.10-1316:2\")","v":{"$error":"#N/A"}},{"$error":"#N/A"}]
["1317",{"$f":"RTD(\"sysq.rtd\",\"\",\"!DTSH`LC.99-1317:2\")","v":{"$error":"#N/A"}},{"$f":"RTD(\"sysq.rtd\",\"\",\"!DTDH`LC.99-1317:2\")","v":{"$error":"#N/A"}},{"$f":"RTD(\"sysq.rtd\",\"\",\"!XTSH`LC.99-1317:2\")","v":{"$error":"#N/A"}},{"$f":"RTD(\"sysq.rtd\",\"\",\"!XTDH`LC.99-1317:2\")","v":{"$error":"#N/A"}},{"$f":"RTD(\"sysq.rtd\",\"\",\"!DTAI`LC.99-1317:2\")","v":{"$error":"#N/A"}},{"$f":"RTD(\"sysq.rtd\",\"\",\"WTX&`004.10-1317:2\")","v":{"$error":"#N/A"}},{"$error":"#N/A"}]
["1318",{"$f":"RTD(\"sysq.rtd\",\"\",\"!DTSH`LC.99-1318:2\")","v":{"$error":"#N/A"}},{"$f":"RTD(\"sysq.rtd\",\"\",\"!DTDH`LC.99-1318:2\")","v":{"$error":"#N/A"}},{"$f":"RTD(\"sysq.rtd\",\"\",\"!XTSH`LC.99-1318:2\")","v":{"$error":"#N/A"}},{"$f":"RTD(\"sysq.rtd\",\"\",\"!XTDH`LC.99-1318:2\")","v":{"$error":"#N/A"}},{"$f":"RTD(\"sysq.rtd\",\"\",\"!DTAI`LC.99-1318:2\")","v":{"$error":"#N/A"}},{"$f":"RTD(\"sysq.rtd\",\"\",\"WTX&`004.10-1318:2\")","v":{"$error":"#N/A"}},{"$error":"#N/A"}]
["1319",{"$f":"RTD(\"sysq.rtd\",\"\",\"!DTSH`LC.99-1319:2\")","v":{"$error":"#N/A"}},{"$f":"RTD(\"sysq.rtd\",\"\",\"!DTDH`LC.99-1319:2\")","v":{"$error":"#N/A"}},{"$f":"RTD(\"sysq.rtd\",\"\",\"!XTSH`LC.99-1319:2\")","v":{"$error":"#N/A"}},{"$f":"RTD(\"sysq.rtd\",\"\",\"!XTDH`LC.99-1319:2\")","v":{"$error":"#N/A"}},{"$f":"RTD(\"sysq.rtd\",\"\",\"!DTAI`LC.99-1319:2\")","v":{"$error":"#N/A"}},{"$f":"RTD(\"sysq.rtd\",\"\",\"WTX&`004.10-1319:2\")","v":{"$error":"#N/A"}},{"$error":"#N/A"}]
["1320",{"$f":"RTD(\"sysq.rtd\",\"\",\"!DTSH`LC.99-1320:2\")","v":{"$error":"#N/A"}},{"$f":"RTD(\"sysq.rtd\",\"\",\"!DTDH`LC.99-1320:2\")","v":{"$error":"#N/A"}},{"$f":"RTD(\"sysq.rtd\",\"\",\"!XTSH`LC.99-1320:2\")","v":{"$error":"#N/A"}},{"$f":"RTD(\"sysq.rtd\",\"\",\"!XTDH`LC.99-1320:2\")","v":{"$error":"#N/A"}},{"$f":"RTD(\"sysq.rtd\",\"\",\"!DTAI`LC.99-1320:2\")","v":{"$error":"#N/A"}},{"$f":"RTD(\"sysq.rtd\",\"\",\"WTX&`004.10-1320:2\")","v":{"$error":"#N/A"}},{"$error":"#N/A"}]
["1321",{"$f":"RTD(\"sysq.rtd\",\"\",\"!DTSH`LC.99-1321:2\")","v":{"$error":"#N/A"}},{"$f":"RTD(\"sysq.rtd\",\"\",\"!DTDH`LC.99-1321:2\")","v":{"$error":"#N/A"}},{"$f":"RTD(\"sysq.rtd\",\"\",\"!XTSH`LC.99-1321:2\")","v":{"$error":"#N/A"}},{"$f":"RTD(\"sysq.rtd\",\"\",\"!XTDH`LC.99-1321:2\")","v":{"$error":"#N/A"}},{"$f":"RTD(\"sysq.rtd\",\"\",\"!DTAI`LC.99-1321:2\")","v":{"$error":"#N/A"}},{"$f":"RTD(\"sysq.rtd\",\"\",\"WTX&`004.10-1321:2\")","v":{"$error":"#N/A"}},{"$error":"#N/A"}]
["1322",{"$f":"RTD(\"sysq.rtd\",\"\",\"!DTSH`LC.99-1322:2\")","v":{"$error":"#N/A"}},{"$f":"RTD(\"sysq.rtd\",\"\",\"!DTDH`LC.99-1322:2\")","v":{"$error":"#N/A"}},{"$f":"RTD(\"sysq.rtd\",\"\",\"!XTSH`LC.99-1322:2\")","v":{"$error":"#N/A"}},{"$f":"RTD(\"sysq.rtd\",\"\",\"!XTDH`LC.99-1322:2\")","v":{"$error":"#N/A"}},{"$f":"RTD(\"sysq.rtd\",\"\",\"!DTAI`LC.99-1322:2\")","v":{"$error":"#N/A"}},{"$f":"RTD(\"sysq.rtd\",\"\",\"WTX&`004.10-1322:2\")","v":{"$error":"#N/A"}},{"$error":"#N/A"}]
["1323",{"$f":"RTD(\"sysq.rtd\",\"\",\"!DTSH`LC.99-1323:2\")","v":{"$error":"#N/A"}},{"$f":"RTD(\"sysq.rtd\",\"\",\"!DTDH`LC.99-1323:2\")","v":{"$error":"#N/A"}},{"$f":"RTD(\"sysq.rtd\",\"\",\"!XTSH`LC.99-1323:2\")","v":{"$error":"#N/A"}},{"$f":"RTD(\"sysq.rtd\",\"\",\"!XTDH`LC.99-1323:2\")","v":{"$error":"#N/A"}},{"$f":"RTD(\"sysq.rtd\",\"\",\"!DTAI`LC.99-1323:2\")","v":{"$error":"#N/A"}},{"$f":"RTD(\"sysq.rtd\",\"\",\"WTX&`004.10-1323:2\")","v":{"$error":"#N/A"}},{"$error":"#N/A"}]
["1324",{"$f":"RTD(\"sysq.rtd\",\"\",\"!DTSH`LC.99-1324:2\")","v":{"$error":"#N/A"}},{"$f":"RTD(\"sysq.rtd\",\"\",\"!DTDH`LC.99-1324:2\")","v":{"$error":"#N/A"}},{"$f":"RTD(\"sysq.rtd\",\"\",\"!XTSH`LC.99-1324:2\")","v":{"$error":"#N/A"}},{"$f":"RTD(\"sysq.rtd\",\"\",\"!XTDH`LC.99-1324:2\")","v":{"$error":"#N/A"}},{"$f":"RTD(\"sysq.rtd\",\"\",\"!DTAI`LC.99-1324:2\")","v":{"$error":"#N/A"}},{"$f":"RTD(\"sysq.rtd\",\"\",\"WTX&`004.10-1324:2\")","v":{"$error":"#N/A"}},{"$error":"#N/A"}]
["1325",{"$f":"RTD(\"sysq.rtd\",\"\",\"!DTSH`LC.99-1325:2\")","v":{"$error":"#N/A"}},{"$f":"RTD(\"sysq.rtd\",\"\",\"!DTDH`LC.99-1325:2\")","v":{"$error":"#N/A"}},{"$f":"RTD(\"sysq.rtd\",\"\",\"!XTSH`LC.99-1325:2\")","v":{"$error":"#N/A"}},{"$f":"RTD(\"sysq.rtd\",\"\",\"!XTDH`LC.99-1325:2\")","v":{"$error":"#N/A"}},{"$f":"RTD(\"sysq.rtd\",\"\",\"!DTAI`LC.99-1325:2\")","v":{"$error":"#N/A"}},{"$f":"RTD(\"sysq.rtd\",\"\",\"WTX&`004.10-1325:2\")","v":{"$error":"#N/A"}},{"$error":"#N/A"}]
["1326",{"$f":"RTD(\"sysq.rtd\",\"\",\"!DTSH`LC.99-1326:2\")","v":{"$error":"#N/A"}},{"$f":"RTD(\"sysq.rtd\",\"\",\"!DTDH`LC.99-1326:2\")","v":{"$error":"#N/A"}},{"$f":"RTD(\"sysq.rtd\",\"\",\"!XTSH`LC.99-1326:2\")","v":{"$error":"#N/A"}},{"$f":"RTD(\"sysq.rtd\",\"\",\"!XTDH`LC.99-1326:2\")","v":{"$error":"#N/A"}},{"$f":"RTD(\"sysq.rtd\",\"\",\"!DTAI`LC.99-1326:2\")","v":{"$error":"#N/A"}},{"$f":"RTD(\"sysq.rtd\",\"\",\"WTX&`004.10-1326:2\")","v":{"$error":"#N/A"}},{"$error":"#N/A"}]
["1327",{"$f":"RTD(\"sysq.rtd\",\"\",\"!DTSH`LC.99-1327:2\")","v":{"$error":"#N/A"}},{"$f":"RTD(\"sysq.rtd\",\"\",\"!DTDH`LC.99-1327:2\")","v":{"$error":"#N/A"}},{"$f":"RTD(\"sysq.rtd\",\"\",\"!XTSH`LC.99-1327:2\")","v":{"$error":"#N/A"}},{"$f":"RTD(\"sysq.rtd\",\"\",\"!XTDH`LC.99-1327:2\")","v":{"$error":"#N/A"}},{"$f":"RTD(\"sysq.rtd\",\"\",\"!DTAI`LC.99-1327:2\")","v":{"$error":"#N/A"}},{"$f":"RTD(\"sysq.rtd\",\"\",\"WTX&`004.10-1327:2\")","v":{"$error":"#N/A"}},{"$error":"#N/A"}]
["1328",{"$f":"RTD(\"sysq.rtd\",\"\",\"!DTSH`LC.99-1328:2\")","v":{"$error":"#N/A"}},{"$f":"RTD(\"sysq.rtd\",\"\",\"!DTDH`LC.99-1328:2\")","v":{"$error":"#N/A"}},{"$f":"RTD(\"sysq.rtd\",\"\",\"!XTSH`LC.99-1328:2\")","v":{"$error":"#N/A"}},{"$f":"RTD(\"sysq.rtd\",\"\",\"!XTDH`LC.99-1328:2\")","v":{"$error":"#N/A"}},{"$f":"RTD(\"sysq.rtd\",\"\",\"!DTAI`LC.99-1328:2\")","v":{"$error":"#N/A"}},{"$f":"RTD(\"sysq.rtd\",\"\",\"WTX&`004.10-1328:2\")","v":{"$error":"#N/A"}},{"$error":"#N/A"}]
["1329",{"$f":"RTD(\"sysq.rtd\",\"\",\"!DTSH`LC.99-1329:2\")","v":{"$error":"#N/A"}},{"$f":"RTD(\"sysq.rtd\",\"\",\"!DTDH`LC.99-1329:2\")","v":{"$error":"#N/A"}},{"$f":"RTD(\"sysq.rtd\",\"\",\"!XTSH`LC.99-1329:2\")","v":{"$error":"#N/A"}},{"$f":"RTD(\"sysq.rtd\",\"\",\"!XTDH`LC.99-1329:2\")","v":{"$error":"#N/A"}},{"$f":"RTD(\"sysq.rtd\",\"\",\"!DTAI`LC.99-1329:2\")","v":{"$error":"#N/A"}},{"$f":"RTD(\"sysq.rtd\",\"\",\"WTX&`004.10-1329:2\")","v":{"$error":"#N/A"}},{"$error":"#N/A"}]
["1330",{"$f":"RTD(\"sysq.rtd\",\"\",\"!DTSH`LC.99-1330:2\")","v":{"$error":"#N/A"}},{"$f":"RTD(\"sysq.rtd\",\"\",\"!DTDH`LC.99-1330:2\")","v":{"$error":"#N/A"}},{"$f":"RTD(\"sysq.rtd\",\"\",\"!XTSH`LC.99-1330:2\")","v":{"$error":"#N/A"}},{"$f":"RTD(\"sysq.rtd\",\"\",\"!XTDH`LC.99-1330:2\")","v":{"$error":"#N/A"}},{"$f":"RTD(\"sysq.rtd\",\"\",\"!DTAI`LC.99-1330:2\")","v":{"$error":"#N/A"}},{"$f":"RTD(\"sysq.rtd\",\"\",\"WTX&`004.10-1330:2\")","v":{"$error":"#N/A"}},{"$error":"#N/A"}]
["1331",{"$f":"RTD(\"sysq.rtd\",\"\",\"!DTSH`LC.99-1331:2\")","v":{"$error":"#N/A"}},{"$f":"RTD(\"sysq.rtd\",\"\",\"!DTDH`LC.99-1331:2\")","v":{"$error":"#N/A"}},{"$f":"RTD(\"sysq.rtd\",\"\",\"!XTSH`LC.99-1331:2\")","v":{"$error":"#N/A"}},{"$f":"RTD(\"sysq.rtd\",\"\",\"!XTDH`LC.99-1331:2\")","v":{"$error":"#N/A"}},{"$f":"RTD(\"sysq.rtd\",\"\",\"!DTAI`LC.99-1331:2\")","v":{"$error":"#N/A"}},{"$f":"RTD(\"sysq.rtd\",\"\",\"WTX&`004.10-1331:2\")","v":{"$error":"#N/A"}},{"$error":"#N/A"}]
["1332",{"$f":"RTD(\"sysq.rtd\",\"\",\"!DTSH`LC.99-1332:2\")","v":{"$error":"#N/A"}},{"$f":"RTD(\"sysq.rtd\",\"\",\"!DTDH`LC.99-1332:2\")","v":{"$error":"#N/A"}},{"$f":"RTD(\"sysq.rtd\",\"\",\"!XTSH`LC.99-1332:2\")","v":{"$error":"#N/A"}},{"$f":"RTD(\"sysq.rtd\",\"\",\"!XTDH`LC.99-1332:2\")","v":{"$error":"#N/A"}},{"$f":"RTD(\"sysq.rtd\",\"\",\"!DTAI`LC.99-1332:2\")","v":{"$error":"#N/A"}},{"$f":"RTD(\"sysq.rtd\",\"\",\"WTX&`004.10-1332:2\")","v":{"$error":"#N/A"}},{"$error":"#N/A"}]
["1333",{"$f":"RTD(\"sysq.rtd\",\"\",\"!DTSH`LC.99-1333:2\")","v":{"$error":"#N/A"}},{"$f":"RTD(\"sysq.rtd\",\"\",\"!DTDH`LC.99-1333:2\")","v":{"$error":"#N/A"}},{"$f":"RTD(\"sysq.rtd\",\"\",\"!XTSH`LC.99-1333:2\")","v":{"$error":"#N/A"}},{"$f":"RTD(\"sysq.rtd\",\"\",\"!XTDH`LC.99-1333:2\")","v":{"$error":"#N/A"}},{"$f":"RTD(\"sysq.rtd\",\"\",\"!DTAI`LC.99-1333:2\")","v":{"$error":"#N/A"}},{"$f":"RTD(\"sysq.rtd\",\"\",\"WTX&`004.10-1333:2\")","v":{"$error":"#N/A"}},{"$error":"#N/A"}]
["1334",{"$f":"RTD(\"sysq.rtd\",\"\",\"!DTSH`LC.99-1334:2\")","v":{"$error":"#N/A"}},{"$f":"RTD(\"sysq.rtd\",\"\",\"!DTDH`LC.99-1334:2\")","v":{"$error":"#N/A"}},{"$f":"RTD(\"sysq.rtd\",\"\",\"!XTSH`LC.99-1334:2\")","v":{"$error":"#N/A"}},{"$f":"RTD(\"sysq.rtd\",\"\",\"!XTDH`LC.99-1334:2\")","v":{"$error":"#N/A"}},{"$f":"RTD(\"sysq.rtd\",\"\",\"!DTAI`LC.99-1334:2\")","v":{"$error":"#N/A"}},{"$f":"RTD(\"sysq.rtd\",\"\",\"WTX&`004.10-1334:2\")","v":{"$error":"#N/A"}},{"$error":"#N/A"}]
["1335",{"$f":"RTD(\"sysq.rtd\",\"\",\"!DTSH`LC.99-1335:2\")","v":{"$error":"#N/A"}},{"$f":"RTD(\"sysq.rtd\",\"\",\"!DTDH`LC.99-1335:2\")","v":{"$error":"#N/A"}},{"$f":"RTD(\"sysq.rtd\",\"\",\"!XTSH`LC.99-1335:2\")","v":{"$error":"#N/A"}},{"$f":"RTD(\"sysq.rtd\",\"\",\"!XTDH`LC.99-1335:2\")","v":{"$error":"#N/A"}},{"$f":"RTD(\"sysq.rtd\",\"\",\"!DTAI`LC.99-1335:2\")","v":{"$error":"#N/A"}},{"$f":"RTD(\"sysq.rtd\",\"\",\"WTX&`004.10-1335:2\")","v":{"$error":"#N/A"}},{"$error":"#N/A"}]
["1336",{"$f":"RTD(\"sysq.rtd\",\"\",\"!DTSH`LC.99-1336:2\")","v":{"$error":"#N/A"}},{"$f":"RTD(\"sysq.rtd\",\"\",\"!DTDH`LC.99-1336:2\")","v":{"$error":"#N/A"}},{"$f":"RTD(\"sysq.rtd\",\"\",\"!XTSH`LC.99-1336:2\")","v":{"$error":"#N/A"}},{"$f":"RTD(\"sysq.rtd\",\"\",\"!XTDH`LC.99-1336:2\")","v":{"$error":"#N/A"}},{"$f":"RTD(\"sysq.rtd\",\"\",\"!DTAI`LC.99-1336:2\")","v":{"$error":"#N/A"}},{"$f":"RTD(\"sysq.rtd\",\"\",\"WTX&`004.10-1336:2\")","v":{"$error":"#N/A"}},{"$error":"#N/A"}]
["1337",{"$f":"RTD(\"sysq.rtd\",\"\",\"!DTSH`LC.99-1337:2\")","v":{"$error":"#N/A"}},{"$f":"RTD(\"sysq.rtd\",\"\",\"!DTDH`LC.99-1337:2\")","v":{"$error":"#N/A"}},{"$f":"RTD(\"sysq.rtd\",\"\",\"!XTSH`LC.99-1337:2\")","v":{"$error":"#N/A"}},{"$f":"RTD(\"sysq.rtd\",\"\",\"!XTDH`LC.99-1337:2\")","v":{"$error":"#N/A"}},{"$f":"RTD(\"sysq.rtd\",\"\",\"!DTAI`LC.99-1337:2\")","v":{"$error":"#N/A"}},{"$f":"RTD(\"sysq.rtd\",\"\",\"WTX&`004.10-1337:2\")","v":{"$error":"#N/A"}},{"$error":"#N/A"}]
["1338",{"$f":"RTD(\"sysq.rtd\",\"\",\"!DTSH`LC.99-1338:2\")","v":{"$error":"#N/A"}},{"$f":"RTD(\"sysq.rtd\",\"\",\"!DTDH`LC.99-1338:2\")","v":{"$error":"#N/A"}},{"$f":"RTD(\"sysq.rtd\",\"\",\"!XTSH`LC.99-1338:2\")","v":{"$error":"#N/A"}},{"$f":"RTD(\"sysq.rtd\",\"\",\"!XTDH`LC.99-1338:2\")","v":{"$error":"#N/A"}},{"$f":"RTD(\"sysq.rtd\",\"\",\"!DTAI`LC.99-1338:2\")","v":{"$error":"#N/A"}},{"$f":"RTD(\"sysq.rtd\",\"\",\"WTX&`004.10-1338:2\")","v":{"$error":"#N/A"}},{"$error":"#N/A"}]
["1339",{"$f":"RTD(\"sysq.rtd\",\"\",\"!DTSH`LC.99-1339:2\")","v":{"$error":"#N/A"}},{"$f":"RTD(\"sysq.rtd\",\"\",\"!DTDH`LC.99-1339:2\")","v":{"$error":"#N/A"}},{"$f":"RTD(\"sysq.rtd\",\"\",\"!XTSH`LC.99-1339:2\")","v":{"$error":"#N/A"}},{"$f":"RTD(\"sysq.rtd\",\"\",\"!XTDH`LC.99-1339:2\")","v":{"$error":"#N/A"}},{"$f":"RTD(\"sysq.rtd\",\"\",\"!DTAI`LC.99-1339:2\")","v":{"$error":"#N/A"}},{"$f":"RTD(\"sysq.rtd\",\"\",\"WTX&`004.10-1339:2\")","v":{"$error":"#N/A"}},{"$error":"#N/A"}]
["1340",{"$f":"RTD(\"sysq.rtd\",\"\",\"!DTSH`LC.99-1340:2\")","v":{"$error":"#N/A"}},{"$f":"RTD(\"sysq.rtd\",\"\",\"!DTDH`LC.99-1340:2\")","v":{"$error":"#N/A"}},{"$f":"RTD(\"sysq.rtd\",\"\",\"!XTSH`LC.99-1340:2\")","v":{"$error":"#N/A"}},{"$f":"RTD(\"sysq.rtd\",\"\",\"!XTDH`LC.99-1340:2\")","v":{"$error":"#N/A"}},{"$f":"RTD(\"sysq.rtd\",\"\",\"!DTAI`LC.99-1340:2\")","v":{"$error":"#N/A"}},{"$f":"RTD(\"sysq.rtd\",\"\",\"WTX&`004.10-1340:2\")","v":{"$error":"#N/A"}},{"$error":"#N/A"}]
["1341",{"$f":"RTD(\"sysq.rtd\",\"\",\"!DTSH`LC.99-1341:2\")","v":{"$error":"#N/A"}},{"$f":"RTD(\"sysq.rtd\",\"\",\"!DTDH`LC.99-1341:2\")","v":{"$error":"#N/A"}},{"$f":"RTD(\"sysq.rtd\",\"\",\"!XTSH`LC.99-1341:2\")","v":{"$error":"#N/A"}},{"$f":"RTD(\"sysq.rtd\",\"\",\"!XTDH`LC.99-1341:2\")","v":{"$error":"#N/A"}},{"$f":"RTD(\"sysq.rtd\",\"\",\"!DTAI`LC.99-1341:2\")","v":{"$error":"#N/A"}},{"$f":"RTD(\"sysq.rtd\",\"\",\"WTX&`004.10-1341:2\")","v":{"$error":"#N/A"}},{"$error":"#N/A"}]
["1342",{"$f":"RTD(\"sysq.rtd\",\"\",\"!DTSH`LC.99-1342:2\")","v":{"$error":"#N/A"}},{"$f":"RTD(\"sysq.rtd\",\"\",\"!DTDH`LC.99-1342:2\")","v":{"$error":"#N/A"}},{"$f":"RTD(\"sysq.rtd\",\"\",\"!XTSH`LC.99-1342:2\")","v":{"$error":"#N/A"}},{"$f":"RTD(\"sysq.rtd\",\"\",\"!XTDH`LC.99-1342:2\")","v":{"$error":"#N/A"}},{"$f":"RTD(\"sysq.rtd\",\"\",\"!DTAI`LC.99-1342:2\")","v":{"$error":"#N/A"}},{"$f":"RTD(\"sysq.rtd\",\"\",\"WTX&`004.10-1342:2\")","v":{"$error":"#N/A"}},{"$error":"#N/A"}]
["1343",{"$f":"RTD(\"sysq.rtd\",\"\",\"!DTSH`LC.99-1343:2\")","v":{"$error":"#N/A"}},{"$f":"RTD(\"sysq.rtd\",\"\",\"!DTDH`LC.99-1343:2\")","v":{"$error":"#N/A"}},{"$f":"RTD(\"sysq.rtd\",\"\",\"!XTSH`LC.99-1343:2\")","v":{"$error":"#N/A"}},{"$f":"RTD(\"sysq.rtd\",\"\",\"!XTDH`LC.99-1343:2\")","v":{"$error":"#N/A"}},{"$f":"RTD(\"sysq.rtd\",\"\",\"!DTAI`LC.99-1343:2\")","v":{"$error":"#N/A"}},{"$f":"RTD(\"sysq.rtd\",\"\",\"WTX&`004.10-1343:2\")","v":{"$error":"#N/A"}},{"$error":"#N/A"}]
["1344",{"$f":"RTD(\"sysq.rtd\",\"\",\"!DTSH`LC.99-1344:2\")","v":{"$error":"#N/A"}},{"$f":"RTD(\"sysq.rtd\",\"\",\"!DTDH`LC.99-1344:2\")","v":{"$error":"#N/A"}},{"$f":"RTD(\"sysq.rtd\",\"\",\"!XTSH`LC.99-1344:2\")","v":{"$error":"#N/A"}},{"$f":"RTD(\"sysq.rtd\",\"\",\"!XTDH`LC.99-1344:2\")","v":{"$error":"#N/A"}},{"$f":"RTD(\"sysq.rtd\",\"\",\"!DTAI`LC.99-1344:2\")","v":{"$error":"#N/A"}},{"$f":"RTD(\"sysq.rtd\",\"\",\"WTX&`004.10-1344:2\")","v":{"$error":"#N/A"}},{"$error":"#N/A"}]
["1345",{"$f":"RTD(\"sysq.rtd\",\"\",\"!DTSH`LC.99-1345:2\")","v":{"$error":"#N/A"}},{"$f":"RTD(\"sysq.rtd\",\"\",\"!DTDH`LC.99-1345:2\")","v":{"$error":"#N/A"}},{"$f":"RTD(\"sysq.rtd\",\"\",\"!XTSH`LC.99-1345:2\")","v":{"$error":"#N/A"}},{"$f":"RTD(\"sysq.rtd\",\"\",\"!XTDH`LC.99-1345:2\")","v":{"$error":"#N/A"}},{"$f":"RTD(\"sysq.rtd\",\"\",\"!DTAI`LC.99-1345:2\")","v":{"$error":"#N/A"}},{"$f":"RTD(\"sysq.rtd\",\"\",\"WTX&`004.10-1345:2\")","v":{"$error":"#N/A"}},{"$error":"#N/A"}]
["1500",{"$f":"RTD(\"sysq.rtd\",\"\",\"!DTSH`LC.99-1500:2\")","v":{"$error":"#N/A"}},{"$f":"RTD(\"sysq.rtd\",\"\",\"!DTDH`LC.99-1500:2\")","v":{"$error":"#N/A"}},{"$f":"RTD(\"sysq.rtd\",\"\",\"!XTSH`LC.99-1500:2\")","v":{"$error":"#N/A"}},{"$f":"RTD(\"sysq.rtd\",\"\",\"!XTDH`LC.99-1500:2\")","v":{"$error":"#N/A"}},{"$f":"RTD(\"sysq.rtd\",\"\",\"!DTAI`LC.99-1500:2\")","v":{"$error":"#N/A"}},{"$f":"RTD(\"sysq.rtd\",\"\",\"WTX&`004.10-1500:2\")","v":{"$error":"#N/A"}},{"$error":"#N/A"}]
["1501",{"$f":"RTD(\"sysq.rtd\",\"\",\"!DTSH`LC.99-1501:2\")","v":{"$error":"#N/A"}},{"$f":"RTD(\"sysq.rtd\",\"\",\"!DTDH`LC.99-1501:2\")","v":{"$error":"#N/A"}},{"$f":"RTD(\"sysq.rtd\",\"\",\"!XTSH`LC.99-1501:2\")","v":{"$error":"#N/A"}},{"$f":"RTD(\"sysq.rtd\",\"\",\"!XTDH`LC.99-1501:2\")","v":{"$error":"#N/A"}},{"$f":"RTD(\"sysq.rtd\",\"\",\"!DTAI`LC.99-1501:2\")","v":{"$error":"#N/A"}},{"$f":"RTD(\"sysq.rtd\",\"\",\"WTX&`004.10-1501:2\")","v":{"$error":"#N/A"}},{"$error":"#N/A"}]
["1502",{"$f":"RTD(\"sysq.rtd\",\"\",\"!DTSH`LC.99-1502:2\")","v":{"$error":"#N/A"}},{"$f":"RTD(\"sysq.rtd\",\"\",\"!DTDH`LC.99-1502:2\")","v":{"$error":"#N/A"}},{"$f":"RTD(\"sysq.rtd\",\"\",\"!XTSH`LC.99-1502:2\")","v":{"$error":"#N/A"}},{"$f":"RTD(\"sysq.rtd\",\"\",\"!XTDH`LC.99-1502:2\")","v":{"$error":"#N/A"}},{"$f":"RTD(\"sysq.rtd\",\"\",\"!DTAI`LC.99-1502:2\")","v":{"$error":"#N/A"}},{"$f":"RTD(\"sysq.rtd\",\"\",\"WTX&`004.10-1502:2\")","v":{"$error":"#N/A"}},{"$error":"#N/A"}]
["1503",{"$f":"RTD(\"sysq.rtd\",\"\",\"!DTSH`LC.99-1503:2\")","v":{"$error":"#N/A"}},{"$f":"RTD(\"sysq.rtd\",\"\",\"!DTDH`LC.99-1503:2\")","v":{"$error":"#N/A"}},{"$f":"RTD(\"sysq.rtd\",\"\",\"!XTSH`LC.99-1503:2\")","v":{"$error":"#N/A"}},{"$f":"RTD(\"sysq.rtd\",\"\",\"!XTDH`LC.99-1503:2\")","v":{"$error":"#N/A"}},{"$f":"RTD(\"sysq.rtd\",\"\",\"!DTAI`LC.99-1503:2\")","v":{"$error":"#N/A"}},{"$f":"RTD(\"sysq.rtd\",\"\",\"WTX&`004.10-1503:2\")","v":{"$error":"#N/A"}},{"$error":"#N/A"}]
["1504",{"$f":"RTD(\"sysq.rtd\",\"\",\"!DTSH`LC.99-1504:2\")","v":{"$error":"#N/A"}},{"$f":"RTD(\"sysq.rtd\",\"\",\"!DTDH`LC.99-1504:2\")","v":{"$error":"#N/A"}},{"$f":"RTD(\"sysq.rtd\",\"\",\"!XTSH`LC.99-1504:2\")","v":{"$error":"#N/A"}},{"$f":"RTD(\"sysq.rtd\",\"\",\"!XTDH`LC.99-1504:2\")","v":{"$error":"#N/A"}},{"$f":"RTD(\"sysq.rtd\",\"\",\"!DTAI`LC.99-1504:2\")","v":{"$error":"#N/A"}},{"$f":"RTD(\"sysq.rtd\",\"\",\"WTX&`004.10-1504:2\")","v":{"$error":"#N/A"}},{"$error":"#N/A"}]
["1505",{"$f":"RTD(\"sysq.rtd\",\"\",\"!DTSH`LC.99-1505:2\")","v":{"$error":"#N/A"}},{"$f":"RTD(\"sysq.rtd\",\"\",\"!DTDH`LC.99-1505:2\")","v":{"$error":"#N/A"}},{"$f":"RTD(\"sysq.rtd\",\"\",\"!XTSH`LC.99-1505:2\")","v":{"$error":"#N/A"}},{"$f":"RTD(\"sysq.rtd\",\"\",\"!XTDH`LC.99-1505:2\")","v":{"$error":"#N/A"}},{"$f":"RTD(\"sysq.rtd\",\"\",\"!DTAI`LC.99-1505:2\")","v":{"$error":"#N/A"}},{"$f":"RTD(\"sysq.rtd\",\"\",\"WTX&`004.10-1505:2\")","v":{"$error":"#N/A"}},{"$error":"#N/A"}]
["1506",{"$f":"RTD(\"sysq.rtd\",\"\",\"!DTSH`LC.99-1506:2\")","v":{"$error":"#N/A"}},{"$f":"RTD(\"sysq.rtd\",\"\",\"!DTDH`LC.99-1506:2\")","v":{"$error":"#N/A"}},{"$f":"RTD(\"sysq.rtd\",\"\",\"!XTSH`LC.99-1506:2\")","v":{"$error":"#N/A"}},{"$f":"RTD(\"sysq.rtd\",\"\",\"!XTDH`LC.99-1506:2\")","v":{"$error":"#N/A"}},{"$f":"RTD(\"sysq.rtd\",\"\",\"!DTAI`LC.99-1506:2\")","v":{"$error":"#N/A"}},{"$f":"RTD(\"sysq.rtd\",\"\",\"WTX&`004.10-1506:2\")","v":{"$error":"#N/A"}},{"$error":"#N/A"}]
["1507",{"$f":"RTD(\"sysq.rtd\",\"\",\"!DTSH`LC.99-1507:2\")","v":{"$error":"#N/A"}},{"$f":"RTD(\"sysq.rtd\",\"\",\"!DTDH`LC.99-1507:2\")","v":{"$error":"#N/A"}},{"$f":"RTD(\"sysq.rtd\",\"\",\"!XTSH`LC.99-1507:2\")","v":{"$error":"#N/A"}},{"$f":"RTD(\"sysq.rtd\",\"\",\"!XTDH`LC.99-1507:2\")","v":{"$error":"#N/A"}},{"$f":"RTD(\"sysq.rtd\",\"\",\"!DTAI`LC.99-1507:2\")","v":{"$error":"#N/A"}},{"$f":"RTD(\"sysq.rtd\",\"\",\"WTX&`004.10-1507:2\")","v":{"$error":"#N/A"}},{"$error":"#N/A"}]
["1508",{"$f":"RTD(\"sysq.rtd\",\"\",\"!DTSH`LC.99-1508:2\")","v":{"$error":"#N/A"}},{"$f":"RTD(\"sysq.rtd\",\"\",\"!DTDH`LC.99-1508:2\")","v":{"$error":"#N/A"}},{"$f":"RTD(\"sysq.rtd\",\"\",\"!XTSH`LC.99-1508:2\")","v":{"$error":"#N/A"}},{"$f":"RTD(\"sysq.rtd\",\"\",\"!XTDH`LC.99-1508:2\")","v":{"$error":"#N/A"}},{"$f":"RTD(\"sysq.rtd\",\"\",\"!DTAI`LC.99-1508:2\")","v":{"$error":"#N/A"}},{"$f":"RTD(\"sysq.rtd\",\"\",\"WTX&`004.10-1508:2\")","v":{"$error":"#N/A"}},{"$error":"#N/A"}]
["1509",{"$f":"RTD(\"sysq.rtd\",\"\",\"!DTSH`LC.99-1509:2\")","v":{"$error":"#N/A"}},{"$f":"RTD(\"sysq.rtd\",\"\",\"!DTDH`LC.99-1509:2\")","v":{"$error":"#N/A"}},{"$f":"RTD(\"sysq.rtd\",\"\",\"!XTSH`LC.99-1509:2\")","v":{"$error":"#N/A"}},{"$f":"RTD(\"sysq.rtd\",\"\",\"!XTDH`LC.99-1509:2\")","v":{"$error":"#N/A"}},{"$f":"RTD(\"sysq.rtd\",\"\",\"!DTAI`LC.99-1509:2\")","v":{"$error":"#N/A"}},{"$f":"RTD(\"sysq.rtd\",\"\",\"WTX&`004.10-1509:2\")","v":{"$error":"#N/A"}},{"$error":"#N/A"}]
["1510",{"$f":"RTD(\"sysq.rtd\",\"\",\"!DTSH`LC.99-1510:2\")","v":{"$error":"#N/A"}},{"$f":"RTD(\"sysq.rtd\",\"\",\"!DTDH`LC.99-1510:2\")","v":{"$error":"#N/A"}},{"$f":"RTD(\"sysq.rtd\",\"\",\"!XTSH`LC.99-1510:2\")","v":{"$error":"#N/A"}},{"$f":"RTD(\"sysq.rtd\",\"\",\"!XTDH`LC.99-1510:2\")","v":{"$error":"#N/A"}},{"$f":"RTD(\"sysq.rtd\",\"\",\"!DTAI`LC.99-1510:2\")","v":{"$error":"#N/A"}},{"$f":"RTD(\"sysq.rtd\",\"\",\"WTX&`004.10-1510:2\")","v":{"$error":"#N/A"}},{"$error":"#N/A"}]
["1511",{"$f":"RTD(\"sysq.rtd\",\"\",\"!DTSH`LC.99-1511:2\")","v":{"$error":"#N/A"}},{"$f":"RTD(\"sysq.rtd\",\"\",\"!DTDH`LC.99-1511:2\")","v":{"$error":"#N/A"}},{"$f":"RTD(\"sysq.rtd\",\"\",\"!XTSH`LC.99-1511:2\")","v":{"$error":"#N/A"}},{"$f":"RTD(\"sysq.rtd\",\"\",\"!XTDH`LC.99-1511:2\")","v":{"$error":"#N/A"}},{"$f":"RTD(\"sysq.rtd\",\"\",\"!DTAI`LC.99-1511:2\")","v":{"$error":"#N/A"}},{"$f":"RTD(\"sysq.rtd\",\"\",\"WTX&`004.10-1511:2\")","v":{"$error":"#N/A"}},{"$error":"#N/A"}]
["1512",{"$f":"RTD(\"sysq.rtd\",\"\",\"!DTSH`LC.99-1512:2\")","v":{"$error":"#N/A"}},{"$f":"RTD(\"sysq.rtd\",\"\",\"!DTDH`LC.99-1512:2\")","v":{"$error":"#N/A"}},{"$f":"RTD(\"sysq.rtd\",\"\",\"!XTSH`LC.99-1512:2\")","v":{"$error":"#N/A"}},{"$f":"RTD(\"sysq.rtd\",\"\",\"!XTDH`LC.99-1512:2\")","v":{"$error":"#N/A"}},{"$f":"RTD(\"sysq.rtd\",\"\",\"!DTAI`LC.99-1512:2\")","v":{"$error":"#N/A"}},{"$f":"RTD(\"sysq.rtd\",\"\",\"WTX&`004.10-1512:2\")","v":{"$error":"#N/A"}},{"$error":"#N/A"}]
["1513",{"$f":"RTD(\"sysq.rtd\",\"\",\"!DTSH`LC.99-1513:2\")","v":{"$error":"#N/A"}},{"$f":"RTD(\"sysq.rtd\",\"\",\"!DTDH`LC.99-1513:2\")","v":{"$error":"#N/A"}},{"$f":"RTD(\"sysq.rtd\",\"\",\"!XTSH`LC.99-1513:2\")","v":{"$error":"#N/A"}},{"$f":"RTD(\"sysq.rtd\",\"\",\"!XTDH`LC.99-1513:2\")","v":{"$error":"#N/A"}},{"$f":"RTD(\"sysq.rtd\",\"\",\"!DTAI`LC.99-1513:2\")","v":{"$error":"#N/A"}},{"$f":"RTD(\"sysq.rtd\",\"\",\"WTX&`004.10-1513:2\")","v":{"$error":"#N/A"}},{"$error":"#N/A"}]
["1514",{"$f":"RTD(\"sysq.rtd\",\"\",\"!DTSH`LC.99-1514:2\")","v":{"$error":"#N/A"}},{"$f":"RTD(\"sysq.rtd\",\"\",\"!DTDH`LC.99-1514:2\")","v":{"$error":"#N/A"}},{"$f":"RTD(\"sysq.rtd\",\"\",\"!XTSH`LC.99-1514:2\")","v":{"$error":"#N/A"}},{"$f":"RTD(\"sysq.rtd\",\"\",\"!XTDH`LC.99-1514:2\")","v":{"$error":"#N/A"}},{"$f":"RTD(\"sysq.rtd\",\"\",\"!DTAI`LC.99-1514:2\")","v":{"$error":"#N/A"}},{"$f":"RTD(\"sysq.rtd\",\"\",\"WTX&`004.10-1514:2\")","v":{"$error":"#N/A"}},{"$error":"#N/A"}]
["1515",{"$f":"RTD(\"sysq.rtd\",\"\",\"!DTSH`LC.99-1515:2\")","v":{"$error":"#N/A"}},{"$f":"RTD(\"sysq.rtd\",\"\",\"!DTDH`LC.99-1515:2\")","v":{"$error":"#N/A"}},{"$f":"RTD(\"sysq.rtd\",\"\",\"!XTSH`LC.99-1515:2\")","v":{"$error":"#N/A"}},{"$f":"RTD(\"sysq.rtd\",\"\",\"!XTDH`LC.99-1515:2\")","v":{"$error":"#N/A"}},{"$f":"RTD(\"sysq.rtd\",\"\",\"!DTAI`LC.99-1515:2\")","v":{"$error":"#N/A"}},{"$f":"RTD(\"sysq.rtd\",\"\",\"WTX&`004.10-1515:2\")","v":{"$error":"#N/A"}},{"$error":"#N/A"}]
["1516",{"$f":"RTD(\"sysq.rtd\",\"\",\"!DTSH`LC.99-1516:2\")","v":{"$error":"#N/A"}},{"$f":"RTD(\"sysq.rtd\",\"\",\"!DTDH`LC.99-1516:2\")","v":{"$error":"#N/A"}},{"$f":"RTD(\"sysq.rtd\",\"\",\"!XTSH`LC.99-1516:2\")","v":{"$error":"#N/A"}},{"$f":"RTD(\"sysq.rtd\",\"\",\"!XTDH`LC.99-1516:2\")","v":{"$error":"#N/A"}},{"$f":"RTD(\"sysq.rtd\",\"\",\"!DTAI`LC.99-1516:2\")","v":{"$error":"#N/A"}},{"$f":"RTD(\"sysq.rtd\",\"\",\"WTX&`004.10-1516:2\")","v":{"$error":"#N/A"}},{"$error":"#N/A"}]
["1517",{"$f":"RTD(\"sysq.rtd\",\"\",\"!DTSH`LC.99-1517:2\")","v":{"$error":"#N/A"}},{"$f":"RTD(\"sysq.rtd\",\"\",\"!DTDH`LC.99-1517:2\")","v":{"$error":"#N/A"}},{"$f":"RTD(\"sysq.rtd\",\"\",\"!XTSH`LC.99-1517:2\")","v":{"$error":"#N/A"}},{"$f":"RTD(\"sysq.rtd\",\"\",\"!XTDH`LC.99-1517:2\")","v":{"$error":"#N/A"}},{"$f":"RTD(\"sysq.rtd\",\"\",\"!DTAI`LC.99-1517:2\")","v":{"$error":"#N/A"}},{"$f":"RTD(\"sysq.rtd\",\"\",\"WTX&`004.10-1517:2\")","v":{"$error":"#N/A"}},{"$error":"#N/A"}]
["1518",{"$f":"RTD(\"sysq.rtd\",\"\",\"!DTSH`LC.99-1518:2\")","v":{"$error":"#N/A"}},{"$f":"RTD(\"sysq.rtd\",\"\",\"!DTDH`LC.99-1518:2\")","v":{"$error":"#N/A"}},{"$f":"RTD(\"sysq.rtd\",\"\",\"!XTSH`LC.99-1518:2\")","v":{"$error":"#N/A"}},{"$f":"RTD(\"sysq.rtd\",\"\",\"!XTDH`LC.99-1518:2\")","v":{"$error":"#N/A"}},{"$f":"RTD(\"sysq.rtd\",\"\",\"!DTAI`LC.99-1518:2\")","v":{"$error":"#N/A"}},{"$f":"RTD(\"sysq.rtd\",\"\",\"WTX&`004.10-1518:2\")","v":{"$error":"#N/A"}},{"$error":"#N/A"}]
["1519",{"$f":"RTD(\"sysq.rtd\",\"\",\"!DTSH`LC.99-1519:2\")","v":{"$error":"#N/A"}},{"$f":"RTD(\"sysq.rtd\",\"\",\"!DTDH`LC.99-1519:2\")","v":{"$error":"#N/A"}},{"$f":"RTD(\"sysq.rtd\",\"\",\"!XTSH`LC.99-1519:2\")","v":{"$error":"#N/A"}},{"$f":"RTD(\"sysq.rtd\",\"\",\"!XTDH`LC.99-1519:2\")","v":{"$error":"#N/A"}},{"$f":"RTD(\"sysq.rtd\",\"\",\"!DTAI`LC.99-1519:2\")","v":{"$error":"#N/A"}},{"$f":"RTD(\"sysq.rtd\",\"\",\"WTX&`004.10-1519:2\")","v":{"$error":"#N/A"}},{"$error":"#N/A"}]
["1520",{"$f":"RTD(\"sysq.rtd\",\"\",\"!DTSH`LC.99-1520:2\")","v":{"$error":"#N/A"}},{"$f":"RTD(\"sysq.rtd\",\"\",\"!DTDH`LC.99-1520:2\")","v":{"$error":"#N/A"}},{"$f":"RTD(\"sysq.rtd\",\"\",\"!XTSH`LC.99-1520:2\")","v":{"$error":"#N/A"}},{"$f":"RTD(\"sysq.rtd\",\"\",\"!XTDH`LC.99-1520:2\")","v":{"$error":"#N/A"}},{"$f":"RTD(\"sysq.rtd\",\"\",\"!DTAI`LC.99-1520:2\")","v":{"$error":"#N/A"}},{"$f":"RTD(\"sysq.rtd\",\"\",\"WTX&`004.10-1520:2\")","v":{"$error":"#N/A"}},{"$f":"SQRT(ABS(F326))*(ABS(F326)/F326)","v":{"$error":"#N/A"}}]
["1521",{"$f":"RTD(\"sysq.rtd\",\"\",\"!DTSH`LC.99-1521:2\")","v":{"$error":"#N/A"}},{"$f":"RTD(\"sysq.rtd\",\"\",\"!DTDH`LC.99-1521:2\")","v":{"$error":"#N/A"}},{"$f":"RTD(\"sysq.rtd\",\"\",\"!XTSH`LC.99-1521:2\")","v":{"$error":"#N/A"}},{"$f":"RTD(\"sysq.rtd\",\"\",\"!XTDH`LC.99-1521:2\")","v":{"$error":"#N/A"}},{"$f":"RTD(\"sysq.rtd\",\"\",\"!DTAI`LC.99-1521:2\")","v":{"$error":"#N/A"}},{"$f":"RTD(\"sysq.rtd\",\"\",\"WTX&`004.10-1521:2\")","v":{"$error":"#N/A"}},{"$error":"#N/A"}]
["1522",{"$f":"RTD(\"sysq.rtd\",\"\",\"!DTSH`LC.99-1522:2\")","v":{"$error":"#N/A"}},{"$f":"RTD(\"sysq.rtd\",\"\",\"!DTDH`LC.99-1522:2\")","v":{"$error":"#N/A"}},{"$f":"RTD(\"sysq.rtd\",\"\",\"!XTSH`LC.99-1522:2\")","v":{"$error":"#N/A"}},{"$f":"RTD(\"sysq.rtd\",\"\",\"!XTDH`LC.99-1522:2\")","v":{"$error":"#N/A"}},{"$f":"RTD(\"sysq.rtd\",\"\",\"!DTAI`LC.99-1522:2\")","v":{"$error":"#N/A"}},{"$f":"RTD(\"sysq.rtd\",\"\",\"WTX&`004.10-1522:2\")","v":{"$error":"#N/A"}},{"$error":"#N/A"}]
["1523",{"$f":"RTD(\"sysq.rtd\",\"\",\"!DTSH`LC.99-1523:2\")","v":{"$error":"#N/A"}},{"$f":"RTD(\"sysq.rtd\",\"\",\"!DTDH`LC.99-1523:2\")","v":{"$error":"#N/A"}},{"$f":"RTD(\"sysq.rtd\",\"\",\"!XTSH`LC.99-1523:2\")","v":{"$error":"#N/A"}},{"$f":"RTD(\"sysq.rtd\",\"\",\"!XTDH`LC.99-1523:2\")","v":{"$error":"#N/A"}},{"$f":"RTD(\"sysq.rtd\",\"\",\"!DTAI`LC.99-1523:2\")","v":{"$error":"#N/A"}},{"$f":"RTD(\"sysq.rtd\",\"\",\"WTX&`004.10-1523:2\")","v":{"$error":"#N/A"}},{"$error":"#N/A"}]
["1524",{"$f":"RTD(\"sysq.rtd\",\"\",\"!DTSH`LC.99-1524:2\")","v":{"$error":"#N/A"}},{"$f":"RTD(\"sysq.rtd\",\"\",\"!DTDH`LC.99-1524:2\")","v":{"$error":"#N/A"}},{"$f":"RTD(\"sysq.rtd\",\"\",\"!XTSH`LC.99-1524:2\")","v":{"$error":"#N/A"}},{"$f":"RTD(\"sysq.rtd\",\"\",\"!XTDH`LC.99-1524:2\")","v":{"$error":"#N/A"}},{"$f":"RTD(\"sysq.rtd\",\"\",\"!DTAI`LC.99-1524:2\")","v":{"$error":"#N/A"}},{"$f":"RTD(\"sysq.rtd\",\"\",\"WTX&`004.10-1524:2\")","v":{"$error":"#N/A"}},{"$error":"#N/A"}]
["1525",{"$f":"RTD(\"sysq.rtd\",\"\",\"!DTSH`LC.99-1525:2\")","v":{"$error":"#N/A"}},{"$f":"RTD(\"sysq.rtd\",\"\",\"!DTDH`LC.99-1525:2\")","v":{"$error":"#N/A"}},{"$f":"RTD(\"sysq.rtd\",\"\",\"!XTSH`LC.99-1525:2\")","v":{"$error":"#N/A"}},{"$f":"RTD(\"sysq.rtd\",\"\",\"!XTDH`LC.99-1525:2\")","v":{"$error":"#N/A"}},{"$f":"RTD(\"sysq.rtd\",\"\",\"!DTAI`LC.99-1525:2\")","v":{"$error":"#N/A"}},{"$f":"RTD(\"sysq.rtd\",\"\",\"WTX&`004.10-1525:2\")","v":{"$error":"#N/A"}},{"$error":"#N/A"}]
["1526",{"$f":"RTD(\"sysq.rtd\",\"\",\"!DTSH`LC.99-1526:2\")","v":{"$error":"#N/A"}},{"$f":"RTD(\"sysq.rtd\",\"\",\"!DTDH`LC.99-1526:2\")","v":{"$error":"#N/A"}},{"$f":"RTD(\"sysq.rtd\",\"\",\"!XTSH`LC.99-1526:2\")","v":{"$error":"#N/A"}},{"$f":"RTD(\"sysq.rtd\",\"\",\"!XTDH`LC.99-1526:2\")","v":{"$error":"#N/A"}},{"$f":"RTD(\"sysq.rtd\",\"\",\"!DTAI`LC.99-1526:2\")","v":{"$error":"#N/A"}},{"$f":"RTD(\"sysq.rtd\",\"\",\"WTX&`004.10-1526:2\")","v":{"$error":"#N/A"}},{"$error":"#N/A"}]
["1527",{"$f":"RTD(\"sysq.rtd\",\"\",\"!DTSH`LC.99-1527:2\")","v":{"$error":"#N/A"}},{"$f":"RTD(\"sysq.rtd\",\"\",\"!DTDH`LC.99-1527:2\")","v":{"$error":"#N/A"}},{"$f":"RTD(\"sysq.rtd\",\"\",\"!XTSH`LC.99-1527:2\")","v":{"$error":"#N/A"}},{"$f":"RTD(\"sysq.rtd\",\"\",\"!XTDH`LC.99-1527:2\")","v":{"$error":"#N/A"}},{"$f":"RTD(\"sysq.rtd\",\"\",\"!DTAI`LC.99-1527:2\")","v":{"$error":"#N/A"}},{"$f":"RTD(\"sysq.rtd\",\"\",\"WTX&`004.10-1527:2\")","v":{"$error":"#N/A"}},{"$error":"#N/A"}]
["1528",{"$f":"RTD(\"sysq.rtd\",\"\",\"!DTSH`LC.99-1528:2\")","v":{"$error":"#N/A"}},{"$f":"RTD(\"sysq.rtd\",\"\",\"!DTDH`LC.99-1528:2\")","v":{"$error":"#N/A"}},{"$f":"RTD(\"sysq.rtd\",\"\",\"!XTSH`LC.99-1528:2\")","v":{"$error":"#N/A"}},{"$f":"RTD(\"sysq.rtd\",\"\",\"!XTDH`LC.99-1528:2\")","v":{"$error":"#N/A"}},{"$f":"RTD(\"sysq.rtd\",\"\",\"!DTAI`LC.99-1528:2\")","v":{"$error":"#N/A"}},{"$f":"RTD(\"sysq.rtd\",\"\",\"WTX&`004.10-1528:2\")","v":{"$error":"#N/A"}},{"$error":"#N/A"}]
["1529",{"$f":"RTD(\"sysq.rtd\",\"\",\"!DTSH`LC.99-1529:2\")","v":{"$error":"#N/A"}},{"$f":"RTD(\"sysq.rtd\",\"\",\"!DTDH`LC.99-1529:2\")","v":{"$error":"#N/A"}},{"$f":"RTD(\"sysq.rtd\",\"\",\"!XTSH`LC.99-1529:2\")","v":{"$error":"#N/A"}},{"$f":"RTD(\"sysq.rtd\",\"\",\"!XTDH`LC.99-1529:2\")","v":{"$error":"#N/A"}},{"$f":"RTD(\"sysq.rtd\",\"\",\"!DTAI`LC.99-1529:2\")","v":{"$error":"#N/A"}},{"$f":"RTD(\"sysq.rtd\",\"\",\"WTX&`004.10-1529:2\")","v":{"$error":"#N/A"}},{"$error":"#N/A"}]
["1530",{"$f":"RTD(\"sysq.rtd\",\"\",\"!DTSH`LC.99-1530:2\")","v":{"$error":"#N/A"}},{"$f":"RTD(\"sysq.rtd\",\"\",\"!DTDH`LC.99-1530:2\")","v":{"$error":"#N/A"}},{"$f":"RTD(\"sysq.rtd\",\"\",\"!XTSH`LC.99-1530:2\")","v":{"$error":"#N/A"}},{"$f":"RTD(\"sysq.rtd\",\"\",\"!XTDH`LC.99-1530:2\")","v":{"$error":"#N/A"}},{"$f":"RTD(\"sysq.rtd\",\"\",\"!DTAI`LC.99-1530:2\")","v":{"$error":"#N/A"}},{"$f":"RTD(\"sysq.rtd\",\"\",\"WTX&`004.10-1530:2\")","v":{"$error":"#N/A"}},{"$error":"#N/A"}]
["1531",{"$f":"RTD(\"sysq.rtd\",\"\",\"!DTSH`LC.99-1531:2\")","v":{"$error":"#N/A"}},{"$f":"RTD(\"sysq.rtd\",\"\",\"!DTDH`LC.99-1531:2\")","v":{"$error":"#N/A"}},{"$f":"RTD(\"sysq.rtd\",\"\",\"!XTSH`LC.99-1531:2\")","v":{"$error":"#N/A"}},{"$f":"RTD(\"sysq.rtd\",\"\",\"!XTDH`LC.99-1531:2\")","v":{"$error":"#N/A"}},{"$f":"RTD(\"sysq.rtd\",\"\",\"!DTAI`LC.99-1531:2\")","v":{"$error":"#N/A"}},{"$f":"RTD(\"sysq.rtd\",\"\",\"WTX&`004.10-1531:2\")","v":{"$error":"#N/A"}},{"$error":"#N/A"}]
["1532",{"$f":"RTD(\"sysq.rtd\",\"\",\"!DTSH`LC.99-1532:2\")","v":{"$error":"#N/A"}},{"$f":"RTD(\"sysq.rtd\",\"\",\"!DTDH`LC.99-1532:2\")","v":{"$error":"#N/A"}},{"$f":"RTD(\"sysq.rtd\",\"\",\"!XTSH`LC.99-1532:2\")","v":{"$error":"#N/A"}},{"$f":"RTD(\"sysq.rtd\",\"\",\"!XTDH`LC.99-1532:2\")","v":{"$error":"#N/A"}},{"$f":"RTD(\"sysq.rtd\",\"\",\"!DTAI`LC.99-1532:2\")","v":{"$error":"#N/A"}},{"$f":"RTD(\"sysq.rtd\",\"\",\"WTX&`004.10-1532:2\")","v":{"$error":"#N/A"}},{"$error":"#N/A"}]
["1533",{"$f":"RTD(\"sysq.rtd\",\"\",\"!DTSH`LC.99-1533:2\")","v":{"$error":"#N/A"}},{"$f":"RTD(\"sysq.rtd\",\"\",\"!DTDH`LC.99-1533:2\")","v":{"$error":"#N/A"}},{"$f":"RTD(\"sysq.rtd\",\"\",\"!XTSH`LC.99-1533:2\")","v":{"$error":"#N/A"}},{"$f":"RTD(\"sysq.rtd\",\"\",\"!XTDH`LC.99-1533:2\")","v":{"$error":"#N/A"}},{"$f":"RTD(\"sysq.rtd\",\"\",\"!DTAI`LC.99-1533:2\")","v":{"$error":"#N/A"}},{"$f":"RTD(\"sysq.rtd\",\"\",\"WTX&`004.10-1533:2\")","v":{"$error":"#N/A"}},{"$error":"#N/A"}]
["1534",{"$f":"RTD(\"sysq.rtd\",\"\",\"!DTSH`LC.99-1534:2\")","v":{"$error":"#N/A"}},{"$f":"RTD(\"sysq.rtd\",\"\",\"!DTDH`LC.99-1534:2\")","v":{"$error":"#N/A"}},{"$f":"RTD(\"sysq.rtd\",\"\",\"!XTSH`LC.99-1534:2\")","v":{"$error":"#N/A"}},{"$f":"RTD(\"sysq.rtd\",\"\",\"!XTDH`LC.99-1534:2\")","v":{"$error":"#N/A"}},{"$f":"RTD(\"sysq.rtd\",\"\",\"!DTAI`LC.99-1534:2\")","v":{"$error":"#N/A"}},{"$f":"RTD(\"sysq.rtd\",\"\",\"WTX&`004.10-1534:2\")","v":{"$error":"#N/A"}},{"$error":"#N/A"}]
["1535",{"$f":"RTD(\"sysq.rtd\",\"\",\"!DTSH`LC.99-1535:2\")","v":{"$error":"#N/A"}},{"$f":"RTD(\"sysq.rtd\",\"\",\"!DTDH`LC.99-1535:2\")","v":{"$error":"#N/A"}},{"$f":"RTD(\"sysq.rtd\",\"\",\"!XTSH`LC.99-1535:2\")","v":{"$error":"#N/A"}},{"$f":"RTD(\"sysq.rtd\",\"\",\"!XTDH`LC.99-1535:2\")","v":{"$error":"#N/A"}},{"$f":"RTD(\"sysq.rtd\",\"\",\"!DTAI`LC.99-1535:2\")","v":{"$error":"#N/A"}},{"$f":"RTD(\"sysq.rtd\",\"\",\"WTX&`004.10-1535:2\")","v":{"$error":"#N/A"}},{"$error":"#N/A"}]
["1536",{"$f":"RTD(\"sysq.rtd\",\"\",\"!DTSH`LC.99-1536:2\")","v":-225},{"$f":"RTD(\"sysq.rtd\",\"\",\"!DTDH`LC.99-1536:2\")","v":-395},{"$f":"RTD(\"sysq.rtd\",\"\",\"!XTSH`LC.99-1536:2\")","v":-274},{"$f":"RTD(\"sysq.rtd\",\"\",\"!XTDH`LC.99-1536:2\")","v":-1302},{"$f":"RTD(\"sysq.rtd\",\"\",\"!DTAI`LC.99-1536:2\")","v":-21.609940572664001},{"$f":"RTD(\"sysq.rtd\",\"\",\"WTX&`004.10-1536:2\")","v":24},-4.6486493277794141]
["1537",{"$f":"RTD(\"sysq.rtd\",\"\",\"!DTSH`LC.99-1537:2\")","v":-250},{"$f":"RTD(\"sysq.rtd\",\"\",\"!DTDH`LC.99-1537:2\")","v":-406},{"$f":"RTD(\"sysq.rtd\",\"\",\"!XTSH`LC.99-1537:2\")","v":-304},{"$f":"RTD(\"sysq.rtd\",\"\",\"!XTDH`LC.99-1537:2\")","v":-1285},{"$f":"RTD(\"sysq.rtd\",\"\",\"!DTAI`LC.99-1537:2\")","v":13.7386901914196},{"$f":"RTD(\"sysq.rtd\",\"\",\"WTX&`004.10-1537:2\")","v":22},3.7065739155478337]
["1538",{"$f":"RTD(\"sysq.rtd\",\"\",\"!DTSH`LC.99-1538:2\")","v":-243},{"$f":"RTD(\"sysq.rtd\",\"\",\"!DTDH`LC.99-1538:2\")","v":-373},{"$f":"RTD(\"sysq.rtd\",\"\",\"!XTSH`LC.99-1538:2\")","v":-307},{"$f":"RTD(\"sysq.rtd\",\"\",\"!XTDH`LC.99-1538:2\")","v":-1276},{"$f":"RTD(\"sysq.rtd\",\"\",\"!DTAI`LC.99-1538:2\")","v":37.327427312820099},{"$f":"RTD(\"sysq.rtd\",\"\",\"WTX&`004.10-1538:2\")","v":21},6.1096176077411011]
["1539",{"$f":"RTD(\"sysq.rtd\",\"\",\"!DTSH`LC.99-1539:2\")","v":-229},{"$f":"RTD(\"sysq.rtd\",\"\",\"!DTDH`LC.99-1539:2\")","v":-413},{"$f":"RTD(\"sysq.rtd\",\"\",\"!XTSH`LC.99-1539:2\")","v":-299},{"$f":"RTD(\"sysq.rtd\",\"\",\"!XTDH`LC.99-1539:2\")","v":-1288},{"$f":"RTD(\"sysq.rtd\",\"\",\"!DTAI`LC.99-1539:2\")","v":-38.968551393930198},{"$f":"RTD(\"sysq.rtd\",\"\",\"WTX&`004.10-1539:2\")","v":22},-6.2424795869854632]
["1540",{"$f":"RTD(\"sysq.rtd\",\"\",\"!DTSH`LC.99-1540:2\")","v":-218},{"$f":"RTD(\"sysq.rtd\",\"\",\"!DTDH`LC.99-1540:2\")","v":-407},{"$f":"RTD(\"sysq.rtd\",\"\",\"!XTSH`LC.99-1540:2\")","v":-289},{"$f":"RTD(\"sysq.rtd\",\"\",\"!XTDH`LC.99-1540:2\")","v":-1324},{"$f":"RTD(\"sysq.rtd\",\"\",\"!DTAI`LC.99-1540:2\")","v":-54.389862045275599},{"$f":"RTD(\"sysq.rtd\",\"\",\"WTX&`004.10-1540:2\")","v":22},-7.374948274074578]
["1541",{"$f":"RTD(\"sysq.rtd\",\"\",\"!DTSH`LC.99-1541:2\")","v":-213},{"$f":"RTD(\"sysq.rtd\",\"\",\"!DTDH`LC.99-1541:2\")","v":-365},{"$f":"RTD(\"sysq.rtd\",\"\",\"!XTSH`LC.99-1541:2\")","v":-284},{"$f":"RTD(\"sysq.rtd\",\"\",\"!XTDH`LC.99-1541:2\")","v":-1271},{"$f":"RTD(\"sysq.rtd\",\"\",\"!DTAI`LC.99-1541:2\")","v":-14.4042395430581},{"$f":"RTD(\"sysq.rtd\",\"\",\"WTX&`004.10-1541:2\")","v":23},-3.7952917599386349]
["1542",{"$f":"RTD(\"sysq.rtd\",\"\",\"!DTSH`LC.99-1542:2\")","v":-211},{"$f":"RTD(\"sysq.rtd\",\"\",\"!DTDH`LC.99-1542:2\")","v":-223},{"$f":"RTD(\"sysq.rtd\",\"\",\"!XTSH`LC.99-1542:2\")","v":-282},{"$f":"RTD(\"sysq.rtd\",\"\",\"!XTDH`LC.99-1542:2\")","v":-1273},{"$f":"RTD(\"sysq.rtd\",\"\",\"!DTAI`LC.99-1542:2\")","v":131.074096540467},{"$f":"RTD(\"sysq.rtd\",\"\",\"WTX&`004.10-1542:2\")","v":22},11.448759607069537]
["1543",{"$f":"RTD(\"sysq.rtd\",\"\",\"!DTSH`LC.99-1543:2\")","v":-190},{"$f":"RTD(\"sysq.rtd\",\"\",\"!DTDH`LC.99-1543:2\")","v":-38},{"$f":"RTD(\"sysq.rtd\",\"\",\"!XTSH`LC.99-1543:2\")","v":-278},{"$f":"RTD(\"sysq.rtd\",\"\",\"!XTDH`LC.99-1543:2\")","v":-1277},{"$f":"RTD(\"sysq.rtd\",\"\",\"!DTAI`LC.99-1543:2\")","v":302.49273023315698},{"$f":"RTD(\"sysq.rtd\",\"\",\"WTX&`004.10-1543:2\")","v":23},17.39231813856787]
["1544",{"$f":"RTD(\"sysq.rtd\",\"\",\"!DTSH`LC.99-1544:2\")","v":-202},{"$f":"RTD(\"sysq.rtd\",\"\",\"!DTDH`LC.99-1544:2\")","v":-217},{"$f":"RTD(\"sysq.rtd\",\"\",\"!XTSH`LC.99-1544:2\")","v":-281},{"$f":"RTD(\"sysq.rtd\",\"\",\"!XTDH`LC.99-1544:2\")","v":-1263},{"$f":"RTD(\"sysq.rtd\",\"\",\"!DTAI`LC.99-1544:2\")","v":120.072695033882},{"$f":"RTD(\"sysq.rtd\",\"\",\"WTX&`004.10-1544:2\")","v":22},10.957768706898408]
["1545",{"$f":"RTD(\"sysq.rtd\",\"\",\"!DTSH`LC.99-1545:2\")","v":-208},{"$f":"RTD(\"sysq.rtd\",\"\",\"!DTDH`LC.99-1545:2\")","v":-227},{"$f":"RTD(\"sysq.rtd\",\"\",\"!XTSH`LC.99-1545:2\")","v":-311},{"$f":"RTD(\"sysq.rtd\",\"\",\"!XTDH`LC.99-1545:2\")","v":-1466},{"$f":"RTD(\"sysq.rtd\",\"\",\"!DTAI`LC.99-1545:2\")","v":118.492488358581},{"$f":"RTD(\"sysq.rtd\",\"\",\"WTX&`004.10-1545:2\")","v":21},10.885425501953565]
["1546",{"$f":"RTD(\"sysq.rtd\",\"\",\"!DTSH`LC.99-1546:2\")","v":-285},{"$f":"RTD(\"sysq.rtd\",\"\",\"!DTDH`LC.99-1546:2\")","v":-152},{"$f":"RTD(\"sysq.rtd\",\"\",\"!XTSH`LC.99-1546:2\")","v":-277},{"$f":"RTD(\"sysq.rtd\",\"\",\"!XTDH`LC.99-1546:2\")","v":-1641},{"$f":"RTD(\"sysq.rtd\",\"\",\"!DTAI`LC.99-1546:2\")","v":336.674468216619},{"$f":"RTD(\"sysq.rtd\",\"\",\"WTX&`004.10-1546:2\")","v":22},18.34869118538483]
["1547",{"$f":"RTD(\"sysq.rtd\",\"\",\"!DTSH`LC.99-1547:2\")","v":-201},{"$f":"RTD(\"sysq.rtd\",\"\",\"!DTDH`LC.99-1547:2\")","v":232},{"$f":"RTD(\"sysq.rtd\",\"\",\"!XTSH`LC.99-1547:2\")","v":-315},{"$f":"RTD(\"sysq.rtd\",\"\",\"!XTDH`LC.99-1547:2\")","v":-1608},{"$f":"RTD(\"sysq.rtd\",\"\",\"!DTAI`LC.99-1547:2\")","v":625.77316204348006},{"$f":"RTD(\"sysq.rtd\",\"\",\"WTX&`004.10-1547:2\")","v":21},25.015458461588906]
["1548",{"$f":"RTD(\"sysq.rtd\",\"\",\"!DTSH`LC.99-1548:2\")","v":-201},{"$f":"RTD(\"sysq.rtd\",\"\",\"!DTDH`LC.99-1548:2\")","v":-140},{"$f":"RTD(\"sysq.rtd\",\"\",\"!XTSH`LC.99-1548:2\")","v":-295},{"$f":"RTD(\"sysq.rtd\",\"\",\"!XTDH`LC.99-1548:2\")","v":-1607},{"$f":"RTD(\"sysq.rtd\",\"\",\"!DTAI`LC.99-1548:2\")","v":204.96453698286001},{"$f":"RTD(\"sysq.rtd\",\"\",\"WTX&`004.10-1548:2\")","v":{"$error":"#N/A"}},14.316582587435454]
["1549",{"$f":"RTD(\"sysq.rtd\",\"\",\"!DTSH`LC.99-1549:2\")","v":-143},{"$f":"RTD(\"sysq.rtd\",\"\",\"!DTDH`LC.99-1549:2\")","v":-73},{"$f":"RTD(\"sysq.rtd\",\"\",\"!XTSH`LC.99-1549:2\")","v":-292},{"$f":"RTD(\"sysq.rtd\",\"\",\"!XTDH`LC.99-1549:2\")","v":-1609},{"$f":"RTD(\"sysq.rtd\",\"\",\"!DTAI`LC.99-1549:2\")","v":172.856693585524},{"$f":"RTD(\"sysq.rtd\",\"\",\"WTX&`004.10-1549:2\")","v":21},13.147497616867021]
["1550",{"$f":"RTD(\"sysq.rtd\",\"\",\"!DTSH`LC.99-1550:2\")","v":-146},{"$f":"RTD(\"sysq.rtd\",\"\",\"!DTDH`LC.99-1550:2\")","v":-862},{"$f":"RTD(\"sysq.rtd\",\"\",\"!XTSH`LC.99-1550:2\")","v":-285},{"$f":"RTD(\"sysq.rtd\",\"\",\"!XTDH`LC.99-1550:2\")","v":-1612},{"$f":"RTD(\"sysq.rtd\",\"\",\"!DTAI`LC.99-1550:2\")","v":-620.84373221244402},{"$f":"RTD(\"sysq.rtd\",\"\",\"WTX&`004.10-1550:2\")","v":22},-24.916735986329432]
["1551",{"$f":"RTD(\"sysq.rtd\",\"\",\"!DTSH`LC.99-1551:2\")","v":-145},{"$f":"RTD(\"sysq.rtd\",\"\",\"!DTDH`LC.99-1551:2\")","v":-859},{"$f":"RTD(\"sysq.rtd\",\"\",\"!XTSH`LC.99-1551:2\")","v":-266},{"$f":"RTD(\"sysq.rtd\",\"\",\"!XTDH`LC.99-1551:2\")","v":-1612},{"$f":"RTD(\"sysq.rtd\",\"\",\"!DTAI`LC.99-1551:2\")","v":-620.90171243381599},{"$f":"RTD(\"sysq.rtd\",\"\",\"WTX&`004.10-1551:2\")","v":23},-24.917899438632784]
["1552",{"$f":"RTD(\"sysq.rtd\",\"\",\"!DTSH`LC.99-1552:2\")","v":-123},{"$f":"RTD(\"sysq.rtd\",\"\",\"!DTDH`LC.99-1552:2\")","v":129},{"$f":"RTD(\"sysq.rtd\",\"\",\"!XTSH`LC.99-1552:2\")","v":-269},{"$f":"RTD(\"sysq.rtd\",\"\",\"!XTDH`LC.99-1552:2\")","v":-1613},{"$f":"RTD(\"sysq.rtd\",\"\",\"!DTAI`LC.99-1552:2\")","v":350.15257583916701},{"$f":"RTD(\"sysq.rtd\",\"\",\"WTX&`004.10-1552:2\")","v":22},18.71236425038715]
["1553",{"$f":"RTD(\"sysq.rtd\",\"\",\"!DTSH`LC.99-1553:2\")","v":-123},{"$f":"RTD(\"sysq.rtd\",\"\",\"!DTDH`LC.99-1553:2\")","v":102},{"$f":"RTD(\"sysq.rtd\",\"\",\"!XTSH`LC.99-1553:2\")","v":-219},{"$f":"RTD(\"sysq.rtd\",\"\",\"!XTDH`LC.99-1553:2\")","v":-1561},{"$f":"RTD(\"sysq.rtd\",\"\",\"!DTAI`LC.99-1553:2\")","v":319.44683431138498},{"$f":"RTD(\"sysq.rtd\",\"\",\"WTX&`004.10-1553:2\")","v":24},17.873075681353363]
["1554",{"$f":"RTD(\"sysq.rtd\",\"\",\"!DTSH`LC.99-1554:2\")","v":-125},{"$f":"RTD(\"sysq.rtd\",\"\",\"!DTDH`LC.99-1554:2\")","v":102},{"$f":"RTD(\"sysq.rtd\",\"\",\"!XTSH`LC.99-1554:2\")","v":-213},{"$f":"RTD(\"sysq.rtd\",\"\",\"!XTDH`LC.99-1554:2\")","v":-1567},{"$f":"RTD(\"sysq.rtd\",\"\",\"!DTAI`LC.99-1554:2\")","v":320.24714191896902},{"$f":"RTD(\"sysq.rtd\",\"\",\"WTX&`004.10-1554:2\")","v":23},17.895450313388849]
["1555",{"$f":"RTD(\"sysq.rtd\",\"\",\"!DTSH`LC.99-1555:2\")","v":-84},{"$f":"RTD(\"sysq.rtd\",\"\",\"!DTDH`LC.99-1555:2\")","v":10},{"$f":"RTD(\"sysq.rtd\",\"\",\"!XTSH`LC.99-1555:2\")","v":-201},{"$f":"RTD(\"sysq.rtd\",\"\",\"!XTDH`LC.99-1555:2\")","v":-1552},{"$f":"RTD(\"sysq.rtd\",\"\",\"!DTAI`LC.99-1555:2\")","v":148.992511921757},{"$f":"RTD(\"sysq.rtd\",\"\",\"WTX&`004.10-1555:2\")","v":24},12.206248888243964]
["1556",{"$f":"RTD(\"sysq.rtd\",\"\",\"!DTSH`LC.99-1556:2\")","v":-87},{"$f":"RTD(\"sysq.rtd\",\"\",\"!DTDH`LC.99-1556:2\")","v":-119},{"$f":"RTD(\"sysq.rtd\",\"\",\"!XTSH`LC.99-1556:2\")","v":-163},{"$f":"RTD(\"sysq.rtd\",\"\",\"!XTDH`LC.99-1556:2\")","v":-1523},{"$f":"RTD(\"sysq.rtd\",\"\",\"!DTAI`LC.99-1556:2\")","v":24.649782623697501},{"$f":"RTD(\"sysq.rtd\",\"\",\"WTX&`004.10-1556:2\")","v":26},4.964854743464052]
["1557",{"$f":"RTD(\"sysq.rtd\",\"\",\"!DTSH`LC.99-1557:2\")","v":-140},{"$f":"RTD(\"sysq.rtd\",\"\",\"!DTDH`LC.99-1557:2\")","v":-155},{"$f":"RTD(\"sysq.rtd\",\"\",\"!XTSH`LC.99-1557:2\")","v":-189},{"$f":"RTD(\"sysq.rtd\",\"\",\"!XTDH`LC.99-1557:2\")","v":-1522},{"$f":"RTD(\"sysq.rtd\",\"\",\"!DTAI`LC.99-1557:2\")","v":74.072519724693606},{"$f":"RTD(\"sysq.rtd\",\"\",\"WTX&`004.10-1557:2\")","v":24},8.6065393582260228]
["1558",{"$f":"RTD(\"sysq.rtd\",\"\",\"!DTSH`LC.99-1558:2\")","v":-90},{"$f":"RTD(\"sysq.rtd\",\"\",\"!DTDH`LC.99-1558:2\")","v":-87},{"$f":"RTD(\"sysq.rtd\",\"\",\"!XTSH`LC.99-1558:2\")","v":-173},{"$f":"RTD(\"sysq.rtd\",\"\",\"!XTDH`LC.99-1558:2\")","v":-1529},{"$f":"RTD(\"sysq.rtd\",\"\",\"!DTAI`LC.99-1558:2\")","v":59.592424639523003},{"$f":"RTD(\"sysq.rtd\",\"\",\"WTX&`004.10-1558:2\")","v":{"$error":"#N/A"}},7.7196129850869468]
["1559",{"$f":"RTD(\"sysq.rtd\",\"\",\"!DTSH`LC.99-1559:2\")","v":-127},{"$f":"RTD(\"sysq.rtd\",\"\",\"!DTDH`LC.99-1559:2\")","v":-138},{"$f":"RTD(\"sysq.rtd\",\"\",\"!XTSH`LC.99-1559:2\")","v":-191},{"$f":"RTD(\"sysq.rtd\",\"\",\"!XTDH`LC.99-1559:2\")","v":-1510},{"$f":"RTD(\"sysq.rtd\",\"\",\"!DTAI`LC.99-1559:2\")","v":67.789768123470907},{"$f":"RTD(\"sysq.rtd\",\"\",\"WTX&`004.10-1559:2\")","v":22},8.2334542036420473]
["1600",{"$f":"RTD(\"sysq.rtd\",\"\",\"!DTSH`LC.99-1600:2\")","v":-167},{"$f":"RTD(\"sysq.rtd\",\"\",\"!DTDH`LC.99-1600:2\")","v":-158},{"$f":"RTD(\"sysq.rtd\",\"\",\"!XTSH`LC.99-1600:2\")","v":-204},{"$f":"RTD(\"sysq.rtd\",\"\",\"!XTDH`LC.99-1600:2\")","v":-1517},{"$f":"RTD(\"sysq.rtd\",\"\",\"!DTAI`LC.99-1600:2\")","v":114.08533909876},{"$f":"RTD(\"sysq.rtd\",\"\",\"WTX&`004.10-1600:2\")","v":22},10.681073873855569]
["1601",{"$f":"RTD(\"sysq.rtd\",\"\",\"!DTSH`LC.99-1601:2\")","v":-64},{"$f":"RTD(\"sysq.rtd\",\"\",\"!DTDH`LC.99-1601:2\")","v":168},{"$f":"RTD(\"sysq.rtd\",\"\",\"!XTSH`LC.99-1601:2\")","v":-118},{"$f":"RTD(\"sysq.rtd\",\"\",\"!XTDH`LC.99-1601:2\")","v":-1486},{"$f":"RTD(\"sysq.rtd\",\"\",\"!DTAI`LC.99-1601:2\")","v":265.31874341100399},{"$f":"RTD(\"sysq.rtd\",\"\",\"WTX&`004.10-1601:2\")","v":28},16.288607780010054]
["1602",{"$f":"RTD(\"sysq.rtd\",\"\",\"!DTSH`LC.99-1602:2\")","v":-86},{"$f":"RTD(\"sysq.rtd\",\"\",\"!DTDH`LC.99-1602:2\")","v":174},{"$f":"RTD(\"sysq.rtd\",\"\",\"!XTSH`LC.99-1602:2\")","v":-163},{"$f":"RTD(\"sysq.rtd\",\"\",\"!XTDH`LC.99-1602:2\")","v":-1481},{"$f":"RTD(\"sysq.rtd\",\"\",\"!DTAI`LC.99-1602:2\")","v":301.21208226191499},{"$f":"RTD(\"sysq.rtd\",\"\",\"WTX&`004.10-1602:2\")","v":26},17.355462605817081]
["1603",{"$f":"RTD(\"sysq.rtd\",\"\",\"!DTSH`LC.99-1603:2\")","v":-70},{"$f":"RTD(\"sysq.rtd\",\"\",\"!DTDH`LC.99-1603:2\")","v":170},{"$f":"RTD(\"sysq.rtd\",\"\",\"!XTSH`LC.99-1603:2\")","v":-124},{"$f":"RTD(\"sysq.rtd\",\"\",\"!XTDH`LC.99-1603:2\")","v":-1479},{"$f":"RTD(\"sysq.rtd\",\"\",\"!DTAI`LC.99-1603:2\")","v":268.68228085947601},{"$f":"RTD(\"sysq.rtd\",\"\",\"WTX&`004.10-1603:2\")","v":24},16.391530766205943]
["1604",{"$f":"RTD(\"sysq.rtd\",\"\",\"!DTSH`LC.99-1604:2\")","v":-87},{"$f":"RTD(\"sysq.rtd\",\"\",\"!DTDH`LC.99-1604:2\")","v":18},{"$f":"RTD(\"sysq.rtd\",\"\",\"!XTSH`LC.99-1604:2\")","v":-143},{"$f":"RTD(\"sysq.rtd\",\"\",\"!XTDH`LC.99-1604:2\")","v":-1503},{"$f":"RTD(\"sysq.rtd\",\"\",\"!DTAI`LC.99-1604:2\")","v":146.350729051168},{"$f":"RTD(\"sysq.rtd\",\"\",\"WTX&`004.10-1604:2\")","v":24},12.097550539310344]
["1605",{"$f":"RTD(\"sysq.rtd\",\"\",\"!DTSH`LC.99-1605:2\")","v":-99},{"$f":"RTD(\"sysq.rtd\",\"\",\"!DTDH`LC.99-1605:2\")","v":13},{"$f":"RTD(\"sysq.rtd\",\"\",\"!XTSH`LC.99-1605:2\")","v":-212},{"$f":"RTD(\"sysq.rtd\",\"\",\"!XTDH`LC.99-1605:2\")","v":-1487},{"$f":"RTD(\"sysq.rtd\",\"\",\"!DTAI`LC.99-1605:2\")","v":154.966664276096},{"$f":"RTD(\"sysq.rtd\",\"\",\"WTX&`004.10-1605:2\")","v":21},12.448560731108476]
["1606",{"$f":"RTD(\"sysq.rtd\",\"\",\"!DTSH`LC.99-1606:2\")","v":-87},{"$f":"RTD(\"sysq.rtd\",\"\",\"!DTDH`LC.99-1606:2\")","v":-154},{"$f":"RTD(\"sysq.rtd\",\"\",\"!XTSH`LC.99-1606:2\")","v":-187},{"$f":"RTD(\"sysq.rtd\",\"\",\"!XTDH`LC.99-1606:2\")","v":-1531},{"$f":"RTD(\"sysq.rtd\",\"\",\"!DTAI`LC.99-1606:2\")","v":-13.994796657773801},{"$f":"RTD(\"sysq.rtd\",\"\",\"WTX&`004.10-1606:2\")","v":21},-3.7409619963017269]
["1607",{"$f":"RTD(\"sysq.rtd\",\"\",\"!DTSH`LC.99-1607:2\")","v":-125},{"$f":"RTD(\"sysq.rtd\",\"\",\"!DTDH`LC.99-1607:2\")","v":-207},{"$f":"RTD(\"sysq.rtd\",\"\",\"!XTSH`LC.99-1607:2\")","v":-189},{"$f":"RTD(\"sysq.rtd\",\"\",\"!XTDH`LC.99-1607:2\")","v":-1539},{"$f":"RTD(\"sysq.rtd\",\"\",\"!DTAI`LC.99-1607:2\")","v":-7.0578283922344598},{"$f":"RTD(\"sysq.rtd\",\"\",\"WTX&`004.10-1607:2\")","v":21},-2.6566573720061193]
["1608",{"$f":"RTD(\"sysq.rtd\",\"\",\"!DTSH`LC.99-1608:2\")","v":-72},{"$f":"RTD(\"sysq.rtd\",\"\",\"!DTDH`LC.99-1608:2\")","v":-197},{"$f":"RTD(\"sysq.rtd\",\"\",\"!XTSH`LC.99-1608:2\")","v":-155},{"$f":"RTD(\"sysq.rtd\",\"\",\"!XTDH`LC.99-1608:2\")","v":-1537},{"$f":"RTD(\"sysq.rtd\",\"\",\"!DTAI`LC.99-1608:2\")","v":-73.815354100077002},{"$f":"RTD(\"sysq.rtd\",\"\",\"WTX&`004.10-1608:2\")","v":22},-8.5915862388779534]
["1609",{"$f":"RTD(\"sysq.rtd\",\"\",\"!DTSH`LC.99-1609:2\")","v":-46},{"$f":"RTD(\"sysq.rtd\",\"\",\"!DTDH`LC.99-1609:2\")","v":159},{"$f":"RTD(\"sysq.rtd\",\"\",\"!XTSH`LC.99-1609:2\")","v":-139},{"$f":"RTD(\"sysq.rtd\",\"\",\"!XTDH`LC.99-1609:2\")","v":-1529},{"$f":"RTD(\"sysq.rtd\",\"\",\"!DTAI`LC.99-1609:2\")","v":206.765551666562},{"$f":"RTD(\"sysq.rtd\",\"\",\"WTX&`004.10-1609:2\")","v":22},14.379344618812153]
["1610",{"$f":"RTD(\"sysq.rtd\",\"\",\"!DTSH`LC.99-1610:2\")","v":-52},{"$f":"RTD(\"sysq.rtd\",\"\",\"!DTDH`LC.99-1610:2\")","v":-1},{"$f":"RTD(\"sysq.rtd\",\"\",\"!XTSH`LC.99-1610:2\")","v":-155},{"$f":"RTD(\"sysq.rtd\",\"\",\"!XTDH`LC.99-1610:2\")","v":-1528},{"$f":"RTD(\"sysq.rtd\",\"\",\"!DTAI`LC.99-1610:2\")","v":70.069580216272499},{"$f":"RTD(\"sysq.rtd\",\"\",\"WTX&`004.10-1610:2\")","v":21},8.3707574457914209]
["1611",{"$f":"RTD(\"sysq.rtd\",\"\",\"!DTSH`LC.99-1611:2\")","v":-50},{"$f":"RTD(\"sysq.rtd\",\"\",\"!DTDH`LC.99-1611:2\")","v":157},{"$f":"RTD(\"sysq.rtd\",\"\",\"!XTSH`LC.99-1611:2\")","v":-163},{"$f":"RTD(\"sysq.rtd\",\"\",\"!XTDH`LC.99-1611:2\")","v":-1529},{"$f":"RTD(\"sysq.rtd\",\"\",\"!DTAI`LC.99-1611:2\")","v":206.82453790083301},{"$f":"RTD(\"sysq.rtd\",\"\",\"WTX&`004.10-1611:2\")","v":21},14.381395547749634]
["1612",{"$f":"RTD(\"sysq.rtd\",\"\",\"!DTSH`LC.99-1612:2\")","v":-46},{"$f":"RTD(\"sysq.rtd\",\"\",\"!DTDH`LC.99-1612:2\")","v":225},{"$f":"RTD(\"sysq.rtd\",\"\",\"!XTSH`LC.99-1612:2\")","v":-143},{"$f":"RTD(\"sysq.rtd\",\"\",\"!XTDH`LC.99-1612:2\")","v":-1523},{"$f":"RTD(\"sysq.rtd\",\"\",\"!DTAI`LC.99-1612:2\")","v":259.92539850217702},{"$f":"RTD(\"sysq.rtd\",\"\",\"WTX&`004.10-1612:2\")","v":23},16.122202036389975]
["1613",{"$f":"RTD(\"sysq.rtd\",\"\",\"!DTSH`LC.99-1613:2\")","v":-139},{"$f":"RTD(\"sysq.rtd\",\"\",\"!DTDH`LC.99-1613:2\")","v":-201},{"$f":"RTD(\"sysq.rtd\",\"\",\"!XTSH`LC.99-1613:2\")","v":-203},{"$f":"RTD(\"sysq.rtd\",\"\",\"!XTDH`LC.99-1613:2\")","v":-1547},{"$f":"RTD(\"sysq.rtd\",\"\",\"!DTAI`LC.99-1613:2\")","v":14.1619788504066},{"$f":"RTD(\"sysq.rtd\",\"\",\"WTX&`004.10-1613:2\")","v":20},3.7632404720408981]
["1614",{"$f":"RTD(\"sysq.rtd\",\"\",\"!DTSH`LC.99-1614:2\")","v":-74},{"$f":"RTD(\"sysq.rtd\",\"\",\"!DTDH`LC.99-1614:2\")","v":-162},{"$f":"RTD(\"sysq.rtd\",\"\",\"!XTSH`LC.99-1614:2\")","v":-167},{"$f":"RTD(\"sysq.rtd\",\"\",\"!XTDH`LC.99-1614:2\")","v":-1554},{"$f":"RTD(\"sysq.rtd\",\"\",\"!DTAI`LC.99-1614:2\")","v":-40.655696164796097},{"$f":"RTD(\"sysq.rtd\",\"\",\"WTX&`004.10-1614:2\")","v":21},-6.3761819425731652]
["1615",{"$f":"RTD(\"sysq.rtd\",\"\",\"!DTSH`LC.99-1615:2\")","v":-105},{"$f":"RTD(\"sysq.rtd\",\"\",\"!DTDH`LC.99-1615:2\")","v":-179},{"$f":"RTD(\"sysq.rtd\",\"\",\"!XTSH`LC.99-1615:2\")","v":-174},{"$f":"RTD(\"sysq.rtd\",\"\",\"!XTDH`LC.99-1615:2\")","v":-1547},{"$f":"RTD(\"sysq.rtd\",\"\",\"!DTAI`LC.99-1615:2\")","v":-13.5193639650062},{"$f":"RTD(\"sysq.rtd\",\"\",\"WTX&`004.10-1615:2\")","v":22},-3.6768687717956703]
["1616",{"$f":"RTD(\"sysq.rtd\",\"\",\"!DTSH`LC.99-1616:2\")","v":-108},{"$f":"RTD(\"sysq.rtd\",\"\",\"!DTDH`LC.99-1616:2\")","v":-201},{"$f":"RTD(\"sysq.rtd\",\"\",\"!XTSH`LC.99-1616:2\")","v":-149},{"$f":"RTD(\"sysq.rtd\",\"\",\"!XTDH`LC.99-1616:2\")","v":-1561},{"$f":"RTD(\"sysq.rtd\",\"\",\"!DTAI`LC.99-1616:2\")","v":-28.983795742645299},{"$f":"RTD(\"sysq.rtd\",\"\",\"WTX&`004.10-1616:2\")","v":21},-5.3836600693808014]
["1617",{"$f":"RTD(\"sysq.rtd\",\"\",\"!DTSH`LC.99-1617:2\")","v":-100},{"$f":"RTD(\"sysq.rtd\",\"\",\"!DTDH`LC.99-1617:2\")","v":-187},{"$f":"RTD(\"sysq.rtd\",\"\",\"!XTSH`LC.99-1617:2\")","v":-177},{"$f":"RTD(\"sysq.rtd\",\"\",\"!XTDH`LC.99-1617:2\")","v":-1585},{"$f":"RTD(\"sysq.rtd\",\"\",\"!DTAI`LC.99-1617:2\")","v":-27.6885550662813},{"$f":"RTD(\"sysq.rtd\",\"\",\"WTX&`004.10-1617:2\")","v":21},-5.2619915494308138]
["1618",{"$f":"RTD(\"sysq.rtd\",\"\",\"!DTSH`LC.99-1618:2\")","v":-69},{"$f":"RTD(\"sysq.rtd\",\"\",\"!DTDH`LC.99-1618:2\")","v":-25},{"$f":"RTD(\"sysq.rtd\",\"\",\"!XTSH`LC.99-1618:2\")","v":-192},{"$f":"RTD(\"sysq.rtd\",\"\",\"!XTDH`LC.99-1618:2\")","v":-1583},{"$f":"RTD(\"sysq.rtd\",\"\",\"!DTAI`LC.99-1618:2\")","v":67.358886436443797},{"$f":"RTD(\"sysq.rtd\",\"\",\"WTX&`004.10-1618:2\")","v":21},8.2072459714842108]
["1619",{"$f":"RTD(\"sysq.rtd\",\"\",\"!DTSH`LC.99-1619:2\")","v":-92},{"$f":"RTD(\"sysq.rtd\",\"\",\"!DTDH`LC.99-1619:2\")","v":-64},{"$f":"RTD(\"sysq.rtd\",\"\",\"!XTSH`LC.99-1619:2\")","v":-169},{"$f":"RTD(\"sysq.rtd\",\"\",\"!XTDH`LC.99-1619:2\")","v":-1580},{"$f":"RTD(\"sysq.rtd\",\"\",\"!DTAI`LC.99-1619:2\")","v":64.290010437121097},{"$f":"RTD(\"sysq.rtd\",\"\",\"WTX&`004.10-1619:2\")","v":22},8.0181051650075723]
["1620",{"$f":"RTD(\"sysq.rtd\",\"\",\"!DTSH`LC.99-1620:2\")","v":-69},{"$f":"RTD(\"sysq.rtd\",\"\",\"!DTDH`LC.99-1620:2\")","v":-59},{"$f":"RTD(\"sysq.rtd\",\"\",\"!XTSH`LC.99-1620:2\")","v":-139},{"$f":"RTD(\"sysq.rtd\",\"\",\"!XTDH`LC.99-1620:2\")","v":-1585},{"$f":"RTD(\"sysq.rtd\",\"\",\"!DTAI`LC.99-1620:2\")","v":38.427184721072599},{"$f":"RTD(\"sysq.rtd\",\"\",\"WTX&`004.10-1620:2\")","v":23},6.1989664236122941]
["1621",{"$f":"RTD(\"sysq.rtd\",\"\",\"!DTSH`LC.99-1621:2\")","v":-134},{"$f":"RTD(\"sysq.rtd\",\"\",\"!DTDH`LC.99-1621:2\")","v":-100},{"$f":"RTD(\"sysq.rtd\",\"\",\"!XTSH`LC.99-1621:2\")","v":-172},{"$f":"RTD(\"sysq.rtd\",\"\",\"!XTDH`LC.99-1621:2\")","v":-1623},{"$f":"RTD(\"sysq.rtd\",\"\",\"!DTAI`LC.99-1621:2\")","v":84.5027313112423},{"$f":"RTD(\"sysq.rtd\",\"\",\"WTX&`004.10-1621:2\")","v":23},9.1925367179708513]
["1622",{"$f":"RTD(\"sysq.rtd\",\"\",\"!DTSH`LC.99-1622:2\")","v":-93},{"$f":"RTD(\"sysq.rtd\",\"\",\"!DTDH`LC.99-1622:2\")","v":-67},{"$f":"RTD(\"sysq.rtd\",\"\",\"!XTSH`LC.99-1622:2\")","v":-138},{"$f":"RTD(\"sysq.rtd\",\"\",\"!XTDH`LC.99-1622:2\")","v":-1585},{"$f":"RTD(\"sysq.rtd\",\"\",\"!DTAI`LC.99-1622:2\")","v":60.512820512821399},{"$f":"RTD(\"sysq.rtd\",\"\",\"WTX&`004.10-1622:2\")","v":{"$error":"#N/A"}},7.7789986831739082]
["1623",{"$f":"RTD(\"sysq.rtd\",\"\",\"!DTSH`LC.99-1623:2\")","v":-52},{"$f":"RTD(\"sysq.rtd\",\"\",\"!DTDH`LC.99-1623:2\")","v":80},{"$f":"RTD(\"sysq.rtd\",\"\",\"!XTSH`LC.99-1623:2\")","v":-124},{"$f":"RTD(\"sysq.rtd\",\"\",\"!XTDH`LC.99-1623:2\")","v":-1564},{"$f":"RTD(\"sysq.rtd\",\"\",\"!DTAI`LC.99-1623:2\")","v":133.47622865721701},{"$f":"RTD(\"sysq.rtd\",\"\",\"WTX&`004.10-1623:2\")","v":24},11.553191275886373]
["1624",{"$f":"RTD(\"sysq.rtd\",\"\",\"!DTSH`LC.99-1624:2\")","v":-49},{"$f":"RTD(\"sysq.rtd\",\"\",\"!DTDH`LC.99-1624:2\")","v":-50},{"$f":"RTD(\"sysq.rtd\",\"\",\"!XTSH`LC.99-1624:2\")","v":-128},{"$f":"RTD(\"sysq.rtd\",\"\",\"!XTDH`LC.99-1624:2\")","v":-1606},{"$f":"RTD(\"sysq.rtd\",\"\",\"!DTAI`LC.99-1624:2\")","v":19.188021274869602},{"$f":"RTD(\"sysq.rtd\",\"\",\"WTX&`004.10-1624:2\")","v":24},{"$f":"SQRT(ABS(F390))*(ABS(F390)/F390)","v":4.3804133680361268}]
["1625",{"$f":"RTD(\"sysq.rtd\",\"\",\"!DTSH`LC.99-1625:2\")","v":-49},{"$f":"RTD(\"sysq.rtd\",\"\",\"!DTDH`LC.99-1625:2\")","v":-73},{"$f":"RTD(\"sysq.rtd\",\"\",\"!XTSH`LC.99-1625:2\")","v":-114},{"$f":"RTD(\"sysq.rtd\",\"\",\"!XTDH`LC.99-1625:2\")","v":-1585},{"$f":"RTD(\"sysq.rtd\",\"\",\"!DTAI`LC.99-1625:2\")","v":-0.22581205488947401},{"$f":"RTD(\"sysq.rtd\",\"\",\"WTX&`004.10-1625:2\")","v":24},-0.47519685909049736]
["1626",{"$f":"RTD(\"sysq.rtd\",\"\",\"!DTSH`LC.99-1626:2\")","v":-56},{"$f":"RTD(\"sysq.rtd\",\"\",\"!DTDH`LC.99-1626:2\")","v":-47},{"$f":"RTD(\"sysq.rtd\",\"\",\"!XTSH`LC.99-1626:2\")","v":-132},{"$f":"RTD(\"sysq.rtd\",\"\",\"!XTDH`LC.99-1626:2\")","v":-1572},{"$f":"RTD(\"sysq.rtd\",\"\",\"!DTAI`LC.99-1626:2\")","v":29.8705977081326},{"$f":"RTD(\"sysq.rtd\",\"\",\"WTX&`004.10-1626:2\")","v":23},5.4654000501456981]
["1627",{"$f":"RTD(\"sysq.rtd\",\"\",\"!DTSH`LC.99-1627:2\")","v":-80},{"$f":"RTD(\"sysq.rtd\",\"\",\"!DTDH`LC.99-1627:2\")","v":-61},{"$f":"RTD(\"sysq.rtd\",\"\",\"!XTSH`LC.99-1627:2\")","v":-134},{"$f":"RTD(\"sysq.rtd\",\"\",\"!XTDH`LC.99-1627:2\")","v":-1523},{"$f":"RTD(\"sysq.rtd\",\"\",\"!DTAI`LC.99-1627:2\")","v":46.992417148870501},{"$f":"RTD(\"sysq.rtd\",\"\",\"WTX&`004.10-1627:2\")","v":22},6.8551015418351389]
["1628",{"$f":"RTD(\"sysq.rtd\",\"\",\"!DTSH`LC.99-1628:2\")","v":-70},{"$f":"RTD(\"sysq.rtd\",\"\",\"!DTDH`LC.99-1628:2\")","v":-36},{"$f":"RTD(\"sysq.rtd\",\"\",\"!XTSH`LC.99-1628:2\")","v":-133},{"$f":"RTD(\"sysq.rtd\",\"\",\"!XTDH`LC.99-1628:2\")","v":-1540},{"$f":"RTD(\"sysq.rtd\",\"\",\"!DTAI`LC.99-1628:2\")","v":55.091093117408903},{"$f":"RTD(\"sysq.rtd\",\"\",\"WTX&`004.10-1628:2\")","v":23},7.4223374429763638]
["1629",{"$f":"RTD(\"sysq.rtd\",\"\",\"!DTSH`LC.99-1629:2\")","v":-98},{"$f":"RTD(\"sysq.rtd\",\"\",\"!DTDH`LC.99-1629:2\")","v":-42},{"$f":"RTD(\"sysq.rtd\",\"\",\"!XTSH`LC.99-1629:2\")","v":-175},{"$f":"RTD(\"sysq.rtd\",\"\",\"!XTDH`LC.99-1629:2\")","v":-1546},{"$f":"RTD(\"sysq.rtd\",\"\",\"!DTAI`LC.99-1629:2\")","v":83.251400249829501},{"$f":"RTD(\"sysq.rtd\",\"\",\"WTX&`004.10-1629:2\")","v":21},9.1242205283426543]
["1630",{"$f":"RTD(\"sysq.rtd\",\"\",\"!DTSH`LC.99-1630:2\")","v":-70},{"$f":"RTD(\"sysq.rtd\",\"\",\"!DTDH`LC.99-1630:2\")","v":-21},{"$f":"RTD(\"sysq.rtd\",\"\",\"!XTSH`LC.99-1630:2\")","v":-126},{"$f":"RTD(\"sysq.rtd\",\"\",\"!XTDH`LC.99-1630:2\")","v":-1541},{"$f":"RTD(\"sysq.rtd\",\"\",\"!DTAI`LC.99-1630:2\")","v":66.939008957362503},{"$f":"RTD(\"sysq.rtd\",\"\",\"WTX&`004.10-1630:2\")","v":22},8.1816263027201686]
["1631",{"$f":"RTD(\"sysq.rtd\",\"\",\"!DTSH`LC.99-1631:2\")","v":-52},{"$f":"RTD(\"sysq.rtd\",\"\",\"!DTDH`LC.99-1631:2\")","v":28},{"$f":"RTD(\"sysq.rtd\",\"\",\"!XTSH`LC.99-1631:2\")","v":-75},{"$f":"RTD(\"sysq.rtd\",\"\",\"!XTDH`LC.99-1631:2\")","v":-1568},{"$f":"RTD(\"sysq.rtd\",\"\",\"!DTAI`LC.99-1631:2\")","v":84.511111111110495},{"$f":"RTD(\"sysq.rtd\",\"\",\"WTX&`004.10-1631:2\")","v":26},9.1929925003292858]
["1632",{"$f":"RTD(\"sysq.rtd\",\"\",\"!DTSH`LC.99-1632:2\")","v":-27},{"$f":"RTD(\"sysq.rtd\",\"\",\"!DTDH`LC.99-1632:2\")","v":100},{"$f":"RTD(\"sysq.rtd\",\"\",\"!XTSH`LC.99-1632:2\")","v":109},{"$f":"RTD(\"sysq.rtd\",\"\",\"!XTDH`LC.99-1632:2\")","v":-1360},{"$f":"RTD(\"sysq.rtd\",\"\",\"!DTAI`LC.99-1632:2\")","v":107.501378008652},{"$f":"RTD(\"sysq.rtd\",\"\",\"WTX&`004.10-1632:2\")","v":33},10.368287129929032]
["1633",{"$f":"RTD(\"sysq.rtd\",\"\",\"!DTSH`LC.99-1633:2\")","v":-46},{"$f":"RTD(\"sysq.rtd\",\"\",\"!DTDH`LC.99-1633:2\")","v":133},{"$f":"RTD(\"sysq.rtd\",\"\",\"!XTSH`LC.99-1633:2\")","v":59},{"$f":"RTD(\"sysq.rtd\",\"\",\"!XTDH`LC.99-1633:2\")","v":-1282},{"$f":"RTD(\"sysq.rtd\",\"\",\"!DTAI`LC.99-1633:2\")","v":149.81701243704799},{"$f":"RTD(\"sysq.rtd\",\"\",\"WTX&`004.10-1633:2\")","v":31},12.239975998221892]
["1634",{"$f":"RTD(\"sysq.rtd\",\"\",\"!DTSH`LC.99-1634:2\")","v":44},{"$f":"RTD(\"sysq.rtd\",\"\",\"!DTDH`LC.99-1634:2\")","v":277},{"$f":"RTD(\"sysq.rtd\",\"\",\"!XTSH`LC.99-1634:2\")","v":147},{"$f":"RTD(\"sysq.rtd\",\"\",\"!XTDH`LC.99-1634:2\")","v":-1130},{"$f":"RTD(\"sysq.rtd\",\"\",\"!DTAI`LC.99-1634:2\")","v":157.83387259088701},{"$f":"RTD(\"sysq.rtd\",\"\",\"WTX&`004.10-1634:2\")","v":36},12.5631951585131]
["1635",{"$f":"RTD(\"sysq.rtd\",\"\",\"!DTSH`LC.99-1635:2\")","v":45},{"$f":"RTD(\"sysq.rtd\",\"\",\"!DTDH`LC.99-1635:2\")","v":269},{"$f":"RTD(\"sysq.rtd\",\"\",\"!XTSH`LC.99-1635:2\")","v":139},{"$f":"RTD(\"sysq.rtd\",\"\",\"!XTDH`LC.99-1635:2\")","v":-1138},{"$f":"RTD(\"sysq.rtd\",\"\",\"!DTAI`LC.99-1635:2\")","v":149.627978339929},{"$f":"RTD(\"sysq.rtd\",\"\",\"WTX&`004.10-1635:2\")","v":36},12.23225156461103]
["1636",{"$f":"RTD(\"sysq.rtd\",\"\",\"!DTSH`LC.99-1636:2\")","v":37},{"$f":"RTD(\"sysq.rtd\",\"\",\"!DTDH`LC.99-1636:2\")","v":357},{"$f":"RTD(\"sysq.rtd\",\"\",\"!XTSH`LC.99-1636:2\")","v":159},{"$f":"RTD(\"sysq.rtd\",\"\",\"!XTDH`LC.99-1636:2\")","v":-1141},{"$f":"RTD(\"sysq.rtd\",\"\",\"!DTAI`LC.99-1636:2\")","v":220.20866617375401},{"$f":"RTD(\"sysq.rtd\",\"\",\"WTX&`004.10-1636:2\")","v":36},14.839429442325402]
["1637",{"$f":"RTD(\"sysq.rtd\",\"\",\"!DTSH`LC.99-1637:2\")","v":-14},{"$f":"RTD(\"sysq.rtd\",\"\",\"!DTDH`LC.99-1637:2\")","v":292},{"$f":"RTD(\"sysq.rtd\",\"\",\"!XTSH`LC.99-1637:2\")","v":101},{"$f":"RTD(\"sysq.rtd\",\"\",\"!XTDH`LC.99-1637:2\")","v":-1163},{"$f":"RTD(\"sysq.rtd\",\"\",\"!DTAI`LC.99-1637:2\")","v":224.19922944232701},{"$f":"RTD(\"sysq.rtd\",\"\",\"WTX&`004.10-1637:2\")","v":33},14.973283856333152]
["1638",{"$f":"RTD(\"sysq.rtd\",\"\",\"!DTSH`LC.99-1638:2\")","v":-47},{"$f":"RTD(\"sysq.rtd\",\"\",\"!DTDH`LC.99-1638:2\")","v":402},{"$f":"RTD(\"sysq.rtd\",\"\",\"!XTSH`LC.99-1638:2\")","v":149},{"$f":"RTD(\"sysq.rtd\",\"\",\"!XTDH`LC.99-1638:2\")","v":-1171},{"$f":"RTD(\"sysq.rtd\",\"\",\"!DTAI`LC.99-1638:2\")","v":330.56098982674803},{"$f":"RTD(\"sysq.rtd\",\"\",\"WTX&`004.10-1638:2\")","v":35},18.181336304759011]
["1639",{"$f":"RTD(\"sysq.rtd\",\"\",\"!DTSH`LC.99-1639:2\")","v":-1},{"$f":"RTD(\"sysq.rtd\",\"\",\"!DTDH`LC.99-1639:2\")","v":474},{"$f":"RTD(\"sysq.rtd\",\"\",\"!XTSH`LC.99-1639:2\")","v":99},{"$f":"RTD(\"sysq.rtd\",\"\",\"!XTDH`LC.99-1639:2\")","v":-1202},{"$f":"RTD(\"sysq.rtd\",\"\",\"!DTAI`LC.99-1639:2\")","v":332.77552611010498},{"$f":"RTD(\"sysq.rtd\",\"\",\"WTX&`004.10-1639:2\")","v":35},18.242136007334913]
["1640",{"$f":"RTD(\"sysq.rtd\",\"\",\"!DTSH`LC.99-1640:2\")","v":-36},{"$f":"RTD(\"sysq.rtd\",\"\",\"!DTDH`LC.99-1640:2\")","v":194},{"$f":"RTD(\"sysq.rtd\",\"\",\"!XTSH`LC.99-1640:2\")","v":108},{"$f":"RTD(\"sysq.rtd\",\"\",\"!XTDH`LC.99-1640:2\")","v":-1185},{"$f":"RTD(\"sysq.rtd\",\"\",\"!DTAI`LC.99-1640:2\")","v":172.131698559559},{"$f":"RTD(\"sysq.rtd\",\"\",\"WTX&`004.10-1640:2\")","v":34},13.119897048359755]
["1641",{"$f":"RTD(\"sysq.rtd\",\"\",\"!DTSH`LC.99-1641:2\")","v":-50},{"$f":"RTD(\"sysq.rtd\",\"\",\"!DTDH`LC.99-1641:2\")","v":315},{"$f":"RTD(\"sysq.rtd\",\"\",\"!XTSH`LC.99-1641:2\")","v":93},{"$f":"RTD(\"sysq.rtd\",\"\",\"!XTDH`LC.99-1641:2\")","v":-1211},{"$f":"RTD(\"sysq.rtd\",\"\",\"!DTAI`LC.99-1641:2\")","v":267.821146358882},{"$f":"RTD(\"sysq.rtd\",\"\",\"WTX&`004.10-1641:2\")","v":35},16.365242019563354]
["1642",{"$f":"RTD(\"sysq.rtd\",\"\",\"!DTSH`LC.99-1642:2\")","v":-56},{"$f":"RTD(\"sysq.rtd\",\"\",\"!DTDH`LC.99-1642:2\")","v":312},{"$f":"RTD(\"sysq.rtd\",\"\",\"!XTSH`LC.99-1642:2\")","v":88},{"$f":"RTD(\"sysq.rtd\",\"\",\"!XTDH`LC.99-1642:2\")","v":-1207},{"$f":"RTD(\"sysq.rtd\",\"\",\"!DTAI`LC.99-1642:2\")","v":271.09317913908598},{"$f":"RTD(\"sysq.rtd\",\"\",\"WTX&`004.10-1642:2\")","v":{"$error":"#N/A"}},16.464907504723069]
["1643",{"$f":"RTD(\"sysq.rtd\",\"\",\"!DTSH`LC.99-1643:2\")","v":79},{"$f":"RTD(\"sysq.rtd\",\"\",\"!DTDH`LC.99-1643:2\")","v":378},{"$f":"RTD(\"sysq.rtd\",\"\",\"!XTSH`LC.99-1643:2\")","v":325},{"$f":"RTD(\"sysq.rtd\",\"\",\"!XTDH`LC.99-1643:2\")","v":-1139},{"$f":"RTD(\"sysq.rtd\",\"\",\"!DTAI`LC.99-1643:2\")","v":177.07372111073801},{"$f":"RTD(\"sysq.rtd\",\"\",\"WTX&`004.10-1643:2\")","v":44},13.306905016221391]
["1644",{"$f":"RTD(\"sysq.rtd\",\"\",\"!DTSH`LC.99-1644:2\")","v":-10},{"$f":"RTD(\"sysq.rtd\",\"\",\"!DTDH`LC.99-1644:2\")","v":298},{"$f":"RTD(\"sysq.rtd\",\"\",\"!XTSH`LC.99-1644:2\")","v":230},{"$f":"RTD(\"sysq.rtd\",\"\",\"!XTDH`LC.99-1644:2\")","v":-1184},{"$f":"RTD(\"sysq.rtd\",\"\",\"!DTAI`LC.99-1644:2\")","v":205.71912454403301},{"$f":"RTD(\"sysq.rtd\",\"\",\"WTX&`004.10-1644:2\")","v":41},14.342911996663474]
["1645",{"$f":"RTD(\"sysq.rtd\",\"\",\"!DTSH`LC.99-1645:2\")","v":50},{"$f":"RTD(\"sysq.rtd\",\"\",\"!DTDH`LC.99-1645:2\")","v":347},{"$f":"RTD(\"sysq.rtd\",\"\",\"!XTSH`LC.99-1645:2\")","v":290},{"$f":"RTD(\"sysq.rtd\",\"\",\"!XTDH`LC.99-1645:2\")","v":-1172},{"$f":"RTD(\"sysq.rtd\",\"\",\"!DTAI`LC.99-1645:2\")","v":180.568157398343},{"$f":"RTD(\"sysq.rtd\",\"\",\"WTX&`004.10-1645:2\")","v":42},13.437565158850132]
["1646",{"$f":"RTD(\"sysq.rtd\",\"\",\"!DTSH`LC.99-1646:2\")","v":24},{"$f":"RTD(\"sysq.rtd\",\"\",\"!DTDH`LC.99-1646:2\")","v":342},{"$f":"RTD(\"sysq.rtd\",\"\",\"!XTSH`LC.99-1646:2\")","v":319},{"$f":"RTD(\"sysq.rtd\",\"\",\"!XTDH`LC.99-1646:2\")","v":-1214},{"$f":"RTD(\"sysq.rtd\",\"\",\"!DTAI`LC.99-1646:2\")","v":198.01297817055001},{"$f":"RTD(\"sysq.rtd\",\"\",\"WTX&`004.10-1646:2\")","v":44},14.071708431123422]
["1647",{"$f":"RTD(\"sysq.rtd\",\"\",\"!DTSH`LC.99-1647:2\")","v":11},{"$f":"RTD(\"sysq.rtd\",\"\",\"!DTDH`LC.99-1647:2\")","v":325},{"$f":"RTD(\"sysq.rtd\",\"\",\"!XTSH`LC.99-1647:2\")","v":254},{"$f":"RTD(\"sysq.rtd\",\"\",\"!XTDH`LC.99-1647:2\")","v":-1183},{"$f":"RTD(\"sysq.rtd\",\"\",\"!DTAI`LC.99-1647:2\")","v":197.06621281129401},{"$f":"RTD(\"sysq.rtd\",\"\",\"WTX&`004.10-1647:2\")","v":41},14.038027383193624]
["1648",{"$f":"RTD(\"sysq.rtd\",\"\",\"!DTSH`LC.99-1648:2\")","v":45},{"$f":"RTD(\"sysq.rtd\",\"\",\"!DTDH`LC.99-1648:2\")","v":364},{"$f":"RTD(\"sysq.rtd\",\"\",\"!XTSH`LC.99-1648:2\")","v":327},{"$f":"RTD(\"sysq.rtd\",\"\",\"!XTDH`LC.99-1648:2\")","v":-1172},{"$f":"RTD(\"sysq.rtd\",\"\",\"!DTAI`LC.99-1648:2\")","v":190.697129111203},{"$f":"RTD(\"sysq.rtd\",\"\",\"WTX&`004.10-1648:2\")","v":44},13.809313129594933]
["1649",{"$f":"RTD(\"sysq.rtd\",\"\",\"!DTSH`LC.99-1649:2\")","v":55},{"$f":"RTD(\"sysq.rtd\",\"\",\"!DTDH`LC.99-1649:2\")","v":350},{"$f":"RTD(\"sysq.rtd\",\"\",\"!XTSH`LC.99-1649:2\")","v":343},{"$f":"RTD(\"sysq.rtd\",\"\",\"!XTDH`LC.99-1649:2\")","v":-1192},{"$f":"RTD(\"sysq.rtd\",\"\",\"!DTAI`LC.99-1649:2\")","v":171.25635413001601},{"$f":"RTD(\"sysq.rtd\",\"\",\"WTX&`004.10-1649:2\")","v":45},13.08649510487877]
["1650",{"$f":"RTD(\"sysq.rtd\",\"\",\"!DTSH`LC.99-1650:2\")","v":232},{"$f":"RTD(\"sysq.rtd\",\"\",\"!DTDH`LC.99-1650:2\")","v":541},{"$f":"RTD(\"sysq.rtd\",\"\",\"!XTSH`LC.99-1650:2\")","v":626},{"$f":"RTD(\"sysq.rtd\",\"\",\"!XTDH`LC.99-1650:2\")","v":-881},{"$f":"RTD(\"sysq.rtd\",\"\",\"!DTAI`LC.99-1650:2\")","v":129.63215963274101},{"$f":"RTD(\"sysq.rtd\",\"\",\"WTX&`004.10-1650:2\")","v":57},11.385611956884048]
["1651",{"$f":"RTD(\"sysq.rtd\",\"\",\"!DTSH`LC.99-1651:2\")","v":200},{"$f":"RTD(\"sysq.rtd\",\"\",\"!DTDH`LC.99-1651:2\")","v":532},{"$f":"RTD(\"sysq.rtd\",\"\",\"!XTSH`LC.99-1651:2\")","v":537},{"$f":"RTD(\"sysq.rtd\",\"\",\"!XTDH`LC.99-1651:2\")","v":-852},{"$f":"RTD(\"sysq.rtd\",\"\",\"!DTAI`LC.99-1651:2\")","v":141.470269772157},{"$f":"RTD(\"sysq.rtd\",\"\",\"WTX&`004.10-1651:2\")","v":52},11.894127533037343]
["1652",{"$f":"RTD(\"sysq.rtd\",\"\",\"!DTSH`LC.99-1652:2\")","v":208},{"$f":"RTD(\"sysq.rtd\",\"\",\"!DTDH`LC.99-1652:2\")","v":596},{"$f":"RTD(\"sysq.rtd\",\"\",\"!XTSH`LC.99-1652:2\")","v":578},{"$f":"RTD(\"sysq.rtd\",\"\",\"!XTDH`LC.99-1652:2\")","v":-805},{"$f":"RTD(\"sysq.rtd\",\"\",\"!DTAI`LC.99-1652:2\")","v":167.82807770609},{"$f":"RTD(\"sysq.rtd\",\"\",\"WTX&`004.10-1652:2\")","v":56},12.954847652754934]
["1653",{"$f":"RTD(\"sysq.rtd\",\"\",\"!DTSH`LC.99-1653:2\")","v":183},{"$f":"RTD(\"sysq.rtd\",\"\",\"!DTDH`LC.99-1653:2\")","v":540},{"$f":"RTD(\"sysq.rtd\",\"\",\"!XTSH`LC.99-1653:2\")","v":571},{"$f":"RTD(\"sysq.rtd\",\"\",\"!XTDH`LC.99-1653:2\")","v":-822},{"$f":"RTD(\"sysq.rtd\",\"\",\"!DTAI`LC.99-1653:2\")","v":153.88063064142699},{"$f":"RTD(\"sysq.rtd\",\"\",\"WTX&`004.10-1653:2\")","v":55},12.404863185115223]
["1654",{"$f":"RTD(\"sysq.rtd\",\"\",\"!DTSH`LC.99-1654:2\")","v":216},{"$f":"RTD(\"sysq.rtd\",\"\",\"!DTDH`LC.99-1654:2\")","v":562},{"$f":"RTD(\"sysq.rtd\",\"\",\"!XTSH`LC.99-1654:2\")","v":582},{"$f":"RTD(\"sysq.rtd\",\"\",\"!XTDH`LC.99-1654:2\")","v":-805},{"$f":"RTD(\"sysq.rtd\",\"\",\"!DTAI`LC.99-1654:2\")","v":140.75413824573999},{"$f":"RTD(\"sysq.rtd\",\"\",\"WTX&`004.10-1654:2\")","v":57},11.863984922686813]
["1655",{"$f":"RTD(\"sysq.rtd\",\"\",\"!DTSH`LC.99-1655:2\")","v":264},{"$f":"RTD(\"sysq.rtd\",\"\",\"!DTDH`LC.99-1655:2\")","v":588},{"$f":"RTD(\"sysq.rtd\",\"\",\"!XTSH`LC.99-1655:2\")","v":619},{"$f":"RTD(\"sysq.rtd\",\"\",\"!XTDH`LC.99-1655:2\")","v":-771},{"$f":"RTD(\"sysq.rtd\",\"\",\"!DTAI`LC.99-1655:2\")","v":120.063442088461},{"$f":"RTD(\"sysq.rtd\",\"\",\"WTX&`004.10-1655:2\")","v":58},10.95734648938606]
["1656",{"$f":"RTD(\"sysq.rtd\",\"\",\"!DTSH`LC.99-1656:2\")","v":170},{"$f":"RTD(\"sysq.rtd\",\"\",\"!DTDH`LC.99-1656:2\")","v":539},{"$f":"RTD(\"sysq.rtd\",\"\",\"!XTSH`LC.99-1656:2\")","v":504},{"$f":"RTD(\"sysq.rtd\",\"\",\"!XTDH`LC.99-1656:2\")","v":-802},{"$f":"RTD(\"sysq.rtd\",\"\",\"!DTAI`LC.99-1656:2\")","v":160.06236507555701},{"$f":"RTD(\"sysq.rtd\",\"\",\"WTX&`004.10-1656:2\")","v":55},12.651575596563339]
["1657",{"$f":"RTD(\"sysq.rtd\",\"\",\"!DTSH`LC.99-1657:2\")","v":162},{"$f":"RTD(\"sysq.rtd\",\"\",\"!DTDH`LC.99-1657:2\")","v":514},{"$f":"RTD(\"sysq.rtd\",\"\",\"!XTSH`LC.99-1657:2\")","v":463},{"$f":"RTD(\"sysq.rtd\",\"\",\"!XTDH`LC.99-1657:2\")","v":-779},{"$f":"RTD(\"sysq.rtd\",\"\",\"!DTAI`LC.99-1657:2\")","v":150.74240886340101},{"$f":"RTD(\"sysq.rtd\",\"\",\"WTX&`004.10-1657:2\")","v":54},12.277720018936781]
["1658",{"$f":"RTD(\"sysq.rtd\",\"\",\"!DTSH`LC.99-1658:2\")","v":202},{"$f":"RTD(\"sysq.rtd\",\"\",\"!DTDH`LC.99-1658:2\")","v":529},{"$f":"RTD(\"sysq.rtd\",\"\",\"!XTSH`LC.99-1658:2\")","v":498},{"$f":"RTD(\"sysq.rtd\",\"\",\"!XTDH`LC.99-1658:2\")","v":-755},{"$f":"RTD(\"sysq.rtd\",\"\",\"!DTAI`LC.99-1658:2\")","v":129.65060329395601},{"$f":"RTD(\"sysq.rtd\",\"\",\"WTX&`004.10-1658:2\")","v":57},11.386421882837295]
["1659",{"$f":"RTD(\"sysq.rtd\",\"\",\"!DTSH`LC.99-1659:2\")","v":172},{"$f":"RTD(\"sysq.rtd\",\"\",\"!DTDH`LC.99-1659:2\")","v":532},{"$f":"RTD(\"sysq.rtd\",\"\",\"!XTSH`LC.99-1659:2\")","v":472},{"$f":"RTD(\"sysq.rtd\",\"\",\"!XTDH`LC.99-1659:2\")","v":-755},{"$f":"RTD(\"sysq.rtd\",\"\",\"!DTAI`LC.99-1659:2\")","v":150.779625319122},{"$f":"RTD(\"sysq.rtd\",\"\",\"WTX&`004.10-1659:2\")","v":53},12.279235534801098]
["1700",{"$f":"RTD(\"sysq.rtd\",\"\",\"!DTSH`LC.99-1700:2\")","v":168},{"$f":"RTD(\"sysq.rtd\",\"\",\"!DTDH`LC.99-1700:2\")","v":527},{"$f":"RTD(\"sysq.rtd\",\"\",\"!XTSH`LC.99-1700:2\")","v":456},{"$f":"RTD(\"sysq.rtd\",\"\",\"!XTDH`LC.99-1700:2\")","v":-645},{"$f":"RTD(\"sysq.rtd\",\"\",\"!DTAI`LC.99-1700:2\")","v":152.36514206117499},{"$f":"RTD(\"sysq.rtd\",\"\",\"WTX&`004.10-1700:2\")","v":55},12.343627589212783]
["1701",{"$f":"RTD(\"sysq.rtd\",\"\",\"!DTSH`LC.99-1701:2\")","v":184},{"$f":"RTD(\"sysq.rtd\",\"\",\"!DTDH`LC.99-1701:2\")","v":521},{"$f":"RTD(\"sysq.rtd\",\"\",\"!XTSH`LC.99-1701:2\")","v":507},{"$f":"RTD(\"sysq.rtd\",\"\",\"!XTDH`LC.99-1701:2\")","v":-616},{"$f":"RTD(\"sysq.rtd\",\"\",\"!DTAI`LC.99-1701:2\")","v":137.818131710123},{"$f":"RTD(\"sysq.rtd\",\"\",\"WTX&`004.10-1701:2\")","v":55},11.739596743931326]
["1702",{"$f":"RTD(\"sysq.rtd\",\"\",\"!DTSH`LC.99-1702:2\")","v":133},{"$f":"RTD(\"sysq.rtd\",\"\",\"!DTDH`LC.99-1702:2\")","v":496},{"$f":"RTD(\"sysq.rtd\",\"\",\"!XTSH`LC.99-1702:2\")","v":428},{"$f":"RTD(\"sysq.rtd\",\"\",\"!XTDH`LC.99-1702:2\")","v":-607},{"$f":"RTD(\"sysq.rtd\",\"\",\"!DTAI`LC.99-1702:2\")","v":158.15732458396599},{"$f":"RTD(\"sysq.rtd\",\"\",\"WTX&`004.10-1702:2\")","v":52},12.57606156886829]
["1703",{"$f":"RTD(\"sysq.rtd\",\"\",\"!DTSH`LC.99-1703:2\")","v":127},{"$f":"RTD(\"sysq.rtd\",\"\",\"!DTDH`LC.99-1703:2\")","v":479},{"$f":"RTD(\"sysq.rtd\",\"\",\"!XTSH`LC.99-1703:2\")","v":419},{"$f":"RTD(\"sysq.rtd\",\"\",\"!XTDH`LC.99-1703:2\")","v":-597},{"$f":"RTD(\"sysq.rtd\",\"\",\"!DTAI`LC.99-1703:2\")","v":152.667180409282},{"$f":"RTD(\"sysq.rtd\",\"\",\"WTX&`004.10-1703:2\")","v":52},12.355856118022821]
["1704",{"$f":"RTD(\"sysq.rtd\",\"\",\"!DTSH`LC.99-1704:2\")","v":139},{"$f":"RTD(\"sysq.rtd\",\"\",\"!DTDH`LC.99-1704:2\")","v":490},{"$f":"RTD(\"sysq.rtd\",\"\",\"!XTSH`LC.99-1704:2\")","v":414},{"$f":"RTD(\"sysq.rtd\",\"\",\"!XTDH`LC.99-1704:2\")","v":-598},{"$f":"RTD(\"sysq.rtd\",\"\",\"!DTAI`LC.99-1704:2\")","v":149.82267250511501},{"$f":"RTD(\"sysq.rtd\",\"\",\"WTX&`004.10-1704:2\")","v":52},12.240207208422373]
["1705",{"$f":"RTD(\"sysq.rtd\",\"\",\"!DTSH`LC.99-1705:2\")","v":132},{"$f":"RTD(\"sysq.rtd\",\"\",\"!DTDH`LC.99-1705:2\")","v":447},{"$f":"RTD(\"sysq.rtd\",\"\",\"!XTSH`LC.99-1705:2\")","v":423},{"$f":"RTD(\"sysq.rtd\",\"\",\"!XTDH`LC.99-1705:2\")","v":-616},{"$f":"RTD(\"sysq.rtd\",\"\",\"!DTAI`LC.99-1705:2\")","v":133.44575204660501},{"$f":"RTD(\"sysq.rtd\",\"\",\"WTX&`004.10-1705:2\")","v":51},11.551872231227499]
["1706",{"$f":"RTD(\"sysq.rtd\",\"\",\"!DTSH`LC.99-1706:2\")","v":150},{"$f":"RTD(\"sysq.rtd\",\"\",\"!DTDH`LC.99-1706:2\")","v":481},{"$f":"RTD(\"sysq.rtd\",\"\",\"!XTSH`LC.99-1706:2\")","v":451},{"$f":"RTD(\"sysq.rtd\",\"\",\"!XTDH`LC.99-1706:2\")","v":-578},{"$f":"RTD(\"sysq.rtd\",\"\",\"!DTAI`LC.99-1706:2\")","v":138.01465392196999},{"$f":"RTD(\"sysq.rtd\",\"\",\"WTX&`004.10-1706:2\")","v":54},11.747963820252853]
["1707",{"$f":"RTD(\"sysq.rtd\",\"\",\"!DTSH`LC.99-1707:2\")","v":142},{"$f":"RTD(\"sysq.rtd\",\"\",\"!DTDH`LC.99-1707:2\")","v":484},{"$f":"RTD(\"sysq.rtd\",\"\",\"!XTSH`LC.99-1707:2\")","v":436},{"$f":"RTD(\"sysq.rtd\",\"\",\"!XTDH`LC.99-1707:2\")","v":-591},{"$f":"RTD(\"sysq.rtd\",\"\",\"!DTAI`LC.99-1707:2\")","v":144.33581240190199},{"$f":"RTD(\"sysq.rtd\",\"\",\"WTX&`004.10-1707:2\")","v":53},12.013984035360709]
["1708",{"$f":"RTD(\"sysq.rtd\",\"\",\"!DTSH`LC.99-1708:2\")","v":122},{"$f":"RTD(\"sysq.rtd\",\"\",\"!DTDH`LC.99-1708:2\")","v":465},{"$f":"RTD(\"sysq.rtd\",\"\",\"!XTSH`LC.99-1708:2\")","v":379},{"$f":"RTD(\"sysq.rtd\",\"\",\"!XTDH`LC.99-1708:2\")","v":-606},{"$f":"RTD(\"sysq.rtd\",\"\",\"!DTAI`LC.99-1708:2\")","v":147.72037246766899},{"$f":"RTD(\"sysq.rtd\",\"\",\"WTX&`004.10-1708:2\")","v":50},12.154027006209464]
["1709",{"$f":"RTD(\"sysq.rtd\",\"\",\"!DTSH`LC.99-1709:2\")","v":130},{"$f":"RTD(\"sysq.rtd\",\"\",\"!DTDH`LC.99-1709:2\")","v":467},{"$f":"RTD(\"sysq.rtd\",\"\",\"!XTSH`LC.99-1709:2\")","v":380},{"$f":"RTD(\"sysq.rtd\",\"\",\"!XTDH`LC.99-1709:2\")","v":-622},{"$f":"RTD(\"sysq.rtd\",\"\",\"!DTAI`LC.99-1709:2\")","v":143.33450333450301},{"$f":"RTD(\"sysq.rtd\",\"\",\"WTX&`004.10-1709:2\")","v":52},11.972238860568353]
["1710",{"$f":"RTD(\"sysq.rtd\",\"\",\"!DTSH`LC.99-1710:2\")","v":110},{"$f":"RTD(\"sysq.rtd\",\"\",\"!DTDH`LC.99-1710:2\")","v":450},{"$f":"RTD(\"sysq.rtd\",\"\",\"!XTSH`LC.99-1710:2\")","v":339},{"$f":"RTD(\"sysq.rtd\",\"\",\"!XTDH`LC.99-1710:2\")","v":-637},{"$f":"RTD(\"sysq.rtd\",\"\",\"!DTAI`LC.99-1710:2\")","v":147.466749131434},{"$f":"RTD(\"sysq.rtd\",\"\",\"WTX&`004.10-1710:2\")","v":50},12.143588807738592]
["1711",{"$f":"RTD(\"sysq.rtd\",\"\",\"!DTSH`LC.99-1711:2\")","v":83},{"$f":"RTD(\"sysq.rtd\",\"\",\"!DTDH`LC.99-1711:2\")","v":415},{"$f":"RTD(\"sysq.rtd\",\"\",\"!XTSH`LC.99-1711:2\")","v":275},{"$f":"RTD(\"sysq.rtd\",\"\",\"!XTDH`LC.99-1711:2\")","v":-673},{"$f":"RTD(\"sysq.rtd\",\"\",\"!DTAI`LC.99-1711:2\")","v":146.950779008132},{"$f":"RTD(\"sysq.rtd\",\"\",\"WTX&`004.10-1711:2\")","v":48},12.122325643544311]
["1712",{"$f":"RTD(\"sysq.rtd\",\"\",\"!DTSH`LC.99-1712:2\")","v":79},{"$f":"RTD(\"sysq.rtd\",\"\",\"!DTDH`LC.99-1712:2\")","v":427},{"$f":"RTD(\"sysq.rtd\",\"\",\"!XTSH`LC.99-1712:2\")","v":296},{"$f":"RTD(\"sysq.rtd\",\"\",\"!XTDH`LC.99-1712:2\")","v":-673},{"$f":"RTD(\"sysq.rtd\",\"\",\"!DTAI`LC.99-1712:2\")","v":154.312265239808},{"$f":"RTD(\"sysq.rtd\",\"\",\"WTX&`004.10-1712:2\")","v":49},12.422248799625935]
["1713",{"$f":"RTD(\"sysq.rtd\",\"\",\"!DTSH`LC.99-1713:2\")","v":90},{"$f":"RTD(\"sysq.rtd\",\"\",\"!DTDH`LC.99-1713:2\")","v":510},{"$f":"RTD(\"sysq.rtd\",\"\",\"!XTSH`LC.99-1713:2\")","v":292},{"$f":"RTD(\"sysq.rtd\",\"\",\"!XTDH`LC.99-1713:2\")","v":-568},{"$f":"RTD(\"sysq.rtd\",\"\",\"!DTAI`LC.99-1713:2\")","v":185.99609703256701},{"$f":"RTD(\"sysq.rtd\",\"\",\"WTX&`004.10-1713:2\")","v":49},13.638038606506692]
["1714",{"$f":"RTD(\"sysq.rtd\",\"\",\"!DTSH`LC.99-1714:2\")","v":94},{"$f":"RTD(\"sysq.rtd\",\"\",\"!DTDH`LC.99-1714:2\")","v":656},{"$f":"RTD(\"sysq.rtd\",\"\",\"!XTSH`LC.99-1714:2\")","v":282},{"$f":"RTD(\"sysq.rtd\",\"\",\"!XTDH`LC.99-1714:2\")","v":-361},{"$f":"RTD(\"sysq.rtd\",\"\",\"!DTAI`LC.99-1714:2\")","v":251.66257314265201},{"$f":"RTD(\"sysq.rtd\",\"\",\"WTX&`004.10-1714:2\")","v":48},15.86387635928407]
["1715",{"$f":"RTD(\"sysq.rtd\",\"\",\"!DTSH`LC.99-1715:2\")","v":92},{"$f":"RTD(\"sysq.rtd\",\"\",\"!DTDH`LC.99-1715:2\")","v":813},{"$f":"RTD(\"sysq.rtd\",\"\",\"!XTSH`LC.99-1715:2\")","v":232},{"$f":"RTD(\"sysq.rtd\",\"\",\"!XTDH`LC.99-1715:2\")","v":-272},{"$f":"RTD(\"sysq.rtd\",\"\",\"!DTAI`LC.99-1715:2\")","v":325.23245308253701},{"$f":"RTD(\"sysq.rtd\",\"\",\"WTX&`004.10-1715:2\")","v":48},18.034202313452543]
["1716",{"$f":"RTD(\"sysq.rtd\",\"\",\"!DTSH`LC.99-1716:2\")","v":102},{"$f":"RTD(\"sysq.rtd\",\"\",\"!DTDH`LC.99-1716:2\")","v":816},{"$f":"RTD(\"sysq.rtd\",\"\",\"!XTSH`LC.99-1716:2\")","v":315},{"$f":"RTD(\"sysq.rtd\",\"\",\"!XTDH`LC.99-1716:2\")","v":-260},{"$f":"RTD(\"sysq.rtd\",\"\",\"!DTAI`LC.99-1716:2\")","v":319.30575368521102},{"$f":"RTD(\"sysq.rtd\",\"\",\"WTX&`004.10-1716:2\")","v":48},17.86912850939326]
["1717",{"$f":"RTD(\"sysq.rtd\",\"\",\"!DTSH`LC.99-1717:2\")","v":116},{"$f":"RTD(\"sysq.rtd\",\"\",\"!DTDH`LC.99-1717:2\")","v":824},{"$f":"RTD(\"sysq.rtd\",\"\",\"!XTSH`LC.99-1717:2\")","v":356},{"$f":"RTD(\"sysq.rtd\",\"\",\"!XTDH`LC.99-1717:2\")","v":-226},{"$f":"RTD(\"sysq.rtd\",\"\",\"!DTAI`LC.99-1717:2\")","v":312.88204715740801},{"$f":"RTD(\"sysq.rtd\",\"\",\"WTX&`004.10-1717:2\")","v":49},17.688472154411979]
["1718",{"$f":"RTD(\"sysq.rtd\",\"\",\"!DTSH`LC.99-1718:2\")","v":{"$error":"#N/A"}},{"$f":"RTD(\"sysq.rtd\",\"\",\"!DTDH`LC.99-1718:2\")","v":{"$error":"#N/A"}},{"$f":"RTD(\"sysq.rtd\",\"\",\"!XTSH`LC.99-1718:2\")","v":{"$error":"#N/A"}},{"$f":"RTD(\"sysq.rtd\",\"\",\"!XTDH`LC.99-1718:2\")","v":{"$error":"#N/A"}},{"$f":"RTD(\"sysq.rtd\",\"\",\"!DTAI`LC.99-1718:2\")","v":{"$error":"#N/A"}},{"$f":"RTD(\"sysq.rtd\",\"\",\"WTX&`004.10-1718:2\")","v":{"$error":"#N/A"}},{"$error":"#N/A"}]
["1719",{"$f":"RTD(\"sysq.rtd\",\"\",\"!DTSH`LC.99-1719:2\")","v":{"$error":"#N/A"}},{"$f":"RTD(\"sysq.rtd\",\"\",\"!DTDH`LC.99-1719:2\")","v":{"$error":"#N/A"}},{"$f":"RTD(\"sysq.rtd\",\"\",\"!XTSH`LC.99-1719:2\")","v":{"$error":"#N/A"}},{"$f":"RTD(\"sysq.rtd\",\"\",\"!XTDH`LC.99-1719:2\")","v":{"$error":"#N/A"}},{"$f":"RTD(\"sysq.rtd\",\"\",\"!DTAI`LC.99-1719:2\")","v":{"$error":"#N/A"}},{"$f":"RTD(\"sysq.rtd\",\"\",\"WTX&`004.10-1719:2\")","v":{"$error":"#N/A"}},{"$error":"#N/A"}]
["1720",{"$f":"RTD(\"sysq.rtd\",\"\",\"!DTSH`LC.99-1720:2\")","v":{"$error":"#N/A"}},{"$f":"RTD(\"sysq.rtd\",\"\",\"!DTDH`LC.99-1720:2\")","v":{"$error":"#N/A"}},{"$f":"RTD(\"sysq.rtd\",\"\",\"!XTSH`LC.99-1720:2\")","v":{"$error":"#N/A"}},{"$f":"RTD(\"sysq.rtd\",\"\",\"!XTDH`LC.99-1720:2\")","v":{"$error":"#N/A"}},{"$f":"RTD(\"sysq.rtd\",\"\",\"!DTAI`LC.99-1720:2\")","v":{"$error":"#N/A"}},{"$f":"RTD(\"sysq.rtd\",\"\",\"WTX&`004.10-1720:2\")","v":{"$error":"#N/A"}},{"$error":"#N/A"}]
["1721",{"$f":"RTD(\"sysq.rtd\",\"\",\"!DTSH`LC.99-1721:2\")","v":{"$error":"#N/A"}},{"$f":"RTD(\"sysq.rtd\",\"\",\"!DTDH`LC.99-1721:2\")","v":{"$error":"#N/A"}},{"$f":"RTD(\"sysq.rtd\",\"\",\"!XTSH`LC.99-1721:2\")","v":{"$error":"#N/A"}},{"$f":"RTD(\"sysq.rtd\",\"\",\"!XTDH`LC.99-1721:2\")","v":{"$error":"#N/A"}},{"$f":"RTD(\"sysq.rtd\",\"\",\"!DTAI`LC.99-1721:2\")","v":{"$error":"#N/A"}},{"$f":"RTD(\"sysq.rtd\",\"\",\"WTX&`004.10-1721:2\")","v":{"$error":"#N/A"}},{"$error":"#N/A"}]
["1722",{"$f":"RTD(\"sysq.rtd\",\"\",\"!DTSH`LC.99-1722:2\")","v":{"$error":"#N/A"}},{"$f":"RTD(\"sysq.rtd\",\"\",\"!DTDH`LC.99-1722:2\")","v":{"$error":"#N/A"}},{"$f":"RTD(\"sysq.rtd\",\"\",\"!XTSH`LC.99-1722:2\")","v":{"$error":"#N/A"}},{"$f":"RTD(\"sysq.rtd\",\"\",\"!XTDH`LC.99-1722:2\")","v":{"$error":"#N/A"}},{"$f":"RTD(\"sysq.rtd\",\"\",\"!DTAI`LC.99-1722:2\")","v":{"$error":"#N/A"}},{"$f":"RTD(\"sysq.rtd\",\"\",\"WTX&`004.10-1722:2\")","v":{"$error":"#N/A"}},{"$error":"#N/A"}]
["1723",{"$f":"RTD(\"sysq.rtd\",\"\",\"!DTSH`LC.99-1723:2\")","v":{"$error":"#N/A"}},{"$f":"RTD(\"sysq.rtd\",\"\",\"!DTDH`LC.99-1723:2\")","v":{"$error":"#N/A"}},{"$f":"RTD(\"sysq.rtd\",\"\",\"!XTSH`LC.99-1723:2\")","v":{"$error":"#N/A"}},{"$f":"RTD(\"sysq.rtd\",\"\",\"!XTDH`LC.99-1723:2\")","v":{"$error":"#N/A"}},{"$f":"RTD(\"sysq.rtd\",\"\",\"!DTAI`LC.99-1723:2\")","v":{"$error":"#N/A"}},{"$f":"RTD(\"sysq.rtd\",\"\",\"WTX&`004.10-1723:2\")","v":{"$error":"#N/A"}},{"$error":"#N/A"}]
["1724",{"$f":"RTD(\"sysq.rtd\",\"\",\"!DTSH`LC.99-1724:2\")","v":{"$error":"#N/A"}},{"$f":"RTD(\"sysq.rtd\",\"\",\"!DTDH`LC.99-1724:2\")","v":{"$error":"#N/A"}},{"$f":"RTD(\"sysq.rtd\",\"\",\"!XTSH`LC.99-1724:2\")","v":{"$error":"#N/A"}},{"$f":"RTD(\"sysq.rtd\",\"\",\"!XTDH`LC.99-1724:2\")","v":{"$error":"#N/A"}},{"$f":"RTD(\"sysq.rtd\",\"\",\"!DTAI`LC.99-1724:2\")","v":{"$error":"#N/A"}},{"$f":"RTD(\"sysq.rtd\",\"\",\"WTX&`004.10-1724:2\")","v":{"$error":"#N/A"}},{"$error":"#N/A"}]
["1725",{"$f":"RTD(\"sysq.rtd\",\"\",\"!DTSH`LC.99-1725:2\")","v":{"$error":"#N/A"}},{"$f":"RTD(\"sysq.rtd\",\"\",\"!DTDH`LC.99-1725:2\")","v":{"$error":"#N/A"}},{"$f":"RTD(\"sysq.rtd\",\"\",\"!XTSH`LC.99-1725:2\")","v":{"$error":"#N/A"}},{"$f":"RTD(\"sysq.rtd\",\"\",\"!XTDH`LC.99-1725:2\")","v":{"$error":"#N/A"}},{"$f":"RTD(\"sysq.rtd\",\"\",\"!DTAI`LC.99-1725:2\")","v":{"$error":"#N/A"}},{"$f":"RTD(\"sysq.rtd\",\"\",\"WTX&`004.10-1725:2\")","v":{"$error":"#N/A"}},{"$error":"#N/A"}]
["1726",{"$f":"RTD(\"sysq.rtd\",\"\",\"!DTSH`LC.99-1726:2\")","v":{"$error":"#N/A"}},{"$f":"RTD(\"sysq.rtd\",\"\",\"!DTDH`LC.99-1726:2\")","v":{"$error":"#N/A"}},{"$f":"RTD(\"sysq.rtd\",\"\",\"!XTSH`LC.99-1726:2\")","v":{"$error":"#N/A"}},{"$f":"RTD(\"sysq.rtd\",\"\",\"!XTDH`LC.99-1726:2\")","v":{"$error":"#N/A"}},{"$f":"RTD(\"sysq.rtd\",\"\",\"!DTAI`LC.99-1726:2\")","v":{"$error":"#N/A"}},{"$f":"RTD(\"sysq.rtd\",\"\",\"WTX&`004.10-1726:2\")","v":{"$error":"#N/A"}},{"$error":"#N/A"}]
["1727",{"$f":"RTD(\"sysq.rtd\",\"\",\"!DTSH`LC.99-1727:2\")","v":{"$error":"#N/A"}},{"$f":"RTD(\"sysq.rtd\",\"\",\"!DTDH`LC.99-1727:2\")","v":{"$error":"#N/A"}},{"$f":"RTD(\"sysq.rtd\",\"\",\"!XTSH`LC.99-1727:2\")","v":{"$error":"#N/A"}},{"$f":"RTD(\"sysq.rtd\",\"\",\"!XTDH`LC.99-1727:2\")","v":{"$error":"#N/A"}},{"$f":"RTD(\"sysq.rtd\",\"\",\"!DTAI`LC.99-1727:2\")","v":{"$error":"#N/A"}},{"$f":"RTD(\"sysq.rtd\",\"\",\"WTX&`004.10-1727:2\")","v":{"$error":"#N/A"}},{"$error":"#N/A"}]
["1728",{"$f":"RTD(\"sysq.rtd\",\"\",\"!DTSH`LC.99-1728:2\")","v":{"$error":"#N/A"}},{"$f":"RTD(\"sysq.rtd\",\"\",\"!DTDH`LC.99-1728:2\")","v":{"$error":"#N/A"}},{"$f":"RTD(\"sysq.rtd\",\"\",\"!XTSH`LC.99-1728:2\")","v":{"$error":"#N/A"}},{"$f":"RTD(\"sysq.rtd\",\"\",\"!XTDH`LC.99-1728:2\")","v":{"$error":"#N/A"}},{"$f":"RTD(\"sysq.rtd\",\"\",\"!DTAI`LC.99-1728:2\")","v":{"$error":"#N/A"}},{"$f":"RTD(\"sysq.rtd\",\"\",\"WTX&`004.10-1728:2\")","v":{"$error":"#N/A"}},{"$f":"SQRT(ABS(F454))*(ABS(F454)/F454)","v":{"$error":"#N/A"}}]
["1729",{"$f":"RTD(\"sysq.rtd\",\"\",\"!DTSH`LC.99-1729:2\")","v":{"$error":"#N/A"}},{"$f":"RTD(\"sysq.rtd\",\"\",\"!DTDH`LC.99-1729:2\")","v":{"$error":"#N/A"}},{"$f":"RTD(\"sysq.rtd\",\"\",\"!XTSH`LC.99-1729:2\")","v":{"$error":"#N/A"}},{"$f":"RTD(\"sysq.rtd\",\"\",\"!XTDH`LC.99-1729:2\")","v":{"$error":"#N/A"}},{"$f":"RTD(\"sysq.rtd\",\"\",\"!DTAI`LC.99-1729:2\")","v":{"$error":"#N/A"}},{"$f":"RTD(\"sysq.rtd\",\"\",\"WTX&`004.10-1729:2\")","v":{"$error":"#N/A"}},{"$error":"#N/A"}]
["1730",{"$f":"RTD(\"sysq.rtd\",\"\",\"!DTSH`LC.99-1730:2\")","v":{"$error":"#N/A"}},{"$f":"RTD(\"sysq.rtd\",\"\",\"!DTDH`LC.99-1730:2\")","v":{"$error":"#N/A"}},{"$f":"RTD(\"sysq.rtd\",\"\",\"!XTSH`LC.99-1730:2\")","v":{"$error":"#N/A"}},{"$f":"RTD(\"sysq.rtd\",\"\",\"!XTDH`LC.99-1730:2\")","v":{"$error":"#N/A"}},{"$f":"RTD(\"sysq.rtd\",\"\",\"!DTAI`LC.99-1730:2\")","v":{"$error":"#N/A"}},{"$f":"RTD(\"sysq.rtd\",\"\",\"WTX&`004.10-1730:2\")","v":{"$error":"#N/A"}},{"$error":"#N/A"}]
["1731",{"$f":"RTD(\"sysq.rtd\",\"\",\"!DTSH`LC.99-1731:2\")","v":{"$error":"#N/A"}},{"$f":"RTD(\"sysq.rtd\",\"\",\"!DTDH`LC.99-1731:2\")","v":{"$error":"#N/A"}},{"$f":"RTD(\"sysq.rtd\",\"\",\"!XTSH`LC.99-1731:2\")","v":{"$error":"#N/A"}},{"$f":"RTD(\"sysq.rtd\",\"\",\"!XTDH`LC.99-1731:2\")","v":{"$error":"#N/A"}},{"$f":"RTD(\"sysq.rtd\",\"\",\"!DTAI`LC.99-1731:2\")","v":{"$error":"#N/A"}},{"$f":"RTD(\"sysq.rtd\",\"\",\"WTX&`004.10-1731:2\")","v":{"$error":"#N/A"}},{"$error":"#N/A"}]
["1732",{"$f":"RTD(\"sysq.rtd\",\"\",\"!DTSH`LC.99-1732:2\")","v":{"$error":"#N/A"}},{"$f":"RTD(\"sysq.rtd\",\"\",\"!DTDH`LC.99-1732:2\")","v":{"$error":"#N/A"}},{"$f":"RTD(\"sysq.rtd\",\"\",\"!XTSH`LC.99-1732:2\")","v":{"$error":"#N/A"}},{"$f":"RTD(\"sysq.rtd\",\"\",\"!XTDH`LC.99-1732:2\")","v":{"$error":"#N/A"}},{"$f":"RTD(\"sysq.rtd\",\"\",\"!DTAI`LC.99-1732:2\")","v":{"$error":"#N/A"}},{"$f":"RTD(\"sysq.rtd\",\"\",\"WTX&`004.10-1732:2\")","v":{"$error":"#N/A"}},{"$error":"#N/A"}]
["1733",{"$f":"RTD(\"sysq.rtd\",\"\",\"!DTSH`LC.99-1733:2\")","v":{"$error":"#N/A"}},{"$f":"RTD(\"sysq.rtd\",\"\",\"!DTDH`LC.99-1733:2\")","v":{"$error":"#N/A"}},{"$f":"RTD(\"sysq.rtd\",\"\",\"!XTSH`LC.99-1733:2\")","v":{"$error":"#N/A"}},{"$f":"RTD(\"sysq.rtd\",\"\",\"!XTDH`LC.99-1733:2\")","v":{"$error":"#N/A"}},{"$f":"RTD(\"sysq.rtd\",\"\",\"!DTAI`LC.99-1733:2\")","v":{"$error":"#N/A"}},{"$f":"RTD(\"sysq.rtd\",\"\",\"WTX&`004.10-1733:2\")","v":{"$error":"#N/A"}},{"$error":"#N/A"}]
["1734",{"$f":"RTD(\"sysq.rtd\",\"\",\"!DTSH`LC.99-1734:2\")","v":{"$error":"#N/A"}},{"$f":"RTD(\"sysq.rtd\",\"\",\"!DTDH`LC.99-1734:2\")","v":{"$error":"#N/A"}},{"$f":"RTD(\"sysq.rtd\",\"\",\"!XTSH`LC.99-1734:2\")","v":{"$error":"#N/A"}},{"$f":"RTD(\"sysq.rtd\",\"\",\"!XTDH`LC.99-1734:2\")","v":{"$error":"#N/A"}},{"$f":"RTD(\"sysq.rtd\",\"\",\"!DTAI`LC.99-1734:2\")","v":{"$error":"#N/A"}},{"$f":"RTD(\"sysq.rtd\",\"\",\"WTX&`004.10-1734:2\")","v":{"$error":"#N/A"}},{"$error":"#N/A"}]
["1735",{"$f":"RTD(\"sysq.rtd\",\"\",\"!DTSH`LC.99-1735:2\")","v":{"$error":"#N/A"}},{"$f":"RTD(\"sysq.rtd\",\"\",\"!DTDH`LC.99-1735:2\")","v":{"$error":"#N/A"}},{"$f":"RTD(\"sysq.rtd\",\"\",\"!XTSH`LC.99-1735:2\")","v":{"$error":"#N/A"}},{"$f":"RTD(\"sysq.rtd\",\"\",\"!XTDH`LC.99-1735:2\")","v":{"$error":"#N/A"}},{"$f":"RTD(\"sysq.rtd\",\"\",\"!DTAI`LC.99-1735:2\")","v":{"$error":"#N/A"}},{"$f":"RTD(\"sysq.rtd\",\"\",\"WTX&`004.10-1735:2\")","v":{"$error":"#N/A"}},{"$error":"#N/A"}]
["1736",{"$f":"RTD(\"sysq.rtd\",\"\",\"!DTSH`LC.99-1736:2\")","v":{"$error":"#N/A"}},{"$f":"RTD(\"sysq.rtd\",\"\",\"!DTDH`LC.99-1736:2\")","v":{"$error":"#N/A"}},{"$f":"RTD(\"sysq.rtd\",\"\",\"!XTSH`LC.99-1736:2\")","v":{"$error":"#N/A"}},{"$f":"RTD(\"sysq.rtd\",\"\",\"!XTDH`LC.99-1736:2\")","v":{"$error":"#N/A"}},{"$f":"RTD(\"sysq.rtd\",\"\",\"!DTAI`LC.99-1736:2\")","v":{"$error":"#N/A"}},{"$f":"RTD(\"sysq.rtd\",\"\",\"WTX&`004.10-1736:2\")","v":{"$error":"#N/A"}},{"$error":"#N/A"}]
["1737",{"$f":"RTD(\"sysq.rtd\",\"\",\"!DTSH`LC.99-1737:2\")","v":{"$error":"#N/A"}},{"$f":"RTD(\"sysq.rtd\",\"\",\"!DTDH`LC.99-1737:2\")","v":{"$error":"#N/A"}},{"$f":"RTD(\"sysq.rtd\",\"\",\"!XTSH`LC.99-1737:2\")","v":{"$error":"#N/A"}},{"$f":"RTD(\"sysq.rtd\",\"\",\"!XTDH`LC.99-1737:2\")","v":{"$error":"#N/A"}},{"$f":"RTD(\"sysq.rtd\",\"\",\"!DTAI`LC.99-1737:2\")","v":{"$error":"#N/A"}},{"$f":"RTD(\"sysq.rtd\",\"\",\"WTX&`004.10-1737:2\")","v":{"$error":"#N/A"}},{"$error":"#N/A"}]
["1738",{"$f":"RTD(\"sysq.rtd\",\"\",\"!DTSH`LC.99-1738:2\")","v":{"$error":"#N/A"}},{"$f":"RTD(\"sysq.rtd\",\"\",\"!DTDH`LC.99-1738:2\")","v":{"$error":"#N/A"}},{"$f":"RTD(\"sysq.rtd\",\"\",\"!XTSH`LC.99-1738:2\")","v":{"$error":"#N/A"}},{"$f":"RTD(\"sysq.rtd\",\"\",\"!XTDH`LC.99-1738:2\")","v":{"$error":"#N/A"}},{"$f":"RTD(\"sysq.rtd\",\"\",\"!DTAI`LC.99-1738:2\")","v":{"$error":"#N/A"}},{"$f":"RTD(\"sysq.rtd\",\"\",\"WTX&`004.10-1738:2\")","v":{"$error":"#N/A"}},{"$error":"#N/A"}]
["1739",{"$f":"RTD(\"sysq.rtd\",\"\",\"!DTSH`LC.99-1739:2\")","v":{"$error":"#N/A"}},{"$f":"RTD(\"sysq.rtd\",\"\",\"!DTDH`LC.99-1739:2\")","v":{"$error":"#N/A"}},{"$f":"RTD(\"sysq.rtd\",\"\",\"!XTSH`LC.99-1739:2\")","v":{"$error":"#N/A"}},{"$f":"RTD(\"sysq.rtd\",\"\",\"!XTDH`LC.99-1739:2\")","v":{"$error":"#N/A"}},{"$f":"RTD(\"sysq.rtd\",\"\",\"!DTAI`LC.99-1739:2\")","v":{"$error":"#N/A"}},{"$f":"RTD(\"sysq.rtd\",\"\",\"WTX&`004.10-1739:2\")","v":{"$error":"#N/A"}},{"$error":"#N/A"}]
["1740",{"$f":"RTD(\"sysq.rtd\",\"\",\"!DTSH`LC.99-1740:2\")","v":{"$error":"#N/A"}},{"$f":"RTD(\"sysq.rtd\",\"\",\"!DTDH`LC.99-1740:2\")","v":{"$error":"#N/A"}},{"$f":"RTD(\"sysq.rtd\",\"\",\"!XTSH`LC.99-1740:2\")","v":{"$error":"#N/A"}},{"$f":"RTD(\"sysq.rtd\",\"\",\"!XTDH`LC.99-1740:2\")","v":{"$error":"#N/A"}},{"$f":"RTD(\"sysq.rtd\",\"\",\"!DTAI`LC.99-1740:2\")","v":{"$error":"#N/A"}},{"$f":"RTD(\"sysq.rtd\",\"\",\"WTX&`004.10-1740:2\")","v":{"$error":"#N/A"}},{"$error":"#N/A"}]
["1741",{"$f":"RTD(\"sysq.rtd\",\"\",\"!DTSH`LC.99-1741:2\")","v":{"$error":"#N/A"}},{"$f":"RTD(\"sysq.rtd\",\"\",\"!DTDH`LC.99-1741:2\")","v":{"$error":"#N/A"}},{"$f":"RTD(\"sysq.rtd\",\"\",\"!XTSH`LC.99-1741:2\")","v":{"$error":"#N/A"}},{"$f":"RTD(\"sysq.rtd\",\"\",\"!XTDH`LC.99-1741:2\")","v":{"$error":"#N/A"}},{"$f":"RTD(\"sysq.rtd\",\"\",\"!DTAI`LC.99-1741:2\")","v":{"$error":"#N/A"}},{"$f":"RTD(\"sysq.rtd\",\"\",\"WTX&`004.10-1741:2\")","v":{"$error":"#N/A"}},{"$error":"#N/A"}]
["1742",{"$f":"RTD(\"sysq.rtd\",\"\",\"!DTSH`LC.99-1742:2\")","v":{"$error":"#N/A"}},{"$f":"RTD(\"sysq.rtd\",\"\",\"!DTDH`LC.99-1742:2\")","v":{"$error":"#N/A"}},{"$f":"RTD(\"sysq.rtd\",\"\",\"!XTSH`LC.99-1742:2\")","v":{"$error":"#N/A"}},{"$f":"RTD(\"sysq.rtd\",\"\",\"!XTDH`LC.99-1742:2\")","v":{"$error":"#N/A"}},{"$f":"RTD(\"sysq.rtd\",\"\",\"!DTAI`LC.99-1742:2\")","v":{"$error":"#N/A"}},{"$f":"RTD(\"sysq.rtd\",\"\",\"WTX&`004.10-1742:2\")","v":{"$error":"#N/A"}},{"$error":"#N/A"}]
["1743",{"$f":"RTD(\"sysq.rtd\",\"\",\"!DTSH`LC.99-1743:2\")","v":{"$error":"#N/A"}},{"$f":"RTD(\"sysq.rtd\",\"\",\"!DTDH`LC.99-1743:2\")","v":{"$error":"#N/A"}},{"$f":"RTD(\"sysq.rtd\",\"\",\"!XTSH`LC.99-1743:2\")","v":{"$error":"#N/A"}},{"$f":"RTD(\"sysq.rtd\",\"\",\"!XTDH`LC.99-1743:2\")","v":{"$error":"#N/A"}},{"$f":"RTD(\"sysq.rtd\",\"\",\"!DTAI`LC.99-1743:2\")","v":{"$error":"#N/A"}},{"$f":"RTD(\"sysq.rtd\",\"\",\"WTX&`004.10-1743:2\")","v":{"$error":"#N/A"}},{"$error":"#N/A"}]
["1744",{"$f":"RTD(\"sysq.rtd\",\"\",\"!DTSH`LC.99-1744:2\")","v":{"$error":"#N/A"}},{"$f":"RTD(\"sysq.rtd\",\"\",\"!DTDH`LC.99-1744:2\")","v":{"$error":"#N/A"}},{"$f":"RTD(\"sysq.rtd\",\"\",\"!XTSH`LC.99-1744:2\")","v":{"$error":"#N/A"}},{"$f":"RTD(\"sysq.rtd\",\"\",\"!XTDH`LC.99-1744:2\")","v":{"$error":"#N/A"}},{"$f":"RTD(\"sysq.rtd\",\"\",\"!DTAI`LC.99-1744:2\")","v":{"$error":"#N/A"}},{"$f":"RTD(\"sysq.rtd\",\"\",\"WTX&`004.10-1744:2\")","v":{"$error":"#N/A"}},{"$error":"#N/A"}]
["1745",{"$f":"RTD(\"sysq.rtd\",\"\",\"!DTSH`LC.99-1745:2\")","v":{"$error":"#N/A"}},{"$f":"RTD(\"sysq.rtd\",\"\",\"!DTDH`LC.99-1745:2\")","v":{"$error":"#N/A"}},{"$f":"RTD(\"sysq.rtd\",\"\",\"!XTSH`LC.99-1745:2\")","v":{"$error":"#N/A"}},{"$f":"RTD(\"sysq.rtd\",\"\",\"!XTDH`LC.99-1745:2\")","v":{"$error":"#N/A"}},{"$f":"RTD(\"sysq.rtd\",\"\",\"!DTAI`LC.99-1745:2\")","v":{"$error":"#N/A"}},{"$f":"RTD(\"sysq.rtd\",\"\",\"WTX&`004.10-1745:2\")","v":{"$error":"#N/A"}},{"$error":"#N/A"}]
["1746",{"$f":"RTD(\"sysq.rtd\",\"\",\"!DTSH`LC.99-1746:2\")","v":{"$error":"#N/A"}},{"$f":"RTD(\"sysq.rtd\",\"\",\"!DTDH`LC.99-1746:2\")","v":{"$error":"#N/A"}},{"$f":"RTD(\"sysq.rtd\",\"\",\"!XTSH`LC.99-1746:2\")","v":{"$error":"#N/A"}},{"$f":"RTD(\"sysq.rtd\",\"\",\"!XTDH`LC.99-1746:2\")","v":{"$error":"#N/A"}},{"$f":"RTD(\"sysq.rtd\",\"\",\"!DTAI`LC.99-1746:2\")","v":{"$error":"#N/A"}},{"$f":"RTD(\"sysq.rtd\",\"\",\"WTX&`004.10-1746:2\")","v":{"$error":"#N/A"}},{"$error":"#N/A"}]
["1747",{"$f":"RTD(\"sysq.rtd\",\"\",\"!DTSH`LC.99-1747:2\")","v":{"$error":"#N/A"}},{"$f":"RTD(\"sysq.rtd\",\"\",\"!DTDH`LC.99-1747:2\")","v":{"$error":"#N/A"}},{"$f":"RTD(\"sysq.rtd\",\"\",\"!XTSH`LC.99-1747:2\")","v":{"$error":"#N/A"}},{"$f":"RTD(\"sysq.rtd\",\"\",\"!XTDH`LC.99-1747:2\")","v":{"$error":"#N/A"}},{"$f":"RTD(\"sysq.rtd\",\"\",\"!DTAI`LC.99-1747:2\")","v":{"$error":"#N/A"}},{"$f":"RTD(\"sysq.rtd\",\"\",\"WTX&`004.10-1747:2\")","v":{"$error":"#N/A"}},{"$error":"#N/A"}]
["1748",{"$f":"RTD(\"sysq.rtd\",\"\",\"!DTSH`LC.99-1748:2\")","v":{"$error":"#N/A"}},{"$f":"RTD(\"sysq.rtd\",\"\",\"!DTDH`LC.99-1748:2\")","v":{"$error":"#N/A"}},{"$f":"RTD(\"sysq.rtd\",\"\",\"!XTSH`LC.99-1748:2\")","v":{"$error":"#N/A"}},{"$f":"RTD(\"sysq.rtd\",\"\",\"!XTDH`LC.99-1748:2\")","v":{"$error":"#N/A"}},{"$f":"RTD(\"sysq.rtd\",\"\",\"!DTAI`LC.99-1748:2\")","v":{"$error":"#N/A"}},{"$f":"RTD(\"sysq.rtd\",\"\",\"WTX&`004.10-1748:2\")","v":{"$error":"#N/A"}},{"$error":"#N/A"}]
["1749",{"$f":"RTD(\"sysq.rtd\",\"\",\"!DTSH`LC.99-1749:2\")","v":{"$error":"#N/A"}},{"$f":"RTD(\"sysq.rtd\",\"\",\"!DTDH`LC.99-1749:2\")","v":{"$error":"#N/A"}},{"$f":"RTD(\"sysq.rtd\",\"\",\"!XTSH`LC.99-1749:2\")","v":{"$error":"#N/A"}},{"$f":"RTD(\"sysq.rtd\",\"\",\"!XTDH`LC.99-1749:2\")","v":{"$error":"#N/A"}},{"$f":"RTD(\"sysq.rtd\",\"\",\"!DTAI`LC.99-1749:2\")","v":{"$error":"#N/A"}},{"$f":"RTD(\"sysq.rtd\",\"\",\"WTX&`004.10-1749:2\")","v":{"$error":"#N/A"}},{"$error":"#N/A"}]
["1750",{"$f":"RTD(\"sysq.rtd\",\"\",\"!DTSH`LC.99-1750:2\")","v":{"$error":"#N/A"}},{"$f":"RTD(\"sysq.rtd\",\"\",\"!DTDH`LC.99-1750:2\")","v":{"$error":"#N/A"}},{"$f":"RTD(\"sysq.rtd\",\"\",\"!XTSH`LC.99-1750:2\")","v":{"$error":"#N/A"}},{"$f":"RTD(\"sysq.rtd\",\"\",\"!XTDH`LC.99-1750:2\")","v":{"$error":"#N/A"}},{"$f":"RTD(\"sysq.rtd\",\"\",\"!DTAI`LC.99-1750:2\")","v":{"$error":"#N/A"}},{"$f":"RTD(\"sysq.rtd\",\"\",\"WTX&`004.10-1750:2\")","v":{"$error":"#N/A"}},{"$error":"#N/A"}]
["1751",{"$f":"RTD(\"sysq.rtd\",\"\",\"!DTSH`LC.99-1751:2\")","v":{"$error":"#N/A"}},{"$f":"RTD(\"sysq.rtd\",\"\",\"!DTDH`LC.99-1751:2\")","v":{"$error":"#N/A"}},{"$f":"RTD(\"sysq.rtd\",\"\",\"!XTSH`LC.99-1751:2\")","v":{"$error":"#N/A"}},{"$f":"RTD(\"sysq.rtd\",\"\",\"!XTDH`LC.99-1751:2\")","v":{"$error":"#N/A"}},{"$f":"RTD(\"sysq.rtd\",\"\",\"!DTAI`LC.99-1751:2\")","v":{"$error":"#N/A"}},{"$f":"RTD(\"sysq.rtd\",\"\",\"WTX&`004.10-1751:2\")","v":{"$error":"#N/A"}},{"$error":"#N/A"}]
["1752",{"$f":"RTD(\"sysq.rtd\",\"\",\"!DTSH`LC.99-1752:2\")","v":{"$error":"#N/A"}},{"$f":"RTD(\"sysq.rtd\",\"\",\"!DTDH`LC.99-1752:2\")","v":{"$error":"#N/A"}},{"$f":"RTD(\"sysq.rtd\",\"\",\"!XTSH`LC.99-1752:2\")","v":{"$error":"#N/A"}},{"$f":"RTD(\"sysq.rtd\",\"\",\"!XTDH`LC.99-1752:2\")","v":{"$error":"#N/A"}},{"$f":"RTD(\"sysq.rtd\",\"\",\"!DTAI`LC.99-1752:2\")","v":{"$error":"#N/A"}},{"$f":"RTD(\"sysq.rtd\",\"\",\"WTX&`004.10-1752:2\")","v":{"$error":"#N/A"}},{"$error":"#N/A"}]
["1753",{"$f":"RTD(\"sysq.rtd\",\"\",\"!DTSH`LC.99-1753:2\")","v":{"$error":"#N/A"}},{"$f":"RTD(\"sysq.rtd\",\"\",\"!DTDH`LC.99-1753:2\")","v":{"$error":"#N/A"}},{"$f":"RTD(\"sysq.rtd\",\"\",\"!XTSH`LC.99-1753:2\")","v":{"$error":"#N/A"}},{"$f":"RTD(\"sysq.rtd\",\"\",\"!XTDH`LC.99-1753:2\")","v":{"$error":"#N/A"}},{"$f":"RTD(\"sysq.rtd\",\"\",\"!DTAI`LC.99-1753:2\")","v":{"$error":"#N/A"}},{"$f":"RTD(\"sysq.rtd\",\"\",\"WTX&`004.10-1753:2\")","v":{"$error":"#N/A"}},{"$error":"#N/A"}]
["1754",{"$f":"RTD(\"sysq.rtd\",\"\",\"!DTSH`LC.99-1754:2\")","v":{"$error":"#N/A"}},{"$f":"RTD(\"sysq.rtd\",\"\",\"!DTDH`LC.99-1754:2\")","v":{"$error":"#N/A"}},{"$f":"RTD(\"sysq.rtd\",\"\",\"!XTSH`LC.99-1754:2\")","v":{"$error":"#N/A"}},{"$f":"RTD(\"sysq.rtd\",\"\",\"!XTDH`LC.99-1754:2\")","v":{"$error":"#N/A"}},{"$f":"RTD(\"sysq.rtd\",\"\",\"!DTAI`LC.99-1754:2\")","v":{"$error":"#N/A"}},{"$f":"RTD(\"sysq.rtd\",\"\",\"WTX&`004.10-1754:2\")","v":{"$error":"#N/A"}},{"$error":"#N/A"}]
["1755",{"$f":"RTD(\"sysq.rtd\",\"\",\"!DTSH`LC.99-1755:2\")","v":{"$error":"#N/A"}},{"$f":"RTD(\"sysq.rtd\",\"\",\"!DTDH`LC.99-1755:2\")","v":{"$error":"#N/A"}},{"$f":"RTD(\"sysq.rtd\",\"\",\"!XTSH`LC.99-1755:2\")","v":{"$error":"#N/A"}},{"$f":"RTD(\"sysq.rtd\",\"\",\"!XTDH`LC.99-1755:2\")","v":{"$error":"#N/A"}},{"$f":"RTD(\"sysq.rtd\",\"\",\"!DTAI`LC.99-1755:2\")","v":{"$error":"#N/A"}},{"$f":"RTD(\"sysq.rtd\",\"\",\"WTX&`004.10-1755:2\")","v":{"$error":"#N/A"}},{"$error":"#N/A"}]
["1756",{"$f":"RTD(\"sysq.rtd\",\"\",\"!DTSH`LC.99-1756:2\")","v":{"$error":"#N/A"}},{"$f":"RTD(\"sysq.rtd\",\"\",\"!DTDH`LC.99-1756:2\")","v":{"$error":"#N/A"}},{"$f":"RTD(\"sysq.rtd\",\"\",\"!XTSH`LC.99-1756:2\")","v":{"$error":"#N/A"}},{"$f":"RTD(\"sysq.rtd\",\"\",\"!XTDH`LC.99-1756:2\")","v":{"$error":"#N/A"}},{"$f":"RTD(\"sysq.rtd\",\"\",\"!DTAI`LC.99-1756:2\")","v":{"$error":"#N/A"}},{"$f":"RTD(\"sysq.rtd\",\"\",\"WTX&`004.10-1756:2\")","v":{"$error":"#N/A"}},{"$error":"#N/A"}]
["1757",{"$f":"RTD(\"sysq.rtd\",\"\",\"!DTSH`LC.99-1757:2\")","v":{"$error":"#N/A"}},{"$f":"RTD(\"sysq.rtd\",\"\",\"!DTDH`LC.99-1757:2\")","v":{"$error":"#N/A"}},{"$f":"RTD(\"sysq.rtd\",\"\",\"!XTSH`LC.99-1757:2\")","v":{"$error":"#N/A"}},{"$f":"RTD(\"sysq.rtd\",\"\",\"!XTDH`LC.99-1757:2\")","v":{"$error":"#N/A"}},{"$f":"RTD(\"sysq.rtd\",\"\",\"!DTAI`LC.99-1757:2\")","v":{"$error":"#N/A"}},{"$f":"RTD(\"sysq.rtd\",\"\",\"WTX&`004.10-1757:2\")","v":{"$error":"#N/A"}},{"$error":"#N/A"}]
["1758",{"$f":"RTD(\"sysq.rtd\",\"\",\"!DTSH`LC.99-1758:2\")","v":{"$error":"#N/A"}},{"$f":"RTD(\"sysq.rtd\",\"\",\"!DTDH`LC.99-1758:2\")","v":{"$error":"#N/A"}},{"$f":"RTD(\"sysq.rtd\",\"\",\"!XTSH`LC.99-1758:2\")","v":{"$error":"#N/A"}},{"$f":"RTD(\"sysq.rtd\",\"\",\"!XTDH`LC.99-1758:2\")","v":{"$error":"#N/A"}},{"$f":"RTD(\"sysq.rtd\",\"\",\"!DTAI`LC.99-1758:2\")","v":{"$error":"#N/A"}},{"$f":"RTD(\"sysq.rtd\",\"\",\"WTX&`004.10-1758:2\")","v":{"$error":"#N/A"}},{"$error":"#N/A"}]
["1759",{"$f":"RTD(\"sysq.rtd\",\"\",\"!DTSH`LC.99-1759:2\")","v":{"$error":"#N/A"}},{"$f":"RTD(\"sysq.rtd\",\"\",\"!DTDH`LC.99-1759:2\")","v":{"$error":"#N/A"}},{"$f":"RTD(\"sysq.rtd\",\"\",\"!XTSH`LC.99-1759:2\")","v":{"$error":"#N/A"}},{"$f":"RTD(\"sysq.rtd\",\"\",\"!XTDH`LC.99-1759:2\")","v":{"$error":"#N/A"}},{"$f":"RTD(\"sysq.rtd\",\"\",\"!DTAI`LC.99-1759:2\")","v":{"$error":"#N/A"}},{"$f":"RTD(\"sysq.rtd\",\"\",\"WTX&`004.10-1759:2\")","v":{"$error":"#N/A"}},{"$error":"#N/A"}]
["1800",{"$f":"RTD(\"sysq.rtd\",\"\",\"!DTSH`LC.99-1800:2\")","v":{"$error":"#N/A"}},{"$f":"RTD(\"sysq.rtd\",\"\",\"!DTDH`LC.99-1800:2\")","v":{"$error":"#N/A"}},{"$f":"RTD(\"sysq.rtd\",\"\",\"!XTSH`LC.99-1800:2\")","v":{"$error":"#N/A"}},{"$f":"RTD(\"sysq.rtd\",\"\",\"!XTDH`LC.99-1800:2\")","v":{"$error":"#N/A"}},{"$f":"RTD(\"sysq.rtd\",\"\",\"!DTAI`LC.99-1800:2\")","v":{"$error":"#N/A"}},{"$f":"RTD(\"sysq.rtd\",\"\",\"WTX&`004.10-1800:2\")","v":{"$error":"#N/A"}},{"$error":"#N/A"}]
["1801",{"$f":"RTD(\"sysq.rtd\",\"\",\"!DTSH`LC.99-1801:2\")","v":{"$error":"#N/A"}},{"$f":"RTD(\"sysq.rtd\",\"\",\"!DTDH`LC.99-1801:2\")","v":{"$error":"#N/A"}},{"$f":"RTD(\"sysq.rtd\",\"\",\"!XTSH`LC.99-1801:2\")","v":{"$error":"#N/A"}},{"$f":"RTD(\"sysq.rtd\",\"\",\"!XTDH`LC.99-1801:2\")","v":{"$error":"#N/A"}},{"$f":"RTD(\"sysq.rtd\",\"\",\"!DTAI`LC.99-1801:2\")","v":{"$error":"#N/A"}},{"$f":"RTD(\"sysq.rtd\",\"\",\"WTX&`004.10-1801:2\")","v":{"$error":"#N/A"}},{"$error":"#N/A"}]
["1802",{"$f":"RTD(\"sysq.rtd\",\"\",\"!DTSH`LC.99-1802:2\")","v":{"$error":"#N/A"}},{"$f":"RTD(\"sysq.rtd\",\"\",\"!DTDH`LC.99-1802:2\")","v":{"$error":"#N/A"}},{"$f":"RTD(\"sysq.rtd\",\"\",\"!XTSH`LC.99-1802:2\")","v":{"$error":"#N/A"}},{"$f":"RTD(\"sysq.rtd\",\"\",\"!XTDH`LC.99-1802:2\")","v":{"$error":"#N/A"}},{"$f":"RTD(\"sysq.rtd\",\"\",\"!DTAI`LC.99-1802:2\")","v":{"$error":"#N/A"}},{"$f":"RTD(\"sysq.rtd\",\"\",\"WTX&`004.10-1802:2\")","v":{"$error":"#N/A"}},{"$error":"#N/A"}]
["1803",{"$f":"RTD(\"sysq.rtd\",\"\",\"!DTSH`LC.99-1803:2\")","v":{"$error":"#N/A"}},{"$f":"RTD(\"sysq.rtd\",\"\",\"!DTDH`LC.99-1803:2\")","v":{"$error":"#N/A"}},{"$f":"RTD(\"sysq.rtd\",\"\",\"!XTSH`LC.99-1803:2\")","v":{"$error":"#N/A"}},{"$f":"RTD(\"sysq.rtd\",\"\",\"!XTDH`LC.99-1803:2\")","v":{"$error":"#N/A"}},{"$f":"RTD(\"sysq.rtd\",\"\",\"!DTAI`LC.99-1803:2\")","v":{"$error":"#N/A"}},{"$f":"RTD(\"sysq.rtd\",\"\",\"WTX&`004.10-1803:2\")","v":{"$error":"#N/A"}},{"$error":"#N/A"}]
["1804",{"$f":"RTD(\"sysq.rtd\",\"\",\"!DTSH`LC.99-1804:2\")","v":{"$error":"#N/A"}},{"$f":"RTD(\"sysq.rtd\",\"\",\"!DTDH`LC.99-1804:2\")","v":{"$error":"#N/A"}},{"$f":"RTD(\"sysq.rtd\",\"\",\"!XTSH`LC.99-1804:2\")","v":{"$error":"#N/A"}},{"$f":"RTD(\"sysq.rtd\",\"\",\"!XTDH`LC.99-1804:2\")","v":{"$error":"#N/A"}},{"$f":"RTD(\"sysq.rtd\",\"\",\"!DTAI`LC.99-1804:2\")","v":{"$error":"#N/A"}},{"$f":"RTD(\"sysq.rtd\",\"\",\"WTX&`004.10-1804:2\")","v":{"$error":"#N/A"}},{"$error":"#N/A"}]
["1805",{"$f":"RTD(\"sysq.rtd\",\"\",\"!DTSH`LC.99-1805:2\")","v":{"$error":"#N/A"}},{"$f":"RTD(\"sysq.rtd\",\"\",\"!DTDH`LC.99-1805:2\")","v":{"$error":"#N/A"}},{"$f":"RTD(\"sysq.rtd\",\"\",\"!XTSH`LC.99-1805:2\")","v":{"$error":"#N/A"}},{"$f":"RTD(\"sysq.rtd\",\"\",\"!XTDH`LC.99-1805:2\")","v":{"$error":"#N/A"}},{"$f":"RTD(\"sysq.rtd\",\"\",\"!DTAI`LC.99-1805:2\")","v":{"$error":"#N/A"}},{"$f":"RTD(\"sysq.rtd\",\"\",\"WTX&`004.10-1805:2\")","v":{"$error":"#N/A"}},{"$error":"#N/A"}]
["1806",{"$f":"RTD(\"sysq.rtd\",\"\",\"!DTSH`LC.99-1806:2\")","v":{"$error":"#N/A"}},{"$f":"RTD(\"sysq.rtd\",\"\",\"!DTDH`LC.99-1806:2\")","v":{"$error":"#N/A"}},{"$f":"RTD(\"sysq.rtd\",\"\",\"!XTSH`LC.99-1806:2\")","v":{"$error":"#N/A"}},{"$f":"RTD(\"sysq.rtd\",\"\",\"!XTDH`LC.99-1806:2\")","v":{"$error":"#N/A"}},{"$f":"RTD(\"sysq.rtd\",\"\",\"!DTAI`LC.99-1806:2\")","v":{"$error":"#N/A"}},{"$f":"RTD(\"sysq.rtd\",\"\",\"WTX&`004.10-1806:2\")","v":{"$error":"#N/A"}},{"$error":"#N/A"}]
["1807",{"$f":"RTD(\"sysq.rtd\",\"\",\"!DTSH`LC.99-1807:2\")","v":{"$error":"#N/A"}},{"$f":"RTD(\"sysq.rtd\",\"\",\"!DTDH`LC.99-1807:2\")","v":{"$error":"#N/A"}},{"$f":"RTD(\"sysq.rtd\",\"\",\"!XTSH`LC.99-1807:2\")","v":{"$error":"#N/A"}},{"$f":"RTD(\"sysq.rtd\",\"\",\"!XTDH`LC.99-1807:2\")","v":{"$error":"#N/A"}},{"$f":"RTD(\"sysq.rtd\",\"\",\"!DTAI`LC.99-1807:2\")","v":{"$error":"#N/A"}},{"$f":"RTD(\"sysq.rtd\",\"\",\"WTX&`004.10-1807:2\")","v":{"$error":"#N/A"}},{"$error":"#N/A"}]
["1808",{"$f":"RTD(\"sysq.rtd\",\"\",\"!DTSH`LC.99-1808:2\")","v":{"$error":"#N/A"}},{"$f":"RTD(\"sysq.rtd\",\"\",\"!DTDH`LC.99-1808:2\")","v":{"$error":"#N/A"}},{"$f":"RTD(\"sysq.rtd\",\"\",\"!XTSH`LC.99-1808:2\")","v":{"$error":"#N/A"}},{"$f":"RTD(\"sysq.rtd\",\"\",\"!XTDH`LC.99-1808:2\")","v":{"$error":"#N/A"}},{"$f":"RTD(\"sysq.rtd\",\"\",\"!DTAI`LC.99-1808:2\")","v":{"$error":"#N/A"}},{"$f":"RTD(\"sysq.rtd\",\"\",\"WTX&`004.10-1808:2\")","v":{"$error":"#N/A"}},{"$error":"#N/A"}]
["1809",{"$f":"RTD(\"sysq.rtd\",\"\",\"!DTSH`LC.99-1809:2\")","v":{"$error":"#N/A"}},{"$f":"RTD(\"sysq.rtd\",\"\",\"!DTDH`LC.99-1809:2\")","v":{"$error":"#N/A"}},{"$f":"RTD(\"sysq.rtd\",\"\",\"!XTSH`LC.99-1809:2\")","v":{"$error":"#N/A"}},{"$f":"RTD(\"sysq.rtd\",\"\",\"!XTDH`LC.99-1809:2\")","v":{"$error":"#N/A"}},{"$f":"RTD(\"sysq.rtd\",\"\",\"!DTAI`LC.99-1809:2\")","v":{"$error":"#N/A"}},{"$f":"RTD(\"sysq.rtd\",\"\",\"WTX&`004.10-1809:2\")","v":{"$error":"#N/A"}},{"$error":"#N/A"}]
["1810",{"$f":"RTD(\"sysq.rtd\",\"\",\"!DTSH`LC.99-1810:2\")","v":{"$error":"#N/A"}},{"$f":"RTD(\"sysq.rtd\",\"\",\"!DTDH`LC.99-1810:2\")","v":{"$error":"#N/A"}},{"$f":"RTD(\"sysq.rtd\",\"\",\"!XTSH`LC.99-1810:2\")","v":{"$error":"#N/A"}},{"$f":"RTD(\"sysq.rtd\",\"\",\"!XTDH`LC.99-1810:2\")","v":{"$error":"#N/A"}},{"$f":"RTD(\"sysq.rtd\",\"\",\"!DTAI`LC.99-1810:2\")","v":{"$error":"#N/A"}},{"$f":"RTD(\"sysq.rtd\",\"\",\"WTX&`004.10-1810:2\")","v":{"$error":"#N/A"}},{"$error":"#N/A"}]
["1811",{"$f":"RTD(\"sysq.rtd\",\"\",\"!DTSH`LC.99-1811:2\")","v":{"$error":"#N/A"}},{"$f":"RTD(\"sysq.rtd\",\"\",\"!DTDH`LC.99-1811:2\")","v":{"$error":"#N/A"}},{"$f":"RTD(\"sysq.rtd\",\"\",\"!XTSH`LC.99-1811:2\")","v":{"$error":"#N/A"}},{"$f":"RTD(\"sysq.rtd\",\"\",\"!XTDH`LC.99-1811:2\")","v":{"$error":"#N/A"}},{"$f":"RTD(\"sysq.rtd\",\"\",\"!DTAI`LC.99-1811:2\")","v":{"$error":"#N/A"}},{"$f":"RTD(\"sysq.rtd\",\"\",\"WTX&`004.10-1811:2\")","v":{"$error":"#N/A"}},{"$error":"#N/A"}]
["1812",{"$f":"RTD(\"sysq.rtd\",\"\",\"!DTSH`LC.99-1812:2\")","v":{"$error":"#N/A"}},{"$f":"RTD(\"sysq.rtd\",\"\",\"!DTDH`LC.99-1812:2\")","v":{"$error":"#N/A"}},{"$f":"RTD(\"sysq.rtd\",\"\",\"!XTSH`LC.99-1812:2\")","v":{"$error":"#N/A"}},{"$f":"RTD(\"sysq.rtd\",\"\",\"!XTDH`LC.99-1812:2\")","v":{"$error":"#N/A"}},{"$f":"RTD(\"sysq.rtd\",\"\",\"!DTAI`LC.99-1812:2\")","v":{"$error":"#N/A"}},{"$f":"RTD(\"sysq.rtd\",\"\",\"WTX&`004.10-1812:2\")","v":{"$error":"#N/A"}},{"$error":"#N/A"}]
["1813",{"$f":"RTD(\"sysq.rtd\",\"\",\"!DTSH`LC.99-1813:2\")","v":{"$error":"#N/A"}},{"$f":"RTD(\"sysq.rtd\",\"\",\"!DTDH`LC.99-1813:2\")","v":{"$error":"#N/A"}},{"$f":"RTD(\"sysq.rtd\",\"\",\"!XTSH`LC.99-1813:2\")","v":{"$error":"#N/A"}},{"$f":"RTD(\"sysq.rtd\",\"\",\"!XTDH`LC.99-1813:2\")","v":{"$error":"#N/A"}},{"$f":"RTD(\"sysq.rtd\",\"\",\"!DTAI`LC.99-1813:2\")","v":{"$error":"#N/A"}},{"$f":"RTD(\"sysq.rtd\",\"\",\"WTX&`004.10-1813:2\")","v":{"$error":"#N/A"}},{"$error":"#N/A"}]
["1814",{"$f":"RTD(\"sysq.rtd\",\"\",\"!DTSH`LC.99-1814:2\")","v":{"$error":"#N/A"}},{"$f":"RTD(\"sysq.rtd\",\"\",\"!DTDH`LC.99-1814:2\")","v":{"$error":"#N/A"}},{"$f":"RTD(\"sysq.rtd\",\"\",\"!XTSH`LC.99-1814:2\")","v":{"$error":"#N/A"}},{"$f":"RTD(\"sysq.rtd\",\"\",\"!XTDH`LC.99-1814:2\")","v":{"$error":"#N/A"}},{"$f":"RTD(\"sysq.rtd\",\"\",\"!DTAI`LC.99-1814:2\")","v":{"$error":"#N/A"}},{"$f":"RTD(\"sysq.rtd\",\"\",\"WTX&`004.10-1814:2\")","v":{"$error":"#N/A"}},{"$error":"#N/A"}]
["1815",{"$f":"RTD(\"sysq.rtd\",\"\",\"!DTSH`LC.99-1815:2\")","v":{"$error":"#N/A"}},{"$f":"RTD(\"sysq.rtd\",\"\",\"!DTDH`LC.99-1815:2\")","v":{"$error":"#N/A"}},{"$f":"RTD(\"sysq.rtd\",\"\",\"!XTSH`LC.99-1815:2\")","v":{"$error":"#N/A"}},{"$f":"RTD(\"sysq.rtd\",\"\",\"!XTDH`LC.99-1815:2\")","v":{"$error":"#N/A"}},{"$f":"RTD(\"sysq.rtd\",\"\",\"!DTAI`LC.99-1815:2\")","v":{"$error":"#N/A"}},{"$f":"RTD(\"sysq.rtd\",\"\",\"WTX&`004.10-1815:2\")","v":{"$error":"#N/A"}},{"$error":"#N/A"}]
["1816",{"$f":"RTD(\"sysq.rtd\",\"\",\"!DTSH`LC.99-1816:2\")","v":{"$error":"#N/A"}},{"$f":"RTD(\"sysq.rtd\",\"\",\"!DTDH`LC.99-1816:2\")","v":{"$error":"#N/A"}},{"$f":"RTD(\"sysq.rtd\",\"\",\"!XTSH`LC.99-1816:2\")","v":{"$error":"#N/A"}},{"$f":"RTD(\"sysq.rtd\",\"\",\"!XTDH`LC.99-1816:2\")","v":{"$error":"#N/A"}},{"$f":"RTD(\"sysq.rtd\",\"\",\"!DTAI`LC.99-1816:2\")","v":{"$error":"#N/A"}},{"$f":"RTD(\"sysq.rtd\",\"\",\"WTX&`004.10-1816:2\")","v":{"$error":"#N/A"}},{"$error":"#N/A"}]
["1817",{"$f":"RTD(\"sysq.rtd\",\"\",\"!DTSH`LC.99-1817:2\")","v":{"$error":"#N/A"}},{"$f":"RTD(\"sysq.rtd\",\"\",\"!DTDH`LC.99-1817:2\")","v":{"$error":"#N/A"}},{"$f":"RTD(\"sysq.rtd\",\"\",\"!XTSH`LC.99-1817:2\")","v":{"$error":"#N/A"}},{"$f":"RTD(\"sysq.rtd\",\"\",\"!XTDH`LC.99-1817:2\")","v":{"$error":"#N/A"}},{"$f":"RTD(\"sysq.rtd\",\"\",\"!DTAI`LC.99-1817:2\")","v":{"$error":"#N/A"}},{"$f":"RTD(\"sysq.rtd\",\"\",\"WTX&`004.10-1817:2\")","v":{"$error":"#N/A"}},{"$error":"#N/A"}]
["1818",{"$f":"RTD(\"sysq.rtd\",\"\",\"!DTSH`LC.99-1818:2\")","v":{"$error":"#N/A"}},{"$f":"RTD(\"sysq.rtd\",\"\",\"!DTDH`LC.99-1818:2\")","v":{"$error":"#N/A"}},{"$f":"RTD(\"sysq.rtd\",\"\",\"!XTSH`LC.99-1818:2\")","v":{"$error":"#N/A"}},{"$f":"RTD(\"sysq.rtd\",\"\",\"!XTDH`LC.99-1818:2\")","v":{"$error":"#N/A"}},{"$f":"RTD(\"sysq.rtd\",\"\",\"!DTAI`LC.99-1818:2\")","v":{"$error":"#N/A"}},{"$f":"RTD(\"sysq.rtd\",\"\",\"WTX&`004.10-1818:2\")","v":{"$error":"#N/A"}},{"$error":"#N/A"}]
["1819",{"$f":"RTD(\"sysq.rtd\",\"\",\"!DTSH`LC.99-1819:2\")","v":{"$error":"#N/A"}},{"$f":"RTD(\"sysq.rtd\",\"\",\"!DTDH`LC.99-1819:2\")","v":{"$error":"#N/A"}},{"$f":"RTD(\"sysq.rtd\",\"\",\"!XTSH`LC.99-1819:2\")","v":{"$error":"#N/A"}},{"$f":"RTD(\"sysq.rtd\",\"\",\"!XTDH`LC.99-1819:2\")","v":{"$error":"#N/A"}},{"$f":"RTD(\"sysq.rtd\",\"\",\"!DTAI`LC.99-1819:2\")","v":{"$error":"#N/A"}},{"$f":"RTD(\"sysq.rtd\",\"\",\"WTX&`004.10-1819:2\")","v":{"$error":"#N/A"}},{"$error":"#N/A"}]
["1820",{"$f":"RTD(\"sysq.rtd\",\"\",\"!DTSH`LC.99-1820:2\")","v":{"$error":"#N/A"}},{"$f":"RTD(\"sysq.rtd\",\"\",\"!DTDH`LC.99-1820:2\")","v":{"$error":"#N/A"}},{"$f":"RTD(\"sysq.rtd\",\"\",\"!XTSH`LC.99-1820:2\")","v":{"$error":"#N/A"}},{"$f":"RTD(\"sysq.rtd\",\"\",\"!XTDH`LC.99-1820:2\")","v":{"$error":"#N/A"}},{"$f":"RTD(\"sysq.rtd\",\"\",\"!DTAI`LC.99-1820:2\")","v":{"$error":"#N/A"}},{"$f":"RTD(\"sysq.rtd\",\"\",\"WTX&`004.10-1820:2\")","v":{"$error":"#N/A"}},{"$error":"#N/A"}]
["1821",{"$f":"RTD(\"sysq.rtd\",\"\",\"!DTSH`LC.99-1821:2\")","v":{"$error":"#N/A"}},{"$f":"RTD(\"sysq.rtd\",\"\",\"!DTDH`LC.99-1821:2\")","v":{"$error":"#N/A"}},{"$f":"RTD(\"sysq.rtd\",\"\",\"!XTSH`LC.99-1821:2\")","v":{"$error":"#N/A"}},{"$f":"RTD(\"sysq.rtd\",\"\",\"!XTDH`LC.99-1821:2\")","v":{"$error":"#N/A"}},{"$f":"RTD(\"sysq.rtd\",\"\",\"!DTAI`LC.99-1821:2\")","v":{"$error":"#N/A"}},{"$f":"RTD(\"sysq.rtd\",\"\",\"WTX&`004.10-1821:2\")","v":{"$error":"#N/A"}},{"$error":"#N/A"}]
["1822",{"$f":"RTD(\"sysq.rtd\",\"\",\"!DTSH`LC.99-1822:2\")","v":{"$error":"#N/A"}},{"$f":"RTD(\"sysq.rtd\",\"\",\"!DTDH`LC.99-1822:2\")","v":{"$error":"#N/A"}},{"$f":"RTD(\"sysq.rtd\",\"\",\"!XTSH`LC.99-1822:2\")","v":{"$error":"#N/A"}},{"$f":"RTD(\"sysq.rtd\",\"\",\"!XTDH`LC.99-1822:2\")","v":{"$error":"#N/A"}},{"$f":"RTD(\"sysq.rtd\",\"\",\"!DTAI`LC.99-1822:2\")","v":{"$error":"#N/A"}},{"$f":"RTD(\"sysq.rtd\",\"\",\"WTX&`004.10-1822:2\")","v":{"$error":"#N/A"}},{"$error":"#N/A"}]
["1823",{"$f":"RTD(\"sysq.rtd\",\"\",\"!DTSH`LC.99-1823:2\")","v":{"$error":"#N/A"}},{"$f":"RTD(\"sysq.rtd\",\"\",\"!DTDH`LC.99-1823:2\")","v":{"$error":"#N/A"}},{"$f":"RTD(\"sysq.rtd\",\"\",\"!XTSH`LC.99-1823:2\")","v":{"$error":"#N/A"}},{"$f":"RTD(\"sysq.rtd\",\"\",\"!XTDH`LC.99-1823:2\")","v":{"$error":"#N/A"}},{"$f":"RTD(\"sysq.rtd\",\"\",\"!DTAI`LC.99-1823:2\")","v":{"$error":"#N/A"}},{"$f":"RTD(\"sysq.rtd\",\"\",\"WTX&`004.10-1823:2\")","v":{"$error":"#N/A"}},{"$error":"#N/A"}]
["1824",{"$f":"RTD(\"sysq.rtd\",\"\",\"!DTSH`LC.99-1824:2\")","v":{"$error":"#N/A"}},{"$f":"RTD(\"sysq.rtd\",\"\",\"!DTDH`LC.99-1824:2\")","v":{"$error":"#N/A"}},{"$f":"RTD(\"sysq.rtd\",\"\",\"!XTSH`LC.99-1824:2\")","v":{"$error":"#N/A"}},{"$f":"RTD(\"sysq.rtd\",\"\",\"!XTDH`LC.99-1824:2\")","v":{"$error":"#N/A"}},{"$f":"RTD(\"sysq.rtd\",\"\",\"!DTAI`LC.99-1824:2\")","v":{"$error":"#N/A"}},{"$f":"RTD(\"sysq.rtd\",\"\",\"WTX&`004.10-1824:2\")","v":{"$error":"#N/A"}},{"$error":"#N/A"}]
["1825",{"$f":"RTD(\"sysq.rtd\",\"\",\"!DTSH`LC.99-1825:2\")","v":{"$error":"#N/A"}},{"$f":"RTD(\"sysq.rtd\",\"\",\"!DTDH`LC.99-1825:2\")","v":{"$error":"#N/A"}},{"$f":"RTD(\"sysq.rtd\",\"\",\"!XTSH`LC.99-1825:2\")","v":{"$error":"#N/A"}},{"$f":"RTD(\"sysq.rtd\",\"\",\"!XTDH`LC.99-1825:2\")","v":{"$error":"#N/A"}},{"$f":"RTD(\"sysq.rtd\",\"\",\"!DTAI`LC.99-1825:2\")","v":{"$error":"#N/A"}},{"$f":"RTD(\"sysq.rtd\",\"\",\"WTX&`004.10-1825:2\")","v":{"$error":"#N/A"}},{"$error":"#N/A"}]
["1826",{"$f":"RTD(\"sysq.rtd\",\"\",\"!DTSH`LC.99-1826:2\")","v":{"$error":"#N/A"}},{"$f":"RTD(\"sysq.rtd\",\"\",\"!DTDH`LC.99-1826:2\")","v":{"$error":"#N/A"}},{"$f":"RTD(\"sysq.rtd\",\"\",\"!XTSH`LC.99-1826:2\")","v":{"$error":"#N/A"}},{"$f":"RTD(\"sysq.rtd\",\"\",\"!XTDH`LC.99-1826:2\")","v":{"$error":"#N/A"}},{"$f":"RTD(\"sysq.rtd\",\"\",\"!DTAI`LC.99-1826:2\")","v":{"$error":"#N/A"}},{"$f":"RTD(\"sysq.rtd\",\"\",\"WTX&`004.10-1826:2\")","v":{"$error":"#N/A"}},{"$error":"#N/A"}]
["1827",{"$f":"RTD(\"sysq.rtd\",\"\",\"!DTSH`LC.99-1827:2\")","v":{"$error":"#N/A"}},{"$f":"RTD(\"sysq.rtd\",\"\",\"!DTDH`LC.99-1827:2\")","v":{"$error":"#N/A"}},{"$f":"RTD(\"sysq.rtd\",\"\",\"!XTSH`LC.99-1827:2\")","v":{"$error":"#N/A"}},{"$f":"RTD(\"sysq.rtd\",\"\",\"!XTDH`LC.99-1827:2\")","v":{"$error":"#N/A"}},{"$f":"RTD(\"sysq.rtd\",\"\",\"!DTAI`LC.99-1827:2\")","v":{"$error":"#N/A"}},{"$f":"RTD(\"sysq.rtd\",\"\",\"WTX&`004.10-1827:2\")","v":{"$error":"#N/A"}},{"$error":"#N/A"}]
["1828",{"$f":"RTD(\"sysq.rtd\",\"\",\"!DTSH`LC.99-1828:2\")","v":{"$error":"#N/A"}},{"$f":"RTD(\"sysq.rtd\",\"\",\"!DTDH`LC.99-1828:2\")","v":{"$error":"#N/A"}},{"$f":"RTD(\"sysq.rtd\",\"\",\"!XTSH`LC.99-1828:2\")","v":{"$error":"#N/A"}},{"$f":"RTD(\"sysq.rtd\",\"\",\"!XTDH`LC.99-1828:2\")","v":{"$error":"#N/A"}},{"$f":"RTD(\"sysq.rtd\",\"\",\"!DTAI`LC.99-1828:2\")","v":{"$error":"#N/A"}},{"$f":"RTD(\"sysq.rtd\",\"\",\"WTX&`004.10-1828:2\")","v":{"$error":"#N/A"}},{"$error":"#N/A"}]
["1829",{"$f":"RTD(\"sysq.rtd\",\"\",\"!DTSH`LC.99-1829:2\")","v":{"$error":"#N/A"}},{"$f":"RTD(\"sysq.rtd\",\"\",\"!DTDH`LC.99-1829:2\")","v":{"$error":"#N/A"}},{"$f":"RTD(\"sysq.rtd\",\"\",\"!XTSH`LC.99-1829:2\")","v":{"$error":"#N/A"}},{"$f":"RTD(\"sysq.rtd\",\"\",\"!XTDH`LC.99-1829:2\")","v":{"$error":"#N/A"}},{"$f":"RTD(\"sysq.rtd\",\"\",\"!DTAI`LC.99-1829:2\")","v":{"$error":"#N/A"}},{"$f":"RTD(\"sysq.rtd\",\"\",\"WTX&`004.10-1829:2\")","v":{"$error":"#N/A"}},{"$error":"#N/A"}]
["1830",{"$f":"RTD(\"sysq.rtd\",\"\",\"!DTSH`LC.99-1830:2\")","v":{"$error":"#N/A"}},{"$f":"RTD(\"sysq.rtd\",\"\",\"!DTDH`LC.99-1830:2\")","v":{"$error":"#N/A"}},{"$f":"RTD(\"sysq.rtd\",\"\",\"!XTSH`LC.99-1830:2\")","v":{"$error":"#N/A"}},{"$f":"RTD(\"sysq.rtd\",\"\",\"!XTDH`LC.99-1830:2\")","v":{"$error":"#N/A"}},{"$f":"RTD(\"sysq.rtd\",\"\",\"!DTAI`LC.99-1830:2\")","v":{"$error":"#N/A"}},{"$f":"RTD(\"sysq.rtd\",\"\",\"WTX&`004.10-1830:2\")","v":{"$error":"#N/A"}},{"$error":"#N/A"}]
["1831",{"$f":"RTD(\"sysq.rtd\",\"\",\"!DTSH`LC.99-1831:2\")","v":{"$error":"#N/A"}},{"$f":"RTD(\"sysq.rtd\",\"\",\"!DTDH`LC.99-1831:2\")","v":{"$error":"#N/A"}},{"$f":"RTD(\"sysq.rtd\",\"\",\"!XTSH`LC.99-1831:2\")","v":{"$error":"#N/A"}},{"$f":"RTD(\"sysq.rtd\",\"\",\"!XTDH`LC.99-1831:2\")","v":{"$error":"#N/A"}},{"$f":"RTD(\"sysq.rtd\",\"\",\"!DTAI`LC.99-1831:2\")","v":{"$error":"#N/A"}},{"$f":"RTD(\"sysq.rtd\",\"\",\"WTX&`004.10-1831:2\")","v":{"$error":"#N/A"}},{"$error":"#N/A"}]
["1832",{"$f":"RTD(\"sysq.rtd\",\"\",\"!DTSH`LC.99-1832:2\")","v":{"$error":"#N/A"}},{"$f":"RTD(\"sysq.rtd\",\"\",\"!DTDH`LC.99-1832:2\")","v":{"$error":"#N/A"}},{"$f":"RTD(\"sysq.rtd\",\"\",\"!XTSH`LC.99-1832:2\")","v":{"$error":"#N/A"}},{"$f":"RTD(\"sysq.rtd\",\"\",\"!XTDH`LC.99-1832:2\")","v":{"$error":"#N/A"}},{"$f":"RTD(\"sysq.rtd\",\"\",\"!DTAI`LC.99-1832:2\")","v":{"$error":"#N/A"}},{"$f":"RTD(\"sysq.rtd\",\"\",\"WTX&`004.10-1832:2\")","v":{"$error":"#N/A"}},{"$f":"SQRT(ABS(F518))*(ABS(F518)/F518)","v":{"$error":"#N/A"}}]
["1833",{"$f":"RTD(\"sysq.rtd\",\"\",\"!DTSH`LC.99-1833:2\")","v":{"$error":"#N/A"}},{"$f":"RTD(\"sysq.rtd\",\"\",\"!DTDH`LC.99-1833:2\")","v":{"$error":"#N/A"}},{"$f":"RTD(\"sysq.rtd\",\"\",\"!XTSH`LC.99-1833:2\")","v":{"$error":"#N/A"}},{"$f":"RTD(\"sysq.rtd\",\"\",\"!XTDH`LC.99-1833:2\")","v":{"$error":"#N/A"}},{"$f":"RTD(\"sysq.rtd\",\"\",\"!DTAI`LC.99-1833:2\")","v":{"$error":"#N/A"}},{"$f":"RTD(\"sysq.rtd\",\"\",\"WTX&`004.10-1833:2\")","v":{"$error":"#N/A"}},{"$error":"#N/A"}]
["1834",{"$f":"RTD(\"sysq.rtd\",\"\",\"!DTSH`LC.99-1834:2\")","v":{"$error":"#N/A"}},{"$f":"RTD(\"sysq.rtd\",\"\",\"!DTDH`LC.99-1834:2\")","v":{"$error":"#N/A"}},{"$f":"RTD(\"sysq.rtd\",\"\",\"!XTSH`LC.99-1834:2\")","v":{"$error":"#N/A"}},{"$f":"RTD(\"sysq.rtd\",\"\",\"!XTDH`LC.99-1834:2\")","v":{"$error":"#N/A"}},{"$f":"RTD(\"sysq.rtd\",\"\",\"!DTAI`LC.99-1834:2\")","v":{"$error":"#N/A"}},{"$f":"RTD(\"sysq.rtd\",\"\",\"WTX&`004.10-1834:2\")","v":{"$error":"#N/A"}},{"$error":"#N/A"}]
["1835",{"$f":"RTD(\"sysq.rtd\",\"\",\"!DTSH`LC.99-1835:2\")","v":{"$error":"#N/A"}},{"$f":"RTD(\"sysq.rtd\",\"\",\"!DTDH`LC.99-1835:2\")","v":{"$error":"#N/A"}},{"$f":"RTD(\"sysq.rtd\",\"\",\"!XTSH`LC.99-1835:2\")","v":{"$error":"#N/A"}},{"$f":"RTD(\"sysq.rtd\",\"\",\"!XTDH`LC.99-1835:2\")","v":{"$error":"#N/A"}},{"$f":"RTD(\"sysq.rtd\",\"\",\"!DTAI`LC.99-1835:2\")","v":{"$error":"#N/A"}},{"$f":"RTD(\"sysq.rtd\",\"\",\"WTX&`004.10-1835:2\")","v":{"$error":"#N/A"}},{"$error":"#N/A"}]
["1836",{"$f":"RTD(\"sysq.rtd\",\"\",\"!DTSH`LC.99-1836:2\")","v":{"$error":"#N/A"}},{"$f":"RTD(\"sysq.rtd\",\"\",\"!DTDH`LC.99-1836:2\")","v":{"$error":"#N/A"}},{"$f":"RTD(\"sysq.rtd\",\"\",\"!XTSH`LC.99-1836:2\")","v":{"$error":"#N/A"}},{"$f":"RTD(\"sysq.rtd\",\"\",\"!XTDH`LC.99-1836:2\")","v":{"$error":"#N/A"}},{"$f":"RTD(\"sysq.rtd\",\"\",\"!DTAI`LC.99-1836:2\")","v":{"$error":"#N/A"}},{"$f":"RTD(\"sysq.rtd\",\"\",\"WTX&`004.10-1836:2\")","v":{"$error":"#N/A"}},{"$error":"#N/A"}]
["1837",{"$f":"RTD(\"sysq.rtd\",\"\",\"!DTSH`LC.99-1837:2\")","v":{"$error":"#N/A"}},{"$f":"RTD(\"sysq.rtd\",\"\",\"!DTDH`LC.99-1837:2\")","v":{"$error":"#N/A"}},{"$f":"RTD(\"sysq.rtd\",\"\",\"!XTSH`LC.99-1837:2\")","v":{"$error":"#N/A"}},{"$f":"RTD(\"sysq.rtd\",\"\",\"!XTDH`LC.99-1837:2\")","v":{"$error":"#N/A"}},{"$f":"RTD(\"sysq.rtd\",\"\",\"!DTAI`LC.99-1837:2\")","v":{"$error":"#N/A"}},{"$f":"RTD(\"sysq.rtd\",\"\",\"WTX&`004.10-1837:2\")","v":{"$error":"#N/A"}},{"$error":"#N/A"}]
["1838",{"$f":"RTD(\"sysq.rtd\",\"\",\"!DTSH`LC.99-1838:2\")","v":{"$error":"#N/A"}},{"$f":"RTD(\"sysq.rtd\",\"\",\"!DTDH`LC.99-1838:2\")","v":{"$error":"#N/A"}},{"$f":"RTD(\"sysq.rtd\",\"\",\"!XTSH`LC.99-1838:2\")","v":{"$error":"#N/A"}},{"$f":"RTD(\"sysq.rtd\",\"\",\"!XTDH`LC.99-1838:2\")","v":{"$error":"#N/A"}},{"$f":"RTD(\"sysq.rtd\",\"\",\"!DTAI`LC.99-1838:2\")","v":{"$error":"#N/A"}},{"$f":"RTD(\"sysq.rtd\",\"\",\"WTX&`004.10-1838:2\")","v":{"$error":"#N/A"}},{"$error":"#N/A"}]
["1839",{"$f":"RTD(\"sysq.rtd\",\"\",\"!DTSH`LC.99-1839:2\")","v":{"$error":"#N/A"}},{"$f":"RTD(\"sysq.rtd\",\"\",\"!DTDH`LC.99-1839:2\")","v":{"$error":"#N/A"}},{"$f":"RTD(\"sysq.rtd\",\"\",\"!XTSH`LC.99-1839:2\")","v":{"$error":"#N/A"}},{"$f":"RTD(\"sysq.rtd\",\"\",\"!XTDH`LC.99-1839:2\")","v":{"$error":"#N/A"}},{"$f":"RTD(\"sysq.rtd\",\"\",\"!DTAI`LC.99-1839:2\")","v":{"$error":"#N/A"}},{"$f":"RTD(\"sysq.rtd\",\"\",\"WTX&`004.10-1839:2\")","v":{"$error":"#N/A"}},{"$error":"#N/A"}]
["1840",{"$f":"RTD(\"sysq.rtd\",\"\",\"!DTSH`LC.99-1840:2\")","v":{"$error":"#N/A"}},{"$f":"RTD(\"sysq.rtd\",\"\",\"!DTDH`LC.99-1840:2\")","v":{"$error":"#N/A"}},{"$f":"RTD(\"sysq.rtd\",\"\",\"!XTSH`LC.99-1840:2\")","v":{"$error":"#N/A"}},{"$f":"RTD(\"sysq.rtd\",\"\",\"!XTDH`LC.99-1840:2\")","v":{"$error":"#N/A"}},{"$f":"RTD(\"sysq.rtd\",\"\",\"!DTAI`LC.99-1840:2\")","v":{"$error":"#N/A"}},{"$f":"RTD(\"sysq.rtd\",\"\",\"WTX&`004.10-1840:2\")","v":{"$error":"#N/A"}},{"$error":"#N/A"}]
["1841",{"$f":"RTD(\"sysq.rtd\",\"\",\"!DTSH`LC.99-1841:2\")","v":{"$error":"#N/A"}},{"$f":"RTD(\"sysq.rtd\",\"\",\"!DTDH`LC.99-1841:2\")","v":{"$error":"#N/A"}},{"$f":"RTD(\"sysq.rtd\",\"\",\"!XTSH`LC.99-1841:2\")","v":{"$error":"#N/A"}},{"$f":"RTD(\"sysq.rtd\",\"\",\"!XTDH`LC.99-1841:2\")","v":{"$error":"#N/A"}},{"$f":"RTD(\"sysq.rtd\",\"\",\"!DTAI`LC.99-1841:2\")","v":{"$error":"#N/A"}},{"$f":"RTD(\"sysq.rtd\",\"\",\"WTX&`004.10-1841:2\")","v":{"$error":"#N/A"}},{"$error":"#N/A"}]
["1842",{"$f":"RTD(\"sysq.rtd\",\"\",\"!DTSH`LC.99-1842:2\")","v":{"$error":"#N/A"}},{"$f":"RTD(\"sysq.rtd\",\"\",\"!DTDH`LC.99-1842:2\")","v":{"$error":"#N/A"}},{"$f":"RTD(\"sysq.rtd\",\"\",\"!XTSH`LC.99-1842:2\")","v":{"$error":"#N/A"}},{"$f":"RTD(\"sysq.rtd\",\"\",\"!XTDH`LC.99-1842:2\")","v":{"$error":"#N/A"}},{"$f":"RTD(\"sysq.rtd\",\"\",\"!DTAI`LC.99-1842:2\")","v":{"$error":"#N/A"}},{"$f":"RTD(\"sysq.rtd\",\"\",\"WTX&`004.10-1842:2\")","v":{"$error":"#N/A"}},{"$error":"#N/A"}]
["1843",{"$f":"RTD(\"sysq.rtd\",\"\",\"!DTSH`LC.99-1843:2\")","v":{"$error":"#N/A"}},{"$f":"RTD(\"sysq.rtd\",\"\",\"!DTDH`LC.99-1843:2\")","v":{"$error":"#N/A"}},{"$f":"RTD(\"sysq.rtd\",\"\",\"!XTSH`LC.99-1843:2\")","v":{"$error":"#N/A"}},{"$f":"RTD(\"sysq.rtd\",\"\",\"!XTDH`LC.99-1843:2\")","v":{"$error":"#N/A"}},{"$f":"RTD(\"sysq.rtd\",\"\",\"!DTAI`LC.99-1843:2\")","v":{"$error":"#N/A"}},{"$f":"RTD(\"sysq.rtd\",\"\",\"WTX&`004.10-1843:2\")","v":{"$error":"#N/A"}},{"$error":"#N/A"}]
["1844",{"$f":"RTD(\"sysq.rtd\",\"\",\"!DTSH`LC.99-1844:2\")","v":{"$error":"#N/A"}},{"$f":"RTD(\"sysq.rtd\",\"\",\"!DTDH`LC.99-1844:2\")","v":{"$error":"#N/A"}},{"$f":"RTD(\"sysq.rtd\",\"\",\"!XTSH`LC.99-1844:2\")","v":{"$error":"#N/A"}},{"$f":"RTD(\"sysq.rtd\",\"\",\"!XTDH`LC.99-1844:2\")","v":{"$error":"#N/A"}},{"$f":"RTD(\"sysq.rtd\",\"\",\"!DTAI`LC.99-1844:2\")","v":{"$error":"#N/A"}},{"$f":"RTD(\"sysq.rtd\",\"\",\"WTX&`004.10-1844:2\")","v":{"$error":"#N/A"}},{"$error":"#N/A"}]
["1845",{"$f":"RTD(\"sysq.rtd\",\"\",\"!DTSH`LC.99-1845:2\")","v":{"$error":"#N/A"}},{"$f":"RTD(\"sysq.rtd\",\"\",\"!DTDH`LC.99-1845:2\")","v":{"$error":"#N/A"}},{"$f":"RTD(\"sysq.rtd\",\"\",\"!XTSH`LC.99-1845:2\")","v":{"$error":"#N/A"}},{"$f":"RTD(\"sysq.rtd\",\"\",\"!XTDH`LC.99-1845:2\")","v":{"$error":"#N/A"}},{"$f":"RTD(\"sysq.rtd\",\"\",\"!DTAI`LC.99-1845:2\")","v":{"$error":"#N/A"}},{"$f":"RTD(\"sysq.rtd\",\"\",\"WTX&`004.10-1845:2\")","v":{"$error":"#N/A"}},{"$error":"#N/A"}]
["1846",{"$f":"RTD(\"sysq.rtd\",\"\",\"!DTSH`LC.99-1846:2\")","v":{"$error":"#N/A"}},{"$f":"RTD(\"sysq.rtd\",\"\",\"!DTDH`LC.99-1846:2\")","v":{"$error":"#N/A"}},{"$f":"RTD(\"sysq.rtd\",\"\",\"!XTSH`LC.99-1846:2\")","v":{"$error":"#N/A"}},{"$f":"RTD(\"sysq.rtd\",\"\",\"!XTDH`LC.99-1846:2\")","v":{"$error":"#N/A"}},{"$f":"RTD(\"sysq.rtd\",\"\",\"!DTAI`LC.99-1846:2\")","v":{"$error":"#N/A"}},{"$f":"RTD(\"sysq.rtd\",\"\",\"WTX&`004.10-1846:2\")","v":{"$error":"#N/A"}},{"$error":"#N/A"}]
["1847",{"$f":"RTD(\"sysq.rtd\",\"\",\"!DTSH`LC.99-1847:2\")","v":{"$error":"#N/A"}},{"$f":"RTD(\"sysq.rtd\",\"\",\"!DTDH`LC.99-1847:2\")","v":{"$error":"#N/A"}},{"$f":"RTD(\"sysq.rtd\",\"\",\"!XTSH`LC.99-1847:2\")","v":{"$error":"#N/A"}},{"$f":"RTD(\"sysq.rtd\",\"\",\"!XTDH`LC.99-1847:2\")","v":{"$error":"#N/A"}},{"$f":"RTD(\"sysq.rtd\",\"\",\"!DTAI`LC.99-1847:2\")","v":{"$error":"#N/A"}},{"$f":"RTD(\"sysq.rtd\",\"\",\"WTX&`004.10-1847:2\")","v":{"$error":"#N/A"}},{"$error":"#N/A"}]
["1848",{"$f":"RTD(\"sysq.rtd\",\"\",\"!DTSH`LC.99-1848:2\")","v":{"$error":"#N/A"}},{"$f":"RTD(\"sysq.rtd\",\"\",\"!DTDH`LC.99-1848:2\")","v":{"$error":"#N/A"}},{"$f":"RTD(\"sysq.rtd\",\"\",\"!XTSH`LC.99-1848:2\")","v":{"$error":"#N/A"}},{"$f":"RTD(\"sysq.rtd\",\"\",\"!XTDH`LC.99-1848:2\")","v":{"$error":"#N/A"}},{"$f":"RTD(\"sysq.rtd\",\"\",\"!DTAI`LC.99-1848:2\")","v":{"$error":"#N/A"}},{"$f":"RTD(\"sysq.rtd\",\"\",\"WTX&`004.10-1848:2\")","v":{"$error":"#N/A"}},{"$error":"#N/A"}]
["1849",{"$f":"RTD(\"sysq.rtd\",\"\",\"!DTSH`LC.99-1849:2\")","v":{"$error":"#N/A"}},{"$f":"RTD(\"sysq.rtd\",\"\",\"!DTDH`LC.99-1849:2\")","v":{"$error":"#N/A"}},{"$f":"RTD(\"sysq.rtd\",\"\",\"!XTSH`LC.99-1849:2\")","v":{"$error":"#N/A"}},{"$f":"RTD(\"sysq.rtd\",\"\",\"!XTDH`LC.99-1849:2\")","v":{"$error":"#N/A"}},{"$f":"RTD(\"sysq.rtd\",\"\",\"!DTAI`LC.99-1849:2\")","v":{"$error":"#N/A"}},{"$f":"RTD(\"sysq.rtd\",\"\",\"WTX&`004.10-1849:2\")","v":{"$error":"#N/A"}},{"$error":"#N/A"}]
["1850",{"$f":"RTD(\"sysq.rtd\",\"\",\"!DTSH`LC.99-1850:2\")","v":{"$error":"#N/A"}},{"$f":"RTD(\"sysq.rtd\",\"\",\"!DTDH`LC.99-1850:2\")","v":{"$error":"#N/A"}},{"$f":"RTD(\"sysq.rtd\",\"\",\"!XTSH`LC.99-1850:2\")","v":{"$error":"#N/A"}},{"$f":"RTD(\"sysq.rtd\",\"\",\"!XTDH`LC.99-1850:2\")","v":{"$error":"#N/A"}},{"$f":"RTD(\"sysq.rtd\",\"\",\"!DTAI`LC.99-1850:2\")","v":{"$error":"#N/A"}},{"$f":"RTD(\"sysq.rtd\",\"\",\"WTX&`004.10-1850:2\")","v":{"$error":"#N/A"}},{"$error":"#N/A"}]
["1851",{"$f":"RTD(\"sysq.rtd\",\"\",\"!DTSH`LC.99-1851:2\")","v":{"$error":"#N/A"}},{"$f":"RTD(\"sysq.rtd\",\"\",\"!DTDH`LC.99-1851:2\")","v":{"$error":"#N/A"}},{"$f":"RTD(\"sysq.rtd\",\"\",\"!XTSH`LC.99-1851:2\")","v":{"$error":"#N/A"}},{"$f":"RTD(\"sysq.rtd\",\"\",\"!XTDH`LC.99-1851:2\")","v":{"$error":"#N/A"}},{"$f":"RTD(\"sysq.rtd\",\"\",\"!DTAI`LC.99-1851:2\")","v":{"$error":"#N/A"}},{"$f":"RTD(\"sysq.rtd\",\"\",\"WTX&`004.10-1851:2\")","v":{"$error":"#N/A"}},{"$error":"#N/A"}]
["1852",{"$f":"RTD(\"sysq.rtd\",\"\",\"!DTSH`LC.99-1852:2\")","v":{"$error":"#N/A"}},{"$f":"RTD(\"sysq.rtd\",\"\",\"!DTDH`LC.99-1852:2\")","v":{"$error":"#N/A"}},{"$f":"RTD(\"sysq.rtd\",\"\",\"!XTSH`LC.99-1852:2\")","v":{"$error":"#N/A"}},{"$f":"RTD(\"sysq.rtd\",\"\",\"!XTDH`LC.99-1852:2\")","v":{"$error":"#N/A"}},{"$f":"RTD(\"sysq.rtd\",\"\",\"!DTAI`LC.99-1852:2\")","v":{"$error":"#N/A"}},{"$f":"RTD(\"sysq.rtd\",\"\",\"WTX&`004.10-1852:2\")","v":{"$error":"#N/A"}},{"$error":"#N/A"}]
["1853",{"$f":"RTD(\"sysq.rtd\",\"\",\"!DTSH`LC.99-1853:2\")","v":{"$error":"#N/A"}},{"$f":"RTD(\"sysq.rtd\",\"\",\"!DTDH`LC.99-1853:2\")","v":{"$error":"#N/A"}},{"$f":"RTD(\"sysq.rtd\",\"\",\"!XTSH`LC.99-1853:2\")","v":{"$error":"#N/A"}},{"$f":"RTD(\"sysq.rtd\",\"\",\"!XTDH`LC.99-1853:2\")","v":{"$error":"#N/A"}},{"$f":"RTD(\"sysq.rtd\",\"\",\"!DTAI`LC.99-1853:2\")","v":{"$error":"#N/A"}},{"$f":"RTD(\"sysq.rtd\",\"\",\"WTX&`004.10-1853:2\")","v":{"$error":"#N/A"}},{"$error":"#N/A"}]
["1854",{"$f":"RTD(\"sysq.rtd\",\"\",\"!DTSH`LC.99-1854:2\")","v":{"$error":"#N/A"}},{"$f":"RTD(\"sysq.rtd\",\"\",\"!DTDH`LC.99-1854:2\")","v":{"$error":"#N/A"}},{"$f":"RTD(\"sysq.rtd\",\"\",\"!XTSH`LC.99-1854:2\")","v":{"$error":"#N/A"}},{"$f":"RTD(\"sysq.rtd\",\"\",\"!XTDH`LC.99-1854:2\")","v":{"$error":"#N/A"}},{"$f":"RTD(\"sysq.rtd\",\"\",\"!DTAI`LC.99-1854:2\")","v":{"$error":"#N/A"}},{"$f":"RTD(\"sysq.rtd\",\"\",\"WTX&`004.10-1854:2\")","v":{"$error":"#N/A"}},{"$error":"#N/A"}]
["1855",{"$f":"RTD(\"sysq.rtd\",\"\",\"!DTSH`LC.99-1855:2\")","v":{"$error":"#N/A"}},{"$f":"RTD(\"sysq.rtd\",\"\",\"!DTDH`LC.99-1855:2\")","v":{"$error":"#N/A"}},{"$f":"RTD(\"sysq.rtd\",\"\",\"!XTSH`LC.99-1855:2\")","v":{"$error":"#N/A"}},{"$f":"RTD(\"sysq.rtd\",\"\",\"!XTDH`LC.99-1855:2\")","v":{"$error":"#N/A"}},{"$f":"RTD(\"sysq.rtd\",\"\",\"!DTAI`LC.99-1855:2\")","v":{"$error":"#N/A"}},{"$f":"RTD(\"sysq.rtd\",\"\",\"WTX&`004.10-1855:2\")","v":{"$error":"#N/A"}},{"$error":"#N/A"}]
["1856",{"$f":"RTD(\"sysq.rtd\",\"\",\"!DTSH`LC.99-1856:2\")","v":{"$error":"#N/A"}},{"$f":"RTD(\"sysq.rtd\",\"\",\"!DTDH`LC.99-1856:2\")","v":{"$error":"#N/A"}},{"$f":"RTD(\"sysq.rtd\",\"\",\"!XTSH`LC.99-1856:2\")","v":{"$error":"#N/A"}},{"$f":"RTD(\"sysq.rtd\",\"\",\"!XTDH`LC.99-1856:2\")","v":{"$error":"#N/A"}},{"$f":"RTD(\"sysq.rtd\",\"\",\"!DTAI`LC.99-1856:2\")","v":{"$error":"#N/A"}},{"$f":"RTD(\"sysq.rtd\",\"\",\"WTX&`004.10-1856:2\")","v":{"$error":"#N/A"}},{"$error":"#N/A"}]
["1857",{"$f":"RTD(\"sysq.rtd\",\"\",\"!DTSH`LC.99-1857:2\")","v":{"$error":"#N/A"}},{"$f":"RTD(\"sysq.rtd\",\"\",\"!DTDH`LC.99-1857:2\")","v":{"$error":"#N/A"}},{"$f":"RTD(\"sysq.rtd\",\"\",\"!XTSH`LC.99-1857:2\")","v":{"$error":"#N/A"}},{"$f":"RTD(\"sysq.rtd\",\"\",\"!XTDH`LC.99-1857:2\")","v":{"$error":"#N/A"}},{"$f":"RTD(\"sysq.rtd\",\"\",\"!DTAI`LC.99-1857:2\")","v":{"$error":"#N/A"}},{"$f":"RTD(\"sysq.rtd\",\"\",\"WTX&`004.10-1857:2\")","v":{"$error":"#N/A"}},{"$error":"#N/A"}]
["1858",{"$f":"RTD(\"sysq.rtd\",\"\",\"!DTSH`LC.99-1858:2\")","v":{"$error":"#N/A"}},{"$f":"RTD(\"sysq.rtd\",\"\",\"!DTDH`LC.99-1858:2\")","v":{"$error":"#N/A"}},{"$f":"RTD(\"sysq.rtd\",\"\",\"!XTSH`LC.99-1858:2\")","v":{"$error":"#N/A"}},{"$f":"RTD(\"sysq.rtd\",\"\",\"!XTDH`LC.99-1858:2\")","v":{"$error":"#N/A"}},{"$f":"RTD(\"sysq.rtd\",\"\",\"!DTAI`LC.99-1858:2\")","v":{"$error":"#N/A"}},{"$f":"RTD(\"sysq.rtd\",\"\",\"WTX&`004.10-1858:2\")","v":{"$error":"#N/A"}},{"$error":"#N/A"}]
["1859",{"$f":"RTD(\"sysq.rtd\",\"\",\"!DTSH`LC.99-1859:2\")","v":{"$error":"#N/A"}},{"$f":"RTD(\"sysq.rtd\",\"\",\"!DTDH`LC.99-1859:2\")","v":{"$error":"#N/A"}},{"$f":"RTD(\"sysq.rtd\",\"\",\"!XTSH`LC.99-1859:2\")","v":{"$error":"#N/A"}},{"$f":"RTD(\"sysq.rtd\",\"\",\"!XTDH`LC.99-1859:2\")","v":{"$error":"#N/A"}},{"$f":"RTD(\"sysq.rtd\",\"\",\"!DTAI`LC.99-1859:2\")","v":{"$error":"#N/A"}},{"$f":"RTD(\"sysq.rtd\",\"\",\"WTX&`004.10-1859:2\")","v":{"$error":"#N/A"}},{"$error":"#N/A"}]
["1900",{"$f":"RTD(\"sysq.rtd\",\"\",\"!DTSH`LC.99-1900:2\")","v":{"$error":"#N/A"}},{"$f":"RTD(\"sysq.rtd\",\"\",\"!DTDH`LC.99-1900:2\")","v":{"$error":"#N/A"}},{"$f":"RTD(\"sysq.rtd\",\"\",\"!XTSH`LC.99-1900:2\")","v":{"$error":"#N/A"}},{"$f":"RTD(\"sysq.rtd\",\"\",\"!XTDH`LC.99-1900:2\")","v":{"$error":"#N/A"}},{"$f":"RTD(\"sysq.rtd\",\"\",\"!DTAI`LC.99-1900:2\")","v":{"$error":"#N/A"}},{"$f":"RTD(\"sysq.rtd\",\"\",\"WTX&`004.10-1900:2\")","v":{"$error":"#N/A"}},{"$error":"#N/A"}]
["1901",{"$f":"RTD(\"sysq.rtd\",\"\",\"!DTSH`LC.99-1901:2\")","v":{"$error":"#N/A"}},{"$f":"RTD(\"sysq.rtd\",\"\",\"!DTDH`LC.99-1901:2\")","v":{"$error":"#N/A"}},{"$f":"RTD(\"sysq.rtd\",\"\",\"!XTSH`LC.99-1901:2\")","v":{"$error":"#N/A"}},{"$f":"RTD(\"sysq.rtd\",\"\",\"!XTDH`LC.99-1901:2\")","v":{"$error":"#N/A"}},{"$f":"RTD(\"sysq.rtd\",\"\",\"!DTAI`LC.99-1901:2\")","v":{"$error":"#N/A"}},{"$f":"RTD(\"sysq.rtd\",\"\",\"WTX&`004.10-1901:2\")","v":{"$error":"#N/A"}},{"$error":"#N/A"}]
["1902",{"$f":"RTD(\"sysq.rtd\",\"\",\"!DTSH`LC.99-1902:2\")","v":{"$error":"#N/A"}},{"$f":"RTD(\"sysq.rtd\",\"\",\"!DTDH`LC.99-1902:2\")","v":{"$error":"#N/A"}},{"$f":"RTD(\"sysq.rtd\",\"\",\"!XTSH`LC.99-1902:2\")","v":{"$error":"#N/A"}},{"$f":"RTD(\"sysq.rtd\",\"\",\"!XTDH`LC.99-1902:2\")","v":{"$error":"#N/A"}},{"$f":"RTD(\"sysq.rtd\",\"\",\"!DTAI`LC.99-1902:2\")","v":{"$error":"#N/A"}},{"$f":"RTD(\"sysq.rtd\",\"\",\"WTX&`004.10-1902:2\")","v":{"$error":"#N/A"}},{"$error":"#N/A"}]
["1903",{"$f":"RTD(\"sysq.rtd\",\"\",\"!DTSH`LC.99-1903:2\")","v":{"$error":"#N/A"}},{"$f":"RTD(\"sysq.rtd\",\"\",\"!DTDH`LC.99-1903:2\")","v":{"$error":"#N/A"}},{"$f":"RTD(\"sysq.rtd\",\"\",\"!XTSH`LC.99-1903:2\")","v":{"$error":"#N/A"}},{"$f":"RTD(\"sysq.rtd\",\"\",\"!XTDH`LC.99-1903:2\")","v":{"$error":"#N/A"}},{"$f":"RTD(\"sysq.rtd\",\"\",\"!DTAI`LC.99-1903:2\")","v":{"$error":"#N/A"}},{"$f":"RTD(\"sysq.rtd\",\"\",\"WTX&`004.10-1903:2\")","v":{"$error":"#N/A"}},{"$error":"#N/A"}]
["1904",{"$f":"RTD(\"sysq.rtd\",\"\",\"!DTSH`LC.99-1904:2\")","v":{"$error":"#N/A"}},{"$f":"RTD(\"sysq.rtd\",\"\",\"!DTDH`LC.99-1904:2\")","v":{"$error":"#N/A"}},{"$f":"RTD(\"sysq.rtd\",\"\",\"!XTSH`LC.99-1904:2\")","v":{"$error":"#N/A"}},{"$f":"RTD(\"sysq.rtd\",\"\",\"!XTDH`LC.99-1904:2\")","v":{"$error":"#N/A"}},{"$f":"RTD(\"sysq.rtd\",\"\",\"!DTAI`LC.99-1904:2\")","v":{"$error":"#N/A"}},{"$f":"RTD(\"sysq.rtd\",\"\",\"WTX&`004.10-1904:2\")","v":{"$error":"#N/A"}},{"$error":"#N/A"}]
["1905",{"$f":"RTD(\"sysq.rtd\",\"\",\"!DTSH`LC.99-1905:2\")","v":{"$error":"#N/A"}},{"$f":"RTD(\"sysq.rtd\",\"\",\"!DTDH`LC.99-1905:2\")","v":{"$error":"#N/A"}},{"$f":"RTD(\"sysq.rtd\",\"\",\"!XTSH`LC.99-1905:2\")","v":{"$error":"#N/A"}},{"$f":"RTD(\"sysq.rtd\",\"\",\"!XTDH`LC.99-1905:2\")","v":{"$error":"#N/A"}},{"$f":"RTD(\"sysq.rtd\",\"\",\"!DTAI`LC.99-1905:2\")","v":{"$error":"#N/A"}},{"$f":"RTD(\"sysq.rtd\",\"\",\"WTX&`004.10-1905:2\")","v":{"$error":"#N/A"}},{"$error":"#N/A"}]
["1906",{"$f":"RTD(\"sysq.rtd\",\"\",\"!DTSH`LC.99-1906:2\")","v":{"$error":"#N/A"}},{"$f":"RTD(\"sysq.rtd\",\"\",\"!DTDH`LC.99-1906:2\")","v":{"$error":"#N/A"}},{"$f":"RTD(\"sysq.rtd\",\"\",\"!XTSH`LC.99-1906:2\")","v":{"$error":"#N/A"}},{"$f":"RTD(\"sysq.rtd\",\"\",\"!XTDH`LC.99-1906:2\")","v":{"$error":"#N/A"}},{"$f":"RTD(\"sysq.rtd\",\"\",\"!DTAI`LC.99-1906:2\")","v":{"$error":"#N/A"}},{"$f":"RTD(\"sysq.rtd\",\"\",\"WTX&`004.10-1906:2\")","v":{"$error":"#N/A"}},{"$error":"#N/A"}]
["1907",{"$f":"RTD(\"sysq.rtd\",\"\",\"!DTSH`LC.99-1907:2\")","v":{"$error":"#N/A"}},{"$f":"RTD(\"sysq.rtd\",\"\",\"!DTDH`LC.99-1907:2\")","v":{"$error":"#N/A"}},{"$f":"RTD(\"sysq.rtd\",\"\",\"!XTSH`LC.99-1907:2\")","v":{"$error":"#N/A"}},{"$f":"RTD(\"sysq.rtd\",\"\",\"!XTDH`LC.99-1907:2\")","v":{"$error":"#N/A"}},{"$f":"RTD(\"sysq.rtd\",\"\",\"!DTAI`LC.99-1907:2\")","v":{"$error":"#N/A"}},{"$f":"RTD(\"sysq.rtd\",\"\",\"WTX&`004.10-1907:2\")","v":{"$error":"#N/A"}},{"$error":"#N/A"}]
["1908",{"$f":"RTD(\"sysq.rtd\",\"\",\"!DTSH`LC.99-1908:2\")","v":{"$error":"#N/A"}},{"$f":"RTD(\"sysq.rtd\",\"\",\"!DTDH`LC.99-1908:2\")","v":{"$error":"#N/A"}},{"$f":"RTD(\"sysq.rtd\",\"\",\"!XTSH`LC.99-1908:2\")","v":{"$error":"#N/A"}},{"$f":"RTD(\"sysq.rtd\",\"\",\"!XTDH`LC.99-1908:2\")","v":{"$error":"#N/A"}},{"$f":"RTD(\"sysq.rtd\",\"\",\"!DTAI`LC.99-1908:2\")","v":{"$error":"#N/A"}},{"$f":"RTD(\"sysq.rtd\",\"\",\"WTX&`004.10-1908:2\")","v":{"$error":"#N/A"}},{"$error":"#N/A"}]
["1909",{"$f":"RTD(\"sysq.rtd\",\"\",\"!DTSH`LC.99-1909:2\")","v":{"$error":"#N/A"}},{"$f":"RTD(\"sysq.rtd\",\"\",\"!DTDH`LC.99-1909:2\")","v":{"$error":"#N/A"}},{"$f":"RTD(\"sysq.rtd\",\"\",\"!XTSH`LC.99-1909:2\")","v":{"$error":"#N/A"}},{"$f":"RTD(\"sysq.rtd\",\"\",\"!XTDH`LC.99-1909:2\")","v":{"$error":"#N/A"}},{"$f":"RTD(\"sysq.rtd\",\"\",\"!DTAI`LC.99-1909:2\")","v":{"$error":"#N/A"}},{"$f":"RTD(\"sysq.rtd\",\"\",\"WTX&`004.10-1909:2\")","v":{"$error":"#N/A"}},{"$error":"#N/A"}]
["1910",{"$f":"RTD(\"sysq.rtd\",\"\",\"!DTSH`LC.99-1910:2\")","v":{"$error":"#N/A"}},{"$f":"RTD(\"sysq.rtd\",\"\",\"!DTDH`LC.99-1910:2\")","v":{"$error":"#N/A"}},{"$f":"RTD(\"sysq.rtd\",\"\",\"!XTSH`LC.99-1910:2\")","v":{"$error":"#N/A"}},{"$f":"RTD(\"sysq.rtd\",\"\",\"!XTDH`LC.99-1910:2\")","v":{"$error":"#N/A"}},{"$f":"RTD(\"sysq.rtd\",\"\",\"!DTAI`LC.99-1910:2\")","v":{"$error":"#N/A"}},{"$f":"RTD(\"sysq.rtd\",\"\",\"WTX&`004.10-1910:2\")","v":{"$error":"#N/A"}},{"$error":"#N/A"}]
["1911",{"$f":"RTD(\"sysq.rtd\",\"\",\"!DTSH`LC.99-1911:2\")","v":{"$error":"#N/A"}},{"$f":"RTD(\"sysq.rtd\",\"\",\"!DTDH`LC.99-1911:2\")","v":{"$error":"#N/A"}},{"$f":"RTD(\"sysq.rtd\",\"\",\"!XTSH`LC.99-1911:2\")","v":{"$error":"#N/A"}},{"$f":"RTD(\"sysq.rtd\",\"\",\"!XTDH`LC.99-1911:2\")","v":{"$error":"#N/A"}},{"$f":"RTD(\"sysq.rtd\",\"\",\"!DTAI`LC.99-1911:2\")","v":{"$error":"#N/A"}},{"$f":"RTD(\"sysq.rtd\",\"\",\"WTX&`004.10-1911:2\")","v":{"$error":"#N/A"}},{"$error":"#N/A"}]
["1912",{"$f":"RTD(\"sysq.rtd\",\"\",\"!DTSH`LC.99-1912:2\")","v":{"$error":"#N/A"}},{"$f":"RTD(\"sysq.rtd\",\"\",\"!DTDH`LC.99-1912:2\")","v":{"$error":"#N/A"}},{"$f":"RTD(\"sysq.rtd\",\"\",\"!XTSH`LC.99-1912:2\")","v":{"$error":"#N/A"}},{"$f":"RTD(\"sysq.rtd\",\"\",\"!XTDH`LC.99-1912:2\")","v":{"$error":"#N/A"}},{"$f":"RTD(\"sysq.rtd\",\"\",\"!DTAI`LC.99-1912:2\")","v":{"$error":"#N/A"}},{"$f":"RTD(\"sysq.rtd\",\"\",\"WTX&`004.10-1912:2\")","v":{"$error":"#N/A"}},{"$error":"#N/A"}]
["1913",{"$f":"RTD(\"sysq.rtd\",\"\",\"!DTSH`LC.99-1913:2\")","v":{"$error":"#N/A"}},{"$f":"RTD(\"sysq.rtd\",\"\",\"!DTDH`LC.99-1913:2\")","v":{"$error":"#N/A"}},{"$f":"RTD(\"sysq.rtd\",\"\",\"!XTSH`LC.99-1913:2\")","v":{"$error":"#N/A"}},{"$f":"RTD(\"sysq.rtd\",\"\",\"!XTDH`LC.99-1913:2\")","v":{"$error":"#N/A"}},{"$f":"RTD(\"sysq.rtd\",\"\",\"!DTAI`LC.99-1913:2\")","v":{"$error":"#N/A"}},{"$f":"RTD(\"sysq.rtd\",\"\",\"WTX&`004.10-1913:2\")","v":{"$error":"#N/A"}},{"$error":"#N/A"}]
["1914",{"$f":"RTD(\"sysq.rtd\",\"\",\"!DTSH`LC.99-1914:2\")","v":{"$error":"#N/A"}},{"$f":"RTD(\"sysq.rtd\",\"\",\"!DTDH`LC.99-1914:2\")","v":{"$error":"#N/A"}},{"$f":"RTD(\"sysq.rtd\",\"\",\"!XTSH`LC.99-1914:2\")","v":{"$error":"#N/A"}},{"$f":"RTD(\"sysq.rtd\",\"\",\"!XTDH`LC.99-1914:2\")","v":{"$error":"#N/A"}},{"$f":"RTD(\"sysq.rtd\",\"\",\"!DTAI`LC.99-1914:2\")","v":{"$error":"#N/A"}},{"$f":"RTD(\"sysq.rtd\",\"\",\"WTX&`004.10-1914:2\")","v":{"$error":"#N/A"}},{"$error":"#N/A"}]
["1915",{"$f":"RTD(\"sysq.rtd\",\"\",\"!DTSH`LC.99-1915:2\")","v":{"$error":"#N/A"}},{"$f":"RTD(\"sysq.rtd\",\"\",\"!DTDH`LC.99-1915:2\")","v":{"$error":"#N/A"}},{"$f":"RTD(\"sysq.rtd\",\"\",\"!XTSH`LC.99-1915:2\")","v":{"$error":"#N/A"}},{"$f":"RTD(\"sysq.rtd\",\"\",\"!XTDH`LC.99-1915:2\")","v":{"$error":"#N/A"}},{"$f":"RTD(\"sysq.rtd\",\"\",\"!DTAI`LC.99-1915:2\")","v":{"$error":"#N/A"}},{"$f":"RTD(\"sysq.rtd\",\"\",\"WTX&`004.10-1915:2\")","v":{"$error":"#N/A"}},{"$error":"#N/A"}]
["1916",{"$f":"RTD(\"sysq.rtd\",\"\",\"!DTSH`LC.99-1916:2\")","v":{"$error":"#N/A"}},{"$f":"RTD(\"sysq.rtd\",\"\",\"!DTDH`LC.99-1916:2\")","v":{"$error":"#N/A"}},{"$f":"RTD(\"sysq.rtd\",\"\",\"!XTSH`LC.99-1916:2\")","v":{"$error":"#N/A"}},{"$f":"RTD(\"sysq.rtd\",\"\",\"!XTDH`LC.99-1916:2\")","v":{"$error":"#N/A"}},{"$f":"RTD(\"sysq.rtd\",\"\",\"!DTAI`LC.99-1916:2\")","v":{"$error":"#N/A"}},{"$f":"RTD(\"sysq.rtd\",\"\",\"WTX&`004.10-1916:2\")","v":{"$error":"#N/A"}},{"$error":"#N/A"}]
["1917",{"$f":"RTD(\"sysq.rtd\",\"\",\"!DTSH`LC.99-1917:2\")","v":{"$error":"#N/A"}},{"$f":"RTD(\"sysq.rtd\",\"\",\"!DTDH`LC.99-1917:2\")","v":{"$error":"#N/A"}},{"$f":"RTD(\"sysq.rtd\",\"\",\"!XTSH`LC.99-1917:2\")","v":{"$error":"#N/A"}},{"$f":"RTD(\"sysq.rtd\",\"\",\"!XTDH`LC.99-1917:2\")","v":{"$error":"#N/A"}},{"$f":"RTD(\"sysq.rtd\",\"\",\"!DTAI`LC.99-1917:2\")","v":{"$error":"#N/A"}},{"$f":"RTD(\"sysq.rtd\",\"\",\"WTX&`004.10-1917:2\")","v":{"$error":"#N/A"}},{"$error":"#N/A"}]
["1918",{"$f":"RTD(\"sysq.rtd\",\"\",\"!DTSH`LC.99-1918:2\")","v":{"$error":"#N/A"}},{"$f":"RTD(\"sysq.rtd\",\"\",\"!DTDH`LC.99-1918:2\")","v":{"$error":"#N/A"}},{"$f":"RTD(\"sysq.rtd\",\"\",\"!XTSH`LC.99-1918:2\")","v":{"$error":"#N/A"}},{"$f":"RTD(\"sysq.rtd\",\"\",\"!XTDH`LC.99-1918:2\")","v":{"$error":"#N/A"}},{"$f":"RTD(\"sysq.rtd\",\"\",\"!DTAI`LC.99-1918:2\")","v":{"$error":"#N/A"}},{"$f":"RTD(\"sysq.rtd\",\"\",\"WTX&`004.10-1918:2\")","v":{"$error":"#N/A"}},{"$error":"#N/A"}]
["1919",{"$f":"RTD(\"sysq.rtd\",\"\",\"!DTSH`LC.99-1919:2\")","v":{"$error":"#N/A"}},{"$f":"RTD(\"sysq.rtd\",\"\",\"!DTDH`LC.99-1919:2\")","v":{"$error":"#N/A"}},{"$f":"RTD(\"sysq.rtd\",\"\",\"!XTSH`LC.99-1919:2\")","v":{"$error":"#N/A"}},{"$f":"RTD(\"sysq.rtd\",\"\",\"!XTDH`LC.99-1919:2\")","v":{"$error":"#N/A"}},{"$f":"RTD(\"sysq.rtd\",\"\",\"!DTAI`LC.99-1919:2\")","v":{"$error":"#N/A"}},{"$f":"RTD(\"sysq.rtd\",\"\",\"WTX&`004.10-1919:2\")","v":{"$error":"#N/A"}},{"$error":"#N/A"}]
["1920",{"$f":"RTD(\"sysq.rtd\",\"\",\"!DTSH`LC.99-1920:2\")","v":{"$error":"#N/A"}},{"$f":"RTD(\"sysq.rtd\",\"\",\"!DTDH`LC.99-1920:2\")","v":{"$error":"#N/A"}},{"$f":"RTD(\"sysq.rtd\",\"\",\"!XTSH`LC.99-1920:2\")","v":{"$error":"#N/A"}},{"$f":"RTD(\"sysq.rtd\",\"\",\"!XTDH`LC.99-1920:2\")","v":{"$error":"#N/A"}},{"$f":"RTD(\"sysq.rtd\",\"\",\"!DTAI`LC.99-1920:2\")","v":{"$error":"#N/A"}},{"$f":"RTD(\"sysq.rtd\",\"\",\"WTX&`004.10-1920:2\")","v":{"$error":"#N/A"}},{"$error":"#N/A"}]
["1921",{"$f":"RTD(\"sysq.rtd\",\"\",\"!DTSH`LC.99-1921:2\")","v":{"$error":"#N/A"}},{"$f":"RTD(\"sysq.rtd\",\"\",\"!DTDH`LC.99-1921:2\")","v":{"$error":"#N/A"}},{"$f":"RTD(\"sysq.rtd\",\"\",\"!XTSH`LC.99-1921:2\")","v":{"$error":"#N/A"}},{"$f":"RTD(\"sysq.rtd\",\"\",\"!XTDH`LC.99-1921:2\")","v":{"$error":"#N/A"}},{"$f":"RTD(\"sysq.rtd\",\"\",\"!DTAI`LC.99-1921:2\")","v":{"$error":"#N/A"}},{"$f":"RTD(\"sysq.rtd\",\"\",\"WTX&`004.10-1921:2\")","v":{"$error":"#N/A"}},{"$error":"#N/A"}]
["1922",{"$f":"RTD(\"sysq.rtd\",\"\",\"!DTSH`LC.99-1922:2\")","v":{"$error":"#N/A"}},{"$f":"RTD(\"sysq.rtd\",\"\",\"!DTDH`LC.99-1922:2\")","v":{"$error":"#N/A"}},{"$f":"RTD(\"sysq.rtd\",\"\",\"!XTSH`LC.99-1922:2\")","v":{"$error":"#N/A"}},{"$f":"RTD(\"sysq.rtd\",\"\",\"!XTDH`LC.99-1922:2\")","v":{"$error":"#N/A"}},{"$f":"RTD(\"sysq.rtd\",\"\",\"!DTAI`LC.99-1922:2\")","v":{"$error":"#N/A"}},{"$f":"RTD(\"sysq.rtd\",\"\",\"WTX&`004.10-1922:2\")","v":{"$error":"#N/A"}},{"$error":"#N/A"}]
["1923",{"$f":"RTD(\"sysq.rtd\",\"\",\"!DTSH`LC.99-1923:2\")","v":{"$error":"#N/A"}},{"$f":"RTD(\"sysq.rtd\",\"\",\"!DTDH`LC.99-1923:2\")","v":{"$error":"#N/A"}},{"$f":"RTD(\"sysq.rtd\",\"\",\"!XTSH`LC.99-1923:2\")","v":{"$error":"#N/A"}},{"$f":"RTD(\"sysq.rtd\",\"\",\"!XTDH`LC.99-1923:2\")","v":{"$error":"#N/A"}},{"$f":"RTD(\"sysq.rtd\",\"\",\"!DTAI`LC.99-1923:2\")","v":{"$error":"#N/A"}},{"$f":"RTD(\"sysq.rtd\",\"\",\"WTX&`004.10-1923:2\")","v":{"$error":"#N/A"}},{"$error":"#N/A"}]
["1924",{"$f":"RTD(\"sysq.rtd\",\"\",\"!DTSH`LC.99-1924:2\")","v":{"$error":"#N/A"}},{"$f":"RTD(\"sysq.rtd\",\"\",\"!DTDH`LC.99-1924:2\")","v":{"$error":"#N/A"}},{"$f":"RTD(\"sysq.rtd\",\"\",\"!XTSH`LC.99-1924:2\")","v":{"$error":"#N/A"}},{"$f":"RTD(\"sysq.rtd\",\"\",\"!XTDH`LC.99-1924:2\")","v":{"$error":"#N/A"}},{"$f":"RTD(\"sysq.rtd\",\"\",\"!DTAI`LC.99-1924:2\")","v":{"$error":"#N/A"}},{"$f":"RTD(\"sysq.rtd\",\"\",\"WTX&`004.10-1924:2\")","v":{"$error":"#N/A"}},{"$error":"#N/A"}]
["1925",{"$f":"RTD(\"sysq.rtd\",\"\",\"!DTSH`LC.99-1925:2\")","v":{"$error":"#N/A"}},{"$f":"RTD(\"sysq.rtd\",\"\",\"!DTDH`LC.99-1925:2\")","v":{"$error":"#N/A"}},{"$f":"RTD(\"sysq.rtd\",\"\",\"!XTSH`LC.99-1925:2\")","v":{"$error":"#N/A"}},{"$f":"RTD(\"sysq.rtd\",\"\",\"!XTDH`LC.99-1925:2\")","v":{"$error":"#N/A"}},{"$f":"RTD(\"sysq.rtd\",\"\",\"!DTAI`LC.99-1925:2\")","v":{"$error":"#N/A"}},{"$f":"RTD(\"sysq.rtd\",\"\",\"WTX&`004.10-1925:2\")","v":{"$error":"#N/A"}},{"$error":"#N/A"}]
["1926",{"$f":"RTD(\"sysq.rtd\",\"\",\"!DTSH`LC.99-1926:2\")","v":{"$error":"#N/A"}},{"$f":"RTD(\"sysq.rtd\",\"\",\"!DTDH`LC.99-1926:2\")","v":{"$error":"#N/A"}},{"$f":"RTD(\"sysq.rtd\",\"\",\"!XTSH`LC.99-1926:2\")","v":{"$error":"#N/A"}},{"$f":"RTD(\"sysq.rtd\",\"\",\"!XTDH`LC.99-1926:2\")","v":{"$error":"#N/A"}},{"$f":"RTD(\"sysq.rtd\",\"\",\"!DTAI`LC.99-1926:2\")","v":{"$error":"#N/A"}},{"$f":"RTD(\"sysq.rtd\",\"\",\"WTX&`004.10-1926:2\")","v":{"$error":"#N/A"}},{"$error":"#N/A"}]
["1927",{"$f":"RTD(\"sysq.rtd\",\"\",\"!DTSH`LC.99-1927:2\")","v":{"$error":"#N/A"}},{"$f":"RTD(\"sysq.rtd\",\"\",\"!DTDH`LC.99-1927:2\")","v":{"$error":"#N/A"}},{"$f":"RTD(\"sysq.rtd\",\"\",\"!XTSH`LC.99-1927:2\")","v":{"$error":"#N/A"}},{"$f":"RTD(\"sysq.rtd\",\"\",\"!XTDH`LC.99-1927:2\")","v":{"$error":"#N/A"}},{"$f":"RTD(\"sysq.rtd\",\"\",\"!DTAI`LC.99-1927:2\")","v":{"$error":"#N/A"}},{"$f":"RTD(\"sysq.rtd\",\"\",\"WTX&`004.10-1927:2\")","v":{"$error":"#N/A"}},{"$error":"#N/A"}]
["1928",{"$f":"RTD(\"sysq.rtd\",\"\",\"!DTSH`LC.99-1928:2\")","v":{"$error":"#N/A"}},{"$f":"RTD(\"sysq.rtd\",\"\",\"!DTDH`LC.99-1928:2\")","v":{"$error":"#N/A"}},{"$f":"RTD(\"sysq.rtd\",\"\",\"!XTSH`LC.99-1928:2\")","v":{"$error":"#N/A"}},{"$f":"RTD(\"sysq.rtd\",\"\",\"!XTDH`LC.99-1928:2\")","v":{"$error":"#N/A"}},{"$f":"RTD(\"sysq.rtd\",\"\",\"!DTAI`LC.99-1928:2\")","v":{"$error":"#N/A"}},{"$f":"RTD(\"sysq.rtd\",\"\",\"WTX&`004.10-1928:2\")","v":{"$error":"#N/A"}},{"$error":"#N/A"}]
["1929",{"$f":"RTD(\"sysq.rtd\",\"\",\"!DTSH`LC.99-1929:2\")","v":{"$error":"#N/A"}},{"$f":"RTD(\"sysq.rtd\",\"\",\"!DTDH`LC.99-1929:2\")","v":{"$error":"#N/A"}},{"$f":"RTD(\"sysq.rtd\",\"\",\"!XTSH`LC.99-1929:2\")","v":{"$error":"#N/A"}},{"$f":"RTD(\"sysq.rtd\",\"\",\"!XTDH`LC.99-1929:2\")","v":{"$error":"#N/A"}},{"$f":"RTD(\"sysq.rtd\",\"\",\"!DTAI`LC.99-1929:2\")","v":{"$error":"#N/A"}},{"$f":"RTD(\"sysq.rtd\",\"\",\"WTX&`004.10-1929:2\")","v":{"$error":"#N/A"}},{"$error":"#N/A"}]
["1930",{"$f":"RTD(\"sysq.rtd\",\"\",\"!DTSH`LC.99-1930:2\")","v":{"$error":"#N/A"}},{"$f":"RTD(\"sysq.rtd\",\"\",\"!DTDH`LC.99-1930:2\")","v":{"$error":"#N/A"}},{"$f":"RTD(\"sysq.rtd\",\"\",\"!XTSH`LC.99-1930:2\")","v":{"$error":"#N/A"}},{"$f":"RTD(\"sysq.rtd\",\"\",\"!XTDH`LC.99-1930:2\")","v":{"$error":"#N/A"}},{"$f":"RTD(\"sysq.rtd\",\"\",\"!DTAI`LC.99-1930:2\")","v":{"$error":"#N/A"}},{"$f":"RTD(\"sysq.rtd\",\"\",\"WTX&`004.10-1930:2\")","v":{"$error":"#N/A"}},{"$error":"#N/A"}]
["1931",{"$f":"RTD(\"sysq.rtd\",\"\",\"!DTSH`LC.99-1931:2\")","v":{"$error":"#N/A"}},{"$f":"RTD(\"sysq.rtd\",\"\",\"!DTDH`LC.99-1931:2\")","v":{"$error":"#N/A"}},{"$f":"RTD(\"sysq.rtd\",\"\",\"!XTSH`LC.99-1931:2\")","v":{"$error":"#N/A"}},{"$f":"RTD(\"sysq.rtd\",\"\",\"!XTDH`LC.99-1931:2\")","v":{"$error":"#N/A"}},{"$f":"RTD(\"sysq.rtd\",\"\",\"!DTAI`LC.99-1931:2\")","v":{"$error":"#N/A"}},{"$f":"RTD(\"sysq.rtd\",\"\",\"WTX&`004.10-1931:2\")","v":{"$error":"#N/A"}},{"$error":"#N/A"}]
["1932",{"$f":"RTD(\"sysq.rtd\",\"\",\"!DTSH`LC.99-1932:2\")","v":{"$error":"#N/A"}},{"$f":"RTD(\"sysq.rtd\",\"\",\"!DTDH`LC.99-1932:2\")","v":{"$error":"#N/A"}},{"$f":"RTD(\"sysq.rtd\",\"\",\"!XTSH`LC.99-1932:2\")","v":{"$error":"#N/A"}},{"$f":"RTD(\"sysq.rtd\",\"\",\"!XTDH`LC.99-1932:2\")","v":{"$error":"#N/A"}},{"$f":"RTD(\"sysq.rtd\",\"\",\"!DTAI`LC.99-1932:2\")","v":{"$error":"#N/A"}},{"$f":"RTD(\"sysq.rtd\",\"\",\"WTX&`004.10-1932:2\")","v":{"$error":"#N/A"}},{"$error":"#N/A"}]
["1933",{"$f":"RTD(\"sysq.rtd\",\"\",\"!DTSH`LC.99-1933:2\")","v":{"$error":"#N/A"}},{"$f":"RTD(\"sysq.rtd\",\"\",\"!DTDH`LC.99-1933:2\")","v":{"$error":"#N/A"}},{"$f":"RTD(\"sysq.rtd\",\"\",\"!XTSH`LC.99-1933:2\")","v":{"$error":"#N/A"}},{"$f":"RTD(\"sysq.rtd\",\"\",\"!XTDH`LC.99-1933:2\")","v":{"$error":"#N/A"}},{"$f":"RTD(\"sysq.rtd\",\"\",\"!DTAI`LC.99-1933:2\")","v":{"$error":"#N/A"}},{"$f":"RTD(\"sysq.rtd\",\"\",\"WTX&`004.10-1933:2\")","v":{"$error":"#N/A"}},{"$error":"#N/A"}]
["1934",{"$f":"RTD(\"sysq.rtd\",\"\",\"!DTSH`LC.99-1934:2\")","v":{"$error":"#N/A"}},{"$f":"RTD(\"sysq.rtd\",\"\",\"!DTDH`LC.99-1934:2\")","v":{"$error":"#N/A"}},{"$f":"RTD(\"sysq.rtd\",\"\",\"!XTSH`LC.99-1934:2\")","v":{"$error":"#N/A"}},{"$f":"RTD(\"sysq.rtd\",\"\",\"!XTDH`LC.99-1934:2\")","v":{"$error":"#N/A"}},{"$f":"RTD(\"sysq.rtd\",\"\",\"!DTAI`LC.99-1934:2\")","v":{"$error":"#N/A"}},{"$f":"RTD(\"sysq.rtd\",\"\",\"WTX&`004.10-1934:2\")","v":{"$error":"#N/A"}},{"$error":"#N/A"}]
["1935",{"$f":"RTD(\"sysq.rtd\",\"\",\"!DTSH`LC.99-1935:2\")","v":{"$error":"#N/A"}},{"$f":"RTD(\"sysq.rtd\",\"\",\"!DTDH`LC.99-1935:2\")","v":{"$error":"#N/A"}},{"$f":"RTD(\"sysq.rtd\",\"\",\"!XTSH`LC.99-1935:2\")","v":{"$error":"#N/A"}},{"$f":"RTD(\"sysq.rtd\",\"\",\"!XTDH`LC.99-1935:2\")","v":{"$error":"#N/A"}},{"$f":"RTD(\"sysq.rtd\",\"\",\"!DTAI`LC.99-1935:2\")","v":{"$error":"#N/A"}},{"$f":"RTD(\"sysq.rtd\",\"\",\"WTX&`004.10-1935:2\")","v":{"$error":"#N/A"}},{"$error":"#N/A"}]
["1936",{"$f":"RTD(\"sysq.rtd\",\"\",\"!DTSH`LC.99-1936:2\")","v":{"$error":"#N/A"}},{"$f":"RTD(\"sysq.rtd\",\"\",\"!DTDH`LC.99-1936:2\")","v":{"$error":"#N/A"}},{"$f":"RTD(\"sysq.rtd\",\"\",\"!XTSH`LC.99-1936:2\")","v":{"$error":"#N/A"}},{"$f":"RTD(\"sysq.rtd\",\"\",\"!XTDH`LC.99-1936:2\")","v":{"$error":"#N/A"}},{"$f":"RTD(\"sysq.rtd\",\"\",\"!DTAI`LC.99-1936:2\")","v":{"$error":"#N/A"}},{"$f":"RTD(\"sysq.rtd\",\"\",\"WTX&`004.10-1936:2\")","v":{"$error":"#N/A"}},{"$f":"SQRT(ABS(F582))*(ABS(F582)/F582)","v":{"$error":"#N/A"}}]
["1937",{"$f":"RTD(\"sysq.rtd\",\"\",\"!DTSH`LC.99-1937:2\")","v":{"$error":"#N/A"}},{"$f":"RTD(\"sysq.rtd\",\"\",\"!DTDH`LC.99-1937:2\")","v":{"$error":"#N/A"}},{"$f":"RTD(\"sysq.rtd\",\"\",\"!XTSH`LC.99-1937:2\")","v":{"$error":"#N/A"}},{"$f":"RTD(\"sysq.rtd\",\"\",\"!XTDH`LC.99-1937:2\")","v":{"$error":"#N/A"}},{"$f":"RTD(\"sysq.rtd\",\"\",\"!DTAI`LC.99-1937:2\")","v":{"$error":"#N/A"}},{"$f":"RTD(\"sysq.rtd\",\"\",\"WTX&`004.10-1937:2\")","v":{"$error":"#N/A"}},{"$error":"#N/A"}]
["1938",{"$f":"RTD(\"sysq.rtd\",\"\",\"!DTSH`LC.99-1938:2\")","v":{"$error":"#N/A"}},{"$f":"RTD(\"sysq.rtd\",\"\",\"!DTDH`LC.99-1938:2\")","v":{"$error":"#N/A"}},{"$f":"RTD(\"sysq.rtd\",\"\",\"!XTSH`LC.99-1938:2\")","v":{"$error":"#N/A"}},{"$f":"RTD(\"sysq.rtd\",\"\",\"!XTDH`LC.99-1938:2\")","v":{"$error":"#N/A"}},{"$f":"RTD(\"sysq.rtd\",\"\",\"!DTAI`LC.99-1938:2\")","v":{"$error":"#N/A"}},{"$f":"RTD(\"sysq.rtd\",\"\",\"WTX&`004.10-1938:2\")","v":{"$error":"#N/A"}},{"$error":"#N/A"}]
["1939",{"$f":"RTD(\"sysq.rtd\",\"\",\"!DTSH`LC.99-1939:2\")","v":{"$error":"#N/A"}},{"$f":"RTD(\"sysq.rtd\",\"\",\"!DTDH`LC.99-1939:2\")","v":{"$error":"#N/A"}},{"$f":"RTD(\"sysq.rtd\",\"\",\"!XTSH`LC.99-1939:2\")","v":{"$error":"#N/A"}},{"$f":"RTD(\"sysq.rtd\",\"\",\"!XTDH`LC.99-1939:2\")","v":{"$error":"#N/A"}},{"$f":"RTD(\"sysq.rtd\",\"\",\"!DTAI`LC.99-1939:2\")","v":{"$error":"#N/A"}},{"$f":"RTD(\"sysq.rtd\",\"\",\"WTX&`004.10-1939:2\")","v":{"$error":"#N/A"}},{"$error":"#N/A"}]
["1940",{"$f":"RTD(\"sysq.rtd\",\"\",\"!DTSH`LC.99-1940:2\")","v":{"$error":"#N/A"}},{"$f":"RTD(\"sysq.rtd\",\"\",\"!DTDH`LC.99-1940:2\")","v":{"$error":"#N/A"}},{"$f":"RTD(\"sysq.rtd\",\"\",\"!XTSH`LC.99-1940:2\")","v":{"$error":"#N/A"}},{"$f":"RTD(\"sysq.rtd\",\"\",\"!XTDH`LC.99-1940:2\")","v":{"$error":"#N/A"}},{"$f":"RTD(\"sysq.rtd\",\"\",\"!DTAI`LC.99-1940:2\")","v":{"$error":"#N/A"}},{"$f":"RTD(\"sysq.rtd\",\"\",\"WTX&`004.10-1940:2\")","v":{"$error":"#N/A"}},{"$error":"#N/A"}]
["1941",{"$f":"RTD(\"sysq.rtd\",\"\",\"!DTSH`LC.99-1941:2\")","v":{"$error":"#N/A"}},{"$f":"RTD(\"sysq.rtd\",\"\",\"!DTDH`LC.99-1941:2\")","v":{"$error":"#N/A"}},{"$f":"RTD(\"sysq.rtd\",\"\",\"!XTSH`LC.99-1941:2\")","v":{"$error":"#N/A"}},{"$f":"RTD(\"sysq.rtd\",\"\",\"!XTDH`LC.99-1941:2\")","v":{"$error":"#N/A"}},{"$f":"RTD(\"sysq.rtd\",\"\",\"!DTAI`LC.99-1941:2\")","v":{"$error":"#N/A"}},{"$f":"RTD(\"sysq.rtd\",\"\",\"WTX&`004.10-1941:2\")","v":{"$error":"#N/A"}},{"$error":"#N/A"}]
["1942",{"$f":"RTD(\"sysq.rtd\",\"\",\"!DTSH`LC.99-1942:2\")","v":{"$error":"#N/A"}},{"$f":"RTD(\"sysq.rtd\",\"\",\"!DTDH`LC.99-1942:2\")","v":{"$error":"#N/A"}},{"$f":"RTD(\"sysq.rtd\",\"\",\"!XTSH`LC.99-1942:2\")","v":{"$error":"#N/A"}},{"$f":"RTD(\"sysq.rtd\",\"\",\"!XTDH`LC.99-1942:2\")","v":{"$error":"#N/A"}},{"$f":"RTD(\"sysq.rtd\",\"\",\"!DTAI`LC.99-1942:2\")","v":{"$error":"#N/A"}},{"$f":"RTD(\"sysq.rtd\",\"\",\"WTX&`004.10-1942:2\")","v":{"$error":"#N/A"}},{"$error":"#N/A"}]
["1943",{"$f":"RTD(\"sysq.rtd\",\"\",\"!DTSH`LC.99-1943:2\")","v":{"$error":"#N/A"}},{"$f":"RTD(\"sysq.rtd\",\"\",\"!DTDH`LC.99-1943:2\")","v":{"$error":"#N/A"}},{"$f":"RTD(\"sysq.rtd\",\"\",\"!XTSH`LC.99-1943:2\")","v":{"$error":"#N/A"}},{"$f":"RTD(\"sysq.rtd\",\"\",\"!XTDH`LC.99-1943:2\")","v":{"$error":"#N/A"}},{"$f":"RTD(\"sysq.rtd\",\"\",\"!DTAI`LC.99-1943:2\")","v":{"$error":"#N/A"}},{"$f":"RTD(\"sysq.rtd\",\"\",\"WTX&`004.10-1943:2\")","v":{"$error":"#N/A"}},{"$error":"#N/A"}]
["1944",{"$f":"RTD(\"sysq.rtd\",\"\",\"!DTSH`LC.99-1944:2\")","v":{"$error":"#N/A"}},{"$f":"RTD(\"sysq.rtd\",\"\",\"!DTDH`LC.99-1944:2\")","v":{"$error":"#N/A"}},{"$f":"RTD(\"sysq.rtd\",\"\",\"!XTSH`LC.99-1944:2\")","v":{"$error":"#N/A"}},{"$f":"RTD(\"sysq.rtd\",\"\",\"!XTDH`LC.99-1944:2\")","v":{"$error":"#N/A"}},{"$f":"RTD(\"sysq.rtd\",\"\",\"!DTAI`LC.99-1944:2\")","v":{"$error":"#N/A"}},{"$f":"RTD(\"sysq.rtd\",\"\",\"WTX&`004.10-1944:2\")","v":{"$error":"#N/A"}},{"$error":"#N/A"}]
["1945",{"$f":"RTD(\"sysq.rtd\",\"\",\"!DTSH`LC.99-1945:2\")","v":{"$error":"#N/A"}},{"$f":"RTD(\"sysq.rtd\",\"\",\"!DTDH`LC.99-1945:2\")","v":{"$error":"#N/A"}},{"$f":"RTD(\"sysq.rtd\",\"\",\"!XTSH`LC.99-1945:2\")","v":{"$error":"#N/A"}},{"$f":"RTD(\"sysq.rtd\",\"\",\"!XTDH`LC.99-1945:2\")","v":{"$error":"#N/A"}},{"$f":"RTD(\"sysq.rtd\",\"\",\"!DTAI`LC.99-1945:2\")","v":{"$error":"#N/A"}},{"$f":"RTD(\"sysq.rtd\",\"\",\"WTX&`004.10-1945:2\")","v":{"$error":"#N/A"}},{"$error":"#N/A"}]
["1946",{"$f":"RTD(\"sysq.rtd\",\"\",\"!DTSH`LC.99-1946:2\")","v":{"$error":"#N/A"}},{"$f":"RTD(\"sysq.rtd\",\"\",\"!DTDH`LC.99-1946:2\")","v":{"$error":"#N/A"}},{"$f":"RTD(\"sysq.rtd\",\"\",\"!XTSH`LC.99-1946:2\")","v":{"$error":"#N/A"}},{"$f":"RTD(\"sysq.rtd\",\"\",\"!XTDH`LC.99-1946:2\")","v":{"$error":"#N/A"}},{"$f":"RTD(\"sysq.rtd\",\"\",\"!DTAI`LC.99-1946:2\")","v":{"$error":"#N/A"}},{"$f":"RTD(\"sysq.rtd\",\"\",\"WTX&`004.10-1946:2\")","v":{"$error":"#N/A"}},{"$error":"#N/A"}]
["1947",{"$f":"RTD(\"sysq.rtd\",\"\",\"!DTSH`LC.99-1947:2\")","v":{"$error":"#N/A"}},{"$f":"RTD(\"sysq.rtd\",\"\",\"!DTDH`LC.99-1947:2\")","v":{"$error":"#N/A"}},{"$f":"RTD(\"sysq.rtd\",\"\",\"!XTSH`LC.99-1947:2\")","v":{"$error":"#N/A"}},{"$f":"RTD(\"sysq.rtd\",\"\",\"!XTDH`LC.99-1947:2\")","v":{"$error":"#N/A"}},{"$f":"RTD(\"sysq.rtd\",\"\",\"!DTAI`LC.99-1947:2\")","v":{"$error":"#N/A"}},{"$f":"RTD(\"sysq.rtd\",\"\",\"WTX&`004.10-1947:2\")","v":{"$error":"#N/A"}},{"$error":"#N/A"}]
["1948",{"$f":"RTD(\"sysq.rtd\",\"\",\"!DTSH`LC.99-1948:2\")","v":{"$error":"#N/A"}},{"$f":"RTD(\"sysq.rtd\",\"\",\"!DTDH`LC.99-1948:2\")","v":{"$error":"#N/A"}},{"$f":"RTD(\"sysq.rtd\",\"\",\"!XTSH`LC.99-1948:2\")","v":{"$error":"#N/A"}},{"$f":"RTD(\"sysq.rtd\",\"\",\"!XTDH`LC.99-1948:2\")","v":{"$error":"#N/A"}},{"$f":"RTD(\"sysq.rtd\",\"\",\"!DTAI`LC.99-1948:2\")","v":{"$error":"#N/A"}},{"$f":"RTD(\"sysq.rtd\",\"\",\"WTX&`004.10-1948:2\")","v":{"$error":"#N/A"}},{"$error":"#N/A"}]
["1949",{"$f":"RTD(\"sysq.rtd\",\"\",\"!DTSH`LC.99-1949:2\")","v":{"$error":"#N/A"}},{"$f":"RTD(\"sysq.rtd\",\"\",\"!DTDH`LC.99-1949:2\")","v":{"$error":"#N/A"}},{"$f":"RTD(\"sysq.rtd\",\"\",\"!XTSH`LC.99-1949:2\")","v":{"$error":"#N/A"}},{"$f":"RTD(\"sysq.rtd\",\"\",\"!XTDH`LC.99-1949:2\")","v":{"$error":"#N/A"}},{"$f":"RTD(\"sysq.rtd\",\"\",\"!DTAI`LC.99-1949:2\")","v":{"$error":"#N/A"}},{"$f":"RTD(\"sysq.rtd\",\"\",\"WTX&`004.10-1949:2\")","v":{"$error":"#N/A"}},{"$error":"#N/A"}]
["1950",{"$f":"RTD(\"sysq.rtd\",\"\",\"!DTSH`LC.99-1950:2\")","v":{"$error":"#N/A"}},{"$f":"RTD(\"sysq.rtd\",\"\",\"!DTDH`LC.99-1950:2\")","v":{"$error":"#N/A"}},{"$f":"RTD(\"sysq.rtd\",\"\",\"!XTSH`LC.99-1950:2\")","v":{"$error":"#N/A"}},{"$f":"RTD(\"sysq.rtd\",\"\",\"!XTDH`LC.99-1950:2\")","v":{"$error":"#N/A"}},{"$f":"RTD(\"sysq.rtd\",\"\",\"!DTAI`LC.99-1950:2\")","v":{"$error":"#N/A"}},{"$f":"RTD(\"sysq.rtd\",\"\",\"WTX&`004.10-1950:2\")","v":{"$error":"#N/A"}},{"$error":"#N/A"}]
["1951",{"$f":"RTD(\"sysq.rtd\",\"\",\"!DTSH`LC.99-1951:2\")","v":{"$error":"#N/A"}},{"$f":"RTD(\"sysq.rtd\",\"\",\"!DTDH`LC.99-1951:2\")","v":{"$error":"#N/A"}},{"$f":"RTD(\"sysq.rtd\",\"\",\"!XTSH`LC.99-1951:2\")","v":{"$error":"#N/A"}},{"$f":"RTD(\"sysq.rtd\",\"\",\"!XTDH`LC.99-1951:2\")","v":{"$error":"#N/A"}},{"$f":"RTD(\"sysq.rtd\",\"\",\"!DTAI`LC.99-1951:2\")","v":{"$error":"#N/A"}},{"$f":"RTD(\"sysq.rtd\",\"\",\"WTX&`004.10-1951:2\")","v":{"$error":"#N/A"}},{"$error":"#N/A"}]
["1952",{"$f":"RTD(\"sysq.rtd\",\"\",\"!DTSH`LC.99-1952:2\")","v":{"$error":"#N/A"}},{"$f":"RTD(\"sysq.rtd\",\"\",\"!DTDH`LC.99-1952:2\")","v":{"$error":"#N/A"}},{"$f":"RTD(\"sysq.rtd\",\"\",\"!XTSH`LC.99-1952:2\")","v":{"$error":"#N/A"}},{"$f":"RTD(\"sysq.rtd\",\"\",\"!XTDH`LC.99-1952:2\")","v":{"$error":"#N/A"}},{"$f":"RTD(\"sysq.rtd\",\"\",\"!DTAI`LC.99-1952:2\")","v":{"$error":"#N/A"}},{"$f":"RTD(\"sysq.rtd\",\"\",\"WTX&`004.10-1952:2\")","v":{"$error":"#N/A"}},{"$error":"#N/A"}]
["1953",{"$f":"RTD(\"sysq.rtd\",\"\",\"!DTSH`LC.99-1953:2\")","v":{"$error":"#N/A"}},{"$f":"RTD(\"sysq.rtd\",\"\",\"!DTDH`LC.99-1953:2\")","v":{"$error":"#N/A"}},{"$f":"RTD(\"sysq.rtd\",\"\",\"!XTSH`LC.99-1953:2\")","v":{"$error":"#N/A"}},{"$f":"RTD(\"sysq.rtd\",\"\",\"!XTDH`LC.99-1953:2\")","v":{"$error":"#N/A"}},{"$f":"RTD(\"sysq.rtd\",\"\",\"!DTAI`LC.99-1953:2\")","v":{"$error":"#N/A"}},{"$f":"RTD(\"sysq.rtd\",\"\",\"WTX&`004.10-1953:2\")","v":{"$error":"#N/A"}},{"$error":"#N/A"}]
["1954",{"$f":"RTD(\"sysq.rtd\",\"\",\"!DTSH`LC.99-1954:2\")","v":{"$error":"#N/A"}},{"$f":"RTD(\"sysq.rtd\",\"\",\"!DTDH`LC.99-1954:2\")","v":{"$error":"#N/A"}},{"$f":"RTD(\"sysq.rtd\",\"\",\"!XTSH`LC.99-1954:2\")","v":{"$error":"#N/A"}},{"$f":"RTD(\"sysq.rtd\",\"\",\"!XTDH`LC.99-1954:2\")","v":{"$error":"#N/A"}},{"$f":"RTD(\"sysq.rtd\",\"\",\"!DTAI`LC.99-1954:2\")","v":{"$error":"#N/A"}},{"$f":"RTD(\"sysq.rtd\",\"\",\"WTX&`004.10-1954:2\")","v":{"$error":"#N/A"}},{"$error":"#N/A"}]
["1955",{"$f":"RTD(\"sysq.rtd\",\"\",\"!DTSH`LC.99-1955:2\")","v":{"$error":"#N/A"}},{"$f":"RTD(\"sysq.rtd\",\"\",\"!DTDH`LC.99-1955:2\")","v":{"$error":"#N/A"}},{"$f":"RTD(\"sysq.rtd\",\"\",\"!XTSH`LC.99-1955:2\")","v":{"$error":"#N/A"}},{"$f":"RTD(\"sysq.rtd\",\"\",\"!XTDH`LC.99-1955:2\")","v":{"$error":"#N/A"}},{"$f":"RTD(\"sysq.rtd\",\"\",\"!DTAI`LC.99-1955:2\")","v":{"$error":"#N/A"}},{"$f":"RTD(\"sysq.rtd\",\"\",\"WTX&`004.10-1955:2\")","v":{"$error":"#N/A"}},{"$error":"#N/A"}]
["1956",{"$f":"RTD(\"sysq.rtd\",\"\",\"!DTSH`LC.99-1956:2\")","v":{"$error":"#N/A"}},{"$f":"RTD(\"sysq.rtd\",\"\",\"!DTDH`LC.99-1956:2\")","v":{"$error":"#N/A"}},{"$f":"RTD(\"sysq.rtd\",\"\",\"!XTSH`LC.99-1956:2\")","v":{"$error":"#N/A"}},{"$f":"RTD(\"sysq.rtd\",\"\",\"!XTDH`LC.99-1956:2\")","v":{"$error":"#N/A"}},{"$f":"RTD(\"sysq.rtd\",\"\",\"!DTAI`LC.99-1956:2\")","v":{"$error":"#N/A"}},{"$f":"RTD(\"sysq.rtd\",\"\",\"WTX&`004.10-1956:2\")","v":{"$error":"#N/A"}},{"$error":"#N/A"}]
["1957",{"$f":"RTD(\"sysq.rtd\",\"\",\"!DTSH`LC.99-1957:2\")","v":{"$error":"#N/A"}},{"$f":"RTD(\"sysq.rtd\",\"\",\"!DTDH`LC.99-1957:2\")","v":{"$error":"#N/A"}},{"$f":"RTD(\"sysq.rtd\",\"\",\"!XTSH`LC.99-1957:2\")","v":{"$error":"#N/A"}},{"$f":"RTD(\"sysq.rtd\",\"\",\"!XTDH`LC.99-1957:2\")","v":{"$error":"#N/A"}},{"$f":"RTD(\"sysq.rtd\",\"\",\"!DTAI`LC.99-1957:2\")","v":{"$error":"#N/A"}},{"$f":"RTD(\"sysq.rtd\",\"\",\"WTX&`004.10-1957:2\")","v":{"$error":"#N/A"}},{"$error":"#N/A"}]
["1958",{"$f":"RTD(\"sysq.rtd\",\"\",\"!DTSH`LC.99-1958:2\")","v":{"$error":"#N/A"}},{"$f":"RTD(\"sysq.rtd\",\"\",\"!DTDH`LC.99-1958:2\")","v":{"$error":"#N/A"}},{"$f":"RTD(\"sysq.rtd\",\"\",\"!XTSH`LC.99-1958:2\")","v":{"$error":"#N/A"}},{"$f":"RTD(\"sysq.rtd\",\"\",\"!XTDH`LC.99-1958:2\")","v":{"$error":"#N/A"}},{"$f":"RTD(\"sysq.rtd\",\"\",\"!DTAI`LC.99-1958:2\")","v":{"$error":"#N/A"}},{"$f":"RTD(\"sysq.rtd\",\"\",\"WTX&`004.10-1958:2\")","v":{"$error":"#N/A"}},{"$error":"#N/A"}]
["1959",{"$f":"RTD(\"sysq.rtd\",\"\",\"!DTSH`LC.99-1959:2\")","v":{"$error":"#N/A"}},{"$f":"RTD(\"sysq.rtd\",\"\",\"!DTDH`LC.99-1959:2\")","v":{"$error":"#N/A"}},{"$f":"RTD(\"sysq.rtd\",\"\",\"!XTSH`LC.99-1959:2\")","v":{"$error":"#N/A"}},{"$f":"RTD(\"sysq.rtd\",\"\",\"!XTDH`LC.99-1959:2\")","v":{"$error":"#N/A"}},{"$f":"RTD(\"sysq.rtd\",\"\",\"!DTAI`LC.99-1959:2\")","v":{"$error":"#N/A"}},{"$f":"RTD(\"sysq.rtd\",\"\",\"WTX&`004.10-1959:2\")","v":{"$error":"#N/A"}},{"$error":"#N/A"}]
["2000",{"$f":"RTD(\"sysq.rtd\",\"\",\"!DTSH`LC.99-2000:2\")","v":{"$error":"#N/A"}},{"$f":"RTD(\"sysq.rtd\",\"\",\"!DTDH`LC.99-2000:2\")","v":{"$error":"#N/A"}},{"$f":"RTD(\"sysq.rtd\",\"\",\"!XTSH`LC.99-2000:2\")","v":{"$error":"#N/A"}},{"$f":"RTD(\"sysq.rtd\",\"\",\"!XTDH`LC.99-2000:2\")","v":{"$error":"#N/A"}},{"$f":"RTD(\"sysq.rtd\",\"\",\"!DTAI`LC.99-2000:2\")","v":{"$error":"#N/A"}},{"$f":"RTD(\"sysq.rtd\",\"\",\"WTX&`004.10-2000:2\")","v":{"$error":"#N/A"}},{"$error":"#N/A"}]
["2001",{"$f":"RTD(\"sysq.rtd\",\"\",\"!DTSH`LC.99-2001:2\")","v":{"$error":"#N/A"}},{"$f":"RTD(\"sysq.rtd\",\"\",\"!DTDH`LC.99-2001:2\")","v":{"$error":"#N/A"}},{"$f":"RTD(\"sysq.rtd\",\"\",\"!XTSH`LC.99-2001:2\")","v":{"$error":"#N/A"}},{"$f":"RTD(\"sysq.rtd\",\"\",\"!XTDH`LC.99-2001:2\")","v":{"$error":"#N/A"}},{"$f":"RTD(\"sysq.rtd\",\"\",\"!DTAI`LC.99-2001:2\")","v":{"$error":"#N/A"}},{"$f":"RTD(\"sysq.rtd\",\"\",\"WTX&`004.10-2001:2\")","v":{"$error":"#N/A"}},{"$error":"#N/A"}]
["2002",{"$f":"RTD(\"sysq.rtd\",\"\",\"!DTSH`LC.99-2002:2\")","v":{"$error":"#N/A"}},{"$f":"RTD(\"sysq.rtd\",\"\",\"!DTDH`LC.99-2002:2\")","v":{"$error":"#N/A"}},{"$f":"RTD(\"sysq.rtd\",\"\",\"!XTSH`LC.99-2002:2\")","v":{"$error":"#N/A"}},{"$f":"RTD(\"sysq.rtd\",\"\",\"!XTDH`LC.99-2002:2\")","v":{"$error":"#N/A"}},{"$f":"RTD(\"sysq.rtd\",\"\",\"!DTAI`LC.99-2002:2\")","v":{"$error":"#N/A"}},{"$f":"RTD(\"sysq.rtd\",\"\",\"WTX&`004.10-2002:2\")","v":{"$error":"#N/A"}},{"$error":"#N/A"}]
["2003",{"$f":"RTD(\"sysq.rtd\",\"\",\"!DTSH`LC.99-2003:2\")","v":{"$error":"#N/A"}},{"$f":"RTD(\"sysq.rtd\",\"\",\"!DTDH`LC.99-2003:2\")","v":{"$error":"#N/A"}},{"$f":"RTD(\"sysq.rtd\",\"\",\"!XTSH`LC.99-2003:2\")","v":{"$error":"#N/A"}},{"$f":"RTD(\"sysq.rtd\",\"\",\"!XTDH`LC.99-2003:2\")","v":{"$error":"#N/A"}},{"$f":"RTD(\"sysq.rtd\",\"\",\"!DTAI`LC.99-2003:2\")","v":{"$error":"#N/A"}},{"$f":"RTD(\"sysq.rtd\",\"\",\"WTX&`004.10-2003:2\")","v":{"$error":"#N/A"}},{"$error":"#N/A"}]
["2004",{"$f":"RTD(\"sysq.rtd\",\"\",\"!DTSH`LC.99-2004:2\")","v":{"$error":"#N/A"}},{"$f":"RTD(\"sysq.rtd\",\"\",\"!DTDH`LC.99-2004:2\")","v":{"$error":"#N/A"}},{"$f":"RTD(\"sysq.rtd\",\"\",\"!XTSH`LC.99-2004:2\")","v":{"$error":"#N/A"}},{"$f":"RTD(\"sysq.rtd\",\"\",\"!XTDH`LC.99-2004:2\")","v":{"$error":"#N/A"}},{"$f":"RTD(\"sysq.rtd\",\"\",\"!DTAI`LC.99-2004:2\")","v":{"$error":"#N/A"}},{"$f":"RTD(\"sysq.rtd\",\"\",\"WTX&`004.10-2004:2\")","v":{"$error":"#N/A"}},{"$error":"#N/A"}]
["2005",{"$f":"RTD(\"sysq.rtd\",\"\",\"!DTSH`LC.99-2005:2\")","v":{"$error":"#N/A"}},{"$f":"RTD(\"sysq.rtd\",\"\",\"!DTDH`LC.99-2005:2\")","v":{"$error":"#N/A"}},{"$f":"RTD(\"sysq.rtd\",\"\",\"!XTSH`LC.99-2005:2\")","v":{"$error":"#N/A"}},{"$f":"RTD(\"sysq.rtd\",\"\",\"!XTDH`LC.99-2005:2\")","v":{"$error":"#N/A"}},{"$f":"RTD(\"sysq.rtd\",\"\",\"!DTAI`LC.99-2005:2\")","v":{"$error":"#N/A"}},{"$f":"RTD(\"sysq.rtd\",\"\",\"WTX&`004.10-2005:2\")","v":{"$error":"#N/A"}},{"$error":"#N/A"}]
["2006",{"$f":"RTD(\"sysq.rtd\",\"\",\"!DTSH`LC.99-2006:2\")","v":{"$error":"#N/A"}},{"$f":"RTD(\"sysq.rtd\",\"\",\"!DTDH`LC.99-2006:2\")","v":{"$error":"#N/A"}},{"$f":"RTD(\"sysq.rtd\",\"\",\"!XTSH`LC.99-2006:2\")","v":{"$error":"#N/A"}},{"$f":"RTD(\"sysq.rtd\",\"\",\"!XTDH`LC.99-2006:2\")","v":{"$error":"#N/A"}},{"$f":"RTD(\"sysq.rtd\",\"\",\"!DTAI`LC.99-2006:2\")","v":{"$error":"#N/A"}},{"$f":"RTD(\"sysq.rtd\",\"\",\"WTX&`004.10-2006:2\")","v":{"$error":"#N/A"}},{"$error":"#N/A"}]
["2007",{"$f":"RTD(\"sysq.rtd\",\"\",\"!DTSH`LC.99-2007:2\")","v":{"$error":"#N/A"}},{"$f":"RTD(\"sysq.rtd\",\"\",\"!DTDH`LC.99-2007:2\")","v":{"$error":"#N/A"}},{"$f":"RTD(\"sysq.rtd\",\"\",\"!XTSH`LC.99-2007:2\")","v":{"$error":"#N/A"}},{"$f":"RTD(\"sysq.rtd\",\"\",\"!XTDH`LC.99-2007:2\")","v":{"$error":"#N/A"}},{"$f":"RTD(\"sysq.rtd\",\"\",\"!DTAI`LC.99-2007:2\")","v":{"$error":"#N/A"}},{"$f":"RTD(\"sysq.rtd\",\"\",\"WTX&`004.10-2007:2\")","v":{"$error":"#N/A"}},{"$error":"#N/A"}]
["2008",{"$f":"RTD(\"sysq.rtd\",\"\",\"!DTSH`LC.99-2008:2\")","v":{"$error":"#N/A"}},{"$f":"RTD(\"sysq.rtd\",\"\",\"!DTDH`LC.99-2008:2\")","v":{"$error":"#N/A"}},{"$f":"RTD(\"sysq.rtd\",\"\",\"!XTSH`LC.99-2008:2\")","v":{"$error":"#N/A"}},{"$f":"RTD(\"sysq.rtd\",\"\",\"!XTDH`LC.99-2008:2\")","v":{"$error":"#N/A"}},{"$f":"RTD(\"sysq.rtd\",\"\",\"!DTAI`LC.99-2008:2\")","v":{"$error":"#N/A"}},{"$f":"RTD(\"sysq.rtd\",\"\",\"WTX&`004.10-2008:2\")","v":{"$error":"#N/A"}},{"$error":"#N/A"}]
["2009",{"$f":"RTD(\"sysq.rtd\",\"\",\"!DTSH`LC.99-2009:2\")","v":{"$error":"#N/A"}},{"$f":"RTD(\"sysq.rtd\",\"\",\"!DTDH`LC.99-2009:2\")","v":{"$error":"#N/A"}},{"$f":"RTD(\"sysq.rtd\",\"\",\"!XTSH`LC.99-2009:2\")","v":{"$error":"#N/A"}},{"$f":"RTD(\"sysq.rtd\",\"\",\"!XTDH`LC.99-2009:2\")","v":{"$error":"#N/A"}},{"$f":"RTD(\"sysq.rtd\",\"\",\"!DTAI`LC.99-2009:2\")","v":{"$error":"#N/A"}},{"$f":"RTD(\"sysq.rtd\",\"\",\"WTX&`004.10-2009:2\")","v":{"$error":"#N/A"}},{"$error":"#N/A"}]
["2010",{"$f":"RTD(\"sysq.rtd\",\"\",\"!DTSH`LC.99-2010:2\")","v":{"$error":"#N/A"}},{"$f":"RTD(\"sysq.rtd\",\"\",\"!DTDH`LC.99-2010:2\")","v":{"$error":"#N/A"}},{"$f":"RTD(\"sysq.rtd\",\"\",\"!XTSH`LC.99-2010:2\")","v":{"$error":"#N/A"}},{"$f":"RTD(\"sysq.rtd\",\"\",\"!XTDH`LC.99-2010:2\")","v":{"$error":"#N/A"}},{"$f":"RTD(\"sysq.rtd\",\"\",\"!DTAI`LC.99-2010:2\")","v":{"$error":"#N/A"}},{"$f":"RTD(\"sysq.rtd\",\"\",\"WTX&`004.10-2010:2\")","v":{"$error":"#N/A"}},{"$error":"#N/A"}]
["2011",{"$f":"RTD(\"sysq.rtd\",\"\",\"!DTSH`LC.99-2011:2\")","v":{"$error":"#N/A"}},{"$f":"RTD(\"sysq.rtd\",\"\",\"!DTDH`LC.99-2011:2\")","v":{"$error":"#N/A"}},{"$f":"RTD(\"sysq.rtd\",\"\",\"!XTSH`LC.99-2011:2\")","v":{"$error":"#N/A"}},{"$f":"RTD(\"sysq.rtd\",\"\",\"!XTDH`LC.99-2011:2\")","v":{"$error":"#N/A"}},{"$f":"RTD(\"sysq.rtd\",\"\",\"!DTAI`LC.99-2011:2\")","v":{"$error":"#N/A"}},{"$f":"RTD(\"sysq.rtd\",\"\",\"WTX&`004.10-2011:2\")","v":{"$error":"#N/A"}},{"$error":"#N/A"}]
["2012",{"$f":"RTD(\"sysq.rtd\",\"\",\"!DTSH`LC.99-2012:2\")","v":{"$error":"#N/A"}},{"$f":"RTD(\"sysq.rtd\",\"\",\"!DTDH`LC.99-2012:2\")","v":{"$error":"#N/A"}},{"$f":"RTD(\"sysq.rtd\",\"\",\"!XTSH`LC.99-2012:2\")","v":{"$error":"#N/A"}},{"$f":"RTD(\"sysq.rtd\",\"\",\"!XTDH`LC.99-2012:2\")","v":{"$error":"#N/A"}},{"$f":"RTD(\"sysq.rtd\",\"\",\"!DTAI`LC.99-2012:2\")","v":{"$error":"#N/A"}},{"$f":"RTD(\"sysq.rtd\",\"\",\"WTX&`004.10-2012:2\")","v":{"$error":"#N/A"}},{"$error":"#N/A"}]
["2013",{"$f":"RTD(\"sysq.rtd\",\"\",\"!DTSH`LC.99-2013:2\")","v":{"$error":"#N/A"}},{"$f":"RTD(\"sysq.rtd\",\"\",\"!DTDH`LC.99-2013:2\")","v":{"$error":"#N/A"}},{"$f":"RTD(\"sysq.rtd\",\"\",\"!XTSH`LC.99-2013:2\")","v":{"$error":"#N/A"}},{"$f":"RTD(\"sysq.rtd\",\"\",\"!XTDH`LC.99-2013:2\")","v":{"$error":"#N/A"}},{"$f":"RTD(\"sysq.rtd\",\"\",\"!DTAI`LC.99-2013:2\")","v":{"$error":"#N/A"}},{"$f":"RTD(\"sysq.rtd\",\"\",\"WTX&`004.10-2013:2\")","v":{"$error":"#N/A"}},{"$error":"#N/A"}]
["2014",{"$f":"RTD(\"sysq.rtd\",\"\",\"!DTSH`LC.99-2014:2\")","v":{"$error":"#N/A"}},{"$f":"RTD(\"sysq.rtd\",\"\",\"!DTDH`LC.99-2014:2\")","v":{"$error":"#N/A"}},{"$f":"RTD(\"sysq.rtd\",\"\",\"!XTSH`LC.99-2014:2\")","v":{"$error":"#N/A"}},{"$f":"RTD(\"sysq.rtd\",\"\",\"!XTDH`LC.99-2014:2\")","v":{"$error":"#N/A"}},{"$f":"RTD(\"sysq.rtd\",\"\",\"!DTAI`LC.99-2014:2\")","v":{"$error":"#N/A"}},{"$f":"RTD(\"sysq.rtd\",\"\",\"WTX&`004.10-2014:2\")","v":{"$error":"#N/A"}},{"$error":"#N/A"}]
["2015",{"$f":"RTD(\"sysq.rtd\",\"\",\"!DTSH`LC.99-2015:2\")","v":{"$error":"#N/A"}},{"$f":"RTD(\"sysq.rtd\",\"\",\"!DTDH`LC.99-2015:2\")","v":{"$error":"#N/A"}},{"$f":"RTD(\"sysq.rtd\",\"\",\"!XTSH`LC.99-2015:2\")","v":{"$error":"#N/A"}},{"$f":"RTD(\"sysq.rtd\",\"\",\"!XTDH`LC.99-2015:2\")","v":{"$error":"#N/A"}},{"$f":"RTD(\"sysq.rtd\",\"\",\"!DTAI`LC.99-2015:2\")","v":{"$error":"#N/A"}},{"$f":"RTD(\"sysq.rtd\",\"\",\"WTX&`004.10-2015:2\")","v":{"$error":"#N/A"}},{"$error":"#N/A"}]
["2016",{"$f":"RTD(\"sysq.rtd\",\"\",\"!DTSH`LC.99-2016:2\")","v":{"$error":"#N/A"}},{"$f":"RTD(\"sysq.rtd\",\"\",\"!DTDH`LC.99-2016:2\")","v":{"$error":"#N/A"}},{"$f":"RTD(\"sysq.rtd\",\"\",\"!XTSH`LC.99-2016:2\")","v":{"$error":"#N/A"}},{"$f":"RTD(\"sysq.rtd\",\"\",\"!XTDH`LC.99-2016:2\")","v":{"$error":"#N/A"}},{"$f":"RTD(\"sysq.rtd\",\"\",\"!DTAI`LC.99-2016:2\")","v":{"$error":"#N/A"}},{"$f":"RTD(\"sysq.rtd\",\"\",\"WTX&`004.10-2016:2\")","v":{"$error":"#N/A"}},{"$error":"#N/A"}]
["2017",{"$f":"RTD(\"sysq.rtd\",\"\",\"!DTSH`LC.99-2017:2\")","v":{"$error":"#N/A"}},{"$f":"RTD(\"sysq.rtd\",\"\",\"!DTDH`LC.99-2017:2\")","v":{"$error":"#N/A"}},{"$f":"RTD(\"sysq.rtd\",\"\",\"!XTSH`LC.99-2017:2\")","v":{"$error":"#N/A"}},{"$f":"RTD(\"sysq.rtd\",\"\",\"!XTDH`LC.99-2017:2\")","v":{"$error":"#N/A"}},{"$f":"RTD(\"sysq.rtd\",\"\",\"!DTAI`LC.99-2017:2\")","v":{"$error":"#N/A"}},{"$f":"RTD(\"sysq.rtd\",\"\",\"WTX&`004.10-2017:2\")","v":{"$error":"#N/A"}},{"$error":"#N/A"}]
["2018",{"$f":"RTD(\"sysq.rtd\",\"\",\"!DTSH`LC.99-2018:2\")","v":{"$error":"#N/A"}},{"$f":"RTD(\"sysq.rtd\",\"\",\"!DTDH`LC.99-2018:2\")","v":{"$error":"#N/A"}},{"$f":"RTD(\"sysq.rtd\",\"\",\"!XTSH`LC.99-2018:2\")","v":{"$error":"#N/A"}},{"$f":"RTD(\"sysq.rtd\",\"\",\"!XTDH`LC.99-2018:2\")","v":{"$error":"#N/A"}},{"$f":"RTD(\"sysq.rtd\",\"\",\"!DTAI`LC.99-2018:2\")","v":{"$error":"#N/A"}},{"$f":"RTD(\"sysq.rtd\",\"\",\"WTX&`004.10-2018:2\")","v":{"$error":"#N/A"}},{"$error":"#N/A"}]
["2019",{"$f":"RTD(\"sysq.rtd\",\"\",\"!DTSH`LC.99-2019:2\")","v":{"$error":"#N/A"}},{"$f":"RTD(\"sysq.rtd\",\"\",\"!DTDH`LC.99-2019:2\")","v":{"$error":"#N/A"}},{"$f":"RTD(\"sysq.rtd\",\"\",\"!XTSH`LC.99-2019:2\")","v":{"$error":"#N/A"}},{"$f":"RTD(\"sysq.rtd\",\"\",\"!XTDH`LC.99-2019:2\")","v":{"$error":"#N/A"}},{"$f":"RTD(\"sysq.rtd\",\"\",\"!DTAI`LC.99-2019:2\")","v":{"$error":"#N/A"}},{"$f":"RTD(\"sysq.rtd\",\"\",\"WTX&`004.10-2019:2\")","v":{"$error":"#N/A"}},{"$error":"#N/A"}]
["2020",{"$f":"RTD(\"sysq.rtd\",\"\",\"!DTSH`LC.99-2020:2\")","v":{"$error":"#N/A"}},{"$f":"RTD(\"sysq.rtd\",\"\",\"!DTDH`LC.99-2020:2\")","v":{"$error":"#N/A"}},{"$f":"RTD(\"sysq.rtd\",\"\",\"!XTSH`LC.99-2020:2\")","v":{"$error":"#N/A"}},{"$f":"RTD(\"sysq.rtd\",\"\",\"!XTDH`LC.99-2020:2\")","v":{"$error":"#N/A"}},{"$f":"RTD(\"sysq.rtd\",\"\",\"!DTAI`LC.99-2020:2\")","v":{"$error":"#N/A"}},{"$f":"RTD(\"sysq.rtd\",\"\",\"WTX&`004.10-2020:2\")","v":{"$error":"#N/A"}},{"$error":"#N/A"}]
["2021",{"$f":"RTD(\"sysq.rtd\",\"\",\"!DTSH`LC.99-2021:2\")","v":{"$error":"#N/A"}},{"$f":"RTD(\"sysq.rtd\",\"\",\"!DTDH`LC.99-2021:2\")","v":{"$error":"#N/A"}},{"$f":"RTD(\"sysq.rtd\",\"\",\"!XTSH`LC.99-2021:2\")","v":{"$error":"#N/A"}},{"$f":"RTD(\"sysq.rtd\",\"\",\"!XTDH`LC.99-2021:2\")","v":{"$error":"#N/A"}},{"$f":"RTD(\"sysq.rtd\",\"\",\"!DTAI`LC.99-2021:2\")","v":{"$error":"#N/A"}},{"$f":"RTD(\"sysq.rtd\",\"\",\"WTX&`004.10-2021:2\")","v":{"$error":"#N/A"}},{"$error":"#N/A"}]
["2022",{"$f":"RTD(\"sysq.rtd\",\"\",\"!DTSH`LC.99-2022:2\")","v":{"$error":"#N/A"}},{"$f":"RTD(\"sysq.rtd\",\"\",\"!DTDH`LC.99-2022:2\")","v":{"$error":"#N/A"}},{"$f":"RTD(\"sysq.rtd\",\"\",\"!XTSH`LC.99-2022:2\")","v":{"$error":"#N/A"}},{"$f":"RTD(\"sysq.rtd\",\"\",\"!XTDH`LC.99-2022:2\")","v":{"$error":"#N/A"}},{"$f":"RTD(\"sysq.rtd\",\"\",\"!DTAI`LC.99-2022:2\")","v":{"$error":"#N/A"}},{"$f":"RTD(\"sysq.rtd\",\"\",\"WTX&`004.10-2022:2\")","v":{"$error":"#N/A"}},{"$error":"#N/A"}]
["2023",{"$f":"RTD(\"sysq.rtd\",\"\",\"!DTSH`LC.99-2023:2\")","v":{"$error":"#N/A"}},{"$f":"RTD(\"sysq.rtd\",\"\",\"!DTDH`LC.99-2023:2\")","v":{"$error":"#N/A"}},{"$f":"RTD(\"sysq.rtd\",\"\",\"!XTSH`LC.99-2023:2\")","v":{"$error":"#N/A"}},{"$f":"RTD(\"sysq.rtd\",\"\",\"!XTDH`LC.99-2023:2\")","v":{"$error":"#N/A"}},{"$f":"RTD(\"sysq.rtd\",\"\",\"!DTAI`LC.99-2023:2\")","v":{"$error":"#N/A"}},{"$f":"RTD(\"sysq.rtd\",\"\",\"WTX&`004.10-2023:2\")","v":{"$error":"#N/A"}},{"$error":"#N/A"}]
["2024",{"$f":"RTD(\"sysq.rtd\",\"\",\"!DTSH`LC.99-2024:2\")","v":{"$error":"#N/A"}},{"$f":"RTD(\"sysq.rtd\",\"\",\"!DTDH`LC.99-2024:2\")","v":{"$error":"#N/A"}},{"$f":"RTD(\"sysq.rtd\",\"\",\"!XTSH`LC.99-2024:2\")","v":{"$error":"#N/A"}},{"$f":"RTD(\"sysq.rtd\",\"\",\"!XTDH`LC.99-2024:2\")","v":{"$error":"#N/A"}},{"$f":"RTD(\"sysq.rtd\",\"\",\"!DTAI`LC.99-2024:2\")","v":{"$error":"#N/A"}},{"$f":"RTD(\"sysq.rtd\",\"\",\"WTX&`004.10-2024:2\")","v":{"$error":"#N/A"}},{"$error":"#N/A"}]
["2025",{"$f":"RTD(\"sysq.rtd\",\"\",\"!DTSH`LC.99-2025:2\")","v":{"$error":"#N/A"}},{"$f":"RTD(\"sysq.rtd\",\"\",\"!DTDH`LC.99-2025:2\")","v":{"$error":"#N/A"}},{"$f":"RTD(\"sysq.rtd\",\"\",\"!XTSH`LC.99-2025:2\")","v":{"$error":"#N/A"}},{"$f":"RTD(\"sysq.rtd\",\"\",\"!XTDH`LC.99-2025:2\")","v":{"$error":"#N/A"}},{"$f":"RTD(\"sysq.rtd\",\"\",\"!DTAI`LC.99-2025:2\")","v":{"$error":"#N/A"}},{"$f":"RTD(\"sysq.rtd\",\"\",\"WTX&`004.10-2025:2\")","v":{"$error":"#N/A"}},{"$error":"#N/A"}]
["2026",{"$f":"RTD(\"sysq.rtd\",\"\",\"!DTSH`LC.99-2026:2\")","v":{"$error":"#N/A"}},{"$f":"RTD(\"sysq.rtd\",\"\",\"!DTDH`LC.99-2026:2\")","v":{"$error":"#N/A"}},{"$f":"RTD(\"sysq.rtd\",\"\",\"!XTSH`LC.99-2026:2\")","v":{"$error":"#N/A"}},{"$f":"RTD(\"sysq.rtd\",\"\",\"!XTDH`LC.99-2026:2\")","v":{"$error":"#N/A"}},{"$f":"RTD(\"sysq.rtd\",\"\",\"!DTAI`LC.99-2026:2\")","v":{"$error":"#N/A"}},{"$f":"RTD(\"sysq.rtd\",\"\",\"WTX&`004.10-2026:2\")","v":{"$error":"#N/A"}},{"$error":"#N/A"}]
["2027",{"$f":"RTD(\"sysq.rtd\",\"\",\"!DTSH`LC.99-2027:2\")","v":{"$error":"#N/A"}},{"$f":"RTD(\"sysq.rtd\",\"\",\"!DTDH`LC.99-2027:2\")","v":{"$error":"#N/A"}},{"$f":"RTD(\"sysq.rtd\",\"\",\"!XTSH`LC.99-2027:2\")","v":{"$error":"#N/A"}},{"$f":"RTD(\"sysq.rtd\",\"\",\"!XTDH`LC.99-2027:2\")","v":{"$error":"#N/A"}},{"$f":"RTD(\"sysq.rtd\",\"\",\"!DTAI`LC.99-2027:2\")","v":{"$error":"#N/A"}},{"$f":"RTD(\"sysq.rtd\",\"\",\"WTX&`004.10-2027:2\")","v":{"$error":"#N/A"}},{"$error":"#N/A"}]
["2028",{"$f":"RTD(\"sysq.rtd\",\"\",\"!DTSH`LC.99-2028:2\")","v":{"$error":"#N/A"}},{"$f":"RTD(\"sysq.rtd\",\"\",\"!DTDH`LC.99-2028:2\")","v":{"$error":"#N/A"}},{"$f":"RTD(\"sysq.rtd\",\"\",\"!XTSH`LC.99-2028:2\")","v":{"$error":"#N/A"}},{"$f":"RTD(\"sysq.rtd\",\"\",\"!XTDH`LC.99-2028:2\")","v":{"$error":"#N/A"}},{"$f":"RTD(\"sysq.rtd\",\"\",\"!DTAI`LC.99-2028:2\")","v":{"$error":"#N/A"}},{"$f":"RTD(\"sysq.rtd\",\"\",\"WTX&`004.10-2028:2\")","v":{"$error":"#N/A"}},{"$error":"#N/A"}]
["2029",{"$f":"RTD(\"sysq.rtd\",\"\",\"!DTSH`LC.99-2029:2\")","v":{"$error":"#N/A"}},{"$f":"RTD(\"sysq.rtd\",\"\",\"!DTDH`LC.99-2029:2\")","v":{"$error":"#N/A"}},{"$f":"RTD(\"sysq.rtd\",\"\",\"!XTSH`LC.99-2029:2\")","v":{"$error":"#N/A"}},{"$f":"RTD(\"sysq.rtd\",\"\",\"!XTDH`LC.99-2029:2\")","v":{"$error":"#N/A"}},{"$f":"RTD(\"sysq.rtd\",\"\",\"!DTAI`LC.99-2029:2\")","v":{"$error":"#N/A"}},{"$f":"RTD(\"sysq.rtd\",\"\",\"WTX&`004.10-2029:2\")","v":{"$error":"#N/A"}},{"$error":"#N/A"}]
["2030",{"$f":"RTD(\"sysq.rtd\",\"\",\"!DTSH`LC.99-2030:2\")","v":{"$error":"#N/A"}},{"$f":"RTD(\"sysq.rtd\",\"\",\"!DTDH`LC.99-2030:2\")","v":{"$error":"#N/A"}},{"$f":"RTD(\"sysq.rtd\",\"\",\"!XTSH`LC.99-2030:2\")","v":{"$error":"#N/A"}},{"$f":"RTD(\"sysq.rtd\",\"\",\"!XTDH`LC.99-2030:2\")","v":{"$error":"#N/A"}},{"$f":"RTD(\"sysq.rtd\",\"\",\"!DTAI`LC.99-2030:2\")","v":{"$error":"#N/A"}},{"$f":"RTD(\"sysq.rtd\",\"\",\"WTX&`004.10-2030:2\")","v":{"$error":"#N/A"}},{"$error":"#N/A"}]
["2031",{"$f":"RTD(\"sysq.rtd\",\"\",\"!DTSH`LC.99-2031:2\")","v":{"$error":"#N/A"}},{"$f":"RTD(\"sysq.rtd\",\"\",\"!DTDH`LC.99-2031:2\")","v":{"$error":"#N/A"}},{"$f":"RTD(\"sysq.rtd\",\"\",\"!XTSH`LC.99-2031:2\")","v":{"$error":"#N/A"}},{"$f":"RTD(\"sysq.rtd\",\"\",\"!XTDH`LC.99-2031:2\")","v":{"$error":"#N/A"}},{"$f":"RTD(\"sysq.rtd\",\"\",\"!DTAI`LC.99-2031:2\")","v":{"$error":"#N/A"}},{"$f":"RTD(\"sysq.rtd\",\"\",\"WTX&`004.10-2031:2\")","v":{"$error":"#N/A"}},{"$error":"#N/A"}]
["2032",{"$f":"RTD(\"sysq.rtd\",\"\",\"!DTSH`LC.99-2032:2\")","v":{"$error":"#N/A"}},{"$f":"RTD(\"sysq.rtd\",\"\",\"!DTDH`LC.99-2032:2\")","v":{"$error":"#N/A"}},{"$f":"RTD(\"sysq.rtd\",\"\",\"!XTSH`LC.99-2032:2\")","v":{"$error":"#N/A"}},{"$f":"RTD(\"sysq.rtd\",\"\",\"!XTDH`LC.99-2032:2\")","v":{"$error":"#N/A"}},{"$f":"RTD(\"sysq.rtd\",\"\",\"!DTAI`LC.99-2032:2\")","v":{"$error":"#N/A"}},{"$f":"RTD(\"sysq.rtd\",\"\",\"WTX&`004.10-2032:2\")","v":{"$error":"#N/A"}},{"$error":"#N/A"}]
["2033",{"$f":"RTD(\"sysq.rtd\",\"\",\"!DTSH`LC.99-2033:2\")","v":{"$error":"#N/A"}},{"$f":"RTD(\"sysq.rtd\",\"\",\"!DTDH`LC.99-2033:2\")","v":{"$error":"#N/A"}},{"$f":"RTD(\"sysq.rtd\",\"\",\"!XTSH`LC.99-2033:2\")","v":{"$error":"#N/A"}},{"$f":"RTD(\"sysq.rtd\",\"\",\"!XTDH`LC.99-2033:2\")","v":{"$error":"#N/A"}},{"$f":"RTD(\"sysq.rtd\",\"\",\"!DTAI`LC.99-2033:2\")","v":{"$error":"#N/A"}},{"$f":"RTD(\"sysq.rtd\",\"\",\"WTX&`004.10-2033:2\")","v":{"$error":"#N/A"}},{"$error":"#N/A"}]
["2034",{"$f":"RTD(\"sysq.rtd\",\"\",\"!DTSH`LC.99-2034:2\")","v":{"$error":"#N/A"}},{"$f":"RTD(\"sysq.rtd\",\"\",\"!DTDH`LC.99-2034:2\")","v":{"$error":"#N/A"}},{"$f":"RTD(\"sysq.rtd\",\"\",\"!XTSH`LC.99-2034:2\")","v":{"$error":"#N/A"}},{"$f":"RTD(\"sysq.rtd\",\"\",\"!XTDH`LC.99-2034:2\")","v":{"$error":"#N/A"}},{"$f":"RTD(\"sysq.rtd\",\"\",\"!DTAI`LC.99-2034:2\")","v":{"$error":"#N/A"}},{"$f":"RTD(\"sysq.rtd\",\"\",\"WTX&`004.10-2034:2\")","v":{"$error":"#N/A"}},{"$error":"#N/A"}]
["2035",{"$f":"RTD(\"sysq.rtd\",\"\",\"!DTSH`LC.99-2035:2\")","v":{"$error":"#N/A"}},{"$f":"RTD(\"sysq.rtd\",\"\",\"!DTDH`LC.99-2035:2\")","v":{"$error":"#N/A"}},{"$f":"RTD(\"sysq.rtd\",\"\",\"!XTSH`LC.99-2035:2\")","v":{"$error":"#N/A"}},{"$f":"RTD(\"sysq.rtd\",\"\",\"!XTDH`LC.99-2035:2\")","v":{"$error":"#N/A"}},{"$f":"RTD(\"sysq.rtd\",\"\",\"!DTAI`LC.99-2035:2\")","v":{"$error":"#N/A"}},{"$f":"RTD(\"sysq.rtd\",\"\",\"WTX&`004.10-2035:2\")","v":{"$error":"#N/A"}},{"$error":"#N/A"}]
["2036",{"$f":"RTD(\"sysq.rtd\",\"\",\"!DTSH`LC.99-2036:2\")","v":{"$error":"#N/A"}},{"$f":"RTD(\"sysq.rtd\",\"\",\"!DTDH`LC.99-2036:2\")","v":{"$error":"#N/A"}},{"$f":"RTD(\"sysq.rtd\",\"\",\"!XTSH`LC.99-2036:2\")","v":{"$error":"#N/A"}},{"$f":"RTD(\"sysq.rtd\",\"\",\"!XTDH`LC.99-2036:2\")","v":{"$error":"#N/A"}},{"$f":"RTD(\"sysq.rtd\",\"\",\"!DTAI`LC.99-2036:2\")","v":{"$error":"#N/A"}},{"$f":"RTD(\"sysq.rtd\",\"\",\"WTX&`004.10-2036:2\")","v":{"$error":"#N/A"}},{"$error":"#N/A"}]
["2037",{"$f":"RTD(\"sysq.rtd\",\"\",\"!DTSH`LC.99-2037:2\")","v":{"$error":"#N/A"}},{"$f":"RTD(\"sysq.rtd\",\"\",\"!DTDH`LC.99-2037:2\")","v":{"$error":"#N/A"}},{"$f":"RTD(\"sysq.rtd\",\"\",\"!XTSH`LC.99-2037:2\")","v":{"$error":"#N/A"}},{"$f":"RTD(\"sysq.rtd\",\"\",\"!XTDH`LC.99-2037:2\")","v":{"$error":"#N/A"}},{"$f":"RTD(\"sysq.rtd\",\"\",\"!DTAI`LC.99-2037:2\")","v":{"$error":"#N/A"}},{"$f":"RTD(\"sysq.rtd\",\"\",\"WTX&`004.10-2037:2\")","v":{"$error":"#N/A"}},{"$error":"#N/A"}]
["2038",{"$f":"RTD(\"sysq.rtd\",\"\",\"!DTSH`LC.99-2038:2\")","v":{"$error":"#N/A"}},{"$f":"RTD(\"sysq.rtd\",\"\",\"!DTDH`LC.99-2038:2\")","v":{"$error":"#N/A"}},{"$f":"RTD(\"sysq.rtd\",\"\",\"!XTSH`LC.99-2038:2\")","v":{"$error":"#N/A"}},{"$f":"RTD(\"sysq.rtd\",\"\",\"!XTDH`LC.99-2038:2\")","v":{"$error":"#N/A"}},{"$f":"RTD(\"sysq.rtd\",\"\",\"!DTAI`LC.99-2038:2\")","v":{"$error":"#N/A"}},{"$f":"RTD(\"sysq.rtd\",\"\",\"WTX&`004.10-2038:2\")","v":{"$error":"#N/A"}},{"$error":"#N/A"}]
["2039",{"$f":"RTD(\"sysq.rtd\",\"\",\"!DTSH`LC.99-2039:2\")","v":{"$error":"#N/A"}},{"$f":"RTD(\"sysq.rtd\",\"\",\"!DTDH`LC.99-2039:2\")","v":{"$error":"#N/A"}},{"$f":"RTD(\"sysq.rtd\",\"\",\"!XTSH`LC.99-2039:2\")","v":{"$error":"#N/A"}},{"$f":"RTD(\"sysq.rtd\",\"\",\"!XTDH`LC.99-2039:2\")","v":{"$error":"#N/A"}},{"$f":"RTD(\"sysq.rtd\",\"\",\"!DTAI`LC.99-2039:2\")","v":{"$error":"#N/A"}},{"$f":"RTD(\"sysq.rtd\",\"\",\"WTX&`004.10-2039:2\")","v":{"$error":"#N/A"}},{"$error":"#N/A"}]
["2040",{"$f":"RTD(\"sysq.rtd\",\"\",\"!DTSH`LC.99-2040:2\")","v":{"$error":"#N/A"}},{"$f":"RTD(\"sysq.rtd\",\"\",\"!DTDH`LC.99-2040:2\")","v":{"$error":"#N/A"}},{"$f":"RTD(\"sysq.rtd\",\"\",\"!XTSH`LC.99-2040:2\")","v":{"$error":"#N/A"}},{"$f":"RTD(\"sysq.rtd\",\"\",\"!XTDH`LC.99-2040:2\")","v":{"$error":"#N/A"}},{"$f":"RTD(\"sysq.rtd\",\"\",\"!DTAI`LC.99-2040:2\")","v":{"$error":"#N/A"}},{"$f":"RTD(\"sysq.rtd\",\"\",\"WTX&`004.10-2040:2\")","v":{"$error":"#N/A"}},{"$f":"SQRT(ABS(F646))*(ABS(F646)/F646)","v":{"$error":"#N/A"}}]
["2041",{"$f":"RTD(\"sysq.rtd\",\"\",\"!DTSH`LC.99-2041:2\")","v":{"$error":"#N/A"}},{"$f":"RTD(\"sysq.rtd\",\"\",\"!DTDH`LC.99-2041:2\")","v":{"$error":"#N/A"}},{"$f":"RTD(\"sysq.rtd\",\"\",\"!XTSH`LC.99-2041:2\")","v":{"$error":"#N/A"}},{"$f":"RTD(\"sysq.rtd\",\"\",\"!XTDH`LC.99-2041:2\")","v":{"$error":"#N/A"}},{"$f":"RTD(\"sysq.rtd\",\"\",\"!DTAI`LC.99-2041:2\")","v":{"$error":"#N/A"}},{"$f":"RTD(\"sysq.rtd\",\"\",\"WTX&`004.10-2041:2\")","v":{"$error":"#N/A"}},{"$error":"#N/A"}]
["2042",{"$f":"RTD(\"sysq.rtd\",\"\",\"!DTSH`LC.99-2042:2\")","v":{"$error":"#N/A"}},{"$f":"RTD(\"sysq.rtd\",\"\",\"!DTDH`LC.99-2042:2\")","v":{"$error":"#N/A"}},{"$f":"RTD(\"sysq.rtd\",\"\",\"!XTSH`LC.99-2042:2\")","v":{"$error":"#N/A"}},{"$f":"RTD(\"sysq.rtd\",\"\",\"!XTDH`LC.99-2042:2\")","v":{"$error":"#N/A"}},{"$f":"RTD(\"sysq.rtd\",\"\",\"!DTAI`LC.99-2042:2\")","v":{"$error":"#N/A"}},{"$f":"RTD(\"sysq.rtd\",\"\",\"WTX&`004.10-2042:2\")","v":{"$error":"#N/A"}},{"$error":"#N/A"}]
["2043",{"$f":"RTD(\"sysq.rtd\",\"\",\"!DTSH`LC.99-2043:2\")","v":{"$error":"#N/A"}},{"$f":"RTD(\"sysq.rtd\",\"\",\"!DTDH`LC.99-2043:2\")","v":{"$error":"#N/A"}},{"$f":"RTD(\"sysq.rtd\",\"\",\"!XTSH`LC.99-2043:2\")","v":{"$error":"#N/A"}},{"$f":"RTD(\"sysq.rtd\",\"\",\"!XTDH`LC.99-2043:2\")","v":{"$error":"#N/A"}},{"$f":"RTD(\"sysq.rtd\",\"\",\"!DTAI`LC.99-2043:2\")","v":{"$error":"#N/A"}},{"$f":"RTD(\"sysq.rtd\",\"\",\"WTX&`004.10-2043:2\")","v":{"$error":"#N/A"}},{"$error":"#N/A"}]
["2044",{"$f":"RTD(\"sysq.rtd\",\"\",\"!DTSH`LC.99-2044:2\")","v":{"$error":"#N/A"}},{"$f":"RTD(\"sysq.rtd\",\"\",\"!DTDH`LC.99-2044:2\")","v":{"$error":"#N/A"}},{"$f":"RTD(\"sysq.rtd\",\"\",\"!XTSH`LC.99-2044:2\")","v":{"$error":"#N/A"}},{"$f":"RTD(\"sysq.rtd\",\"\",\"!XTDH`LC.99-2044:2\")","v":{"$error":"#N/A"}},{"$f":"RTD(\"sysq.rtd\",\"\",\"!DTAI`LC.99-2044:2\")","v":{"$error":"#N/A"}},{"$f":"RTD(\"sysq.rtd\",\"\",\"WTX&`004.10-2044:2\")","v":{"$error":"#N/A"}},{"$error":"#N/A"}]
["2045",{"$f":"RTD(\"sysq.rtd\",\"\",\"!DTSH`LC.99-2045:2\")","v":{"$error":"#N/A"}},{"$f":"RTD(\"sysq.rtd\",\"\",\"!DTDH`LC.99-2045:2\")","v":{"$error":"#N/A"}},{"$f":"RTD(\"sysq.rtd\",\"\",\"!XTSH`LC.99-2045:2\")","v":{"$error":"#N/A"}},{"$f":"RTD(\"sysq.rtd\",\"\",\"!XTDH`LC.99-2045:2\")","v":{"$error":"#N/A"}},{"$f":"RTD(\"sysq.rtd\",\"\",\"!DTAI`LC.99-2045:2\")","v":{"$error":"#N/A"}},{"$f":"RTD(\"sysq.rtd\",\"\",\"WTX&`004.10-2045:2\")","v":{"$error":"#N/A"}},{"$error":"#N/A"}]
["2046",{"$f":"RTD(\"sysq.rtd\",\"\",\"!DTSH`LC.99-2046:2\")","v":{"$error":"#N/A"}},{"$f":"RTD(\"sysq.rtd\",\"\",\"!DTDH`LC.99-2046:2\")","v":{"$error":"#N/A"}},{"$f":"RTD(\"sysq.rtd\",\"\",\"!XTSH`LC.99-2046:2\")","v":{"$error":"#N/A"}},{"$f":"RTD(\"sysq.rtd\",\"\",\"!XTDH`LC.99-2046:2\")","v":{"$error":"#N/A"}},{"$f":"RTD(\"sysq.rtd\",\"\",\"!DTAI`LC.99-2046:2\")","v":{"$error":"#N/A"}},{"$f":"RTD(\"sysq.rtd\",\"\",\"WTX&`004.10-2046:2\")","v":{"$error":"#N/A"}},{"$error":"#N/A"}]
["2047",{"$f":"RTD(\"sysq.rtd\",\"\",\"!DTSH`LC.99-2047:2\")","v":{"$error":"#N/A"}},{"$f":"RTD(\"sysq.rtd\",\"\",\"!DTDH`LC.99-2047:2\")","v":{"$error":"#N/A"}},{"$f":"RTD(\"sysq.rtd\",\"\",\"!XTSH`LC.99-2047:2\")","v":{"$error":"#N/A"}},{"$f":"RTD(\"sysq.rtd\",\"\",\"!XTDH`LC.99-2047:2\")","v":{"$error":"#N/A"}},{"$f":"RTD(\"sysq.rtd\",\"\",\"!DTAI`LC.99-2047:2\")","v":{"$error":"#N/A"}},{"$f":"RTD(\"sysq.rtd\",\"\",\"WTX&`004.10-2047:2\")","v":{"$error":"#N/A"}},{"$error":"#N/A"}]
["2048",{"$f":"RTD(\"sysq.rtd\",\"\",\"!DTSH`LC.99-2048:2\")","v":{"$error":"#N/A"}},{"$f":"RTD(\"sysq.rtd\",\"\",\"!DTDH`LC.99-2048:2\")","v":{"$error":"#N/A"}},{"$f":"RTD(\"sysq.rtd\",\"\",\"!XTSH`LC.99-2048:2\")","v":{"$error":"#N/A"}},{"$f":"RTD(\"sysq.rtd\",\"\",\"!XTDH`LC.99-2048:2\")","v":{"$error":"#N/A"}},{"$f":"RTD(\"sysq.rtd\",\"\",\"!DTAI`LC.99-2048:2\")","v":{"$error":"#N/A"}},{"$f":"RTD(\"sysq.rtd\",\"\",\"WTX&`004.10-2048:2\")","v":{"$error":"#N/A"}},{"$error":"#N/A"}]
["2049",{"$f":"RTD(\"sysq.rtd\",\"\",\"!DTSH`LC.99-2049:2\")","v":{"$error":"#N/A"}},{"$f":"RTD(\"sysq.rtd\",\"\",\"!DTDH`LC.99-2049:2\")","v":{"$error":"#N/A"}},{"$f":"RTD(\"sysq.rtd\",\"\",\"!XTSH`LC.99-2049:2\")","v":{"$error":"#N/A"}},{"$f":"RTD(\"sysq.rtd\",\"\",\"!XTDH`LC.99-2049:2\")","v":{"$error":"#N/A"}},{"$f":"RTD(\"sysq.rtd\",\"\",\"!DTAI`LC.99-2049:2\")","v":{"$error":"#N/A"}},{"$f":"RTD(\"sysq.rtd\",\"\",\"WTX&`004.10-2049:2\")","v":{"$error":"#N/A"}},{"$error":"#N/A"}]
["2050",{"$f":"RTD(\"sysq.rtd\",\"\",\"!DTSH`LC.99-2050:2\")","v":{"$error":"#N/A"}},{"$f":"RTD(\"sysq.rtd\",\"\",\"!DTDH`LC.99-2050:2\")","v":{"$error":"#N/A"}},{"$f":"RTD(\"sysq.rtd\",\"\",\"!XTSH`LC.99-2050:2\")","v":{"$error":"#N/A"}},{"$f":"RTD(\"sysq.rtd\",\"\",\"!XTDH`LC.99-2050:2\")","v":{"$error":"#N/A"}},{"$f":"RTD(\"sysq.rtd\",\"\",\"!DTAI`LC.99-2050:2\")","v":{"$error":"#N/A"}},{"$f":"RTD(\"sysq.rtd\",\"\",\"WTX&`004.10-2050:2\")","v":{"$error":"#N/A"}},{"$error":"#N/A"}]
["2051",{"$f":"RTD(\"sysq.rtd\",\"\",\"!DTSH`LC.99-2051:2\")","v":{"$error":"#N/A"}},{"$f":"RTD(\"sysq.rtd\",\"\",\"!DTDH`LC.99-2051:2\")","v":{"$error":"#N/A"}},{"$f":"RTD(\"sysq.rtd\",\"\",\"!XTSH`LC.99-2051:2\")","v":{"$error":"#N/A"}},{"$f":"RTD(\"sysq.rtd\",\"\",\"!XTDH`LC.99-2051:2\")","v":{"$error":"#N/A"}},{"$f":"RTD(\"sysq.rtd\",\"\",\"!DTAI`LC.99-2051:2\")","v":{"$error":"#N/A"}},{"$f":"RTD(\"sysq.rtd\",\"\",\"WTX&`004.10-2051:2\")","v":{"$error":"#N/A"}},{"$error":"#N/A"}]
["2052",{"$f":"RTD(\"sysq.rtd\",\"\",\"!DTSH`LC.99-2052:2\")","v":{"$error":"#N/A"}},{"$f":"RTD(\"sysq.rtd\",\"\",\"!DTDH`LC.99-2052:2\")","v":{"$error":"#N/A"}},{"$f":"RTD(\"sysq.rtd\",\"\",\"!XTSH`LC.99-2052:2\")","v":{"$error":"#N/A"}},{"$f":"RTD(\"sysq.rtd\",\"\",\"!XTDH`LC.99-2052:2\")","v":{"$error":"#N/A"}},{"$f":"RTD(\"sysq.rtd\",\"\",\"!DTAI`LC.99-2052:2\")","v":{"$error":"#N/A"}},{"$f":"RTD(\"sysq.rtd\",\"\",\"WTX&`004.10-2052:2\")","v":{"$error":"#N/A"}},{"$error":"#N/A"}]
["2053",{"$f":"RTD(\"sysq.rtd\",\"\",\"!DTSH`LC.99-2053:2\")","v":{"$error":"#N/A"}},{"$f":"RTD(\"sysq.rtd\",\"\",\"!DTDH`LC.99-2053:2\")","v":{"$error":"#N/A"}},{"$f":"RTD(\"sysq.rtd\",\"\",\"!XTSH`LC.99-2053:2\")","v":{"$error":"#N/A"}},{"$f":"RTD(\"sysq.rtd\",\"\",\"!XTDH`LC.99-2053:2\")","v":{"$error":"#N/A"}},{"$f":"RTD(\"sysq.rtd\",\"\",\"!DTAI`LC.99-2053:2\")","v":{"$error":"#N/A"}},{"$f":"RTD(\"sysq.rtd\",\"\",\"WTX&`004.10-2053:2\")","v":{"$error":"#N/A"}},{"$error":"#N/A"}]
["2054",{"$f":"RTD(\"sysq.rtd\",\"\",\"!DTSH`LC.99-2054:2\")","v":{"$error":"#N/A"}},{"$f":"RTD(\"sysq.rtd\",\"\",\"!DTDH`LC.99-2054:2\")","v":{"$error":"#N/A"}},{"$f":"RTD(\"sysq.rtd\",\"\",\"!XTSH`LC.99-2054:2\")","v":{"$error":"#N/A"}},{"$f":"RTD(\"sysq.rtd\",\"\",\"!XTDH`LC.99-2054:2\")","v":{"$error":"#N/A"}},{"$f":"RTD(\"sysq.rtd\",\"\",\"!DTAI`LC.99-2054:2\")","v":{"$error":"#N/A"}},{"$f":"RTD(\"sysq.rtd\",\"\",\"WTX&`004.10-2054:2\")","v":{"$error":"#N/A"}},{"$error":"#N/A"}]
["2055",{"$f":"RTD(\"sysq.rtd\",\"\",\"!DTSH`LC.99-2055:2\")","v":{"$error":"#N/A"}},{"$f":"RTD(\"sysq.rtd\",\"\",\"!DTDH`LC.99-2055:2\")","v":{"$error":"#N/A"}},{"$f":"RTD(\"sysq.rtd\",\"\",\"!XTSH`LC.99-2055:2\")","v":{"$error":"#N/A"}},{"$f":"RTD(\"sysq.rtd\",\"\",\"!XTDH`LC.99-2055:2\")","v":{"$error":"#N/A"}},{"$f":"RTD(\"sysq.rtd\",\"\",\"!DTAI`LC.99-2055:2\")","v":{"$error":"#N/A"}},{"$f":"RTD(\"sysq.rtd\",\"\",\"WTX&`004.10-2055:2\")","v":{"$error":"#N/A"}},{"$error":"#N/A"}]
["2056",{"$f":"RTD(\"sysq.rtd\",\"\",\"!DTSH`LC.99-2056:2\")","v":{"$error":"#N/A"}},{"$f":"RTD(\"sysq.rtd\",\"\",\"!DTDH`LC.99-2056:2\")","v":{"$error":"#N/A"}},{"$f":"RTD(\"sysq.rtd\",\"\",\"!XTSH`LC.99-2056:2\")","v":{"$error":"#N/A"}},{"$f":"RTD(\"sysq.rtd\",\"\",\"!XTDH`LC.99-2056:2\")","v":{"$error":"#N/A"}},{"$f":"RTD(\"sysq.rtd\",\"\",\"!DTAI`LC.99-2056:2\")","v":{"$error":"#N/A"}},{"$f":"RTD(\"sysq.rtd\",\"\",\"WTX&`004.10-2056:2\")","v":{"$error":"#N/A"}},{"$error":"#N/A"}]
["2057",{"$f":"RTD(\"sysq.rtd\",\"\",\"!DTSH`LC.99-2057:2\")","v":{"$error":"#N/A"}},{"$f":"RTD(\"sysq.rtd\",\"\",\"!DTDH`LC.99-2057:2\")","v":{"$error":"#N/A"}},{"$f":"RTD(\"sysq.rtd\",\"\",\"!XTSH`LC.99-2057:2\")","v":{"$error":"#N/A"}},{"$f":"RTD(\"sysq.rtd\",\"\",\"!XTDH`LC.99-2057:2\")","v":{"$error":"#N/A"}},{"$f":"RTD(\"sysq.rtd\",\"\",\"!DTAI`LC.99-2057:2\")","v":{"$error":"#N/A"}},{"$f":"RTD(\"sysq.rtd\",\"\",\"WTX&`004.10-2057:2\")","v":{"$error":"#N/A"}},{"$error":"#N/A"}]
["2058",{"$f":"RTD(\"sysq.rtd\",\"\",\"!DTSH`LC.99-2058:2\")","v":{"$error":"#N/A"}},{"$f":"RTD(\"sysq.rtd\",\"\",\"!DTDH`LC.99-2058:2\")","v":{"$error":"#N/A"}},{"$f":"RTD(\"sysq.rtd\",\"\",\"!XTSH`LC.99-2058:2\")","v":{"$error":"#N/A"}},{"$f":"RTD(\"sysq.rtd\",\"\",\"!XTDH`LC.99-2058:2\")","v":{"$error":"#N/A"}},{"$f":"RTD(\"sysq.rtd\",\"\",\"!DTAI`LC.99-2058:2\")","v":{"$error":"#N/A"}},{"$f":"RTD(\"sysq.rtd\",\"\",\"WTX&`004.10-2058:2\")","v":{"$error":"#N/A"}},{"$error":"#N/A"}]
["2059",{"$f":"RTD(\"sysq.rtd\",\"\",\"!DTSH`LC.99-2059:2\")","v":{"$error":"#N/A"}},{"$f":"RTD(\"sysq.rtd\",\"\",\"!DTDH`LC.99-2059:2\")","v":{"$error":"#N/A"}},{"$f":"RTD(\"sysq.rtd\",\"\",\"!XTSH`LC.99-2059:2\")","v":{"$error":"#N/A"}},{"$f":"RTD(\"sysq.rtd\",\"\",\"!XTDH`LC.99-2059:2\")","v":{"$error":"#N/A"}},{"$f":"RTD(\"sysq.rtd\",\"\",\"!DTAI`LC.99-2059:2\")","v":{"$error":"#N/A"}},{"$f":"RTD(\"sysq.rtd\",\"\",\"WTX&`004.10-2059:2\")","v":{"$error":"#N/A"}},{"$error":"#N/A"}]
["2100",{"$f":"RTD(\"sysq.rtd\",\"\",\"!DTSH`LC.99-2100:2\")","v":{"$error":"#N/A"}},{"$f":"RTD(\"sysq.rtd\",\"\",\"!DTDH`LC.99-2100:2\")","v":{"$error":"#N/A"}},{"$f":"RTD(\"sysq.rtd\",\"\",\"!XTSH`LC.99-2100:2\")","v":{"$error":"#N/A"}},{"$f":"RTD(\"sysq.rtd\",\"\",\"!XTDH`LC.99-2100:2\")","v":{"$error":"#N/A"}},{"$f":"RTD(\"sysq.rtd\",\"\",\"!DTAI`LC.99-2100:2\")","v":{"$error":"#N/A"}},{"$f":"RTD(\"sysq.rtd\",\"\",\"WTX&`004.10-2100:2\")","v":{"$error":"#N/A"}},{"$error":"#N/A"}]
["2101",{"$f":"RTD(\"sysq.rtd\",\"\",\"!DTSH`LC.99-2101:2\")","v":{"$error":"#N/A"}},{"$f":"RTD(\"sysq.rtd\",\"\",\"!DTDH`LC.99-2101:2\")","v":{"$error":"#N/A"}},{"$f":"RTD(\"sysq.rtd\",\"\",\"!XTSH`LC.99-2101:2\")","v":{"$error":"#N/A"}},{"$f":"RTD(\"sysq.rtd\",\"\",\"!XTDH`LC.99-2101:2\")","v":{"$error":"#N/A"}},{"$f":"RTD(\"sysq.rtd\",\"\",\"!DTAI`LC.99-2101:2\")","v":{"$error":"#N/A"}},{"$f":"RTD(\"sysq.rtd\",\"\",\"WTX&`004.10-2101:2\")","v":{"$error":"#N/A"}},{"$error":"#N/A"}]
["2102",{"$f":"RTD(\"sysq.rtd\",\"\",\"!DTSH`LC.99-2102:2\")","v":{"$error":"#N/A"}},{"$f":"RTD(\"sysq.rtd\",\"\",\"!DTDH`LC.99-2102:2\")","v":{"$error":"#N/A"}},{"$f":"RTD(\"sysq.rtd\",\"\",\"!XTSH`LC.99-2102:2\")","v":{"$error":"#N/A"}},{"$f":"RTD(\"sysq.rtd\",\"\",\"!XTDH`LC.99-2102:2\")","v":{"$error":"#N/A"}},{"$f":"RTD(\"sysq.rtd\",\"\",\"!DTAI`LC.99-2102:2\")","v":{"$error":"#N/A"}},{"$f":"RTD(\"sysq.rtd\",\"\",\"WTX&`004.10-2102:2\")","v":{"$error":"#N/A"}},{"$error":"#N/A"}]
["2103",{"$f":"RTD(\"sysq.rtd\",\"\",\"!DTSH`LC.99-2103:2\")","v":{"$error":"#N/A"}},{"$f":"RTD(\"sysq.rtd\",\"\",\"!DTDH`LC.99-2103:2\")","v":{"$error":"#N/A"}},{"$f":"RTD(\"sysq.rtd\",\"\",\"!XTSH`LC.99-2103:2\")","v":{"$error":"#N/A"}},{"$f":"RTD(\"sysq.rtd\",\"\",\"!XTDH`LC.99-2103:2\")","v":{"$error":"#N/A"}},{"$f":"RTD(\"sysq.rtd\",\"\",\"!DTAI`LC.99-2103:2\")","v":{"$error":"#N/A"}},{"$f":"RTD(\"sysq.rtd\",\"\",\"WTX&`004.10-2103:2\")","v":{"$error":"#N/A"}},{"$error":"#N/A"}]
["2104",{"$f":"RTD(\"sysq.rtd\",\"\",\"!DTSH`LC.99-2104:2\")","v":{"$error":"#N/A"}},{"$f":"RTD(\"sysq.rtd\",\"\",\"!DTDH`LC.99-2104:2\")","v":{"$error":"#N/A"}},{"$f":"RTD(\"sysq.rtd\",\"\",\"!XTSH`LC.99-2104:2\")","v":{"$error":"#N/A"}},{"$f":"RTD(\"sysq.rtd\",\"\",\"!XTDH`LC.99-2104:2\")","v":{"$error":"#N/A"}},{"$f":"RTD(\"sysq.rtd\",\"\",\"!DTAI`LC.99-2104:2\")","v":{"$error":"#N/A"}},{"$f":"RTD(\"sysq.rtd\",\"\",\"WTX&`004.10-2104:2\")","v":{"$error":"#N/A"}},{"$error":"#N/A"}]
["2105",{"$f":"RTD(\"sysq.rtd\",\"\",\"!DTSH`LC.99-2105:2\")","v":{"$error":"#N/A"}},{"$f":"RTD(\"sysq.rtd\",\"\",\"!DTDH`LC.99-2105:2\")","v":{"$error":"#N/A"}},{"$f":"RTD(\"sysq.rtd\",\"\",\"!XTSH`LC.99-2105:2\")","v":{"$error":"#N/A"}},{"$f":"RTD(\"sysq.rtd\",\"\",\"!XTDH`LC.99-2105:2\")","v":{"$error":"#N/A"}},{"$f":"RTD(\"sysq.rtd\",\"\",\"!DTAI`LC.99-2105:2\")","v":{"$error":"#N/A"}},{"$f":"RTD(\"sysq.rtd\",\"\",\"WTX&`004.10-2105:2\")","v":{"$error":"#N/A"}},{"$error":"#N/A"}]
["2106",{"$f":"RTD(\"sysq.rtd\",\"\",\"!DTSH`LC.99-2106:2\")","v":{"$error":"#N/A"}},{"$f":"RTD(\"sysq.rtd\",\"\",\"!DTDH`LC.99-2106:2\")","v":{"$error":"#N/A"}},{"$f":"RTD(\"sysq.rtd\",\"\",\"!XTSH`LC.99-2106:2\")","v":{"$error":"#N/A"}},{"$f":"RTD(\"sysq.rtd\",\"\",\"!XTDH`LC.99-2106:2\")","v":{"$error":"#N/A"}},{"$f":"RTD(\"sysq.rtd\",\"\",\"!DTAI`LC.99-2106:2\")","v":{"$error":"#N/A"}},{"$f":"RTD(\"sysq.rtd\",\"\",\"WTX&`004.10-2106:2\")","v":{"$error":"#N/A"}},{"$error":"#N/A"}]
["2107",{"$f":"RTD(\"sysq.rtd\",\"\",\"!DTSH`LC.99-2107:2\")","v":{"$error":"#N/A"}},{"$f":"RTD(\"sysq.rtd\",\"\",\"!DTDH`LC.99-2107:2\")","v":{"$error":"#N/A"}},{"$f":"RTD(\"sysq.rtd\",\"\",\"!XTSH`LC.99-2107:2\")","v":{"$error":"#N/A"}},{"$f":"RTD(\"sysq.rtd\",\"\",\"!XTDH`LC.99-2107:2\")","v":{"$error":"#N/A"}},{"$f":"RTD(\"sysq.rtd\",\"\",\"!DTAI`LC.99-2107:2\")","v":{"$error":"#N/A"}},{"$f":"RTD(\"sysq.rtd\",\"\",\"WTX&`004.10-2107:2\")","v":{"$error":"#N/A"}},{"$error":"#N/A"}]
["2108",{"$f":"RTD(\"sysq.rtd\",\"\",\"!DTSH`LC.99-2108:2\")","v":{"$error":"#N/A"}},{"$f":"RTD(\"sysq.rtd\",\"\",\"!DTDH`LC.99-2108:2\")","v":{"$error":"#N/A"}},{"$f":"RTD(\"sysq.rtd\",\"\",\"!XTSH`LC.99-2108:2\")","v":{"$error":"#N/A"}},{"$f":"RTD(\"sysq.rtd\",\"\",\"!XTDH`LC.99-2108:2\")","v":{"$error":"#N/A"}},{"$f":"RTD(\"sysq.rtd\",\"\",\"!DTAI`LC.99-2108:2\")","v":{"$error":"#N/A"}},{"$f":"RTD(\"sysq.rtd\",\"\",\"WTX&`004.10-2108:2\")","v":{"$error":"#N/A"}},{"$error":"#N/A"}]
["2109",{"$f":"RTD(\"sysq.rtd\",\"\",\"!DTSH`LC.99-2109:2\")","v":{"$error":"#N/A"}},{"$f":"RTD(\"sysq.rtd\",\"\",\"!DTDH`LC.99-2109:2\")","v":{"$error":"#N/A"}},{"$f":"RTD(\"sysq.rtd\",\"\",\"!XTSH`LC.99-2109:2\")","v":{"$error":"#N/A"}},{"$f":"RTD(\"sysq.rtd\",\"\",\"!XTDH`LC.99-2109:2\")","v":{"$error":"#N/A"}},{"$f":"RTD(\"sysq.rtd\",\"\",\"!DTAI`LC.99-2109:2\")","v":{"$error":"#N/A"}},{"$f":"RTD(\"sysq.rtd\",\"\",\"WTX&`004.10-2109:2\")","v":{"$error":"#N/A"}},{"$error":"#N/A"}]
["2110",{"$f":"RTD(\"sysq.rtd\",\"\",\"!DTSH`LC.99-2110:2\")","v":{"$error":"#N/A"}},{"$f":"RTD(\"sysq.rtd\",\"\",\"!DTDH`LC.99-2110:2\")","v":{"$error":"#N/A"}},{"$f":"RTD(\"sysq.rtd\",\"\",\"!XTSH`LC.99-2110:2\")","v":{"$error":"#N/A"}},{"$f":"RTD(\"sysq.rtd\",\"\",\"!XTDH`LC.99-2110:2\")","v":{"$error":"#N/A"}},{"$f":"RTD(\"sysq.rtd\",\"\",\"!DTAI`LC.99-2110:2\")","v":{"$error":"#N/A"}},{"$f":"RTD(\"sysq.rtd\",\"\",\"WTX&`004.10-2110:2\")","v":{"$error":"#N/A"}},{"$error":"#N/A"}]
["2111",{"$f":"RTD(\"sysq.rtd\",\"\",\"!DTSH`LC.99-2111:2\")","v":{"$error":"#N/A"}},{"$f":"RTD(\"sysq.rtd\",\"\",\"!DTDH`LC.99-2111:2\")","v":{"$error":"#N/A"}},{"$f":"RTD(\"sysq.rtd\",\"\",\"!XTSH`LC.99-2111:2\")","v":{"$error":"#N/A"}},{"$f":"RTD(\"sysq.rtd\",\"\",\"!XTDH`LC.99-2111:2\")","v":{"$error":"#N/A"}},{"$f":"RTD(\"sysq.rtd\",\"\",\"!DTAI`LC.99-2111:2\")","v":{"$error":"#N/A"}},{"$f":"RTD(\"sysq.rtd\",\"\",\"WTX&`004.10-2111:2\")","v":{"$error":"#N/A"}},{"$error":"#N/A"}]
["2112",{"$f":"RTD(\"sysq.rtd\",\"\",\"!DTSH`LC.99-2112:2\")","v":{"$error":"#N/A"}},{"$f":"RTD(\"sysq.rtd\",\"\",\"!DTDH`LC.99-2112:2\")","v":{"$error":"#N/A"}},{"$f":"RTD(\"sysq.rtd\",\"\",\"!XTSH`LC.99-2112:2\")","v":{"$error":"#N/A"}},{"$f":"RTD(\"sysq.rtd\",\"\",\"!XTDH`LC.99-2112:2\")","v":{"$error":"#N/A"}},{"$f":"RTD(\"sysq.rtd\",\"\",\"!DTAI`LC.99-2112:2\")","v":{"$error":"#N/A"}},{"$f":"RTD(\"sysq.rtd\",\"\",\"WTX&`004.10-2112:2\")","v":{"$error":"#N/A"}},{"$error":"#N/A"}]
["2113",{"$f":"RTD(\"sysq.rtd\",\"\",\"!DTSH`LC.99-2113:2\")","v":{"$error":"#N/A"}},{"$f":"RTD(\"sysq.rtd\",\"\",\"!DTDH`LC.99-2113:2\")","v":{"$error":"#N/A"}},{"$f":"RTD(\"sysq.rtd\",\"\",\"!XTSH`LC.99-2113:2\")","v":{"$error":"#N/A"}},{"$f":"RTD(\"sysq.rtd\",\"\",\"!XTDH`LC.99-2113:2\")","v":{"$error":"#N/A"}},{"$f":"RTD(\"sysq.rtd\",\"\",\"!DTAI`LC.99-2113:2\")","v":{"$error":"#N/A"}},{"$f":"RTD(\"sysq.rtd\",\"\",\"WTX&`004.10-2113:2\")","v":{"$error":"#N/A"}},{"$error":"#N/A"}]
["2114",{"$f":"RTD(\"sysq.rtd\",\"\",\"!DTSH`LC.99-2114:2\")","v":{"$error":"#N/A"}},{"$f":"RTD(\"sysq.rtd\",\"\",\"!DTDH`LC.99-2114:2\")","v":{"$error":"#N/A"}},{"$f":"RTD(\"sysq.rtd\",\"\",\"!XTSH`LC.99-2114:2\")","v":{"$error":"#N/A"}},{"$f":"RTD(\"sysq.rtd\",\"\",\"!XTDH`LC.99-2114:2\")","v":{"$error":"#N/A"}},{"$f":"RTD(\"sysq.rtd\",\"\",\"!DTAI`LC.99-2114:2\")","v":{"$error":"#N/A"}},{"$f":"RTD(\"sysq.rtd\",\"\",\"WTX&`004.10-2114:2\")","v":{"$error":"#N/A"}},{"$error":"#N/A"}]
["2115",{"$f":"RTD(\"sysq.rtd\",\"\",\"!DTSH`LC.99-2115:2\")","v":{"$error":"#N/A"}},{"$f":"RTD(\"sysq.rtd\",\"\",\"!DTDH`LC.99-2115:2\")","v":{"$error":"#N/A"}},{"$f":"RTD(\"sysq.rtd\",\"\",\"!XTSH`LC.99-2115:2\")","v":{"$error":"#N/A"}},{"$f":"RTD(\"sysq.rtd\",\"\",\"!XTDH`LC.99-2115:2\")","v":{"$error":"#N/A"}},{"$f":"RTD(\"sysq.rtd\",\"\",\"!DTAI`LC.99-2115:2\")","v":{"$error":"#N/A"}},{"$f":"RTD(\"sysq.rtd\",\"\",\"WTX&`004.10-2115:2\")","v":{"$error":"#N/A"}},{"$error":"#N/A"}]
["2116",{"$f":"RTD(\"sysq.rtd\",\"\",\"!DTSH`LC.99-2116:2\")","v":{"$error":"#N/A"}},{"$f":"RTD(\"sysq.rtd\",\"\",\"!DTDH`LC.99-2116:2\")","v":{"$error":"#N/A"}},{"$f":"RTD(\"sysq.rtd\",\"\",\"!XTSH`LC.99-2116:2\")","v":{"$error":"#N/A"}},{"$f":"RTD(\"sysq.rtd\",\"\",\"!XTDH`LC.99-2116:2\")","v":{"$error":"#N/A"}},{"$f":"RTD(\"sysq.rtd\",\"\",\"!DTAI`LC.99-2116:2\")","v":{"$error":"#N/A"}},{"$f":"RTD(\"sysq.rtd\",\"\",\"WTX&`004.10-2116:2\")","v":{"$error":"#N/A"}},{"$error":"#N/A"}]
["2117",{"$f":"RTD(\"sysq.rtd\",\"\",\"!DTSH`LC.99-2117:2\")","v":{"$error":"#N/A"}},{"$f":"RTD(\"sysq.rtd\",\"\",\"!DTDH`LC.99-2117:2\")","v":{"$error":"#N/A"}},{"$f":"RTD(\"sysq.rtd\",\"\",\"!XTSH`LC.99-2117:2\")","v":{"$error":"#N/A"}},{"$f":"RTD(\"sysq.rtd\",\"\",\"!XTDH`LC.99-2117:2\")","v":{"$error":"#N/A"}},{"$f":"RTD(\"sysq.rtd\",\"\",\"!DTAI`LC.99-2117:2\")","v":{"$error":"#N/A"}},{"$f":"RTD(\"sysq.rtd\",\"\",\"WTX&`004.10-2117:2\")","v":{"$error":"#N/A"}},{"$error":"#N/A"}]
["2118",{"$f":"RTD(\"sysq.rtd\",\"\",\"!DTSH`LC.99-2118:2\")","v":{"$error":"#N/A"}},{"$f":"RTD(\"sysq.rtd\",\"\",\"!DTDH`LC.99-2118:2\")","v":{"$error":"#N/A"}},{"$f":"RTD(\"sysq.rtd\",\"\",\"!XTSH`LC.99-2118:2\")","v":{"$error":"#N/A"}},{"$f":"RTD(\"sysq.rtd\",\"\",\"!XTDH`LC.99-2118:2\")","v":{"$error":"#N/A"}},{"$f":"RTD(\"sysq.rtd\",\"\",\"!DTAI`LC.99-2118:2\")","v":{"$error":"#N/A"}},{"$f":"RTD(\"sysq.rtd\",\"\",\"WTX&`004.10-2118:2\")","v":{"$error":"#N/A"}},{"$error":"#N/A"}]
["2119",{"$f":"RTD(\"sysq.rtd\",\"\",\"!DTSH`LC.99-2119:2\")","v":{"$error":"#N/A"}},{"$f":"RTD(\"sysq.rtd\",\"\",\"!DTDH`LC.99-2119:2\")","v":{"$error":"#N/A"}},{"$f":"RTD(\"sysq.rtd\",\"\",\"!XTSH`LC.99-2119:2\")","v":{"$error":"#N/A"}},{"$f":"RTD(\"sysq.rtd\",\"\",\"!XTDH`LC.99-2119:2\")","v":{"$error":"#N/A"}},{"$f":"RTD(\"sysq.rtd\",\"\",\"!DTAI`LC.99-2119:2\")","v":{"$error":"#N/A"}},{"$f":"RTD(\"sysq.rtd\",\"\",\"WTX&`004.10-2119:2\")","v":{"$error":"#N/A"}},{"$error":"#N/A"}]
["2120",{"$f":"RTD(\"sysq.rtd\",\"\",\"!DTSH`LC.99-2120:2\")","v":{"$error":"#N/A"}},{"$f":"RTD(\"sysq.rtd\",\"\",\"!DTDH`LC.99-2120:2\")","v":{"$error":"#N/A"}},{"$f":"RTD(\"sysq.rtd\",\"\",\"!XTSH`LC.99-2120:2\")","v":{"$error":"#N/A"}},{"$f":"RTD(\"sysq.rtd\",\"\",\"!XTDH`LC.99-2120:2\")","v":{"$error":"#N/A"}},{"$f":"RTD(\"sysq.rtd\",\"\",\"!DTAI`LC.99-2120:2\")","v":{"$error":"#N/A"}},{"$f":"RTD(\"sysq.rtd\",\"\",\"WTX&`004.10-2120:2\")","v":{"$error":"#N/A"}},{"$error":"#N/A"}]
["2121",{"$f":"RTD(\"sysq.rtd\",\"\",\"!DTSH`LC.99-2121:2\")","v":{"$error":"#N/A"}},{"$f":"RTD(\"sysq.rtd\",\"\",\"!DTDH`LC.99-2121:2\")","v":{"$error":"#N/A"}},{"$f":"RTD(\"sysq.rtd\",\"\",\"!XTSH`LC.99-2121:2\")","v":{"$error":"#N/A"}},{"$f":"RTD(\"sysq.rtd\",\"\",\"!XTDH`LC.99-2121:2\")","v":{"$error":"#N/A"}},{"$f":"RTD(\"sysq.rtd\",\"\",\"!DTAI`LC.99-2121:2\")","v":{"$error":"#N/A"}},{"$f":"RTD(\"sysq.rtd\",\"\",\"WTX&`004.10-2121:2\")","v":{"$error":"#N/A"}},{"$error":"#N/A"}]
["2122",{"$f":"RTD(\"sysq.rtd\",\"\",\"!DTSH`LC.99-2122:2\")","v":{"$error":"#N/A"}},{"$f":"RTD(\"sysq.rtd\",\"\",\"!DTDH`LC.99-2122:2\")","v":{"$error":"#N/A"}},{"$f":"RTD(\"sysq.rtd\",\"\",\"!XTSH`LC.99-2122:2\")","v":{"$error":"#N/A"}},{"$f":"RTD(\"sysq.rtd\",\"\",\"!XTDH`LC.99-2122:2\")","v":{"$error":"#N/A"}},{"$f":"RTD(\"sysq.rtd\",\"\",\"!DTAI`LC.99-2122:2\")","v":{"$error":"#N/A"}},{"$f":"RTD(\"sysq.rtd\",\"\",\"WTX&`004.10-2122:2\")","v":{"$error":"#N/A"}},{"$error":"#N/A"}]
["2123",{"$f":"RTD(\"sysq.rtd\",\"\",\"!DTSH`LC.99-2123:2\")","v":{"$error":"#N/A"}},{"$f":"RTD(\"sysq.rtd\",\"\",\"!DTDH`LC.99-2123:2\")","v":{"$error":"#N/A"}},{"$f":"RTD(\"sysq.rtd\",\"\",\"!XTSH`LC.99-2123:2\")","v":{"$error":"#N/A"}},{"$f":"RTD(\"sysq.rtd\",\"\",\"!XTDH`LC.99-2123:2\")","v":{"$error":"#N/A"}},{"$f":"RTD(\"sysq.rtd\",\"\",\"!DTAI`LC.99-2123:2\")","v":{"$error":"#N/A"}},{"$f":"RTD(\"sysq.rtd\",\"\",\"WTX&`004.10-2123:2\")","v":{"$error":"#N/A"}},{"$error":"#N/A"}]
["2124",{"$f":"RTD(\"sysq.rtd\",\"\",\"!DTSH`LC.99-2124:2\")","v":{"$error":"#N/A"}},{"$f":"RTD(\"sysq.rtd\",\"\",\"!DTDH`LC.99-2124:2\")","v":{"$error":"#N/A"}},{"$f":"RTD(\"sysq.rtd\",\"\",\"!XTSH`LC.99-2124:2\")","v":{"$error":"#N/A"}},{"$f":"RTD(\"sysq.rtd\",\"\",\"!XTDH`LC.99-2124:2\")","v":{"$error":"#N/A"}},{"$f":"RTD(\"sysq.rtd\",\"\",\"!DTAI`LC.99-2124:2\")","v":{"$error":"#N/A"}},{"$f":"RTD(\"sysq.rtd\",\"\",\"WTX&`004.10-2124:2\")","v":{"$error":"#N/A"}},{"$error":"#N/A"}]
["2125",{"$f":"RTD(\"sysq.rtd\",\"\",\"!DTSH`LC.99-2125:2\")","v":{"$error":"#N/A"}},{"$f":"RTD(\"sysq.rtd\",\"\",\"!DTDH`LC.99-2125:2\")","v":{"$error":"#N/A"}},{"$f":"RTD(\"sysq.rtd\",\"\",\"!XTSH`LC.99-2125:2\")","v":{"$error":"#N/A"}},{"$f":"RTD(\"sysq.rtd\",\"\",\"!XTDH`LC.99-2125:2\")","v":{"$error":"#N/A"}},{"$f":"RTD(\"sysq.rtd\",\"\",\"!DTAI`LC.99-2125:2\")","v":{"$error":"#N/A"}},{"$f":"RTD(\"sysq.rtd\",\"\",\"WTX&`004.10-2125:2\")","v":{"$error":"#N/A"}},{"$error":"#N/A"}]
["2126",{"$f":"RTD(\"sysq.rtd\",\"\",\"!DTSH`LC.99-2126:2\")","v":{"$error":"#N/A"}},{"$f":"RTD(\"sysq.rtd\",\"\",\"!DTDH`LC.99-2126:2\")","v":{"$error":"#N/A"}},{"$f":"RTD(\"sysq.rtd\",\"\",\"!XTSH`LC.99-2126:2\")","v":{"$error":"#N/A"}},{"$f":"RTD(\"sysq.rtd\",\"\",\"!XTDH`LC.99-2126:2\")","v":{"$error":"#N/A"}},{"$f":"RTD(\"sysq.rtd\",\"\",\"!DTAI`LC.99-2126:2\")","v":{"$error":"#N/A"}},{"$f":"RTD(\"sysq.rtd\",\"\",\"WTX&`004.10-2126:2\")","v":{"$error":"#N/A"}},{"$error":"#N/A"}]
["2127",{"$f":"RTD(\"sysq.rtd\",\"\",\"!DTSH`LC.99-2127:2\")","v":{"$error":"#N/A"}},{"$f":"RTD(\"sysq.rtd\",\"\",\"!DTDH`LC.99-2127:2\")","v":{"$error":"#N/A"}},{"$f":"RTD(\"sysq.rtd\",\"\",\"!XTSH`LC.99-2127:2\")","v":{"$error":"#N/A"}},{"$f":"RTD(\"sysq.rtd\",\"\",\"!XTDH`LC.99-2127:2\")","v":{"$error":"#N/A"}},{"$f":"RTD(\"sysq.rtd\",\"\",\"!DTAI`LC.99-2127:2\")","v":{"$error":"#N/A"}},{"$f":"RTD(\"sysq.rtd\",\"\",\"WTX&`004.10-2127:2\")","v":{"$error":"#N/A"}},{"$error":"#N/A"}]
["2128",{"$f":"RTD(\"sysq.rtd\",\"\",\"!DTSH`LC.99-2128:2\")","v":{"$error":"#N/A"}},{"$f":"RTD(\"sysq.rtd\",\"\",\"!DTDH`LC.99-2128:2\")","v":{"$error":"#N/A"}},{"$f":"RTD(\"sysq.rtd\",\"\",\"!XTSH`LC.99-2128:2\")","v":{"$error":"#N/A"}},{"$f":"RTD(\"sysq.rtd\",\"\",\"!XTDH`LC.99-2128:2\")","v":{"$error":"#N/A"}},{"$f":"RTD(\"sysq.rtd\",\"\",\"!DTAI`LC.99-2128:2\")","v":{"$error":"#N/A"}},{"$f":"RTD(\"sysq.rtd\",\"\",\"WTX&`004.10-2128:2\")","v":{"$error":"#N/A"}},{"$error":"#N/A"}]
["2129",{"$f":"RTD(\"sysq.rtd\",\"\",\"!DTSH`LC.99-2129:2\")","v":{"$error":"#N/A"}},{"$f":"RTD(\"sysq.rtd\",\"\",\"!DTDH`LC.99-2129:2\")","v":{"$error":"#N/A"}},{"$f":"RTD(\"sysq.rtd\",\"\",\"!XTSH`LC.99-2129:2\")","v":{"$error":"#N/A"}},{"$f":"RTD(\"sysq.rtd\",\"\",\"!XTDH`LC.99-2129:2\")","v":{"$error":"#N/A"}},{"$f":"RTD(\"sysq.rtd\",\"\",\"!DTAI`LC.99-2129:2\")","v":{"$error":"#N/A"}},{"$f":"RTD(\"sysq.rtd\",\"\",\"WTX&`004.10-2129:2\")","v":{"$error":"#N/A"}},{"$error":"#N/A"}]
["2130",{"$f":"RTD(\"sysq.rtd\",\"\",\"!DTSH`LC.99-2130:2\")","v":{"$error":"#N/A"}},{"$f":"RTD(\"sysq.rtd\",\"\",\"!DTDH`LC.99-2130:2\")","v":{"$error":"#N/A"}},{"$f":"RTD(\"sysq.rtd\",\"\",\"!XTSH`LC.99-2130:2\")","v":{"$error":"#N/A"}},{"$f":"RTD(\"sysq.rtd\",\"\",\"!XTDH`LC.99-2130:2\")","v":{"$error":"#N/A"}},{"$f":"RTD(\"sysq.rtd\",\"\",\"!DTAI`LC.99-2130:2\")","v":{"$error":"#N/A"}},{"$f":"RTD(\"sysq.rtd\",\"\",\"WTX&`004.10-2130:2\")","v":{"$error":"#N/A"}},{"$error":"#N/A"}]
["2131",{"$f":"RTD(\"sysq.rtd\",\"\",\"!DTSH`LC.99-2131:2\")","v":{"$error":"#N/A"}},{"$f":"RTD(\"sysq.rtd\",\"\",\"!DTDH`LC.99-2131:2\")","v":{"$error":"#N/A"}},{"$f":"RTD(\"sysq.rtd\",\"\",\"!XTSH`LC.99-2131:2\")","v":{"$error":"#N/A"}},{"$f":"RTD(\"sysq.rtd\",\"\",\"!XTDH`LC.99-2131:2\")","v":{"$error":"#N/A"}},{"$f":"RTD(\"sysq.rtd\",\"\",\"!DTAI`LC.99-2131:2\")","v":{"$error":"#N/A"}},{"$f":"RTD(\"sysq.rtd\",\"\",\"WTX&`004.10-2131:2\")","v":{"$error":"#N/A"}},{"$error":"#N/A"}]
["2132",{"$f":"RTD(\"sysq.rtd\",\"\",\"!DTSH`LC.99-2132:2\")","v":{"$error":"#N/A"}},{"$f":"RTD(\"sysq.rtd\",\"\",\"!DTDH`LC.99-2132:2\")","v":{"$error":"#N/A"}},{"$f":"RTD(\"sysq.rtd\",\"\",\"!XTSH`LC.99-2132:2\")","v":{"$error":"#N/A"}},{"$f":"RTD(\"sysq.rtd\",\"\",\"!XTDH`LC.99-2132:2\")","v":{"$error":"#N/A"}},{"$f":"RTD(\"sysq.rtd\",\"\",\"!DTAI`LC.99-2132:2\")","v":{"$error":"#N/A"}},{"$f":"RTD(\"sysq.rtd\",\"\",\"WTX&`004.10-2132:2\")","v":{"$error":"#N/A"}},{"$error":"#N/A"}]
["2133",{"$f":"RTD(\"sysq.rtd\",\"\",\"!DTSH`LC.99-2133:2\")","v":{"$error":"#N/A"}},{"$f":"RTD(\"sysq.rtd\",\"\",\"!DTDH`LC.99-2133:2\")","v":{"$error":"#N/A"}},{"$f":"RTD(\"sysq.rtd\",\"\",\"!XTSH`LC.99-2133:2\")","v":{"$error":"#N/A"}},{"$f":"RTD(\"sysq.rtd\",\"\",\"!XTDH`LC.99-2133:2\")","v":{"$error":"#N/A"}},{"$f":"RTD(\"sysq.rtd\",\"\",\"!DTAI`LC.99-2133:2\")","v":{"$error":"#N/A"}},{"$f":"RTD(\"sysq.rtd\",\"\",\"WTX&`004.10-2133:2\")","v":{"$error":"#N/A"}},{"$error":"#N/A"}]
["2134",{"$f":"RTD(\"sysq.rtd\",\"\",\"!DTSH`LC.99-2134:2\")","v":{"$error":"#N/A"}},{"$f":"RTD(\"sysq.rtd\",\"\",\"!DTDH`LC.99-2134:2\")","v":{"$error":"#N/A"}},{"$f":"RTD(\"sysq.rtd\",\"\",\"!XTSH`LC.99-2134:2\")","v":{"$error":"#N/A"}},{"$f":"RTD(\"sysq.rtd\",\"\",\"!XTDH`LC.99-2134:2\")","v":{"$error":"#N/A"}},{"$f":"RTD(\"sysq.rtd\",\"\",\"!DTAI`LC.99-2134:2\")","v":{"$error":"#N/A"}},{"$f":"RTD(\"sysq.rtd\",\"\",\"WTX&`004.10-2134:2\")","v":{"$error":"#N/A"}},{"$error":"#N/A"}]
["2135",{"$f":"RTD(\"sysq.rtd\",\"\",\"!DTSH`LC.99-2135:2\")","v":{"$error":"#N/A"}},{"$f":"RTD(\"sysq.rtd\",\"\",\"!DTDH`LC.99-2135:2\")","v":{"$error":"#N/A"}},{"$f":"RTD(\"sysq.rtd\",\"\",\"!XTSH`LC.99-2135:2\")","v":{"$error":"#N/A"}},{"$f":"RTD(\"sysq.rtd\",\"\",\"!XTDH`LC.99-2135:2\")","v":{"$error":"#N/A"}},{"$f":"RTD(\"sysq.rtd\",\"\",\"!DTAI`LC.99-2135:2\")","v":{"$error":"#N/A"}},{"$f":"RTD(\"sysq.rtd\",\"\",\"WTX&`004.10-2135:2\")","v":{"$error":"#N/A"}},{"$error":"#N/A"}]
["2136",{"$f":"RTD(\"sysq.rtd\",\"\",\"!DTSH`LC.99-2136:2\")","v":{"$error":"#N/A"}},{"$f":"RTD(\"sysq.rtd\",\"\",\"!DTDH`LC.99-2136:2\")","v":{"$error":"#N/A"}},{"$f":"RTD(\"sysq.rtd\",\"\",\"!XTSH`LC.99-2136:2\")","v":{"$error":"#N/A"}},{"$f":"RTD(\"sysq.rtd\",\"\",\"!XTDH`LC.99-2136:2\")","v":{"$error":"#N/A"}},{"$f":"RTD(\"sysq.rtd\",\"\",\"!DTAI`LC.99-2136:2\")","v":{"$error":"#N/A"}},{"$f":"RTD(\"sysq.rtd\",\"\",\"WTX&`004.10-2136:2\")","v":{"$error":"#N/A"}},{"$error":"#N/A"}]
["2137",{"$f":"RTD(\"sysq.rtd\",\"\",\"!DTSH`LC.99-2137:2\")","v":{"$error":"#N/A"}},{"$f":"RTD(\"sysq.rtd\",\"\",\"!DTDH`LC.99-2137:2\")","v":{"$error":"#N/A"}},{"$f":"RTD(\"sysq.rtd\",\"\",\"!XTSH`LC.99-2137:2\")","v":{"$error":"#N/A"}},{"$f":"RTD(\"sysq.rtd\",\"\",\"!XTDH`LC.99-2137:2\")","v":{"$error":"#N/A"}},{"$f":"RTD(\"sysq.rtd\",\"\",\"!DTAI`LC.99-2137:2\")","v":{"$error":"#N/A"}},{"$f":"RTD(\"sysq.rtd\",\"\",\"WTX&`004.10-2137:2\")","v":{"$error":"#N/A"}},{"$error":"#N/A"}]
["2138",{"$f":"RTD(\"sysq.rtd\",\"\",\"!DTSH`LC.99-2138:2\")","v":{"$error":"#N/A"}},{"$f":"RTD(\"sysq.rtd\",\"\",\"!DTDH`LC.99-2138:2\")","v":{"$error":"#N/A"}},{"$f":"RTD(\"sysq.rtd\",\"\",\"!XTSH`LC.99-2138:2\")","v":{"$error":"#N/A"}},{"$f":"RTD(\"sysq.rtd\",\"\",\"!XTDH`LC.99-2138:2\")","v":{"$error":"#N/A"}},{"$f":"RTD(\"sysq.rtd\",\"\",\"!DTAI`LC.99-2138:2\")","v":{"$error":"#N/A"}},{"$f":"RTD(\"sysq.rtd\",\"\",\"WTX&`004.10-2138:2\")","v":{"$error":"#N/A"}},{"$error":"#N/A"}]
["2139",{"$f":"RTD(\"sysq.rtd\",\"\",\"!DTSH`LC.99-2139:2\")","v":{"$error":"#N/A"}},{"$f":"RTD(\"sysq.rtd\",\"\",\"!DTDH`LC.99-2139:2\")","v":{"$error":"#N/A"}},{"$f":"RTD(\"sysq.rtd\",\"\",\"!XTSH`LC.99-2139:2\")","v":{"$error":"#N/A"}},{"$f":"RTD(\"sysq.rtd\",\"\",\"!XTDH`LC.99-2139:2\")","v":{"$error":"#N/A"}},{"$f":"RTD(\"sysq.rtd\",\"\",\"!DTAI`LC.99-2139:2\")","v":{"$error":"#N/A"}},{"$f":"RTD(\"sysq.rtd\",\"\",\"WTX&`004.10-2139:2\")","v":{"$error":"#N/A"}},{"$error":"#N/A"}]
["2140",{"$f":"RTD(\"sysq.rtd\",\"\",\"!DTSH`LC.99-2140:2\")","v":{"$error":"#N/A"}},{"$f":"RTD(\"sysq.rtd\",\"\",\"!DTDH`LC.99-2140:2\")","v":{"$error":"#N/A"}},{"$f":"RTD(\"sysq.rtd\",\"\",\"!XTSH`LC.99-2140:2\")","v":{"$error":"#N/A"}},{"$f":"RTD(\"sysq.rtd\",\"\",\"!XTDH`LC.99-2140:2\")","v":{"$error":"#N/A"}},{"$f":"RTD(\"sysq.rtd\",\"\",\"!DTAI`LC.99-2140:2\")","v":{"$error":"#N/A"}},{"$f":"RTD(\"sysq.rtd\",\"\",\"WTX&`004.10-2140:2\")","v":{"$error":"#N/A"}},{"$error":"#N/A"}]
["2141",{"$f":"RTD(\"sysq.rtd\",\"\",\"!DTSH`LC.99-2141:2\")","v":{"$error":"#N/A"}},{"$f":"RTD(\"sysq.rtd\",\"\",\"!DTDH`LC.99-2141:2\")","v":{"$error":"#N/A"}},{"$f":"RTD(\"sysq.rtd\",\"\",\"!XTSH`LC.99-2141:2\")","v":{"$error":"#N/A"}},{"$f":"RTD(\"sysq.rtd\",\"\",\"!XTDH`LC.99-2141:2\")","v":{"$error":"#N/A"}},{"$f":"RTD(\"sysq.rtd\",\"\",\"!DTAI`LC.99-2141:2\")","v":{"$error":"#N/A"}},{"$f":"RTD(\"sysq.rtd\",\"\",\"WTX&`004.10-2141:2\")","v":{"$error":"#N/A"}},{"$error":"#N/A"}]
["2142",{"$f":"RTD(\"sysq.rtd\",\"\",\"!DTSH`LC.99-2142:2\")","v":{"$error":"#N/A"}},{"$f":"RTD(\"sysq.rtd\",\"\",\"!DTDH`LC.99-2142:2\")","v":{"$error":"#N/A"}},{"$f":"RTD(\"sysq.rtd\",\"\",\"!XTSH`LC.99-2142:2\")","v":{"$error":"#N/A"}},{"$f":"RTD(\"sysq.rtd\",\"\",\"!XTDH`LC.99-2142:2\")","v":{"$error":"#N/A"}},{"$f":"RTD(\"sysq.rtd\",\"\",\"!DTAI`LC.99-2142:2\")","v":{"$error":"#N/A"}},{"$f":"RTD(\"sysq.rtd\",\"\",\"WTX&`004.10-2142:2\")","v":{"$error":"#N/A"}},{"$error":"#N/A"}]
["2143",{"$f":"RTD(\"sysq.rtd\",\"\",\"!DTSH`LC.99-2143:2\")","v":{"$error":"#N/A"}},{"$f":"RTD(\"sysq.rtd\",\"\",\"!DTDH`LC.99-2143:2\")","v":{"$error":"#N/A"}},{"$f":"RTD(\"sysq.rtd\",\"\",\"!XTSH`LC.99-2143:2\")","v":{"$error":"#N/A"}},{"$f":"RTD(\"sysq.rtd\",\"\",\"!XTDH`LC.99-2143:2\")","v":{"$error":"#N/A"}},{"$f":"RTD(\"sysq.rtd\",\"\",\"!DTAI`LC.99-2143:2\")","v":{"$error":"#N/A"}},{"$f":"RTD(\"sysq.rtd\",\"\",\"WTX&`004.10-2143:2\")","v":{"$error":"#N/A"}},{"$error":"#N/A"}]
["2144",{"$f":"RTD(\"sysq.rtd\",\"\",\"!DTSH`LC.99-2144:2\")","v":{"$error":"#N/A"}},{"$f":"RTD(\"sysq.rtd\",\"\",\"!DTDH`LC.99-2144:2\")","v":{"$error":"#N/A"}},{"$f":"RTD(\"sysq.rtd\",\"\",\"!XTSH`LC.99-2144:2\")","v":{"$error":"#N/A"}},{"$f":"RTD(\"sysq.rtd\",\"\",\"!XTDH`LC.99-2144:2\")","v":{"$error":"#N/A"}},{"$f":"RTD(\"sysq.rtd\",\"\",\"!DTAI`LC.99-2144:2\")","v":{"$error":"#N/A"}},{"$f":"RTD(\"sysq.rtd\",\"\",\"WTX&`004.10-2144:2\")","v":{"$error":"#N/A"}},{"$f":"SQRT(ABS(F710))*(ABS(F710)/F710)","v":{"$error":"#N/A"}}]
["2145",{"$f":"RTD(\"sysq.rtd\",\"\",\"!DTSH`LC.99-2145:2\")","v":{"$error":"#N/A"}},{"$f":"RTD(\"sysq.rtd\",\"\",\"!DTDH`LC.99-2145:2\")","v":{"$error":"#N/A"}},{"$f":"RTD(\"sysq.rtd\",\"\",\"!XTSH`LC.99-2145:2\")","v":{"$error":"#N/A"}},{"$f":"RTD(\"sysq.rtd\",\"\",\"!XTDH`LC.99-2145:2\")","v":{"$error":"#N/A"}},{"$f":"RTD(\"sysq.rtd\",\"\",\"!DTAI`LC.99-2145:2\")","v":{"$error":"#N/A"}},{"$f":"RTD(\"sysq.rtd\",\"\",\"WTX&`004.10-2145:2\")","v":{"$error":"#N/A"}},{"$error":"#N/A"}]
["2146",{"$f":"RTD(\"sysq.rtd\",\"\",\"!DTSH`LC.99-2146:2\")","v":{"$error":"#N/A"}},{"$f":"RTD(\"sysq.rtd\",\"\",\"!DTDH`LC.99-2146:2\")","v":{"$error":"#N/A"}},{"$f":"RTD(\"sysq.rtd\",\"\",\"!XTSH`LC.99-2146:2\")","v":{"$error":"#N/A"}},{"$f":"RTD(\"sysq.rtd\",\"\",\"!XTDH`LC.99-2146:2\")","v":{"$error":"#N/A"}},{"$f":"RTD(\"sysq.rtd\",\"\",\"!DTAI`LC.99-2146:2\")","v":{"$error":"#N/A"}},{"$f":"RTD(\"sysq.rtd\",\"\",\"WTX&`004.10-2146:2\")","v":{"$error":"#N/A"}},{"$error":"#N/A"}]
["2147",{"$f":"RTD(\"sysq.rtd\",\"\",\"!DTSH`LC.99-2147:2\")","v":{"$error":"#N/A"}},{"$f":"RTD(\"sysq.rtd\",\"\",\"!DTDH`LC.99-2147:2\")","v":{"$error":"#N/A"}},{"$f":"RTD(\"sysq.rtd\",\"\",\"!XTSH`LC.99-2147:2\")","v":{"$error":"#N/A"}},{"$f":"RTD(\"sysq.rtd\",\"\",\"!XTDH`LC.99-2147:2\")","v":{"$error":"#N/A"}},{"$f":"RTD(\"sysq.rtd\",\"\",\"!DTAI`LC.99-2147:2\")","v":{"$error":"#N/A"}},{"$f":"RTD(\"sysq.rtd\",\"\",\"WTX&`004.10-2147:2\")","v":{"$error":"#N/A"}},{"$error":"#N/A"}]
["2148",{"$f":"RTD(\"sysq.rtd\",\"\",\"!DTSH`LC.99-2148:2\")","v":{"$error":"#N/A"}},{"$f":"RTD(\"sysq.rtd\",\"\",\"!DTDH`LC.99-2148:2\")","v":{"$error":"#N/A"}},{"$f":"RTD(\"sysq.rtd\",\"\",\"!XTSH`LC.99-2148:2\")","v":{"$error":"#N/A"}},{"$f":"RTD(\"sysq.rtd\",\"\",\"!XTDH`LC.99-2148:2\")","v":{"$error":"#N/A"}},{"$f":"RTD(\"sysq.rtd\",\"\",\"!DTAI`LC.99-2148:2\")","v":{"$error":"#N/A"}},{"$f":"RTD(\"sysq.rtd\",\"\",\"WTX&`004.10-2148:2\")","v":{"$error":"#N/A"}},{"$error":"#N/A"}]
["2149",{"$f":"RTD(\"sysq.rtd\",\"\",\"!DTSH`LC.99-2149:2\")","v":{"$error":"#N/A"}},{"$f":"RTD(\"sysq.rtd\",\"\",\"!DTDH`LC.99-2149:2\")","v":{"$error":"#N/A"}},{"$f":"RTD(\"sysq.rtd\",\"\",\"!XTSH`LC.99-2149:2\")","v":{"$error":"#N/A"}},{"$f":"RTD(\"sysq.rtd\",\"\",\"!XTDH`LC.99-2149:2\")","v":{"$error":"#N/A"}},{"$f":"RTD(\"sysq.rtd\",\"\",\"!DTAI`LC.99-2149:2\")","v":{"$error":"#N/A"}},{"$f":"RTD(\"sysq.rtd\",\"\",\"WTX&`004.10-2149:2\")","v":{"$error":"#N/A"}},{"$error":"#N/A"}]
["2150",{"$f":"RTD(\"sysq.rtd\",\"\",\"!DTSH`LC.99-2150:2\")","v":{"$error":"#N/A"}},{"$f":"RTD(\"sysq.rtd\",\"\",\"!DTDH`LC.99-2150:2\")","v":{"$error":"#N/A"}},{"$f":"RTD(\"sysq.rtd\",\"\",\"!XTSH`LC.99-2150:2\")","v":{"$error":"#N/A"}},{"$f":"RTD(\"sysq.rtd\",\"\",\"!XTDH`LC.99-2150:2\")","v":{"$error":"#N/A"}},{"$f":"RTD(\"sysq.rtd\",\"\",\"!DTAI`LC.99-2150:2\")","v":{"$error":"#N/A"}},{"$f":"RTD(\"sysq.rtd\",\"\",\"WTX&`004.10-2150:2\")","v":{"$error":"#N/A"}},{"$error":"#N/A"}]
["2151",{"$f":"RTD(\"sysq.rtd\",\"\",\"!DTSH`LC.99-2151:2\")","v":{"$error":"#N/A"}},{"$f":"RTD(\"sysq.rtd\",\"\",\"!DTDH`LC.99-2151:2\")","v":{"$error":"#N/A"}},{"$f":"RTD(\"sysq.rtd\",\"\",\"!XTSH`LC.99-2151:2\")","v":{"$error":"#N/A"}},{"$f":"RTD(\"sysq.rtd\",\"\",\"!XTDH`LC.99-2151:2\")","v":{"$error":"#N/A"}},{"$f":"RTD(\"sysq.rtd\",\"\",\"!DTAI`LC.99-2151:2\")","v":{"$error":"#N/A"}},{"$f":"RTD(\"sysq.rtd\",\"\",\"WTX&`004.10-2151:2\")","v":{"$error":"#N/A"}},{"$error":"#N/A"}]
["2152",{"$f":"RTD(\"sysq.rtd\",\"\",\"!DTSH`LC.99-2152:2\")","v":{"$error":"#N/A"}},{"$f":"RTD(\"sysq.rtd\",\"\",\"!DTDH`LC.99-2152:2\")","v":{"$error":"#N/A"}},{"$f":"RTD(\"sysq.rtd\",\"\",\"!XTSH`LC.99-2152:2\")","v":{"$error":"#N/A"}},{"$f":"RTD(\"sysq.rtd\",\"\",\"!XTDH`LC.99-2152:2\")","v":{"$error":"#N/A"}},{"$f":"RTD(\"sysq.rtd\",\"\",\"!DTAI`LC.99-2152:2\")","v":{"$error":"#N/A"}},{"$f":"RTD(\"sysq.rtd\",\"\",\"WTX&`004.10-2152:2\")","v":{"$error":"#N/A"}},{"$error":"#N/A"}]
["2153",{"$f":"RTD(\"sysq.rtd\",\"\",\"!DTSH`LC.99-2153:2\")","v":{"$error":"#N/A"}},{"$f":"RTD(\"sysq.rtd\",\"\",\"!DTDH`LC.99-2153:2\")","v":{"$error":"#N/A"}},{"$f":"RTD(\"sysq.rtd\",\"\",\"!XTSH`LC.99-2153:2\")","v":{"$error":"#N/A"}},{"$f":"RTD(\"sysq.rtd\",\"\",\"!XTDH`LC.99-2153:2\")","v":{"$error":"#N/A"}},{"$f":"RTD(\"sysq.rtd\",\"\",\"!DTAI`LC.99-2153:2\")","v":{"$error":"#N/A"}},{"$f":"RTD(\"sysq.rtd\",\"\",\"WTX&`004.10-2153:2\")","v":{"$error":"#N/A"}},{"$error":"#N/A"}]
["2154",{"$f":"RTD(\"sysq.rtd\",\"\",\"!DTSH`LC.99-2154:2\")","v":{"$error":"#N/A"}},{"$f":"RTD(\"sysq.rtd\",\"\",\"!DTDH`LC.99-2154:2\")","v":{"$error":"#N/A"}},{"$f":"RTD(\"sysq.rtd\",\"\",\"!XTSH`LC.99-2154:2\")","v":{"$error":"#N/A"}},{"$f":"RTD(\"sysq.rtd\",\"\",\"!XTDH`LC.99-2154:2\")","v":{"$error":"#N/A"}},{"$f":"RTD(\"sysq.rtd\",\"\",\"!DTAI`LC.99-2154:2\")","v":{"$error":"#N/A"}},{"$f":"RTD(\"sysq.rtd\",\"\",\"WTX&`004.10-2154:2\")","v":{"$error":"#N/A"}},{"$error":"#N/A"}]
["2155",{"$f":"RTD(\"sysq.rtd\",\"\",\"!DTSH`LC.99-2155:2\")","v":{"$error":"#N/A"}},{"$f":"RTD(\"sysq.rtd\",\"\",\"!DTDH`LC.99-2155:2\")","v":{"$error":"#N/A"}},{"$f":"RTD(\"sysq.rtd\",\"\",\"!XTSH`LC.99-2155:2\")","v":{"$error":"#N/A"}},{"$f":"RTD(\"sysq.rtd\",\"\",\"!XTDH`LC.99-2155:2\")","v":{"$error":"#N/A"}},{"$f":"RTD(\"sysq.rtd\",\"\",\"!DTAI`LC.99-2155:2\")","v":{"$error":"#N/A"}},{"$f":"RTD(\"sysq.rtd\",\"\",\"WTX&`004.10-2155:2\")","v":{"$error":"#N/A"}},{"$error":"#N/A"}]
["2156",{"$f":"RTD(\"sysq.rtd\",\"\",\"!DTSH`LC.99-2156:2\")","v":{"$error":"#N/A"}},{"$f":"RTD(\"sysq.rtd\",\"\",\"!DTDH`LC.99-2156:2\")","v":{"$error":"#N/A"}},{"$f":"RTD(\"sysq.rtd\",\"\",\"!XTSH`LC.99-2156:2\")","v":{"$error":"#N/A"}},{"$f":"RTD(\"sysq.rtd\",\"\",\"!XTDH`LC.99-2156:2\")","v":{"$error":"#N/A"}},{"$f":"RTD(\"sysq.rtd\",\"\",\"!DTAI`LC.99-2156:2\")","v":{"$error":"#N/A"}},{"$f":"RTD(\"sysq.rtd\",\"\",\"WTX&`004.10-2156:2\")","v":{"$error":"#N/A"}},{"$error":"#N/A"}]
["2157",{"$f":"RTD(\"sysq.rtd\",\"\",\"!DTSH`LC.99-2157:2\")","v":{"$error":"#N/A"}},{"$f":"RTD(\"sysq.rtd\",\"\",\"!DTDH`LC.99-2157:2\")","v":{"$error":"#N/A"}},{"$f":"RTD(\"sysq.rtd\",\"\",\"!XTSH`LC.99-2157:2\")","v":{"$error":"#N/A"}},{"$f":"RTD(\"sysq.rtd\",\"\",\"!XTDH`LC.99-2157:2\")","v":{"$error":"#N/A"}},{"$f":"RTD(\"sysq.rtd\",\"\",\"!DTAI`LC.99-2157:2\")","v":{"$error":"#N/A"}},{"$f":"RTD(\"sysq.rtd\",\"\",\"WTX&`004.10-2157:2\")","v":{"$error":"#N/A"}},{"$error":"#N/A"}]
["2158",{"$f":"RTD(\"sysq.rtd\",\"\",\"!DTSH`LC.99-2158:2\")","v":{"$error":"#N/A"}},{"$f":"RTD(\"sysq.rtd\",\"\",\"!DTDH`LC.99-2158:2\")","v":{"$error":"#N/A"}},{"$f":"RTD(\"sysq.rtd\",\"\",\"!XTSH`LC.99-2158:2\")","v":{"$error":"#N/A"}},{"$f":"RTD(\"sysq.rtd\",\"\",\"!XTDH`LC.99-2158:2\")","v":{"$error":"#N/A"}},{"$f":"RTD(\"sysq.rtd\",\"\",\"!DTAI`LC.99-2158:2\")","v":{"$error":"#N/A"}},{"$f":"RTD(\"sysq.rtd\",\"\",\"WTX&`004.10-2158:2\")","v":{"$error":"#N/A"}},{"$error":"#N/A"}]
["2159",{"$f":"RTD(\"sysq.rtd\",\"\",\"!DTSH`LC.99-2159:2\")","v":{"$error":"#N/A"}},{"$f":"RTD(\"sysq.rtd\",\"\",\"!DTDH`LC.99-2159:2\")","v":{"$error":"#N/A"}},{"$f":"RTD(\"sysq.rtd\",\"\",\"!XTSH`LC.99-2159:2\")","v":{"$error":"#N/A"}},{"$f":"RTD(\"sysq.rtd\",\"\",\"!XTDH`LC.99-2159:2\")","v":{"$error":"#N/A"}},{"$f":"RTD(\"sysq.rtd\",\"\",\"!DTAI`LC.99-2159:2\")","v":{"$error":"#N/A"}},{"$f":"RTD(\"sysq.rtd\",\"\",\"WTX&`004.10-2159:2\")","v":{"$error":"#N/A"}},{"$error":"#N/A"}]
["2200",{"$f":"RTD(\"sysq.rtd\",\"\",\"!DTSH`LC.99-2200:2\")","v":{"$error":"#N/A"}},{"$f":"RTD(\"sysq.rtd\",\"\",\"!DTDH`LC.99-2200:2\")","v":{"$error":"#N/A"}},{"$f":"RTD(\"sysq.rtd\",\"\",\"!XTSH`LC.99-2200:2\")","v":{"$error":"#N/A"}},{"$f":"RTD(\"sysq.rtd\",\"\",\"!XTDH`LC.99-2200:2\")","v":{"$error":"#N/A"}},{"$f":"RTD(\"sysq.rtd\",\"\",\"!DTAI`LC.99-2200:2\")","v":{"$error":"#N/A"}},{"$f":"RTD(\"sysq.rtd\",\"\",\"WTX&`004.10-2200:2\")","v":{"$error":"#N/A"}},{"$error":"#N/A"}]
["2201",{"$f":"RTD(\"sysq.rtd\",\"\",\"!DTSH`LC.99-2201:2\")","v":{"$error":"#N/A"}},{"$f":"RTD(\"sysq.rtd\",\"\",\"!DTDH`LC.99-2201:2\")","v":{"$error":"#N/A"}},{"$f":"RTD(\"sysq.rtd\",\"\",\"!XTSH`LC.99-2201:2\")","v":{"$error":"#N/A"}},{"$f":"RTD(\"sysq.rtd\",\"\",\"!XTDH`LC.99-2201:2\")","v":{"$error":"#N/A"}},{"$f":"RTD(\"sysq.rtd\",\"\",\"!DTAI`LC.99-2201:2\")","v":{"$error":"#N/A"}},{"$f":"RTD(\"sysq.rtd\",\"\",\"WTX&`004.10-2201:2\")","v":{"$error":"#N/A"}},{"$error":"#N/A"}]
["2202",{"$f":"RTD(\"sysq.rtd\",\"\",\"!DTSH`LC.99-2202:2\")","v":{"$error":"#N/A"}},{"$f":"RTD(\"sysq.rtd\",\"\",\"!DTDH`LC.99-2202:2\")","v":{"$error":"#N/A"}},{"$f":"RTD(\"sysq.rtd\",\"\",\"!XTSH`LC.99-2202:2\")","v":{"$error":"#N/A"}},{"$f":"RTD(\"sysq.rtd\",\"\",\"!XTDH`LC.99-2202:2\")","v":{"$error":"#N/A"}},{"$f":"RTD(\"sysq.rtd\",\"\",\"!DTAI`LC.99-2202:2\")","v":{"$error":"#N/A"}},{"$f":"RTD(\"sysq.rtd\",\"\",\"WTX&`004.10-2202:2\")","v":{"$error":"#N/A"}},{"$error":"#N/A"}]
["2203",{"$f":"RTD(\"sysq.rtd\",\"\",\"!DTSH`LC.99-2203:2\")","v":{"$error":"#N/A"}},{"$f":"RTD(\"sysq.rtd\",\"\",\"!DTDH`LC.99-2203:2\")","v":{"$error":"#N/A"}},{"$f":"RTD(\"sysq.rtd\",\"\",\"!XTSH`LC.99-2203:2\")","v":{"$error":"#N/A"}},{"$f":"RTD(\"sysq.rtd\",\"\",\"!XTDH`LC.99-2203:2\")","v":{"$error":"#N/A"}},{"$f":"RTD(\"sysq.rtd\",\"\",\"!DTAI`LC.99-2203:2\")","v":{"$error":"#N/A"}},{"$f":"RTD(\"sysq.rtd\",\"\",\"WTX&`004.10-2203:2\")","v":{"$error":"#N/A"}},{"$error":"#N/A"}]
["2204",{"$f":"RTD(\"sysq.rtd\",\"\",\"!DTSH`LC.99-2204:2\")","v":{"$error":"#N/A"}},{"$f":"RTD(\"sysq.rtd\",\"\",\"!DTDH`LC.99-2204:2\")","v":{"$error":"#N/A"}},{"$f":"RTD(\"sysq.rtd\",\"\",\"!XTSH`LC.99-2204:2\")","v":{"$error":"#N/A"}},{"$f":"RTD(\"sysq.rtd\",\"\",\"!XTDH`LC.99-2204:2\")","v":{"$error":"#N/A"}},{"$f":"RTD(\"sysq.rtd\",\"\",\"!DTAI`LC.99-2204:2\")","v":{"$error":"#N/A"}},{"$f":"RTD(\"sysq.rtd\",\"\",\"WTX&`004.10-2204:2\")","v":{"$error":"#N/A"}},{"$error":"#N/A"}]
["2205",{"$f":"RTD(\"sysq.rtd\",\"\",\"!DTSH`LC.99-2205:2\")","v":{"$error":"#N/A"}},{"$f":"RTD(\"sysq.rtd\",\"\",\"!DTDH`LC.99-2205:2\")","v":{"$error":"#N/A"}},{"$f":"RTD(\"sysq.rtd\",\"\",\"!XTSH`LC.99-2205:2\")","v":{"$error":"#N/A"}},{"$f":"RTD(\"sysq.rtd\",\"\",\"!XTDH`LC.99-2205:2\")","v":{"$error":"#N/A"}},{"$f":"RTD(\"sysq.rtd\",\"\",\"!DTAI`LC.99-2205:2\")","v":{"$error":"#N/A"}},{"$f":"RTD(\"sysq.rtd\",\"\",\"WTX&`004.10-2205:2\")","v":{"$error":"#N/A"}},{"$error":"#N/A"}]
["2206",{"$f":"RTD(\"sysq.rtd\",\"\",\"!DTSH`LC.99-2206:2\")","v":{"$error":"#N/A"}},{"$f":"RTD(\"sysq.rtd\",\"\",\"!DTDH`LC.99-2206:2\")","v":{"$error":"#N/A"}},{"$f":"RTD(\"sysq.rtd\",\"\",\"!XTSH`LC.99-2206:2\")","v":{"$error":"#N/A"}},{"$f":"RTD(\"sysq.rtd\",\"\",\"!XTDH`LC.99-2206:2\")","v":{"$error":"#N/A"}},{"$f":"RTD(\"sysq.rtd\",\"\",\"!DTAI`LC.99-2206:2\")","v":{"$error":"#N/A"}},{"$f":"RTD(\"sysq.rtd\",\"\",\"WTX&`004.10-2206:2\")","v":{"$error":"#N/A"}},{"$error":"#N/A"}]
["2207",{"$f":"RTD(\"sysq.rtd\",\"\",\"!DTSH`LC.99-2207:2\")","v":{"$error":"#N/A"}},{"$f":"RTD(\"sysq.rtd\",\"\",\"!DTDH`LC.99-2207:2\")","v":{"$error":"#N/A"}},{"$f":"RTD(\"sysq.rtd\",\"\",\"!XTSH`LC.99-2207:2\")","v":{"$error":"#N/A"}},{"$f":"RTD(\"sysq.rtd\",\"\",\"!XTDH`LC.99-2207:2\")","v":{"$error":"#N/A"}},{"$f":"RTD(\"sysq.rtd\",\"\",\"!DTAI`LC.99-2207:2\")","v":{"$error":"#N/A"}},{"$f":"RTD(\"sysq.rtd\",\"\",\"WTX&`004.10-2207:2\")","v":{"$error":"#N/A"}},{"$error":"#N/A"}]
["2208",{"$f":"RTD(\"sysq.rtd\",\"\",\"!DTSH`LC.99-2208:2\")","v":{"$error":"#N/A"}},{"$f":"RTD(\"sysq.rtd\",\"\",\"!DTDH`LC.99-2208:2\")","v":{"$error":"#N/A"}},{"$f":"RTD(\"sysq.rtd\",\"\",\"!XTSH`LC.99-2208:2\")","v":{"$error":"#N/A"}},{"$f":"RTD(\"sysq.rtd\",\"\",\"!XTDH`LC.99-2208:2\")","v":{"$error":"#N/A"}},{"$f":"RTD(\"sysq.rtd\",\"\",\"!DTAI`LC.99-2208:2\")","v":{"$error":"#N/A"}},{"$f":"RTD(\"sysq.rtd\",\"\",\"WTX&`004.10-2208:2\")","v":{"$error":"#N/A"}},{"$error":"#N/A"}]
["2209",{"$f":"RTD(\"sysq.rtd\",\"\",\"!DTSH`LC.99-2209:2\")","v":{"$error":"#N/A"}},{"$f":"RTD(\"sysq.rtd\",\"\",\"!DTDH`LC.99-2209:2\")","v":{"$error":"#N/A"}},{"$f":"RTD(\"sysq.rtd\",\"\",\"!XTSH`LC.99-2209:2\")","v":{"$error":"#N/A"}},{"$f":"RTD(\"sysq.rtd\",\"\",\"!XTDH`LC.99-2209:2\")","v":{"$error":"#N/A"}},{"$f":"RTD(\"sysq.rtd\",\"\",\"!DTAI`LC.99-2209:2\")","v":{"$error":"#N/A"}},{"$f":"RTD(\"sysq.rtd\",\"\",\"WTX&`004.10-2209:2\")","v":{"$error":"#N/A"}},{"$error":"#N/A"}]
["2210",{"$f":"RTD(\"sysq.rtd\",\"\",\"!DTSH`LC.99-2210:2\")","v":{"$error":"#N/A"}},{"$f":"RTD(\"sysq.rtd\",\"\",\"!DTDH`LC.99-2210:2\")","v":{"$error":"#N/A"}},{"$f":"RTD(\"sysq.rtd\",\"\",\"!XTSH`LC.99-2210:2\")","v":{"$error":"#N/A"}},{"$f":"RTD(\"sysq.rtd\",\"\",\"!XTDH`LC.99-2210:2\")","v":{"$error":"#N/A"}},{"$f":"RTD(\"sysq.rtd\",\"\",\"!DTAI`LC.99-2210:2\")","v":{"$error":"#N/A"}},{"$f":"RTD(\"sysq.rtd\",\"\",\"WTX&`004.10-2210:2\")","v":{"$error":"#N/A"}},{"$error":"#N/A"}]
["2211",{"$f":"RTD(\"sysq.rtd\",\"\",\"!DTSH`LC.99-2211:2\")","v":{"$error":"#N/A"}},{"$f":"RTD(\"sysq.rtd\",\"\",\"!DTDH`LC.99-2211:2\")","v":{"$error":"#N/A"}},{"$f":"RTD(\"sysq.rtd\",\"\",\"!XTSH`LC.99-2211:2\")","v":{"$error":"#N/A"}},{"$f":"RTD(\"sysq.rtd\",\"\",\"!XTDH`LC.99-2211:2\")","v":{"$error":"#N/A"}},{"$f":"RTD(\"sysq.rtd\",\"\",\"!DTAI`LC.99-2211:2\")","v":{"$error":"#N/A"}},{"$f":"RTD(\"sysq.rtd\",\"\",\"WTX&`004.10-2211:2\")","v":{"$error":"#N/A"}},{"$error":"#N/A"}]
["2212",{"$f":"RTD(\"sysq.rtd\",\"\",\"!DTSH`LC.99-2212:2\")","v":{"$error":"#N/A"}},{"$f":"RTD(\"sysq.rtd\",\"\",\"!DTDH`LC.99-2212:2\")","v":{"$error":"#N/A"}},{"$f":"RTD(\"sysq.rtd\",\"\",\"!XTSH`LC.99-2212:2\")","v":{"$error":"#N/A"}},{"$f":"RTD(\"sysq.rtd\",\"\",\"!XTDH`LC.99-2212:2\")","v":{"$error":"#N/A"}},{"$f":"RTD(\"sysq.rtd\",\"\",\"!DTAI`LC.99-2212:2\")","v":{"$error":"#N/A"}},{"$f":"RTD(\"sysq.rtd\",\"\",\"WTX&`004.10-2212:2\")","v":{"$error":"#N/A"}},{"$error":"#N/A"}]
["2213",{"$f":"RTD(\"sysq.rtd\",\"\",\"!DTSH`LC.99-2213:2\")","v":{"$error":"#N/A"}},{"$f":"RTD(\"sysq.rtd\",\"\",\"!DTDH`LC.99-2213:2\")","v":{"$error":"#N/A"}},{"$f":"RTD(\"sysq.rtd\",\"\",\"!XTSH`LC.99-2213:2\")","v":{"$error":"#N/A"}},{"$f":"RTD(\"sysq.rtd\",\"\",\"!XTDH`LC.99-2213:2\")","v":{"$error":"#N/A"}},{"$f":"RTD(\"sysq.rtd\",\"\",\"!DTAI`LC.99-2213:2\")","v":{"$error":"#N/A"}},{"$f":"RTD(\"sysq.rtd\",\"\",\"WTX&`004.10-2213:2\")","v":{"$error":"#N/A"}},{"$error":"#N/A"}]
["2214",{"$f":"RTD(\"sysq.rtd\",\"\",\"!DTSH`LC.99-2214:2\")","v":{"$error":"#N/A"}},{"$f":"RTD(\"sysq.rtd\",\"\",\"!DTDH`LC.99-2214:2\")","v":{"$error":"#N/A"}},{"$f":"RTD(\"sysq.rtd\",\"\",\"!XTSH`LC.99-2214:2\")","v":{"$error":"#N/A"}},{"$f":"RTD(\"sysq.rtd\",\"\",\"!XTDH`LC.99-2214:2\")","v":{"$error":"#N/A"}},{"$f":"RTD(\"sysq.rtd\",\"\",\"!DTAI`LC.99-2214:2\")","v":{"$error":"#N/A"}},{"$f":"RTD(\"sysq.rtd\",\"\",\"WTX&`004.10-2214:2\")","v":{"$error":"#N/A"}},{"$error":"#N/A"}]
["2215",{"$f":"RTD(\"sysq.rtd\",\"\",\"!DTSH`LC.99-2215:2\")","v":{"$error":"#N/A"}},{"$f":"RTD(\"sysq.rtd\",\"\",\"!DTDH`LC.99-2215:2\")","v":{"$error":"#N/A"}},{"$f":"RTD(\"sysq.rtd\",\"\",\"!XTSH`LC.99-2215:2\")","v":{"$error":"#N/A"}},{"$f":"RTD(\"sysq.rtd\",\"\",\"!XTDH`LC.99-2215:2\")","v":{"$error":"#N/A"}},{"$f":"RTD(\"sysq.rtd\",\"\",\"!DTAI`LC.99-2215:2\")","v":{"$error":"#N/A"}},{"$f":"RTD(\"sysq.rtd\",\"\",\"WTX&`004.10-2215:2\")","v":{"$error":"#N/A"}},{"$error":"#N/A"}]
["2216",{"$f":"RTD(\"sysq.rtd\",\"\",\"!DTSH`LC.99-2216:2\")","v":{"$error":"#N/A"}},{"$f":"RTD(\"sysq.rtd\",\"\",\"!DTDH`LC.99-2216:2\")","v":{"$error":"#N/A"}},{"$f":"RTD(\"sysq.rtd\",\"\",\"!XTSH`LC.99-2216:2\")","v":{"$error":"#N/A"}},{"$f":"RTD(\"sysq.rtd\",\"\",\"!XTDH`LC.99-2216:2\")","v":{"$error":"#N/A"}},{"$f":"RTD(\"sysq.rtd\",\"\",\"!DTAI`LC.99-2216:2\")","v":{"$error":"#N/A"}},{"$f":"RTD(\"sysq.rtd\",\"\",\"WTX&`004.10-2216:2\")","v":{"$error":"#N/A"}},{"$error":"#N/A"}]
["2217",{"$f":"RTD(\"sysq.rtd\",\"\",\"!DTSH`LC.99-2217:2\")","v":{"$error":"#N/A"}},{"$f":"RTD(\"sysq.rtd\",\"\",\"!DTDH`LC.99-2217:2\")","v":{"$error":"#N/A"}},{"$f":"RTD(\"sysq.rtd\",\"\",\"!XTSH`LC.99-2217:2\")","v":{"$error":"#N/A"}},{"$f":"RTD(\"sysq.rtd\",\"\",\"!XTDH`LC.99-2217:2\")","v":{"$error":"#N/A"}},{"$f":"RTD(\"sysq.rtd\",\"\",\"!DTAI`LC.99-2217:2\")","v":{"$error":"#N/A"}},{"$f":"RTD(\"sysq.rtd\",\"\",\"WTX&`004.10-2217:2\")","v":{"$error":"#N/A"}},{"$error":"#N/A"}]
["2218",{"$f":"RTD(\"sysq.rtd\",\"\",\"!DTSH`LC.99-2218:2\")","v":{"$error":"#N/A"}},{"$f":"RTD(\"sysq.rtd\",\"\",\"!DTDH`LC.99-2218:2\")","v":{"$error":"#N/A"}},{"$f":"RTD(\"sysq.rtd\",\"\",\"!XTSH`LC.99-2218:2\")","v":{"$error":"#N/A"}},{"$f":"RTD(\"sysq.rtd\",\"\",\"!XTDH`LC.99-2218:2\")","v":{"$error":"#N/A"}},{"$f":"RTD(\"sysq.rtd\",\"\",\"!DTAI`LC.99-2218:2\")","v":{"$error":"#N/A"}},{"$f":"RTD(\"sysq.rtd\",\"\",\"WTX&`004.10-2218:2\")","v":{"$error":"#N/A"}},{"$error":"#N/A"}]
["2219",{"$f":"RTD(\"sysq.rtd\",\"\",\"!DTSH`LC.99-2219:2\")","v":{"$error":"#N/A"}},{"$f":"RTD(\"sysq.rtd\",\"\",\"!DTDH`LC.99-2219:2\")","v":{"$error":"#N/A"}},{"$f":"RTD(\"sysq.rtd\",\"\",\"!XTSH`LC.99-2219:2\")","v":{"$error":"#N/A"}},{"$f":"RTD(\"sysq.rtd\",\"\",\"!XTDH`LC.99-2219:2\")","v":{"$error":"#N/A"}},{"$f":"RTD(\"sysq.rtd\",\"\",\"!DTAI`LC.99-2219:2\")","v":{"$error":"#N/A"}},{"$f":"RTD(\"sysq.rtd\",\"\",\"WTX&`004.10-2219:2\")","v":{"$error":"#N/A"}},{"$error":"#N/A"}]
["2220",{"$f":"RTD(\"sysq.rtd\",\"\",\"!DTSH`LC.99-2220:2\")","v":{"$error":"#N/A"}},{"$f":"RTD(\"sysq.rtd\",\"\",\"!DTDH`LC.99-2220:2\")","v":{"$error":"#N/A"}},{"$f":"RTD(\"sysq.rtd\",\"\",\"!XTSH`LC.99-2220:2\")","v":{"$error":"#N/A"}},{"$f":"RTD(\"sysq.rtd\",\"\",\"!XTDH`LC.99-2220:2\")","v":{"$error":"#N/A"}},{"$f":"RTD(\"sysq.rtd\",\"\",\"!DTAI`LC.99-2220:2\")","v":{"$error":"#N/A"}},{"$f":"RTD(\"sysq.rtd\",\"\",\"WTX&`004.10-2220:2\")","v":{"$error":"#N/A"}},{"$error":"#N/A"}]
["2221",{"$f":"RTD(\"sysq.rtd\",\"\",\"!DTSH`LC.99-2221:2\")","v":{"$error":"#N/A"}},{"$f":"RTD(\"sysq.rtd\",\"\",\"!DTDH`LC.99-2221:2\")","v":{"$error":"#N/A"}},{"$f":"RTD(\"sysq.rtd\",\"\",\"!XTSH`LC.99-2221:2\")","v":{"$error":"#N/A"}},{"$f":"RTD(\"sysq.rtd\",\"\",\"!XTDH`LC.99-2221:2\")","v":{"$error":"#N/A"}},{"$f":"RTD(\"sysq.rtd\",\"\",\"!DTAI`LC.99-2221:2\")","v":{"$error":"#N/A"}},{"$f":"RTD(\"sysq.rtd\",\"\",\"WTX&`004.10-2221:2\")","v":{"$error":"#N/A"}},{"$error":"#N/A"}]
["2222",{"$f":"RTD(\"sysq.rtd\",\"\",\"!DTSH`LC.99-2222:2\")","v":{"$error":"#N/A"}},{"$f":"RTD(\"sysq.rtd\",\"\",\"!DTDH`LC.99-2222:2\")","v":{"$error":"#N/A"}},{"$f":"RTD(\"sysq.rtd\",\"\",\"!XTSH`LC.99-2222:2\")","v":{"$error":"#N/A"}},{"$f":"RTD(\"sysq.rtd\",\"\",\"!XTDH`LC.99-2222:2\")","v":{"$error":"#N/A"}},{"$f":"RTD(\"sysq.rtd\",\"\",\"!DTAI`LC.99-2222:2\")","v":{"$error":"#N/A"}},{"$f":"RTD(\"sysq.rtd\",\"\",\"WTX&`004.10-2222:2\")","v":{"$error":"#N/A"}},{"$error":"#N/A"}]
["2223",{"$f":"RTD(\"sysq.rtd\",\"\",\"!DTSH`LC.99-2223:2\")","v":{"$error":"#N/A"}},{"$f":"RTD(\"sysq.rtd\",\"\",\"!DTDH`LC.99-2223:2\")","v":{"$error":"#N/A"}},{"$f":"RTD(\"sysq.rtd\",\"\",\"!XTSH`LC.99-2223:2\")","v":{"$error":"#N/A"}},{"$f":"RTD(\"sysq.rtd\",\"\",\"!XTDH`LC.99-2223:2\")","v":{"$error":"#N/A"}},{"$f":"RTD(\"sysq.rtd\",\"\",\"!DTAI`LC.99-2223:2\")","v":{"$error":"#N/A"}},{"$f":"RTD(\"sysq.rtd\",\"\",\"WTX&`004.10-2223:2\")","v":{"$error":"#N/A"}},{"$error":"#N/A"}]
["2224",{"$f":"RTD(\"sysq.rtd\",\"\",\"!DTSH`LC.99-2224:2\")","v":{"$error":"#N/A"}},{"$f":"RTD(\"sysq.rtd\",\"\",\"!DTDH`LC.99-2224:2\")","v":{"$error":"#N/A"}},{"$f":"RTD(\"sysq.rtd\",\"\",\"!XTSH`LC.99-2224:2\")","v":{"$error":"#N/A"}},{"$f":"RTD(\"sysq.rtd\",\"\",\"!XTDH`LC.99-2224:2\")","v":{"$error":"#N/A"}},{"$f":"RTD(\"sysq.rtd\",\"\",\"!DTAI`LC.99-2224:2\")","v":{"$error":"#N/A"}},{"$f":"RTD(\"sysq.rtd\",\"\",\"WTX&`004.10-2224:2\")","v":{"$error":"#N/A"}},{"$error":"#N/A"}]
["2225",{"$f":"RTD(\"sysq.rtd\",\"\",\"!DTSH`LC.99-2225:2\")","v":{"$error":"#N/A"}},{"$f":"RTD(\"sysq.rtd\",\"\",\"!DTDH`LC.99-2225:2\")","v":{"$error":"#N/A"}},{"$f":"RTD(\"sysq.rtd\",\"\",\"!XTSH`LC.99-2225:2\")","v":{"$error":"#N/A"}},{"$f":"RTD(\"sysq.rtd\",\"\",\"!XTDH`LC.99-2225:2\")","v":{"$error":"#N/A"}},{"$f":"RTD(\"sysq.rtd\",\"\",\"!DTAI`LC.99-2225:2\")","v":{"$error":"#N/A"}},{"$f":"RTD(\"sysq.rtd\",\"\",\"WTX&`004.10-2225:2\")","v":{"$error":"#N/A"}},{"$error":"#N/A"}]
["2226",{"$f":"RTD(\"sysq.rtd\",\"\",\"!DTSH`LC.99-2226:2\")","v":{"$error":"#N/A"}},{"$f":"RTD(\"sysq.rtd\",\"\",\"!DTDH`LC.99-2226:2\")","v":{"$error":"#N/A"}},{"$f":"RTD(\"sysq.rtd\",\"\",\"!XTSH`LC.99-2226:2\")","v":{"$error":"#N/A"}},{"$f":"RTD(\"sysq.rtd\",\"\",\"!XTDH`LC.99-2226:2\")","v":{"$error":"#N/A"}},{"$f":"RTD(\"sysq.rtd\",\"\",\"!DTAI`LC.99-2226:2\")","v":{"$error":"#N/A"}},{"$f":"RTD(\"sysq.rtd\",\"\",\"WTX&`004.10-2226:2\")","v":{"$error":"#N/A"}},{"$error":"#N/A"}]
["2227",{"$f":"RTD(\"sysq.rtd\",\"\",\"!DTSH`LC.99-2227:2\")","v":{"$error":"#N/A"}},{"$f":"RTD(\"sysq.rtd\",\"\",\"!DTDH`LC.99-2227:2\")","v":{"$error":"#N/A"}},{"$f":"RTD(\"sysq.rtd\",\"\",\"!XTSH`LC.99-2227:2\")","v":{"$error":"#N/A"}},{"$f":"RTD(\"sysq.rtd\",\"\",\"!XTDH`LC.99-2227:2\")","v":{"$error":"#N/A"}},{"$f":"RTD(\"sysq.rtd\",\"\",\"!DTAI`LC.99-2227:2\")","v":{"$error":"#N/A"}},{"$f":"RTD(\"sysq.rtd\",\"\",\"WTX&`004.10-2227:2\")","v":{"$error":"#N/A"}},{"$error":"#N/A"}]
["2228",{"$f":"RTD(\"sysq.rtd\",\"\",\"!DTSH`LC.99-2228:2\")","v":{"$error":"#N/A"}},{"$f":"RTD(\"sysq.rtd\",\"\",\"!DTDH`LC.99-2228:2\")","v":{"$error":"#N/A"}},{"$f":"RTD(\"sysq.rtd\",\"\",\"!XTSH`LC.99-2228:2\")","v":{"$error":"#N/A"}},{"$f":"RTD(\"sysq.rtd\",\"\",\"!XTDH`LC.99-2228:2\")","v":{"$error":"#N/A"}},{"$f":"RTD(\"sysq.rtd\",\"\",\"!DTAI`LC.99-2228:2\")","v":{"$error":"#N/A"}},{"$f":"RTD(\"sysq.rtd\",\"\",\"WTX&`004.10-2228:2\")","v":{"$error":"#N/A"}},{"$error":"#N/A"}]
["2229",{"$f":"RTD(\"sysq.rtd\",\"\",\"!DTSH`LC.99-2229:2\")","v":{"$error":"#N/A"}},{"$f":"RTD(\"sysq.rtd\",\"\",\"!DTDH`LC.99-2229:2\")","v":{"$error":"#N/A"}},{"$f":"RTD(\"sysq.rtd\",\"\",\"!XTSH`LC.99-2229:2\")","v":{"$error":"#N/A"}},{"$f":"RTD(\"sysq.rtd\",\"\",\"!XTDH`LC.99-2229:2\")","v":{"$error":"#N/A"}},{"$f":"RTD(\"sysq.rtd\",\"\",\"!DTAI`LC.99-2229:2\")","v":{"$error":"#N/A"}},{"$f":"RTD(\"sysq.rtd\",\"\",\"WTX&`004.10-2229:2\")","v":{"$error":"#N/A"}},{"$error":"#N/A"}]
["2230",{"$f":"RTD(\"sysq.rtd\",\"\",\"!DTSH`LC.99-2230:2\")","v":{"$error":"#N/A"}},{"$f":"RTD(\"sysq.rtd\",\"\",\"!DTDH`LC.99-2230:2\")","v":{"$error":"#N/A"}},{"$f":"RTD(\"sysq.rtd\",\"\",\"!XTSH`LC.99-2230:2\")","v":{"$error":"#N/A"}},{"$f":"RTD(\"sysq.rtd\",\"\",\"!XTDH`LC.99-2230:2\")","v":{"$error":"#N/A"}},{"$f":"RTD(\"sysq.rtd\",\"\",\"!DTAI`LC.99-2230:2\")","v":{"$error":"#N/A"}},{"$f":"RTD(\"sysq.rtd\",\"\",\"WTX&`004.10-2230:2\")","v":{"$error":"#N/A"}},{"$error":"#N/A"}]
["2231",{"$f":"RTD(\"sysq.rtd\",\"\",\"!DTSH`LC.99-2231:2\")","v":{"$error":"#N/A"}},{"$f":"RTD(\"sysq.rtd\",\"\",\"!DTDH`LC.99-2231:2\")","v":{"$error":"#N/A"}},{"$f":"RTD(\"sysq.rtd\",\"\",\"!XTSH`LC.99-2231:2\")","v":{"$error":"#N/A"}},{"$f":"RTD(\"sysq.rtd\",\"\",\"!XTDH`LC.99-2231:2\")","v":{"$error":"#N/A"}},{"$f":"RTD(\"sysq.rtd\",\"\",\"!DTAI`LC.99-2231:2\")","v":{"$error":"#N/A"}},{"$f":"RTD(\"sysq.rtd\",\"\",\"WTX&`004.10-2231:2\")","v":{"$error":"#N/A"}},{"$error":"#N/A"}]
["2232",{"$f":"RTD(\"sysq.rtd\",\"\",\"!DTSH`LC.99-2232:2\")","v":{"$error":"#N/A"}},{"$f":"RTD(\"sysq.rtd\",\"\",\"!DTDH`LC.99-2232:2\")","v":{"$error":"#N/A"}},{"$f":"RTD(\"sysq.rtd\",\"\",\"!XTSH`LC.99-2232:2\")","v":{"$error":"#N/A"}},{"$f":"RTD(\"sysq.rtd\",\"\",\"!XTDH`LC.99-2232:2\")","v":{"$error":"#N/A"}},{"$f":"RTD(\"sysq.rtd\",\"\",\"!DTAI`LC.99-2232:2\")","v":{"$error":"#N/A"}},{"$f":"RTD(\"sysq.rtd\",\"\",\"WTX&`004.10-2232:2\")","v":{"$error":"#N/A"}},{"$error":"#N/A"}]
["2233",{"$f":"RTD(\"sysq.rtd\",\"\",\"!DTSH`LC.99-2233:2\")","v":{"$error":"#N/A"}},{"$f":"RTD(\"sysq.rtd\",\"\",\"!DTDH`LC.99-2233:2\")","v":{"$error":"#N/A"}},{"$f":"RTD(\"sysq.rtd\",\"\",\"!XTSH`LC.99-2233:2\")","v":{"$error":"#N/A"}},{"$f":"RTD(\"sysq.rtd\",\"\",\"!XTDH`LC.99-2233:2\")","v":{"$error":"#N/A"}},{"$f":"RTD(\"sysq.rtd\",\"\",\"!DTAI`LC.99-2233:2\")","v":{"$error":"#N/A"}},{"$f":"RTD(\"sysq.rtd\",\"\",\"WTX&`004.10-2233:2\")","v":{"$error":"#N/A"}},{"$error":"#N/A"}]
["2234",{"$f":"RTD(\"sysq.rtd\",\"\",\"!DTSH`LC.99-2234:2\")","v":{"$error":"#N/A"}},{"$f":"RTD(\"sysq.rtd\",\"\",\"!DTDH`LC.99-2234:2\")","v":{"$error":"#N/A"}},{"$f":"RTD(\"sysq.rtd\",\"\",\"!XTSH`LC.99-2234:2\")","v":{"$error":"#N/A"}},{"$f":"RTD(\"sysq.rtd\",\"\",\"!XTDH`LC.99-2234:2\")","v":{"$error":"#N/A"}},{"$f":"RTD(\"sysq.rtd\",\"\",\"!DTAI`LC.99-2234:2\")","v":{"$error":"#N/A"}},{"$f":"RTD(\"sysq.rtd\",\"\",\"WTX&`004.10-2234:2\")","v":{"$error":"#N/A"}},{"$error":"#N/A"}]
["2235",{"$f":"RTD(\"sysq.rtd\",\"\",\"!DTSH`LC.99-2235:2\")","v":{"$error":"#N/A"}},{"$f":"RTD(\"sysq.rtd\",\"\",\"!DTDH`LC.99-2235:2\")","v":{"$error":"#N/A"}},{"$f":"RTD(\"sysq.rtd\",\"\",\"!XTSH`LC.99-2235:2\")","v":{"$error":"#N/A"}},{"$f":"RTD(\"sysq.rtd\",\"\",\"!XTDH`LC.99-2235:2\")","v":{"$error":"#N/A"}},{"$f":"RTD(\"sysq.rtd\",\"\",\"!DTAI`LC.99-2235:2\")","v":{"$error":"#N/A"}},{"$f":"RTD(\"sysq.rtd\",\"\",\"WTX&`004.10-2235:2\")","v":{"$error":"#N/A"}},{"$error":"#N/A"}]
["2236",{"$f":"RTD(\"sysq.rtd\",\"\",\"!DTSH`LC.99-2236:2\")","v":{"$error":"#N/A"}},{"$f":"RTD(\"sysq.rtd\",\"\",\"!DTDH`LC.99-2236:2\")","v":{"$error":"#N/A"}},{"$f":"RTD(\"sysq.rtd\",\"\",\"!XTSH`LC.99-2236:2\")","v":{"$error":"#N/A"}},{"$f":"RTD(\"sysq.rtd\",\"\",\"!XTDH`LC.99-2236:2\")","v":{"$error":"#N/A"}},{"$f":"RTD(\"sysq.rtd\",\"\",\"!DTAI`LC.99-2236:2\")","v":{"$error":"#N/A"}},{"$f":"RTD(\"sysq.rtd\",\"\",\"WTX&`004.10-2236:2\")","v":{"$error":"#N/A"}},{"$error":"#N/A"}]
["2237",{"$f":"RTD(\"sysq.rtd\",\"\",\"!DTSH`LC.99-2237:2\")","v":{"$error":"#N/A"}},{"$f":"RTD(\"sysq.rtd\",\"\",\"!DTDH`LC.99-2237:2\")","v":{"$error":"#N/A"}},{"$f":"RTD(\"sysq.rtd\",\"\",\"!XTSH`LC.99-2237:2\")","v":{"$error":"#N/A"}},{"$f":"RTD(\"sysq.rtd\",\"\",\"!XTDH`LC.99-2237:2\")","v":{"$error":"#N/A"}},{"$f":"RTD(\"sysq.rtd\",\"\",\"!DTAI`LC.99-2237:2\")","v":{"$error":"#N/A"}},{"$f":"RTD(\"sysq.rtd\",\"\",\"WTX&`004.10-2237:2\")","v":{"$error":"#N/A"}},{"$error":"#N/A"}]
["2238",{"$f":"RTD(\"sysq.rtd\",\"\",\"!DTSH`LC.99-2238:2\")","v":{"$error":"#N/A"}},{"$f":"RTD(\"sysq.rtd\",\"\",\"!DTDH`LC.99-2238:2\")","v":{"$error":"#N/A"}},{"$f":"RTD(\"sysq.rtd\",\"\",\"!XTSH`LC.99-2238:2\")","v":{"$error":"#N/A"}},{"$f":"RTD(\"sysq.rtd\",\"\",\"!XTDH`LC.99-2238:2\")","v":{"$error":"#N/A"}},{"$f":"RTD(\"sysq.rtd\",\"\",\"!DTAI`LC.99-2238:2\")","v":{"$error":"#N/A"}},{"$f":"RTD(\"sysq.rtd\",\"\",\"WTX&`004.10-2238:2\")","v":{"$error":"#N/A"}},{"$error":"#N/A"}]
["2239",{"$f":"RTD(\"sysq.rtd\",\"\",\"!DTSH`LC.99-2239:2\")","v":{"$error":"#N/A"}},{"$f":"RTD(\"sysq.rtd\",\"\",\"!DTDH`LC.99-2239:2\")","v":{"$error":"#N/A"}},{"$f":"RTD(\"sysq.rtd\",\"\",\"!XTSH`LC.99-2239:2\")","v":{"$error":"#N/A"}},{"$f":"RTD(\"sysq.rtd\",\"\",\"!XTDH`LC.99-2239:2\")","v":{"$error":"#N/A"}},{"$f":"RTD(\"sysq.rtd\",\"\",\"!DTAI`LC.99-2239:2\")","v":{"$error":"#N/A"}},{"$f":"RTD(\"sysq.rtd\",\"\",\"WTX&`004.10-2239:2\")","v":{"$error":"#N/A"}},{"$error":"#N/A"}]
["2240",{"$f":"RTD(\"sysq.rtd\",\"\",\"!DTSH`LC.99-2240:2\")","v":{"$error":"#N/A"}},{"$f":"RTD(\"sysq.rtd\",\"\",\"!DTDH`LC.99-2240:2\")","v":{"$error":"#N/A"}},{"$f":"RTD(\"sysq.rtd\",\"\",\"!XTSH`LC.99-2240:2\")","v":{"$error":"#N/A"}},{"$f":"RTD(\"sysq.rtd\",\"\",\"!XTDH`LC.99-2240:2\")","v":{"$error":"#N/A"}},{"$f":"RTD(\"sysq.rtd\",\"\",\"!DTAI`LC.99-2240:2\")","v":{"$error":"#N/A"}},{"$f":"RTD(\"sysq.rtd\",\"\",\"WTX&`004.10-2240:2\")","v":{"$error":"#N/A"}},{"$error":"#N/A"}]
["2241",{"$f":"RTD(\"sysq.rtd\",\"\",\"!DTSH`LC.99-2241:2\")","v":{"$error":"#N/A"}},{"$f":"RTD(\"sysq.rtd\",\"\",\"!DTDH`LC.99-2241:2\")","v":{"$error":"#N/A"}},{"$f":"RTD(\"sysq.rtd\",\"\",\"!XTSH`LC.99-2241:2\")","v":{"$error":"#N/A"}},{"$f":"RTD(\"sysq.rtd\",\"\",\"!XTDH`LC.99-2241:2\")","v":{"$error":"#N/A"}},{"$f":"RTD(\"sysq.rtd\",\"\",\"!DTAI`LC.99-2241:2\")","v":{"$error":"#N/A"}},{"$f":"RTD(\"sysq.rtd\",\"\",\"WTX&`004.10-2241:2\")","v":{"$error":"#N/A"}},{"$error":"#N/A"}]
["2242",{"$f":"RTD(\"sysq.rtd\",\"\",\"!DTSH`LC.99-2242:2\")","v":{"$error":"#N/A"}},{"$f":"RTD(\"sysq.rtd\",\"\",\"!DTDH`LC.99-2242:2\")","v":{"$error":"#N/A"}},{"$f":"RTD(\"sysq.rtd\",\"\",\"!XTSH`LC.99-2242:2\")","v":{"$error":"#N/A"}},{"$f":"RTD(\"sysq.rtd\",\"\",\"!XTDH`LC.99-2242:2\")","v":{"$error":"#N/A"}},{"$f":"RTD(\"sysq.rtd\",\"\",\"!DTAI`LC.99-2242:2\")","v":{"$error":"#N/A"}},{"$f":"RTD(\"sysq.rtd\",\"\",\"WTX&`004.10-2242:2\")","v":{"$error":"#N/A"}},{"$error":"#N/A"}]
["2243",{"$f":"RTD(\"sysq.rtd\",\"\",\"!DTSH`LC.99-2243:2\")","v":{"$error":"#N/A"}},{"$f":"RTD(\"sysq.rtd\",\"\",\"!DTDH`LC.99-2243:2\")","v":{"$error":"#N/A"}},{"$f":"RTD(\"sysq.rtd\",\"\",\"!XTSH`LC.99-2243:2\")","v":{"$error":"#N/A"}},{"$f":"RTD(\"sysq.rtd\",\"\",\"!XTDH`LC.99-2243:2\")","v":{"$error":"#N/A"}},{"$f":"RTD(\"sysq.rtd\",\"\",\"!DTAI`LC.99-2243:2\")","v":{"$error":"#N/A"}},{"$f":"RTD(\"sysq.rtd\",\"\",\"WTX&`004.10-2243:2\")","v":{"$error":"#N/A"}},{"$error":"#N/A"}]
["2244",{"$f":"RTD(\"sysq.rtd\",\"\",\"!DTSH`LC.99-2244:2\")","v":{"$error":"#N/A"}},{"$f":"RTD(\"sysq.rtd\",\"\",\"!DTDH`LC.99-2244:2\")","v":{"$error":"#N/A"}},{"$f":"RTD(\"sysq.rtd\",\"\",\"!XTSH`LC.99-2244:2\")","v":{"$error":"#N/A"}},{"$f":"RTD(\"sysq.rtd\",\"\",\"!XTDH`LC.99-2244:2\")","v":{"$error":"#N/A"}},{"$f":"RTD(\"sysq.rtd\",\"\",\"!DTAI`LC.99-2244:2\")","v":{"$error":"#N/A"}},{"$f":"RTD(\"sysq.rtd\",\"\",\"WTX&`004.10-2244:2\")","v":{"$error":"#N/A"}},{"$error":"#N/A"}]
["2245",{"$f":"RTD(\"sysq.rtd\",\"\",\"!DTSH`LC.99-2245:2\")","v":{"$error":"#N/A"}},{"$f":"RTD(\"sysq.rtd\",\"\",\"!DTDH`LC.99-2245:2\")","v":{"$error":"#N/A"}},{"$f":"RTD(\"sysq.rtd\",\"\",\"!XTSH`LC.99-2245:2\")","v":{"$error":"#N/A"}},{"$f":"RTD(\"sysq.rtd\",\"\",\"!XTDH`LC.99-2245:2\")","v":{"$error":"#N/A"}},{"$f":"RTD(\"sysq.rtd\",\"\",\"!DTAI`LC.99-2245:2\")","v":{"$error":"#N/A"}},{"$f":"RTD(\"sysq.rtd\",\"\",\"WTX&`004.10-2245:2\")","v":{"$error":"#N/A"}},{"$error":"#N/A"}]
["2246",{"$f":"RTD(\"sysq.rtd\",\"\",\"!DTSH`LC.99-2246:2\")","v":{"$error":"#N/A"}},{"$f":"RTD(\"sysq.rtd\",\"\",\"!DTDH`LC.99-2246:2\")","v":{"$error":"#N/A"}},{"$f":"RTD(\"sysq.rtd\",\"\",\"!XTSH`LC.99-2246:2\")","v":{"$error":"#N/A"}},{"$f":"RTD(\"sysq.rtd\",\"\",\"!XTDH`LC.99-2246:2\")","v":{"$error":"#N/A"}},{"$f":"RTD(\"sysq.rtd\",\"\",\"!DTAI`LC.99-2246:2\")","v":{"$error":"#N/A"}},{"$f":"RTD(\"sysq.rtd\",\"\",\"WTX&`004.10-2246:2\")","v":{"$error":"#N/A"}},{"$error":"#N/A"}]
["2247",{"$f":"RTD(\"sysq.rtd\",\"\",\"!DTSH`LC.99-2247:2\")","v":{"$error":"#N/A"}},{"$f":"RTD(\"sysq.rtd\",\"\",\"!DTDH`LC.99-2247:2\")","v":{"$error":"#N/A"}},{"$f":"RTD(\"sysq.rtd\",\"\",\"!XTSH`LC.99-2247:2\")","v":{"$error":"#N/A"}},{"$f":"RTD(\"sysq.rtd\",\"\",\"!XTDH`LC.99-2247:2\")","v":{"$error":"#N/A"}},{"$f":"RTD(\"sysq.rtd\",\"\",\"!DTAI`LC.99-2247:2\")","v":{"$error":"#N/A"}},{"$f":"RTD(\"sysq.rtd\",\"\",\"WTX&`004.10-2247:2\")","v":{"$error":"#N/A"}},{"$error":"#N/A"}]
["2248",{"$f":"RTD(\"sysq.rtd\",\"\",\"!DTSH`LC.99-2248:2\")","v":{"$error":"#N/A"}},{"$f":"RTD(\"sysq.rtd\",\"\",\"!DTDH`LC.99-2248:2\")","v":{"$error":"#N/A"}},{"$f":"RTD(\"sysq.rtd\",\"\",\"!XTSH`LC.99-2248:2\")","v":{"$error":"#N/A"}},{"$f":"RTD(\"sysq.rtd\",\"\",\"!XTDH`LC.99-2248:2\")","v":{"$error":"#N/A"}},{"$f":"RTD(\"sysq.rtd\",\"\",\"!DTAI`LC.99-2248:2\")","v":{"$error":"#N/A"}},{"$f":"RTD(\"sysq.rtd\",\"\",\"WTX&`004.10-2248:2\")","v":{"$error":"#N/A"}},{"$f":"SQRT(ABS(F774))*(ABS(F774)/F774)","v":{"$error":"#N/A"}}]
["2249",{"$f":"RTD(\"sysq.rtd\",\"\",\"!DTSH`LC.99-2249:2\")","v":{"$error":"#N/A"}},{"$f":"RTD(\"sysq.rtd\",\"\",\"!DTDH`LC.99-2249:2\")","v":{"$error":"#N/A"}},{"$f":"RTD(\"sysq.rtd\",\"\",\"!XTSH`LC.99-2249:2\")","v":{"$error":"#N/A"}},{"$f":"RTD(\"sysq.rtd\",\"\",\"!XTDH`LC.99-2249:2\")","v":{"$error":"#N/A"}},{"$f":"RTD(\"sysq.rtd\",\"\",\"!DTAI`LC.99-2249:2\")","v":{"$error":"#N/A"}},{"$f":"RTD(\"sysq.rtd\",\"\",\"WTX&`004.10-2249:2\")","v":{"$error":"#N/A"}},{"$error":"#N/A"}]
["2250",{"$f":"RTD(\"sysq.rtd\",\"\",\"!DTSH`LC.99-2250:2\")","v":{"$error":"#N/A"}},{"$f":"RTD(\"sysq.rtd\",\"\",\"!DTDH`LC.99-2250:2\")","v":{"$error":"#N/A"}},{"$f":"RTD(\"sysq.rtd\",\"\",\"!XTSH`LC.99-2250:2\")","v":{"$error":"#N/A"}},{"$f":"RTD(\"sysq.rtd\",\"\",\"!XTDH`LC.99-2250:2\")","v":{"$error":"#N/A"}},{"$f":"RTD(\"sysq.rtd\",\"\",\"!DTAI`LC.99-2250:2\")","v":{"$error":"#N/A"}},{"$f":"RTD(\"sysq.rtd\",\"\",\"WTX&`004.10-2250:2\")","v":{"$error":"#N/A"}},{"$error":"#N/A"}]
["2251",{"$f":"RTD(\"sysq.rtd\",\"\",\"!DTSH`LC.99-2251:2\")","v":{"$error":"#N/A"}},{"$f":"RTD(\"sysq.rtd\",\"\",\"!DTDH`LC.99-2251:2\")","v":{"$error":"#N/A"}},{"$f":"RTD(\"sysq.rtd\",\"\",\"!XTSH`LC.99-2251:2\")","v":{"$error":"#N/A"}},{"$f":"RTD(\"sysq.rtd\",\"\",\"!XTDH`LC.99-2251:2\")","v":{"$error":"#N/A"}},{"$f":"RTD(\"sysq.rtd\",\"\",\"!DTAI`LC.99-2251:2\")","v":{"$error":"#N/A"}},{"$f":"RTD(\"sysq.rtd\",\"\",\"WTX&`004.10-2251:2\")","v":{"$error":"#N/A"}},{"$error":"#N/A"}]
["2252",{"$f":"RTD(\"sysq.rtd\",\"\",\"!DTSH`LC.99-2252:2\")","v":{"$error":"#N/A"}},{"$f":"RTD(\"sysq.rtd\",\"\",\"!DTDH`LC.99-2252:2\")","v":{"$error":"#N/A"}},{"$f":"RTD(\"sysq.rtd\",\"\",\"!XTSH`LC.99-2252:2\")","v":{"$error":"#N/A"}},{"$f":"RTD(\"sysq.rtd\",\"\",\"!XTDH`LC.99-2252:2\")","v":{"$error":"#N/A"}},{"$f":"RTD(\"sysq.rtd\",\"\",\"!DTAI`LC.99-2252:2\")","v":{"$error":"#N/A"}},{"$f":"RTD(\"sysq.rtd\",\"\",\"WTX&`004.10-2252:2\")","v":{"$error":"#N/A"}},{"$error":"#N/A"}]
["2253",{"$f":"RTD(\"sysq.rtd\",\"\",\"!DTSH`LC.99-2253:2\")","v":{"$error":"#N/A"}},{"$f":"RTD(\"sysq.rtd\",\"\",\"!DTDH`LC.99-2253:2\")","v":{"$error":"#N/A"}},{"$f":"RTD(\"sysq.rtd\",\"\",\"!XTSH`LC.99-2253:2\")","v":{"$error":"#N/A"}},{"$f":"RTD(\"sysq.rtd\",\"\",\"!XTDH`LC.99-2253:2\")","v":{"$error":"#N/A"}},{"$f":"RTD(\"sysq.rtd\",\"\",\"!DTAI`LC.99-2253:2\")","v":{"$error":"#N/A"}},{"$f":"RTD(\"sysq.rtd\",\"\",\"WTX&`004.10-2253:2\")","v":{"$error":"#N/A"}},{"$error":"#N/A"}]
["2254",{"$f":"RTD(\"sysq.rtd\",\"\",\"!DTSH`LC.99-2254:2\")","v":{"$error":"#N/A"}},{"$f":"RTD(\"sysq.rtd\",\"\",\"!DTDH`LC.99-2254:2\")","v":{"$error":"#N/A"}},{"$f":"RTD(\"sysq.rtd\",\"\",\"!XTSH`LC.99-2254:2\")","v":{"$error":"#N/A"}},{"$f":"RTD(\"sysq.rtd\",\"\",\"!XTDH`LC.99-2254:2\")","v":{"$error":"#N/A"}},{"$f":"RTD(\"sysq.rtd\",\"\",\"!DTAI`LC.99-2254:2\")","v":{"$error":"#N/A"}},{"$f":"RTD(\"sysq.rtd\",\"\",\"WTX&`004.10-2254:2\")","v":{"$error":"#N/A"}},{"$error":"#N/A"}]
["2255",{"$f":"RTD(\"sysq.rtd\",\"\",\"!DTSH`LC.99-2255:2\")","v":{"$error":"#N/A"}},{"$f":"RTD(\"sysq.rtd\",\"\",\"!DTDH`LC.99-2255:2\")","v":{"$error":"#N/A"}},{"$f":"RTD(\"sysq.rtd\",\"\",\"!XTSH`LC.99-2255:2\")","v":{"$error":"#N/A"}},{"$f":"RTD(\"sysq.rtd\",\"\",\"!XTDH`LC.99-2255:2\")","v":{"$error":"#N/A"}},{"$f":"RTD(\"sysq.rtd\",\"\",\"!DTAI`LC.99-2255:2\")","v":{"$error":"#N/A"}},{"$f":"RTD(\"sysq.rtd\",\"\",\"WTX&`004.10-2255:2\")","v":{"$error":"#N/A"}},{"$error":"#N/A"}]
["2256",{"$f":"RTD(\"sysq.rtd\",\"\",\"!DTSH`LC.99-2256:2\")","v":{"$error":"#N/A"}},{"$f":"RTD(\"sysq.rtd\",\"\",\"!DTDH`LC.99-2256:2\")","v":{"$error":"#N/A"}},{"$f":"RTD(\"sysq.rtd\",\"\",\"!XTSH`LC.99-2256:2\")","v":{"$error":"#N/A"}},{"$f":"RTD(\"sysq.rtd\",\"\",\"!XTDH`LC.99-2256:2\")","v":{"$error":"#N/A"}},{"$f":"RTD(\"sysq.rtd\",\"\",\"!DTAI`LC.99-2256:2\")","v":{"$error":"#N/A"}},{"$f":"RTD(\"sysq.rtd\",\"\",\"WTX&`004.10-2256:2\")","v":{"$error":"#N/A"}},{"$error":"#N/A"}]
["2257",{"$f":"RTD(\"sysq.rtd\",\"\",\"!DTSH`LC.99-2257:2\")","v":{"$error":"#N/A"}},{"$f":"RTD(\"sysq.rtd\",\"\",\"!DTDH`LC.99-2257:2\")","v":{"$error":"#N/A"}},{"$f":"RTD(\"sysq.rtd\",\"\",\"!XTSH`LC.99-2257:2\")","v":{"$error":"#N/A"}},{"$f":"RTD(\"sysq.rtd\",\"\",\"!XTDH`LC.99-2257:2\")","v":{"$error":"#N/A"}},{"$f":"RTD(\"sysq.rtd\",\"\",\"!DTAI`LC.99-2257:2\")","v":{"$error":"#N/A"}},{"$f":"RTD(\"sysq.rtd\",\"\",\"WTX&`004.10-2257:2\")","v":{"$error":"#N/A"}},{"$error":"#N/A"}]
["2258",{"$f":"RTD(\"sysq.rtd\",\"\",\"!DTSH`LC.99-2258:2\")","v":{"$error":"#N/A"}},{"$f":"RTD(\"sysq.rtd\",\"\",\"!DTDH`LC.99-2258:2\")","v":{"$error":"#N/A"}},{"$f":"RTD(\"sysq.rtd\",\"\",\"!XTSH`LC.99-2258:2\")","v":{"$error":"#N/A"}},{"$f":"RTD(\"sysq.rtd\",\"\",\"!XTDH`LC.99-2258:2\")","v":{"$error":"#N/A"}},{"$f":"RTD(\"sysq.rtd\",\"\",\"!DTAI`LC.99-2258:2\")","v":{"$error":"#N/A"}},{"$f":"RTD(\"sysq.rtd\",\"\",\"WTX&`004.10-2258:2\")","v":{"$error":"#N/A"}},{"$error":"#N/A"}]
["2259",{"$f":"RTD(\"sysq.rtd\",\"\",\"!DTSH`LC.99-2259:2\")","v":{"$error":"#N/A"}},{"$f":"RTD(\"sysq.rtd\",\"\",\"!DTDH`LC.99-2259:2\")","v":{"$error":"#N/A"}},{"$f":"RTD(\"sysq.rtd\",\"\",\"!XTSH`LC.99-2259:2\")","v":{"$error":"#N/A"}},{"$f":"RTD(\"sysq.rtd\",\"\",\"!XTDH`LC.99-2259:2\")","v":{"$error":"#N/A"}},{"$f":"RTD(\"sysq.rtd\",\"\",\"!DTAI`LC.99-2259:2\")","v":{"$error":"#N/A"}},{"$f":"RTD(\"sysq.rtd\",\"\",\"WTX&`004.10-2259:2\")","v":{"$error":"#N/A"}},{"$error":"#N/A"}]
["2300",{"$f":"RTD(\"sysq.rtd\",\"\",\"!DTSH`LC.99-2300:2\")","v":{"$error":"#N/A"}},{"$f":"RTD(\"sysq.rtd\",\"\",\"!DTDH`LC.99-2300:2\")","v":{"$error":"#N/A"}},{"$f":"RTD(\"sysq.rtd\",\"\",\"!XTSH`LC.99-2300:2\")","v":{"$error":"#N/A"}},{"$f":"RTD(\"sysq.rtd\",\"\",\"!XTDH`LC.99-2300:2\")","v":{"$error":"#N/A"}},{"$f":"RTD(\"sysq.rtd\",\"\",\"!DTAI`LC.99-2300:2\")","v":{"$error":"#N/A"}},{"$f":"RTD(\"sysq.rtd\",\"\",\"WTX&`004.10-2300:2\")","v":{"$error":"#N/A"}},{"$error":"#N/A"}]
["2301",{"$f":"RTD(\"sysq.rtd\",\"\",\"!DTSH`LC.99-2301:2\")","v":{"$error":"#N/A"}},{"$f":"RTD(\"sysq.rtd\",\"\",\"!DTDH`LC.99-2301:2\")","v":{"$error":"#N/A"}},{"$f":"RTD(\"sysq.rtd\",\"\",\"!XTSH`LC.99-2301:2\")","v":{"$error":"#N/A"}},{"$f":"RTD(\"sysq.rtd\",\"\",\"!XTDH`LC.99-2301:2\")","v":{"$error":"#N/A"}},{"$f":"RTD(\"sysq.rtd\",\"\",\"!DTAI`LC.99-2301:2\")","v":{"$error":"#N/A"}},{"$f":"RTD(\"sysq.rtd\",\"\",\"WTX&`004.10-2301:2\")","v":{"$error":"#N/A"}},{"$error":"#N/A"}]
["2302",{"$f":"RTD(\"sysq.rtd\",\"\",\"!DTSH`LC.99-2302:2\")","v":{"$error":"#N/A"}},{"$f":"RTD(\"sysq.rtd\",\"\",\"!DTDH`LC.99-2302:2\")","v":{"$error":"#N/A"}},{"$f":"RTD(\"sysq.rtd\",\"\",\"!XTSH`LC.99-2302:2\")","v":{"$error":"#N/A"}},{"$f":"RTD(\"sysq.rtd\",\"\",\"!XTDH`LC.99-2302:2\")","v":{"$error":"#N/A"}},{"$f":"RTD(\"sysq.rtd\",\"\",\"!DTAI`LC.99-2302:2\")","v":{"$error":"#N/A"}},{"$f":"RTD(\"sysq.rtd\",\"\",\"WTX&`004.10-2302:2\")","v":{"$error":"#N/A"}},{"$error":"#N/A"}]
["2303",{"$f":"RTD(\"sysq.rtd\",\"\",\"!DTSH`LC.99-2303:2\")","v":{"$error":"#N/A"}},{"$f":"RTD(\"sysq.rtd\",\"\",\"!DTDH`LC.99-2303:2\")","v":{"$error":"#N/A"}},{"$f":"RTD(\"sysq.rtd\",\"\",\"!XTSH`LC.99-2303:2\")","v":{"$error":"#N/A"}},{"$f":"RTD(\"sysq.rtd\",\"\",\"!XTDH`LC.99-2303:2\")","v":{"$error":"#N/A"}},{"$f":"RTD(\"sysq.rtd\",\"\",\"!DTAI`LC.99-2303:2\")","v":{"$error":"#N/A"}},{"$f":"RTD(\"sysq.rtd\",\"\",\"WTX&`004.10-2303:2\")","v":{"$error":"#N/A"}},{"$error":"#N/A"}]
["2304",{"$f":"RTD(\"sysq.rtd\",\"\",\"!DTSH`LC.99-2304:2\")","v":{"$error":"#N/A"}},{"$f":"RTD(\"sysq.rtd\",\"\",\"!DTDH`LC.99-2304:2\")","v":{"$error":"#N/A"}},{"$f":"RTD(\"sysq.rtd\",\"\",\"!XTSH`LC.99-2304:2\")","v":{"$error":"#N/A"}},{"$f":"RTD(\"sysq.rtd\",\"\",\"!XTDH`LC.99-2304:2\")","v":{"$error":"#N/A"}},{"$f":"RTD(\"sysq.rtd\",\"\",\"!DTAI`LC.99-2304:2\")","v":{"$error":"#N/A"}},{"$f":"RTD(\"sysq.rtd\",\"\",\"WTX&`004.10-2304:2\")","v":{"$error":"#N/A"}},{"$error":"#N/A"}]
["2305",{"$f":"RTD(\"sysq.rtd\",\"\",\"!DTSH`LC.99-2305:2\")","v":{"$error":"#N/A"}},{"$f":"RTD(\"sysq.rtd\",\"\",\"!DTDH`LC.99-2305:2\")","v":{"$error":"#N/A"}},{"$f":"RTD(\"sysq.rtd\",\"\",\"!XTSH`LC.99-2305:2\")","v":{"$error":"#N/A"}},{"$f":"RTD(\"sysq.rtd\",\"\",\"!XTDH`LC.99-2305:2\")","v":{"$error":"#N/A"}},{"$f":"RTD(\"sysq.rtd\",\"\",\"!DTAI`LC.99-2305:2\")","v":{"$error":"#N/A"}},{"$f":"RTD(\"sysq.rtd\",\"\",\"WTX&`004.10-2305:2\")","v":{"$error":"#N/A"}},{"$error":"#N/A"}]
["2306",{"$f":"RTD(\"sysq.rtd\",\"\",\"!DTSH`LC.99-2306:2\")","v":{"$error":"#N/A"}},{"$f":"RTD(\"sysq.rtd\",\"\",\"!DTDH`LC.99-2306:2\")","v":{"$error":"#N/A"}},{"$f":"RTD(\"sysq.rtd\",\"\",\"!XTSH`LC.99-2306:2\")","v":{"$error":"#N/A"}},{"$f":"RTD(\"sysq.rtd\",\"\",\"!XTDH`LC.99-2306:2\")","v":{"$error":"#N/A"}},{"$f":"RTD(\"sysq.rtd\",\"\",\"!DTAI`LC.99-2306:2\")","v":{"$error":"#N/A"}},{"$f":"RTD(\"sysq.rtd\",\"\",\"WTX&`004.10-2306:2\")","v":{"$error":"#N/A"}},{"$error":"#N/A"}]
["2307",{"$f":"RTD(\"sysq.rtd\",\"\",\"!DTSH`LC.99-2307:2\")","v":{"$error":"#N/A"}},{"$f":"RTD(\"sysq.rtd\",\"\",\"!DTDH`LC.99-2307:2\")","v":{"$error":"#N/A"}},{"$f":"RTD(\"sysq.rtd\",\"\",\"!XTSH`LC.99-2307:2\")","v":{"$error":"#N/A"}},{"$f":"RTD(\"sysq.rtd\",\"\",\"!XTDH`LC.99-2307:2\")","v":{"$error":"#N/A"}},{"$f":"RTD(\"sysq.rtd\",\"\",\"!DTAI`LC.99-2307:2\")","v":{"$error":"#N/A"}},{"$f":"RTD(\"sysq.rtd\",\"\",\"WTX&`004.10-2307:2\")","v":{"$error":"#N/A"}},{"$error":"#N/A"}]
["2308",{"$f":"RTD(\"sysq.rtd\",\"\",\"!DTSH`LC.99-2308:2\")","v":{"$error":"#N/A"}},{"$f":"RTD(\"sysq.rtd\",\"\",\"!DTDH`LC.99-2308:2\")","v":{"$error":"#N/A"}},{"$f":"RTD(\"sysq.rtd\",\"\",\"!XTSH`LC.99-2308:2\")","v":{"$error":"#N/A"}},{"$f":"RTD(\"sysq.rtd\",\"\",\"!XTDH`LC.99-2308:2\")","v":{"$error":"#N/A"}},{"$f":"RTD(\"sysq.rtd\",\"\",\"!DTAI`LC.99-2308:2\")","v":{"$error":"#N/A"}},{"$f":"RTD(\"sysq.rtd\",\"\",\"WTX&`004.10-2308:2\")","v":{"$error":"#N/A"}},{"$error":"#N/A"}]
["2309",{"$f":"RTD(\"sysq.rtd\",\"\",\"!DTSH`LC.99-2309:2\")","v":{"$error":"#N/A"}},{"$f":"RTD(\"sysq.rtd\",\"\",\"!DTDH`LC.99-2309:2\")","v":{"$error":"#N/A"}},{"$f":"RTD(\"sysq.rtd\",\"\",\"!XTSH`LC.99-2309:2\")","v":{"$error":"#N/A"}},{"$f":"RTD(\"sysq.rtd\",\"\",\"!XTDH`LC.99-2309:2\")","v":{"$error":"#N/A"}},{"$f":"RTD(\"sysq.rtd\",\"\",\"!DTAI`LC.99-2309:2\")","v":{"$error":"#N/A"}},{"$f":"RTD(\"sysq.rtd\",\"\",\"WTX&`004.10-2309:2\")","v":{"$error":"#N/A"}},{"$error":"#N/A"}]
["2310",{"$f":"RTD(\"sysq.rtd\",\"\",\"!DTSH`LC.99-2310:2\")","v":{"$error":"#N/A"}},{"$f":"RTD(\"sysq.rtd\",\"\",\"!DTDH`LC.99-2310:2\")","v":{"$error":"#N/A"}},{"$f":"RTD(\"sysq.rtd\",\"\",\"!XTSH`LC.99-2310:2\")","v":{"$error":"#N/A"}},{"$f":"RTD(\"sysq.rtd\",\"\",\"!XTDH`LC.99-2310:2\")","v":{"$error":"#N/A"}},{"$f":"RTD(\"sysq.rtd\",\"\",\"!DTAI`LC.99-2310:2\")","v":{"$error":"#N/A"}},{"$f":"RTD(\"sysq.rtd\",\"\",\"WTX&`004.10-2310:2\")","v":{"$error":"#N/A"}},{"$error":"#N/A"}]
["2311",{"$f":"RTD(\"sysq.rtd\",\"\",\"!DTSH`LC.99-2311:2\")","v":{"$error":"#N/A"}},{"$f":"RTD(\"sysq.rtd\",\"\",\"!DTDH`LC.99-2311:2\")","v":{"$error":"#N/A"}},{"$f":"RTD(\"sysq.rtd\",\"\",\"!XTSH`LC.99-2311:2\")","v":{"$error":"#N/A"}},{"$f":"RTD(\"sysq.rtd\",\"\",\"!XTDH`LC.99-2311:2\")","v":{"$error":"#N/A"}},{"$f":"RTD(\"sysq.rtd\",\"\",\"!DTAI`LC.99-2311:2\")","v":{"$error":"#N/A"}},{"$f":"RTD(\"sysq.rtd\",\"\",\"WTX&`004.10-2311:2\")","v":{"$error":"#N/A"}},{"$error":"#N/A"}]
["2312",{"$f":"RTD(\"sysq.rtd\",\"\",\"!DTSH`LC.99-2312:2\")","v":{"$error":"#N/A"}},{"$f":"RTD(\"sysq.rtd\",\"\",\"!DTDH`LC.99-2312:2\")","v":{"$error":"#N/A"}},{"$f":"RTD(\"sysq.rtd\",\"\",\"!XTSH`LC.99-2312:2\")","v":{"$error":"#N/A"}},{"$f":"RTD(\"sysq.rtd\",\"\",\"!XTDH`LC.99-2312:2\")","v":{"$error":"#N/A"}},{"$f":"RTD(\"sysq.rtd\",\"\",\"!DTAI`LC.99-2312:2\")","v":{"$error":"#N/A"}},{"$f":"RTD(\"sysq.rtd\",\"\",\"WTX&`004.10-2312:2\")","v":{"$error":"#N/A"}},{"$error":"#N/A"}]
["2313",{"$f":"RTD(\"sysq.rtd\",\"\",\"!DTSH`LC.99-2313:2\")","v":{"$error":"#N/A"}},{"$f":"RTD(\"sysq.rtd\",\"\",\"!DTDH`LC.99-2313:2\")","v":{"$error":"#N/A"}},{"$f":"RTD(\"sysq.rtd\",\"\",\"!XTSH`LC.99-2313:2\")","v":{"$error":"#N/A"}},{"$f":"RTD(\"sysq.rtd\",\"\",\"!XTDH`LC.99-2313:2\")","v":{"$error":"#N/A"}},{"$f":"RTD(\"sysq.rtd\",\"\",\"!DTAI`LC.99-2313:2\")","v":{"$error":"#N/A"}},{"$f":"RTD(\"sysq.rtd\",\"\",\"WTX&`004.10-2313:2\")","v":{"$error":"#N/A"}},{"$error":"#N/A"}]
["2314",{"$f":"RTD(\"sysq.rtd\",\"\",\"!DTSH`LC.99-2314:2\")","v":{"$error":"#N/A"}},{"$f":"RTD(\"sysq.rtd\",\"\",\"!DTDH`LC.99-2314:2\")","v":{"$error":"#N/A"}},{"$f":"RTD(\"sysq.rtd\",\"\",\"!XTSH`LC.99-2314:2\")","v":{"$error":"#N/A"}},{"$f":"RTD(\"sysq.rtd\",\"\",\"!XTDH`LC.99-2314:2\")","v":{"$error":"#N/A"}},{"$f":"RTD(\"sysq.rtd\",\"\",\"!DTAI`LC.99-2314:2\")","v":{"$error":"#N/A"}},{"$f":"RTD(\"sysq.rtd\",\"\",\"WTX&`004.10-2314:2\")","v":{"$error":"#N/A"}},{"$error":"#N/A"}]
["2315",{"$f":"RTD(\"sysq.rtd\",\"\",\"!DTSH`LC.99-2315:2\")","v":{"$error":"#N/A"}},{"$f":"RTD(\"sysq.rtd\",\"\",\"!DTDH`LC.99-2315:2\")","v":{"$error":"#N/A"}},{"$f":"RTD(\"sysq.rtd\",\"\",\"!XTSH`LC.99-2315:2\")","v":{"$error":"#N/A"}},{"$f":"RTD(\"sysq.rtd\",\"\",\"!XTDH`LC.99-2315:2\")","v":{"$error":"#N/A"}},{"$f":"RTD(\"sysq.rtd\",\"\",\"!DTAI`LC.99-2315:2\")","v":{"$error":"#N/A"}},{"$f":"RTD(\"sysq.rtd\",\"\",\"WTX&`004.10-2315:2\")","v":{"$error":"#N/A"}},{"$error":"#N/A"}]
["2316",{"$f":"RTD(\"sysq.rtd\",\"\",\"!DTSH`LC.99-2316:2\")","v":{"$error":"#N/A"}},{"$f":"RTD(\"sysq.rtd\",\"\",\"!DTDH`LC.99-2316:2\")","v":{"$error":"#N/A"}},{"$f":"RTD(\"sysq.rtd\",\"\",\"!XTSH`LC.99-2316:2\")","v":{"$error":"#N/A"}},{"$f":"RTD(\"sysq.rtd\",\"\",\"!XTDH`LC.99-2316:2\")","v":{"$error":"#N/A"}},{"$f":"RTD(\"sysq.rtd\",\"\",\"!DTAI`LC.99-2316:2\")","v":{"$error":"#N/A"}},{"$f":"RTD(\"sysq.rtd\",\"\",\"WTX&`004.10-2316:2\")","v":{"$error":"#N/A"}},{"$error":"#N/A"}]
["2317",{"$f":"RTD(\"sysq.rtd\",\"\",\"!DTSH`LC.99-2317:2\")","v":{"$error":"#N/A"}},{"$f":"RTD(\"sysq.rtd\",\"\",\"!DTDH`LC.99-2317:2\")","v":{"$error":"#N/A"}},{"$f":"RTD(\"sysq.rtd\",\"\",\"!XTSH`LC.99-2317:2\")","v":{"$error":"#N/A"}},{"$f":"RTD(\"sysq.rtd\",\"\",\"!XTDH`LC.99-2317:2\")","v":{"$error":"#N/A"}},{"$f":"RTD(\"sysq.rtd\",\"\",\"!DTAI`LC.99-2317:2\")","v":{"$error":"#N/A"}},{"$f":"RTD(\"sysq.rtd\",\"\",\"WTX&`004.10-2317:2\")","v":{"$error":"#N/A"}},{"$error":"#N/A"}]
["2318",{"$f":"RTD(\"sysq.rtd\",\"\",\"!DTSH`LC.99-2318:2\")","v":{"$error":"#N/A"}},{"$f":"RTD(\"sysq.rtd\",\"\",\"!DTDH`LC.99-2318:2\")","v":{"$error":"#N/A"}},{"$f":"RTD(\"sysq.rtd\",\"\",\"!XTSH`LC.99-2318:2\")","v":{"$error":"#N/A"}},{"$f":"RTD(\"sysq.rtd\",\"\",\"!XTDH`LC.99-2318:2\")","v":{"$error":"#N/A"}},{"$f":"RTD(\"sysq.rtd\",\"\",\"!DTAI`LC.99-2318:2\")","v":{"$error":"#N/A"}},{"$f":"RTD(\"sysq.rtd\",\"\",\"WTX&`004.10-2318:2\")","v":{"$error":"#N/A"}},{"$error":"#N/A"}]
["2319",{"$f":"RTD(\"sysq.rtd\",\"\",\"!DTSH`LC.99-2319:2\")","v":{"$error":"#N/A"}},{"$f":"RTD(\"sysq.rtd\",\"\",\"!DTDH`LC.99-2319:2\")","v":{"$error":"#N/A"}},{"$f":"RTD(\"sysq.rtd\",\"\",\"!XTSH`LC.99-2319:2\")","v":{"$error":"#N/A"}},{"$f":"RTD(\"sysq.rtd\",\"\",\"!XTDH`LC.99-2319:2\")","v":{"$error":"#N/A"}},{"$f":"RTD(\"sysq.rtd\",\"\",\"!DTAI`LC.99-2319:2\")","v":{"$error":"#N/A"}},{"$f":"RTD(\"sysq.rtd\",\"\",\"WTX&`004.10-2319:2\")","v":{"$error":"#N/A"}},{"$error":"#N/A"}]
["2320",{"$f":"RTD(\"sysq.rtd\",\"\",\"!DTSH`LC.99-2320:2\")","v":{"$error":"#N/A"}},{"$f":"RTD(\"sysq.rtd\",\"\",\"!DTDH`LC.99-2320:2\")","v":{"$error":"#N/A"}},{"$f":"RTD(\"sysq.rtd\",\"\",\"!XTSH`LC.99-2320:2\")","v":{"$error":"#N/A"}},{"$f":"RTD(\"sysq.rtd\",\"\",\"!XTDH`LC.99-2320:2\")","v":{"$error":"#N/A"}},{"$f":"RTD(\"sysq.rtd\",\"\",\"!DTAI`LC.99-2320:2\")","v":{"$error":"#N/A"}},{"$f":"RTD(\"sysq.rtd\",\"\",\"WTX&`004.10-2320:2\")","v":{"$error":"#N/A"}},{"$error":"#N/A"}]
["2321",{"$f":"RTD(\"sysq.rtd\",\"\",\"!DTSH`LC.99-2321:2\")","v":{"$error":"#N/A"}},{"$f":"RTD(\"sysq.rtd\",\"\",\"!DTDH`LC.99-2321:2\")","v":{"$error":"#N/A"}},{"$f":"RTD(\"sysq.rtd\",\"\",\"!XTSH`LC.99-2321:2\")","v":{"$error":"#N/A"}},{"$f":"RTD(\"sysq.rtd\",\"\",\"!XTDH`LC.99-2321:2\")","v":{"$error":"#N/A"}},{"$f":"RTD(\"sysq.rtd\",\"\",\"!DTAI`LC.99-2321:2\")","v":{"$error":"#N/A"}},{"$f":"RTD(\"sysq.rtd\",\"\",\"WTX&`004.10-2321:2\")","v":{"$error":"#N/A"}},{"$error":"#N/A"}]
["2322",{"$f":"RTD(\"sysq.rtd\",\"\",\"!DTSH`LC.99-2322:2\")","v":{"$error":"#N/A"}},{"$f":"RTD(\"sysq.rtd\",\"\",\"!DTDH`LC.99-2322:2\")","v":{"$error":"#N/A"}},{"$f":"RTD(\"sysq.rtd\",\"\",\"!XTSH`LC.99-2322:2\")","v":{"$error":"#N/A"}},{"$f":"RTD(\"sysq.rtd\",\"\",\"!XTDH`LC.99-2322:2\")","v":{"$error":"#N/A"}},{"$f":"RTD(\"sysq.rtd\",\"\",\"!DTAI`LC.99-2322:2\")","v":{"$error":"#N/A"}},{"$f":"RTD(\"sysq.rtd\",\"\",\"WTX&`004.10-2322:2\")","v":{"$error":"#N/A"}},{"$error":"#N/A"}]
["2323",{"$f":"RTD(\"sysq.rtd\",\"\",\"!DTSH`LC.99-2323:2\")","v":{"$error":"#N/A"}},{"$f":"RTD(\"sysq.rtd\",\"\",\"!DTDH`LC.99-2323:2\")","v":{"$error":"#N/A"}},{"$f":"RTD(\"sysq.rtd\",\"\",\"!XTSH`LC.99-2323:2\")","v":{"$error":"#N/A"}},{"$f":"RTD(\"sysq.rtd\",\"\",\"!XTDH`LC.99-2323:2\")","v":{"$error":"#N/A"}},{"$f":"RTD(\"sysq.rtd\",\"\",\"!DTAI`LC.99-2323:2\")","v":{"$error":"#N/A"}},{"$f":"RTD(\"sysq.rtd\",\"\",\"WTX&`004.10-2323:2\")","v":{"$error":"#N/A"}},{"$error":"#N/A"}]
["2324",{"$f":"RTD(\"sysq.rtd\",\"\",\"!DTSH`LC.99-2324:2\")","v":{"$error":"#N/A"}},{"$f":"RTD(\"sysq.rtd\",\"\",\"!DTDH`LC.99-2324:2\")","v":{"$error":"#N/A"}},{"$f":"RTD(\"sysq.rtd\",\"\",\"!XTSH`LC.99-2324:2\")","v":{"$error":"#N/A"}},{"$f":"RTD(\"sysq.rtd\",\"\",\"!XTDH`LC.99-2324:2\")","v":{"$error":"#N/A"}},{"$f":"RTD(\"sysq.rtd\",\"\",\"!DTAI`LC.99-2324:2\")","v":{"$error":"#N/A"}},{"$f":"RTD(\"sysq.rtd\",\"\",\"WTX&`004.10-2324:2\")","v":{"$error":"#N/A"}},{"$error":"#N/A"}]
["2325",{"$f":"RTD(\"sysq.rtd\",\"\",\"!DTSH`LC.99-2325:2\")","v":{"$error":"#N/A"}},{"$f":"RTD(\"sysq.rtd\",\"\",\"!DTDH`LC.99-2325:2\")","v":{"$error":"#N/A"}},{"$f":"RTD(\"sysq.rtd\",\"\",\"!XTSH`LC.99-2325:2\")","v":{"$error":"#N/A"}},{"$f":"RTD(\"sysq.rtd\",\"\",\"!XTDH`LC.99-2325:2\")","v":{"$error":"#N/A"}},{"$f":"RTD(\"sysq.rtd\",\"\",\"!DTAI`LC.99-2325:2\")","v":{"$error":"#N/A"}},{"$f":"RTD(\"sysq.rtd\",\"\",\"WTX&`004.10-2325:2\")","v":{"$error":"#N/A"}},{"$error":"#N/A"}]
["2326",{"$f":"RTD(\"sysq.rtd\",\"\",\"!DTSH`LC.99-2326:2\")","v":{"$error":"#N/A"}},{"$f":"RTD(\"sysq.rtd\",\"\",\"!DTDH`LC.99-2326:2\")","v":{"$error":"#N/A"}},{"$f":"RTD(\"sysq.rtd\",\"\",\"!XTSH`LC.99-2326:2\")","v":{"$error":"#N/A"}},{"$f":"RTD(\"sysq.rtd\",\"\",\"!XTDH`LC.99-2326:2\")","v":{"$error":"#N/A"}},{"$f":"RTD(\"sysq.rtd\",\"\",\"!DTAI`LC.99-2326:2\")","v":{"$error":"#N/A"}},{"$f":"RTD(\"sysq.rtd\",\"\",\"WTX&`004.10-2326:2\")","v":{"$error":"#N/A"}},{"$error":"#N/A"}]
["2327",{"$f":"RTD(\"sysq.rtd\",\"\",\"!DTSH`LC.99-2327:2\")","v":{"$error":"#N/A"}},{"$f":"RTD(\"sysq.rtd\",\"\",\"!DTDH`LC.99-2327:2\")","v":{"$error":"#N/A"}},{"$f":"RTD(\"sysq.rtd\",\"\",\"!XTSH`LC.99-2327:2\")","v":{"$error":"#N/A"}},{"$f":"RTD(\"sysq.rtd\",\"\",\"!XTDH`LC.99-2327:2\")","v":{"$error":"#N/A"}},{"$f":"RTD(\"sysq.rtd\",\"\",\"!DTAI`LC.99-2327:2\")","v":{"$error":"#N/A"}},{"$f":"RTD(\"sysq.rtd\",\"\",\"WTX&`004.10-2327:2\")","v":{"$error":"#N/A"}},{"$error":"#N/A"}]
["2328",{"$f":"RTD(\"sysq.rtd\",\"\",\"!DTSH`LC.99-2328:2\")","v":{"$error":"#N/A"}},{"$f":"RTD(\"sysq.rtd\",\"\",\"!DTDH`LC.99-2328:2\")","v":{"$error":"#N/A"}},{"$f":"RTD(\"sysq.rtd\",\"\",\"!XTSH`LC.99-2328:2\")","v":{"$error":"#N/A"}},{"$f":"RTD(\"sysq.rtd\",\"\",\"!XTDH`LC.99-2328:2\")","v":{"$error":"#N/A"}},{"$f":"RTD(\"sysq.rtd\",\"\",\"!DTAI`LC.99-2328:2\")","v":{"$error":"#N/A"}},{"$f":"RTD(\"sysq.rtd\",\"\",\"WTX&`004.10-2328:2\")","v":{"$error":"#N/A"}},{"$error":"#N/A"}]
["2329",{"$f":"RTD(\"sysq.rtd\",\"\",\"!DTSH`LC.99-2329:2\")","v":{"$error":"#N/A"}},{"$f":"RTD(\"sysq.rtd\",\"\",\"!DTDH`LC.99-2329:2\")","v":{"$error":"#N/A"}},{"$f":"RTD(\"sysq.rtd\",\"\",\"!XTSH`LC.99-2329:2\")","v":{"$error":"#N/A"}},{"$f":"RTD(\"sysq.rtd\",\"\",\"!XTDH`LC.99-2329:2\")","v":{"$error":"#N/A"}},{"$f":"RTD(\"sysq.rtd\",\"\",\"!DTAI`LC.99-2329:2\")","v":{"$error":"#N/A"}},{"$f":"RTD(\"sysq.rtd\",\"\",\"WTX&`004.10-2329:2\")","v":{"$error":"#N/A"}},{"$error":"#N/A"}]
["2330",{"$f":"RTD(\"sysq.rtd\",\"\",\"!DTSH`LC.99-2330:2\")","v":{"$error":"#N/A"}},{"$f":"RTD(\"sysq.rtd\",\"\",\"!DTDH`LC.99-2330:2\")","v":{"$error":"#N/A"}},{"$f":"RTD(\"sysq.rtd\",\"\",\"!XTSH`LC.99-2330:2\")","v":{"$error":"#N/A"}},{"$f":"RTD(\"sysq.rtd\",\"\",\"!XTDH`LC.99-2330:2\")","v":{"$error":"#N/A"}},{"$f":"RTD(\"sysq.rtd\",\"\",\"!DTAI`LC.99-2330:2\")","v":{"$error":"#N/A"}},{"$f":"RTD(\"sysq.rtd\",\"\",\"WTX&`004.10-2330:2\")","v":{"$error":"#N/A"}},{"$error":"#N/A"}]
["2331",{"$f":"RTD(\"sysq.rtd\",\"\",\"!DTSH`LC.99-2331:2\")","v":{"$error":"#N/A"}},{"$f":"RTD(\"sysq.rtd\",\"\",\"!DTDH`LC.99-2331:2\")","v":{"$error":"#N/A"}},{"$f":"RTD(\"sysq.rtd\",\"\",\"!XTSH`LC.99-2331:2\")","v":{"$error":"#N/A"}},{"$f":"RTD(\"sysq.rtd\",\"\",\"!XTDH`LC.99-2331:2\")","v":{"$error":"#N/A"}},{"$f":"RTD(\"sysq.rtd\",\"\",\"!DTAI`LC.99-2331:2\")","v":{"$error":"#N/A"}},{"$f":"RTD(\"sysq.rtd\",\"\",\"WTX&`004.10-2331:2\")","v":{"$error":"#N/A"}},{"$error":"#N/A"}]
["2332",{"$f":"RTD(\"sysq.rtd\",\"\",\"!DTSH`LC.99-2332:2\")","v":{"$error":"#N/A"}},{"$f":"RTD(\"sysq.rtd\",\"\",\"!DTDH`LC.99-2332:2\")","v":{"$error":"#N/A"}},{"$f":"RTD(\"sysq.rtd\",\"\",\"!XTSH`LC.99-2332:2\")","v":{"$error":"#N/A"}},{"$f":"RTD(\"sysq.rtd\",\"\",\"!XTDH`LC.99-2332:2\")","v":{"$error":"#N/A"}},{"$f":"RTD(\"sysq.rtd\",\"\",\"!DTAI`LC.99-2332:2\")","v":{"$error":"#N/A"}},{"$f":"RTD(\"sysq.rtd\",\"\",\"WTX&`004.10-2332:2\")","v":{"$error":"#N/A"}},{"$error":"#N/A"}]
["2333",{"$f":"RTD(\"sysq.rtd\",\"\",\"!DTSH`LC.99-2333:2\")","v":{"$error":"#N/A"}},{"$f":"RTD(\"sysq.rtd\",\"\",\"!DTDH`LC.99-2333:2\")","v":{"$error":"#N/A"}},{"$f":"RTD(\"sysq.rtd\",\"\",\"!XTSH`LC.99-2333:2\")","v":{"$error":"#N/A"}},{"$f":"RTD(\"sysq.rtd\",\"\",\"!XTDH`LC.99-2333:2\")","v":{"$error":"#N/A"}},{"$f":"RTD(\"sysq.rtd\",\"\",\"!DTAI`LC.99-2333:2\")","v":{"$error":"#N/A"}},{"$f":"RTD(\"sysq.rtd\",\"\",\"WTX&`004.10-2333:2\")","v":{"$error":"#N/A"}},{"$error":"#N/A"}]
["2334",{"$f":"RTD(\"sysq.rtd\",\"\",\"!DTSH`LC.99-2334:2\")","v":{"$error":"#N/A"}},{"$f":"RTD(\"sysq.rtd\",\"\",\"!DTDH`LC.99-2334:2\")","v":{"$error":"#N/A"}},{"$f":"RTD(\"sysq.rtd\",\"\",\"!XTSH`LC.99-2334:2\")","v":{"$error":"#N/A"}},{"$f":"RTD(\"sysq.rtd\",\"\",\"!XTDH`LC.99-2334:2\")","v":{"$error":"#N/A"}},{"$f":"RTD(\"sysq.rtd\",\"\",\"!DTAI`LC.99-2334:2\")","v":{"$error":"#N/A"}},{"$f":"RTD(\"sysq.rtd\",\"\",\"WTX&`004.10-2334:2\")","v":{"$error":"#N/A"}},{"$error":"#N/A"}]
["2335",{"$f":"RTD(\"sysq.rtd\",\"\",\"!DTSH`LC.99-2335:2\")","v":{"$error":"#N/A"}},{"$f":"RTD(\"sysq.rtd\",\"\",\"!DTDH`LC.99-2335:2\")","v":{"$error":"#N/A"}},{"$f":"RTD(\"sysq.rtd\",\"\",\"!XTSH`LC.99-2335:2\")","v":{"$error":"#N/A"}},{"$f":"RTD(\"sysq.rtd\",\"\",\"!XTDH`LC.99-2335:2\")","v":{"$error":"#N/A"}},{"$f":"RTD(\"sysq.rtd\",\"\",\"!DTAI`LC.99-2335:2\")","v":{"$error":"#N/A"}},{"$f":"RTD(\"sysq.rtd\",\"\",\"WTX&`004.10-2335:2\")","v":{"$error":"#N/A"}},{"$error":"#N/A"}]
["2336",{"$f":"RTD(\"sysq.rtd\",\"\",\"!DTSH`LC.99-2336:2\")","v":{"$error":"#N/A"}},{"$f":"RTD(\"sysq.rtd\",\"\",\"!DTDH`LC.99-2336:2\")","v":{"$error":"#N/A"}},{"$f":"RTD(\"sysq.rtd\",\"\",\"!XTSH`LC.99-2336:2\")","v":{"$error":"#N/A"}},{"$f":"RTD(\"sysq.rtd\",\"\",\"!XTDH`LC.99-2336:2\")","v":{"$error":"#N/A"}},{"$f":"RTD(\"sysq.rtd\",\"\",\"!DTAI`LC.99-2336:2\")","v":{"$error":"#N/A"}},{"$f":"RTD(\"sysq.rtd\",\"\",\"WTX&`004.10-2336:2\")","v":{"$error":"#N/A"}},{"$error":"#N/A"}]
["2337",{"$f":"RTD(\"sysq.rtd\",\"\",\"!DTSH`LC.99-2337:2\")","v":{"$error":"#N/A"}},{"$f":"RTD(\"sysq.rtd\",\"\",\"!DTDH`LC.99-2337:2\")","v":{"$error":"#N/A"}},{"$f":"RTD(\"sysq.rtd\",\"\",\"!XTSH`LC.99-2337:2\")","v":{"$error":"#N/A"}},{"$f":"RTD(\"sysq.rtd\",\"\",\"!XTDH`LC.99-2337:2\")","v":{"$error":"#N/A"}},{"$f":"RTD(\"sysq.rtd\",\"\",\"!DTAI`LC.99-2337:2\")","v":{"$error":"#N/A"}},{"$f":"RTD(\"sysq.rtd\",\"\",\"WTX&`004.10-2337:2\")","v":{"$error":"#N/A"}},{"$error":"#N/A"}]
["2338",{"$f":"RTD(\"sysq.rtd\",\"\",\"!DTSH`LC.99-2338:2\")","v":{"$error":"#N/A"}},{"$f":"RTD(\"sysq.rtd\",\"\",\"!DTDH`LC.99-2338:2\")","v":{"$error":"#N/A"}},{"$f":"RTD(\"sysq.rtd\",\"\",\"!XTSH`LC.99-2338:2\")","v":{"$error":"#N/A"}},{"$f":"RTD(\"sysq.rtd\",\"\",\"!XTDH`LC.99-2338:2\")","v":{"$error":"#N/A"}},{"$f":"RTD(\"sysq.rtd\",\"\",\"!DTAI`LC.99-2338:2\")","v":{"$error":"#N/A"}},{"$f":"RTD(\"sysq.rtd\",\"\",\"WTX&`004.10-2338:2\")","v":{"$error":"#N/A"}},{"$error":"#N/A"}]
["2339",{"$f":"RTD(\"sysq.rtd\",\"\",\"!DTSH`LC.99-2339:2\")","v":{"$error":"#N/A"}},{"$f":"RTD(\"sysq.rtd\",\"\",\"!DTDH`LC.99-2339:2\")","v":{"$error":"#N/A"}},{"$f":"RTD(\"sysq.rtd\",\"\",\"!XTSH`LC.99-2339:2\")","v":{"$error":"#N/A"}},{"$f":"RTD(\"sysq.rtd\",\"\",\"!XTDH`LC.99-2339:2\")","v":{"$error":"#N/A"}},{"$f":"RTD(\"sysq.rtd\",\"\",\"!DTAI`LC.99-2339:2\")","v":{"$error":"#N/A"}},{"$f":"RTD(\"sysq.rtd\",\"\",\"WTX&`004.10-2339:2\")","v":{"$error":"#N/A"}},{"$error":"#N/A"}]
["2340",{"$f":"RTD(\"sysq.rtd\",\"\",\"!DTSH`LC.99-2340:2\")","v":{"$error":"#N/A"}},{"$f":"RTD(\"sysq.rtd\",\"\",\"!DTDH`LC.99-2340:2\")","v":{"$error":"#N/A"}},{"$f":"RTD(\"sysq.rtd\",\"\",\"!XTSH`LC.99-2340:2\")","v":{"$error":"#N/A"}},{"$f":"RTD(\"sysq.rtd\",\"\",\"!XTDH`LC.99-2340:2\")","v":{"$error":"#N/A"}},{"$f":"RTD(\"sysq.rtd\",\"\",\"!DTAI`LC.99-2340:2\")","v":{"$error":"#N/A"}},{"$f":"RTD(\"sysq.rtd\",\"\",\"WTX&`004.10-2340:2\")","v":{"$error":"#N/A"}},{"$error":"#N/A"}]
["2341",{"$f":"RTD(\"sysq.rtd\",\"\",\"!DTSH`LC.99-2341:2\")","v":{"$error":"#N/A"}},{"$f":"RTD(\"sysq.rtd\",\"\",\"!DTDH`LC.99-2341:2\")","v":{"$error":"#N/A"}},{"$f":"RTD(\"sysq.rtd\",\"\",\"!XTSH`LC.99-2341:2\")","v":{"$error":"#N/A"}},{"$f":"RTD(\"sysq.rtd\",\"\",\"!XTDH`LC.99-2341:2\")","v":{"$error":"#N/A"}},{"$f":"RTD(\"sysq.rtd\",\"\",\"!DTAI`LC.99-2341:2\")","v":{"$error":"#N/A"}},{"$f":"RTD(\"sysq.rtd\",\"\",\"WTX&`004.10-2341:2\")","v":{"$error":"#N/A"}},{"$error":"#N/A"}]
["2342",{"$f":"RTD(\"sysq.rtd\",\"\",\"!DTSH`LC.99-2342:2\")","v":{"$error":"#N/A"}},{"$f":"RTD(\"sysq.rtd\",\"\",\"!DTDH`LC.99-2342:2\")","v":{"$error":"#N/A"}},{"$f":"RTD(\"sysq.rtd\",\"\",\"!XTSH`LC.99-2342:2\")","v":{"$error":"#N/A"}},{"$f":"RTD(\"sysq.rtd\",\"\",\"!XTDH`LC.99-2342:2\")","v":{"$error":"#N/A"}},{"$f":"RTD(\"sysq.rtd\",\"\",\"!DTAI`LC.99-2342:2\")","v":{"$error":"#N/A"}},{"$f":"RTD(\"sysq.rtd\",\"\",\"WTX&`004.10-2342:2\")","v":{"$error":"#N/A"}},{"$error":"#N/A"}]
["2343",{"$f":"RTD(\"sysq.rtd\",\"\",\"!DTSH`LC.99-2343:2\")","v":{"$error":"#N/A"}},{"$f":"RTD(\"sysq.rtd\",\"\",\"!DTDH`LC.99-2343:2\")","v":{"$error":"#N/A"}},{"$f":"RTD(\"sysq.rtd\",\"\",\"!XTSH`LC.99-2343:2\")","v":{"$error":"#N/A"}},{"$f":"RTD(\"sysq.rtd\",\"\",\"!XTDH`LC.99-2343:2\")","v":{"$error":"#N/A"}},{"$f":"RTD(\"sysq.rtd\",\"\",\"!DTAI`LC.99-2343:2\")","v":{"$error":"#N/A"}},{"$f":"RTD(\"sysq.rtd\",\"\",\"WTX&`004.10-2343:2\")","v":{"$error":"#N/A"}},{"$error":"#N/A"}]
["2344",{"$f":"RTD(\"sysq.rtd\",\"\",\"!DTSH`LC.99-2344:2\")","v":{"$error":"#N/A"}},{"$f":"RTD(\"sysq.rtd\",\"\",\"!DTDH`LC.99-2344:2\")","v":{"$error":"#N/A"}},{"$f":"RTD(\"sysq.rtd\",\"\",\"!XTSH`LC.99-2344:2\")","v":{"$error":"#N/A"}},{"$f":"RTD(\"sysq.rtd\",\"\",\"!XTDH`LC.99-2344:2\")","v":{"$error":"#N/A"}},{"$f":"RTD(\"sysq.rtd\",\"\",\"!DTAI`LC.99-2344:2\")","v":{"$error":"#N/A"}},{"$f":"RTD(\"sysq.rtd\",\"\",\"WTX&`004.10-2344:2\")","v":{"$error":"#N/A"}},{"$error":"#N/A"}]
["2345",{"$f":"RTD(\"sysq.rtd\",\"\",\"!DTSH`LC.99-2345:2\")","v":{"$error":"#N/A"}},{"$f":"RTD(\"sysq.rtd\",\"\",\"!DTDH`LC.99-2345:2\")","v":{"$error":"#N/A"}},{"$f":"RTD(\"sysq.rtd\",\"\",\"!XTSH`LC.99-2345:2\")","v":{"$error":"#N/A"}},{"$f":"RTD(\"sysq.rtd\",\"\",\"!XTDH`LC.99-2345:2\")","v":{"$error":"#N/A"}},{"$f":"RTD(\"sysq.rtd\",\"\",\"!DTAI`LC.99-2345:2\")","v":{"$error":"#N/A"}},{"$f":"RTD(\"sysq.rtd\",\"\",\"WTX&`004.10-2345:2\")","v":{"$error":"#N/A"}},{"$error":"#N/A"}]
["2346",{"$f":"RTD(\"sysq.rtd\",\"\",\"!DTSH`LC.99-2346:2\")","v":{"$error":"#N/A"}},{"$f":"RTD(\"sysq.rtd\",\"\",\"!DTDH`LC.99-2346:2\")","v":{"$error":"#N/A"}},{"$f":"RTD(\"sysq.rtd\",\"\",\"!XTSH`LC.99-2346:2\")","v":{"$error":"#N/A"}},{"$f":"RTD(\"sysq.rtd\",\"\",\"!XTDH`LC.99-2346:2\")","v":{"$error":"#N/A"}},{"$f":"RTD(\"sysq.rtd\",\"\",\"!DTAI`LC.99-2346:2\")","v":{"$error":"#N/A"}},{"$f":"RTD(\"sysq.rtd\",\"\",\"WTX&`004.10-2346:2\")","v":{"$error":"#N/A"}},{"$error":"#N/A"}]
["2347",{"$f":"RTD(\"sysq.rtd\",\"\",\"!DTSH`LC.99-2347:2\")","v":{"$error":"#N/A"}},{"$f":"RTD(\"sysq.rtd\",\"\",\"!DTDH`LC.99-2347:2\")","v":{"$error":"#N/A"}},{"$f":"RTD(\"sysq.rtd\",\"\",\"!XTSH`LC.99-2347:2\")","v":{"$error":"#N/A"}},{"$f":"RTD(\"sysq.rtd\",\"\",\"!XTDH`LC.99-2347:2\")","v":{"$error":"#N/A"}},{"$f":"RTD(\"sysq.rtd\",\"\",\"!DTAI`LC.99-2347:2\")","v":{"$error":"#N/A"}},{"$f":"RTD(\"sysq.rtd\",\"\",\"WTX&`004.10-2347:2\")","v":{"$error":"#N/A"}},{"$error":"#N/A"}]
["2348",{"$f":"RTD(\"sysq.rtd\",\"\",\"!DTSH`LC.99-2348:2\")","v":{"$error":"#N/A"}},{"$f":"RTD(\"sysq.rtd\",\"\",\"!DTDH`LC.99-2348:2\")","v":{"$error":"#N/A"}},{"$f":"RTD(\"sysq.rtd\",\"\",\"!XTSH`LC.99-2348:2\")","v":{"$error":"#N/A"}},{"$f":"RTD(\"sysq.rtd\",\"\",\"!XTDH`LC.99-2348:2\")","v":{"$error":"#N/A"}},{"$f":"RTD(\"sysq.rtd\",\"\",\"!DTAI`LC.99-2348:2\")","v":{"$error":"#N/A"}},{"$f":"RTD(\"sysq.rtd\",\"\",\"WTX&`004.10-2348:2\")","v":{"$error":"#N/A"}},{"$error":"#N/A"}]
["2349",{"$f":"RTD(\"sysq.rtd\",\"\",\"!DTSH`LC.99-2349:2\")","v":{"$error":"#N/A"}},{"$f":"RTD(\"sysq.rtd\",\"\",\"!DTDH`LC.99-2349:2\")","v":{"$error":"#N/A"}},{"$f":"RTD(\"sysq.rtd\",\"\",\"!XTSH`LC.99-2349:2\")","v":{"$error":"#N/A"}},{"$f":"RTD(\"sysq.rtd\",\"\",\"!XTDH`LC.99-2349:2\")","v":{"$error":"#N/A"}},{"$f":"RTD(\"sysq.rtd\",\"\",\"!DTAI`LC.99-2349:2\")","v":{"$error":"#N/A"}},{"$f":"RTD(\"sysq.rtd\",\"\",\"WTX&`004.10-2349:2\")","v":{"$error":"#N/A"}},{"$error":"#N/A"}]
["2350",{"$f":"RTD(\"sysq.rtd\",\"\",\"!DTSH`LC.99-2350:2\")","v":{"$error":"#N/A"}},{"$f":"RTD(\"sysq.rtd\",\"\",\"!DTDH`LC.99-2350:2\")","v":{"$error":"#N/A"}},{"$f":"RTD(\"sysq.rtd\",\"\",\"!XTSH`LC.99-2350:2\")","v":{"$error":"#N/A"}},{"$f":"RTD(\"sysq.rtd\",\"\",\"!XTDH`LC.99-2350:2\")","v":{"$error":"#N/A"}},{"$f":"RTD(\"sysq.rtd\",\"\",\"!DTAI`LC.99-2350:2\")","v":{"$error":"#N/A"}},{"$f":"RTD(\"sysq.rtd\",\"\",\"WTX&`004.10-2350:2\")","v":{"$error":"#N/A"}},{"$error":"#N/A"}]
["2351",{"$f":"RTD(\"sysq.rtd\",\"\",\"!DTSH`LC.99-2351:2\")","v":{"$error":"#N/A"}},{"$f":"RTD(\"sysq.rtd\",\"\",\"!DTDH`LC.99-2351:2\")","v":{"$error":"#N/A"}},{"$f":"RTD(\"sysq.rtd\",\"\",\"!XTSH`LC.99-2351:2\")","v":{"$error":"#N/A"}},{"$f":"RTD(\"sysq.rtd\",\"\",\"!XTDH`LC.99-2351:2\")","v":{"$error":"#N/A"}},{"$f":"RTD(\"sysq.rtd\",\"\",\"!DTAI`LC.99-2351:2\")","v":{"$error":"#N/A"}},{"$f":"RTD(\"sysq.rtd\",\"\",\"WTX&`004.10-2351:2\")","v":{"$error":"#N/A"}},{"$error":"#N/A"}]
["2352",{"$f":"RTD(\"sysq.rtd\",\"\",\"!DTSH`LC.99-2352:2\")","v":{"$error":"#N/A"}},{"$f":"RTD(\"sysq.rtd\",\"\",\"!DTDH`LC.99-2352:2\")","v":{"$error":"#N/A"}},{"$f":"RTD(\"sysq.rtd\",\"\",\"!XTSH`LC.99-2352:2\")","v":{"$error":"#N/A"}},{"$f":"RTD(\"sysq.rtd\",\"\",\"!XTDH`LC.99-2352:2\")","v":{"$error":"#N/A"}},{"$f":"RTD(\"sysq.rtd\",\"\",\"!DTAI`LC.99-2352:2\")","v":{"$error":"#N/A"}},{"$f":"RTD(\"sysq.rtd\",\"\",\"WTX&`004.10-2352:2\")","v":{"$error":"#N/A"}},{"$f":"SQRT(ABS(F838))*(ABS(F838)/F838)","v":{"$error":"#N/A"}}]
["2353",{"$f":"RTD(\"sysq.rtd\",\"\",\"!DTSH`LC.99-2353:2\")","v":{"$error":"#N/A"}},{"$f":"RTD(\"sysq.rtd\",\"\",\"!DTDH`LC.99-2353:2\")","v":{"$error":"#N/A"}},{"$f":"RTD(\"sysq.rtd\",\"\",\"!XTSH`LC.99-2353:2\")","v":{"$error":"#N/A"}},{"$f":"RTD(\"sysq.rtd\",\"\",\"!XTDH`LC.99-2353:2\")","v":{"$error":"#N/A"}},{"$f":"RTD(\"sysq.rtd\",\"\",\"!DTAI`LC.99-2353:2\")","v":{"$error":"#N/A"}},{"$f":"RTD(\"sysq.rtd\",\"\",\"WTX&`004.10-2353:2\")","v":{"$error":"#N/A"}},{"$error":"#N/A"}]
["2354",{"$f":"RTD(\"sysq.rtd\",\"\",\"!DTSH`LC.99-2354:2\")","v":{"$error":"#N/A"}},{"$f":"RTD(\"sysq.rtd\",\"\",\"!DTDH`LC.99-2354:2\")","v":{"$error":"#N/A"}},{"$f":"RTD(\"sysq.rtd\",\"\",\"!XTSH`LC.99-2354:2\")","v":{"$error":"#N/A"}},{"$f":"RTD(\"sysq.rtd\",\"\",\"!XTDH`LC.99-2354:2\")","v":{"$error":"#N/A"}},{"$f":"RTD(\"sysq.rtd\",\"\",\"!DTAI`LC.99-2354:2\")","v":{"$error":"#N/A"}},{"$f":"RTD(\"sysq.rtd\",\"\",\"WTX&`004.10-2354:2\")","v":{"$error":"#N/A"}},{"$error":"#N/A"}]
["2355",{"$f":"RTD(\"sysq.rtd\",\"\",\"!DTSH`LC.99-2355:2\")","v":{"$error":"#N/A"}},{"$f":"RTD(\"sysq.rtd\",\"\",\"!DTDH`LC.99-2355:2\")","v":{"$error":"#N/A"}},{"$f":"RTD(\"sysq.rtd\",\"\",\"!XTSH`LC.99-2355:2\")","v":{"$error":"#N/A"}},{"$f":"RTD(\"sysq.rtd\",\"\",\"!XTDH`LC.99-2355:2\")","v":{"$error":"#N/A"}},{"$f":"RTD(\"sysq.rtd\",\"\",\"!DTAI`LC.99-2355:2\")","v":{"$error":"#N/A"}},{"$f":"RTD(\"sysq.rtd\",\"\",\"WTX&`004.10-2355:2\")","v":{"$error":"#N/A"}},{"$error":"#N/A"}]
["2356",{"$f":"RTD(\"sysq.rtd\",\"\",\"!DTSH`LC.99-2356:2\")","v":{"$error":"#N/A"}},{"$f":"RTD(\"sysq.rtd\",\"\",\"!DTDH`LC.99-2356:2\")","v":{"$error":"#N/A"}},{"$f":"RTD(\"sysq.rtd\",\"\",\"!XTSH`LC.99-2356:2\")","v":{"$error":"#N/A"}},{"$f":"RTD(\"sysq.rtd\",\"\",\"!XTDH`LC.99-2356:2\")","v":{"$error":"#N/A"}},{"$f":"RTD(\"sysq.rtd\",\"\",\"!DTAI`LC.99-2356:2\")","v":{"$error":"#N/A"}},{"$f":"RTD(\"sysq.rtd\",\"\",\"WTX&`004.10-2356:2\")","v":{"$error":"#N/A"}},{"$error":"#N/A"}]
["2357",{"$f":"RTD(\"sysq.rtd\",\"\",\"!DTSH`LC.99-2357:2\")","v":{"$error":"#N/A"}},{"$f":"RTD(\"sysq.rtd\",\"\",\"!DTDH`LC.99-2357:2\")","v":{"$error":"#N/A"}},{"$f":"RTD(\"sysq.rtd\",\"\",\"!XTSH`LC.99-2357:2\")","v":{"$error":"#N/A"}},{"$f":"RTD(\"sysq.rtd\",\"\",\"!XTDH`LC.99-2357:2\")","v":{"$error":"#N/A"}},{"$f":"RTD(\"sysq.rtd\",\"\",\"!DTAI`LC.99-2357:2\")","v":{"$error":"#N/A"}},{"$f":"RTD(\"sysq.rtd\",\"\",\"WTX&`004.10-2357:2\")","v":{"$error":"#N/A"}},{"$error":"#N/A"}]
["2358",{"$f":"RTD(\"sysq.rtd\",\"\",\"!DTSH`LC.99-2358:2\")","v":{"$error":"#N/A"}},{"$f":"RTD(\"sysq.rtd\",\"\",\"!DTDH`LC.99-2358:2\")","v":{"$error":"#N/A"}},{"$f":"RTD(\"sysq.rtd\",\"\",\"!XTSH`LC.99-2358:2\")","v":{"$error":"#N/A"}},{"$f":"RTD(\"sysq.rtd\",\"\",\"!XTDH`LC.99-2358:2\")","v":{"$error":"#N/A"}},{"$f":"RTD(\"sysq.rtd\",\"\",\"!DTAI`LC.99-2358:2\")","v":{"$error":"#N/A"}},{"$f":"RTD(\"sysq.rtd\",\"\",\"WTX&`004.10-2358:2\")","v":{"$error":"#N/A"}},{"$error":"#N/A"}]
["2359",{"$f":"RTD(\"sysq.rtd\",\"\",\"!DTSH`LC.99-2359:2\")","v":{"$error":"#N/A"}},{"$f":"RTD(\"sysq.rtd\",\"\",\"!DTDH`LC.99-2359:2\")","v":{"$error":"#N/A"}},{"$f":"RTD(\"sysq.rtd\",\"\",\"!XTSH`LC.99-2359:2\")","v":{"$error":"#N/A"}},{"$f":"RTD(\"sysq.rtd\",\"\",\"!XTDH`LC.99-2359:2\")","v":{"$error":"#N/A"}},{"$f":"RTD(\"sysq.rtd\",\"\",\"!DTAI`LC.99-2359:2\")","v":{"$error":"#N/A"}},{"$f":"RTD(\"sysq.rtd\",\"\",\"WTX&`004.10-2359:2\")","v":{"$error":"#N/A"}},{"$error":"#N/A"}]
["0000",{"$f":"RTD(\"sysq.rtd\",\"\",\"!DTSH`LC.99-0000:2\")","v":{"$error":"#N/A"}},{"$f":"RTD(\"sysq.rtd\",\"\",\"!DTDH`LC.99-0000:2\")","v":{"$error":"#N/A"}},{"$f":"RTD(\"sysq.rtd\",\"\",\"!XTSH`LC.99-0000:2\")","v":{"$error":"#N/A"}},{"$f":"RTD(\"sysq.rtd\",\"\",\"!XTDH`LC.99-0000:2\")","v":{"$error":"#N/A"}},{"$f":"RTD(\"sysq.rtd\",\"\",\"!DTAI`LC.99-0000:2\")","v":{"$error":"#N/A"}},{"$f":"RTD(\"sysq.rtd\",\"\",\"WTX&`004.10-0000:2\")","v":{"$error":"#N/A"}},{"$error":"#N/A"}]
["0001",{"$f":"RTD(\"sysq.rtd\",\"\",\"!DTSH`LC.99-0001:2\")","v":{"$error":"#N/A"}},{"$f":"RTD(\"sysq.rtd\",\"\",\"!DTDH`LC.99-0001:2\")","v":{"$error":"#N/A"}},{"$f":"RTD(\"sysq.rtd\",\"\",\"!XTSH`LC.99-0001:2\")","v":{"$error":"#N/A"}},{"$f":"RTD(\"sysq.rtd\",\"\",\"!XTDH`LC.99-0001:2\")","v":{"$error":"#N/A"}},{"$f":"RTD(\"sysq.rtd\",\"\",\"!DTAI`LC.99-0001:2\")","v":{"$error":"#N/A"}},{"$f":"RTD(\"sysq.rtd\",\"\",\"WTX&`004.10-0001:2\")","v":{"$error":"#N/A"}},{"$error":"#N/A"}]
["0002",{"$f":"RTD(\"sysq.rtd\",\"\",\"!DTSH`LC.99-0002:2\")","v":{"$error":"#N/A"}},{"$f":"RTD(\"sysq.rtd\",\"\",\"!DTDH`LC.99-0002:2\")","v":{"$error":"#N/A"}},{"$f":"RTD(\"sysq.rtd\",\"\",\"!XTSH`LC.99-0002:2\")","v":{"$error":"#N/A"}},{"$f":"RTD(\"sysq.rtd\",\"\",\"!XTDH`LC.99-0002:2\")","v":{"$error":"#N/A"}},{"$f":"RTD(\"sysq.rtd\",\"\",\"!DTAI`LC.99-0002:2\")","v":{"$error":"#N/A"}},{"$f":"RTD(\"sysq.rtd\",\"\",\"WTX&`004.10-0002:2\")","v":{"$error":"#N/A"}},{"$error":"#N/A"}]
["0003",{"$f":"RTD(\"sysq.rtd\",\"\",\"!DTSH`LC.99-0003:2\")","v":{"$error":"#N/A"}},{"$f":"RTD(\"sysq.rtd\",\"\",\"!DTDH`LC.99-0003:2\")","v":{"$error":"#N/A"}},{"$f":"RTD(\"sysq.rtd\",\"\",\"!XTSH`LC.99-0003:2\")","v":{"$error":"#N/A"}},{"$f":"RTD(\"sysq.rtd\",\"\",\"!XTDH`LC.99-0003:2\")","v":{"$error":"#N/A"}},{"$f":"RTD(\"sysq.rtd\",\"\",\"!DTAI`LC.99-0003:2\")","v":{"$error":"#N/A"}},{"$f":"RTD(\"sysq.rtd\",\"\",\"WTX&`004.10-0003:2\")","v":{"$error":"#N/A"}},{"$error":"#N/A"}]
["0004",{"$f":"RTD(\"sysq.rtd\",\"\",\"!DTSH`LC.99-0004:2\")","v":{"$error":"#N/A"}},{"$f":"RTD(\"sysq.rtd\",\"\",\"!DTDH`LC.99-0004:2\")","v":{"$error":"#N/A"}},{"$f":"RTD(\"sysq.rtd\",\"\",\"!XTSH`LC.99-0004:2\")","v":{"$error":"#N/A"}},{"$f":"RTD(\"sysq.rtd\",\"\",\"!XTDH`LC.99-0004:2\")","v":{"$error":"#N/A"}},{"$f":"RTD(\"sysq.rtd\",\"\",\"!DTAI`LC.99-0004:2\")","v":{"$error":"#N/A"}},{"$f":"RTD(\"sysq.rtd\",\"\",\"WTX&`004.10-0004:2\")","v":{"$error":"#N/A"}},{"$error":"#N/A"}]
["0005",{"$f":"RTD(\"sysq.rtd\",\"\",\"!DTSH`LC.99-0005:2\")","v":{"$error":"#N/A"}},{"$f":"RTD(\"sysq.rtd\",\"\",\"!DTDH`LC.99-0005:2\")","v":{"$error":"#N/A"}},{"$f":"RTD(\"sysq.rtd\",\"\",\"!XTSH`LC.99-0005:2\")","v":{"$error":"#N/A"}},{"$f":"RTD(\"sysq.rtd\",\"\",\"!XTDH`LC.99-0005:2\")","v":{"$error":"#N/A"}},{"$f":"RTD(\"sysq.rtd\",\"\",\"!DTAI`LC.99-0005:2\")","v":{"$error":"#N/A"}},{"$f":"RTD(\"sysq.rtd\",\"\",\"WTX&`004.10-0005:2\")","v":{"$error":"#N/A"}},{"$error":"#N/A"}]
["0006",{"$f":"RTD(\"sysq.rtd\",\"\",\"!DTSH`LC.99-0006:2\")","v":{"$error":"#N/A"}},{"$f":"RTD(\"sysq.rtd\",\"\",\"!DTDH`LC.99-0006:2\")","v":{"$error":"#N/A"}},{"$f":"RTD(\"sysq.rtd\",\"\",\"!XTSH`LC.99-0006:2\")","v":{"$error":"#N/A"}},{"$f":"RTD(\"sysq.rtd\",\"\",\"!XTDH`LC.99-0006:2\")","v":{"$error":"#N/A"}},{"$f":"RTD(\"sysq.rtd\",\"\",\"!DTAI`LC.99-0006:2\")","v":{"$error":"#N/A"}},{"$f":"RTD(\"sysq.rtd\",\"\",\"WTX&`004.10-0006:2\")","v":{"$error":"#N/A"}},{"$error":"#N/A"}]
["0007",{"$f":"RTD(\"sysq.rtd\",\"\",\"!DTSH`LC.99-0007:2\")","v":{"$error":"#N/A"}},{"$f":"RTD(\"sysq.rtd\",\"\",\"!DTDH`LC.99-0007:2\")","v":{"$error":"#N/A"}},{"$f":"RTD(\"sysq.rtd\",\"\",\"!XTSH`LC.99-0007:2\")","v":{"$error":"#N/A"}},{"$f":"RTD(\"sysq.rtd\",\"\",\"!XTDH`LC.99-0007:2\")","v":{"$error":"#N/A"}},{"$f":"RTD(\"sysq.rtd\",\"\",\"!DTAI`LC.99-0007:2\")","v":{"$error":"#N/A"}},{"$f":"RTD(\"sysq.rtd\",\"\",\"WTX&`004.10-0007:2\")","v":{"$error":"#N/A"}},{"$error":"#N/A"}]
["0008",{"$f":"RTD(\"sysq.rtd\",\"\",\"!DTSH`LC.99-0008:2\")","v":{"$error":"#N/A"}},{"$f":"RTD(\"sysq.rtd\",\"\",\"!DTDH`LC.99-0008:2\")","v":{"$error":"#N/A"}},{"$f":"RTD(\"sysq.rtd\",\"\",\"!XTSH`LC.99-0008:2\")","v":{"$error":"#N/A"}},{"$f":"RTD(\"sysq.rtd\",\"\",\"!XTDH`LC.99-0008:2\")","v":{"$error":"#N/A"}},{"$f":"RTD(\"sysq.rtd\",\"\",\"!DTAI`LC.99-0008:2\")","v":{"$error":"#N/A"}},{"$f":"RTD(\"sysq.rtd\",\"\",\"WTX&`004.10-0008:2\")","v":{"$error":"#N/A"}},{"$error":"#N/A"}]
["0009",{"$f":"RTD(\"sysq.rtd\",\"\",\"!DTSH`LC.99-0009:2\")","v":{"$error":"#N/A"}},{"$f":"RTD(\"sysq.rtd\",\"\",\"!DTDH`LC.99-0009:2\")","v":{"$error":"#N/A"}},{"$f":"RTD(\"sysq.rtd\",\"\",\"!XTSH`LC.99-0009:2\")","v":{"$error":"#N/A"}},{"$f":"RTD(\"sysq.rtd\",\"\",\"!XTDH`LC.99-0009:2\")","v":{"$error":"#N/A"}},{"$f":"RTD(\"sysq.rtd\",\"\",\"!DTAI`LC.99-0009:2\")","v":{"$error":"#N/A"}},{"$f":"RTD(\"sysq.rtd\",\"\",\"WTX&`004.10-0009:2\")","v":{"$error":"#N/A"}},{"$error":"#N/A"}]
["0010",{"$f":"RTD(\"sysq.rtd\",\"\",\"!DTSH`LC.99-0010:2\")","v":{"$error":"#N/A"}},{"$f":"RTD(\"sysq.rtd\",\"\",\"!DTDH`LC.99-0010:2\")","v":{"$error":"#N/A"}},{"$f":"RTD(\"sysq.rtd\",\"\",\"!XTSH`LC.99-0010:2\")","v":{"$error":"#N/A"}},{"$f":"RTD(\"sysq.rtd\",\"\",\"!XTDH`LC.99-0010:2\")","v":{"$error":"#N/A"}},{"$f":"RTD(\"sysq.rtd\",\"\",\"!DTAI`LC.99-0010:2\")","v":{"$error":"#N/A"}},{"$f":"RTD(\"sysq.rtd\",\"\",\"WTX&`004.10-0010:2\")","v":{"$error":"#N/A"}},{"$error":"#N/A"}]
["0011",{"$f":"RTD(\"sysq.rtd\",\"\",\"!DTSH`LC.99-0011:2\")","v":{"$error":"#N/A"}},{"$f":"RTD(\"sysq.rtd\",\"\",\"!DTDH`LC.99-0011:2\")","v":{"$error":"#N/A"}},{"$f":"RTD(\"sysq.rtd\",\"\",\"!XTSH`LC.99-0011:2\")","v":{"$error":"#N/A"}},{"$f":"RTD(\"sysq.rtd\",\"\",\"!XTDH`LC.99-0011:2\")","v":{"$error":"#N/A"}},{"$f":"RTD(\"sysq.rtd\",\"\",\"!DTAI`LC.99-0011:2\")","v":{"$error":"#N/A"}},{"$f":"RTD(\"sysq.rtd\",\"\",\"WTX&`004.10-0011:2\")","v":{"$error":"#N/A"}},{"$error":"#N/A"}]
["0012",{"$f":"RTD(\"sysq.rtd\",\"\",\"!DTSH`LC.99-0012:2\")","v":{"$error":"#N/A"}},{"$f":"RTD(\"sysq.rtd\",\"\",\"!DTDH`LC.99-0012:2\")","v":{"$error":"#N/A"}},{"$f":"RTD(\"sysq.rtd\",\"\",\"!XTSH`LC.99-0012:2\")","v":{"$error":"#N/A"}},{"$f":"RTD(\"sysq.rtd\",\"\",\"!XTDH`LC.99-0012:2\")","v":{"$error":"#N/A"}},{"$f":"RTD(\"sysq.rtd\",\"\",\"!DTAI`LC.99-0012:2\")","v":{"$error":"#N/A"}},{"$f":"RTD(\"sysq.rtd\",\"\",\"WTX&`004.10-0012:2\")","v":{"$error":"#N/A"}},{"$error":"#N/A"}]
["0013",{"$f":"RTD(\"sysq.rtd\",\"\",\"!DTSH`LC.99-0013:2\")","v":{"$error":"#N/A"}},{"$f":"RTD(\"sysq.rtd\",\"\",\"!DTDH`LC.99-0013:2\")","v":{"$error":"#N/A"}},{"$f":"RTD(\"sysq.rtd\",\"\",\"!XTSH`LC.99-0013:2\")","v":{"$error":"#N/A"}},{"$f":"RTD(\"sysq.rtd\",\"\",\"!XTDH`LC.99-0013:2\")","v":{"$error":"#N/A"}},{"$f":"RTD(\"sysq.rtd\",\"\",\"!DTAI`LC.99-0013:2\")","v":{"$error":"#N/A"}},{"$f":"RTD(\"sysq.rtd\",\"\",\"WTX&`004.10-0013:2\")","v":{"$error":"#N/A"}},{"$error":"#N/A"}]
["0014",{"$f":"RTD(\"sysq.rtd\",\"\",\"!DTSH`LC.99-0014:2\")","v":{"$error":"#N/A"}},{"$f":"RTD(\"sysq.rtd\",\"\",\"!DTDH`LC.99-0014:2\")","v":{"$error":"#N/A"}},{"$f":"RTD(\"sysq.rtd\",\"\",\"!XTSH`LC.99-0014:2\")","v":{"$error":"#N/A"}},{"$f":"RTD(\"sysq.rtd\",\"\",\"!XTDH`LC.99-0014:2\")","v":{"$error":"#N/A"}},{"$f":"RTD(\"sysq.rtd\",\"\",\"!DTAI`LC.99-0014:2\")","v":{"$error":"#N/A"}},{"$f":"RTD(\"sysq.rtd\",\"\",\"WTX&`004.10-0014:2\")","v":{"$error":"#N/A"}},{"$error":"#N/A"}]
["0015",{"$f":"RTD(\"sysq.rtd\",\"\",\"!DTSH`LC.99-0015:2\")","v":{"$error":"#N/A"}},{"$f":"RTD(\"sysq.rtd\",\"\",\"!DTDH`LC.99-0015:2\")","v":{"$error":"#N/A"}},{"$f":"RTD(\"sysq.rtd\",\"\",\"!XTSH`LC.99-0015:2\")","v":{"$error":"#N/A"}},{"$f":"RTD(\"sysq.rtd\",\"\",\"!XTDH`LC.99-0015:2\")","v":{"$error":"#N/A"}},{"$f":"RTD(\"sysq.rtd\",\"\",\"!DTAI`LC.99-0015:2\")","v":{"$error":"#N/A"}},{"$f":"RTD(\"sysq.rtd\",\"\",\"WTX&`004.10-0015:2\")","v":{"$error":"#N/A"}},{"$error":"#N/A"}]
["0016",{"$f":"RTD(\"sysq.rtd\",\"\",\"!DTSH`LC.99-0016:2\")","v":{"$error":"#N/A"}},{"$f":"RTD(\"sysq.rtd\",\"\",\"!DTDH`LC.99-0016:2\")","v":{"$error":"#N/A"}},{"$f":"RTD(\"sysq.rtd\",\"\",\"!XTSH`LC.99-0016:2\")","v":{"$error":"#N/A"}},{"$f":"RTD(\"sysq.rtd\",\"\",\"!XTDH`LC.99-0016:2\")","v":{"$error":"#N/A"}},{"$f":"RTD(\"sysq.rtd\",\"\",\"!DTAI`LC.99-0016:2\")","v":{"$error":"#N/A"}},{"$f":"RTD(\"sysq.rtd\",\"\",\"WTX&`004.10-0016:2\")","v":{"$error":"#N/A"}},{"$error":"#N/A"}]
["0017",{"$f":"RTD(\"sysq.rtd\",\"\",\"!DTSH`LC.99-0017:2\")","v":{"$error":"#N/A"}},{"$f":"RTD(\"sysq.rtd\",\"\",\"!DTDH`LC.99-0017:2\")","v":{"$error":"#N/A"}},{"$f":"RTD(\"sysq.rtd\",\"\",\"!XTSH`LC.99-0017:2\")","v":{"$error":"#N/A"}},{"$f":"RTD(\"sysq.rtd\",\"\",\"!XTDH`LC.99-0017:2\")","v":{"$error":"#N/A"}},{"$f":"RTD(\"sysq.rtd\",\"\",\"!DTAI`LC.99-0017:2\")","v":{"$error":"#N/A"}},{"$f":"RTD(\"sysq.rtd\",\"\",\"WTX&`004.10-0017:2\")","v":{"$error":"#N/A"}},{"$error":"#N/A"}]
["0018",{"$f":"RTD(\"sysq.rtd\",\"\",\"!DTSH`LC.99-0018:2\")","v":{"$error":"#N/A"}},{"$f":"RTD(\"sysq.rtd\",\"\",\"!DTDH`LC.99-0018:2\")","v":{"$error":"#N/A"}},{"$f":"RTD(\"sysq.rtd\",\"\",\"!XTSH`LC.99-0018:2\")","v":{"$error":"#N/A"}},{"$f":"RTD(\"sysq.rtd\",\"\",\"!XTDH`LC.99-0018:2\")","v":{"$error":"#N/A"}},{"$f":"RTD(\"sysq.rtd\",\"\",\"!DTAI`LC.99-0018:2\")","v":{"$error":"#N/A"}},{"$f":"RTD(\"sysq.rtd\",\"\",\"WTX&`004.10-0018:2\")","v":{"$error":"#N/A"}},{"$error":"#N/A"}]
["0019",{"$f":"RTD(\"sysq.rtd\",\"\",\"!DTSH`LC.99-0019:2\")","v":{"$error":"#N/A"}},{"$f":"RTD(\"sysq.rtd\",\"\",\"!DTDH`LC.99-0019:2\")","v":{"$error":"#N/A"}},{"$f":"RTD(\"sysq.rtd\",\"\",\"!XTSH`LC.99-0019:2\")","v":{"$error":"#N/A"}},{"$f":"RTD(\"sysq.rtd\",\"\",\"!XTDH`LC.99-0019:2\")","v":{"$error":"#N/A"}},{"$f":"RTD(\"sysq.rtd\",\"\",\"!DTAI`LC.99-0019:2\")","v":{"$error":"#N/A"}},{"$f":"RTD(\"sysq.rtd\",\"\",\"WTX&`004.10-0019:2\")","v":{"$error":"#N/A"}},{"$error":"#N/A"}]
["0020",{"$f":"RTD(\"sysq.rtd\",\"\",\"!DTSH`LC.99-0020:2\")","v":{"$error":"#N/A"}},{"$f":"RTD(\"sysq.rtd\",\"\",\"!DTDH`LC.99-0020:2\")","v":{"$error":"#N/A"}},{"$f":"RTD(\"sysq.rtd\",\"\",\"!XTSH`LC.99-0020:2\")","v":{"$error":"#N/A"}},{"$f":"RTD(\"sysq.rtd\",\"\",\"!XTDH`LC.99-0020:2\")","v":{"$error":"#N/A"}},{"$f":"RTD(\"sysq.rtd\",\"\",\"!DTAI`LC.99-0020:2\")","v":{"$error":"#N/A"}},{"$f":"RTD(\"sysq.rtd\",\"\",\"WTX&`004.10-0020:2\")","v":{"$error":"#N/A"}},{"$error":"#N/A"}]
["0021",{"$f":"RTD(\"sysq.rtd\",\"\",\"!DTSH`LC.99-0021:2\")","v":{"$error":"#N/A"}},{"$f":"RTD(\"sysq.rtd\",\"\",\"!DTDH`LC.99-0021:2\")","v":{"$error":"#N/A"}},{"$f":"RTD(\"sysq.rtd\",\"\",\"!XTSH`LC.99-0021:2\")","v":{"$error":"#N/A"}},{"$f":"RTD(\"sysq.rtd\",\"\",\"!XTDH`LC.99-0021:2\")","v":{"$error":"#N/A"}},{"$f":"RTD(\"sysq.rtd\",\"\",\"!DTAI`LC.99-0021:2\")","v":{"$error":"#N/A"}},{"$f":"RTD(\"sysq.rtd\",\"\",\"WTX&`004.10-0021:2\")","v":{"$error":"#N/A"}},{"$error":"#N/A"}]
["0022",{"$f":"RTD(\"sysq.rtd\",\"\",\"!DTSH`LC.99-0022:2\")","v":{"$error":"#N/A"}},{"$f":"RTD(\"sysq.rtd\",\"\",\"!DTDH`LC.99-0022:2\")","v":{"$error":"#N/A"}},{"$f":"RTD(\"sysq.rtd\",\"\",\"!XTSH`LC.99-0022:2\")","v":{"$error":"#N/A"}},{"$f":"RTD(\"sysq.rtd\",\"\",\"!XTDH`LC.99-0022:2\")","v":{"$error":"#N/A"}},{"$f":"RTD(\"sysq.rtd\",\"\",\"!DTAI`LC.99-0022:2\")","v":{"$error":"#N/A"}},{"$f":"RTD(\"sysq.rtd\",\"\",\"WTX&`004.10-0022:2\")","v":{"$error":"#N/A"}},{"$error":"#N/A"}]
["0023",{"$f":"RTD(\"sysq.rtd\",\"\",\"!DTSH`LC.99-0023:2\")","v":{"$error":"#N/A"}},{"$f":"RTD(\"sysq.rtd\",\"\",\"!DTDH`LC.99-0023:2\")","v":{"$error":"#N/A"}},{"$f":"RTD(\"sysq.rtd\",\"\",\"!XTSH`LC.99-0023:2\")","v":{"$error":"#N/A"}},{"$f":"RTD(\"sysq.rtd\",\"\",\"!XTDH`LC.99-0023:2\")","v":{"$error":"#N/A"}},{"$f":"RTD(\"sysq.rtd\",\"\",\"!DTAI`LC.99-0023:2\")","v":{"$error":"#N/A"}},{"$f":"RTD(\"sysq.rtd\",\"\",\"WTX&`004.10-0023:2\")","v":{"$error":"#N/A"}},{"$error":"#N/A"}]
["0024",{"$f":"RTD(\"sysq.rtd\",\"\",\"!DTSH`LC.99-0024:2\")","v":{"$error":"#N/A"}},{"$f":"RTD(\"sysq.rtd\",\"\",\"!DTDH`LC.99-0024:2\")","v":{"$error":"#N/A"}},{"$f":"RTD(\"sysq.rtd\",\"\",\"!XTSH`LC.99-0024:2\")","v":{"$error":"#N/A"}},{"$f":"RTD(\"sysq.rtd\",\"\",\"!XTDH`LC.99-0024:2\")","v":{"$error":"#N/A"}},{"$f":"RTD(\"sysq.rtd\",\"\",\"!DTAI`LC.99-0024:2\")","v":{"$error":"#N/A"}},{"$f":"RTD(\"sysq.rtd\",\"\",\"WTX&`004.10-0024:2\")","v":{"$error":"#N/A"}},{"$error":"#N/A"}]
["0025",{"$f":"RTD(\"sysq.rtd\",\"\",\"!DTSH`LC.99-0025:2\")","v":{"$error":"#N/A"}},{"$f":"RTD(\"sysq.rtd\",\"\",\"!DTDH`LC.99-0025:2\")","v":{"$error":"#N/A"}},{"$f":"RTD(\"sysq.rtd\",\"\",\"!XTSH`LC.99-0025:2\")","v":{"$error":"#N/A"}},{"$f":"RTD(\"sysq.rtd\",\"\",\"!XTDH`LC.99-0025:2\")","v":{"$error":"#N/A"}},{"$f":"RTD(\"sysq.rtd\",\"\",\"!DTAI`LC.99-0025:2\")","v":{"$error":"#N/A"}},{"$f":"RTD(\"sysq.rtd\",\"\",\"WTX&`004.10-0025:2\")","v":{"$error":"#N/A"}},{"$error":"#N/A"}]
["0026",{"$f":"RTD(\"sysq.rtd\",\"\",\"!DTSH`LC.99-0026:2\")","v":{"$error":"#N/A"}},{"$f":"RTD(\"sysq.rtd\",\"\",\"!DTDH`LC.99-0026:2\")","v":{"$error":"#N/A"}},{"$f":"RTD(\"sysq.rtd\",\"\",\"!XTSH`LC.99-0026:2\")","v":{"$error":"#N/A"}},{"$f":"RTD(\"sysq.rtd\",\"\",\"!XTDH`LC.99-0026:2\")","v":{"$error":"#N/A"}},{"$f":"RTD(\"sysq.rtd\",\"\",\"!DTAI`LC.99-0026:2\")","v":{"$error":"#N/A"}},{"$f":"RTD(\"sysq.rtd\",\"\",\"WTX&`004.10-0026:2\")","v":{"$error":"#N/A"}},{"$error":"#N/A"}]
["0027",{"$f":"RTD(\"sysq.rtd\",\"\",\"!DTSH`LC.99-0027:2\")","v":{"$error":"#N/A"}},{"$f":"RTD(\"sysq.rtd\",\"\",\"!DTDH`LC.99-0027:2\")","v":{"$error":"#N/A"}},{"$f":"RTD(\"sysq.rtd\",\"\",\"!XTSH`LC.99-0027:2\")","v":{"$error":"#N/A"}},{"$f":"RTD(\"sysq.rtd\",\"\",\"!XTDH`LC.99-0027:2\")","v":{"$error":"#N/A"}},{"$f":"RTD(\"sysq.rtd\",\"\",\"!DTAI`LC.99-0027:2\")","v":{"$error":"#N/A"}},{"$f":"RTD(\"sysq.rtd\",\"\",\"WTX&`004.10-0027:2\")","v":{"$error":"#N/A"}},{"$error":"#N/A"}]
["0028",{"$f":"RTD(\"sysq.rtd\",\"\",\"!DTSH`LC.99-0028:2\")","v":{"$error":"#N/A"}},{"$f":"RTD(\"sysq.rtd\",\"\",\"!DTDH`LC.99-0028:2\")","v":{"$error":"#N/A"}},{"$f":"RTD(\"sysq.rtd\",\"\",\"!XTSH`LC.99-0028:2\")","v":{"$error":"#N/A"}},{"$f":"RTD(\"sysq.rtd\",\"\",\"!XTDH`LC.99-0028:2\")","v":{"$error":"#N/A"}},{"$f":"RTD(\"sysq.rtd\",\"\",\"!DTAI`LC.99-0028:2\")","v":{"$error":"#N/A"}},{"$f":"RTD(\"sysq.rtd\",\"\",\"WTX&`004.10-0028:2\")","v":{"$error":"#N/A"}},{"$error":"#N/A"}]
["0029",{"$f":"RTD(\"sysq.rtd\",\"\",\"!DTSH`LC.99-0029:2\")","v":{"$error":"#N/A"}},{"$f":"RTD(\"sysq.rtd\",\"\",\"!DTDH`LC.99-0029:2\")","v":{"$error":"#N/A"}},{"$f":"RTD(\"sysq.rtd\",\"\",\"!XTSH`LC.99-0029:2\")","v":{"$error":"#N/A"}},{"$f":"RTD(\"sysq.rtd\",\"\",\"!XTDH`LC.99-0029:2\")","v":{"$error":"#N/A"}},{"$f":"RTD(\"sysq.rtd\",\"\",\"!DTAI`LC.99-0029:2\")","v":{"$error":"#N/A"}},{"$f":"RTD(\"sysq.rtd\",\"\",\"WTX&`004.10-0029:2\")","v":{"$error":"#N/A"}},{"$error":"#N/A"}]
["0030",{"$f":"RTD(\"sysq.rtd\",\"\",\"!DTSH`LC.99-0030:2\")","v":{"$error":"#N/A"}},{"$f":"RTD(\"sysq.rtd\",\"\",\"!DTDH`LC.99-0030:2\")","v":{"$error":"#N/A"}},{"$f":"RTD(\"sysq.rtd\",\"\",\"!XTSH`LC.99-0030:2\")","v":{"$error":"#N/A"}},{"$f":"RTD(\"sysq.rtd\",\"\",\"!XTDH`LC.99-0030:2\")","v":{"$error":"#N/A"}},{"$f":"RTD(\"sysq.rtd\",\"\",\"!DTAI`LC.99-0030:2\")","v":{"$error":"#N/A"}},{"$f":"RTD(\"sysq.rtd\",\"\",\"WTX&`004.10-0030:2\")","v":{"$error":"#N/A"}},{"$error":"#N/A"}]
["0031",{"$f":"RTD(\"sysq.rtd\",\"\",\"!DTSH`LC.99-0031:2\")","v":{"$error":"#N/A"}},{"$f":"RTD(\"sysq.rtd\",\"\",\"!DTDH`LC.99-0031:2\")","v":{"$error":"#N/A"}},{"$f":"RTD(\"sysq.rtd\",\"\",\"!XTSH`LC.99-0031:2\")","v":{"$error":"#N/A"}},{"$f":"RTD(\"sysq.rtd\",\"\",\"!XTDH`LC.99-0031:2\")","v":{"$error":"#N/A"}},{"$f":"RTD(\"sysq.rtd\",\"\",\"!DTAI`LC.99-0031:2\")","v":{"$error":"#N/A"}},{"$f":"RTD(\"sysq.rtd\",\"\",\"WTX&`004.10-0031:2\")","v":{"$error":"#N/A"}},{"$error":"#N/A"}]
["0032",{"$f":"RTD(\"sysq.rtd\",\"\",\"!DTSH`LC.99-0032:2\")","v":{"$error":"#N/A"}},{"$f":"RTD(\"sysq.rtd\",\"\",\"!DTDH`LC.99-0032:2\")","v":{"$error":"#N/A"}},{"$f":"RTD(\"sysq.rtd\",\"\",\"!XTSH`LC.99-0032:2\")","v":{"$error":"#N/A"}},{"$f":"RTD(\"sysq.rtd\",\"\",\"!XTDH`LC.99-0032:2\")","v":{"$error":"#N/A"}},{"$f":"RTD(\"sysq.rtd\",\"\",\"!DTAI`LC.99-0032:2\")","v":{"$error":"#N/A"}},{"$f":"RTD(\"sysq.rtd\",\"\",\"WTX&`004.10-0032:2\")","v":{"$error":"#N/A"}},{"$error":"#N/A"}]
["0033",{"$f":"RTD(\"sysq.rtd\",\"\",\"!DTSH`LC.99-0033:2\")","v":{"$error":"#N/A"}},{"$f":"RTD(\"sysq.rtd\",\"\",\"!DTDH`LC.99-0033:2\")","v":{"$error":"#N/A"}},{"$f":"RTD(\"sysq.rtd\",\"\",\"!XTSH`LC.99-0033:2\")","v":{"$error":"#N/A"}},{"$f":"RTD(\"sysq.rtd\",\"\",\"!XTDH`LC.99-0033:2\")","v":{"$error":"#N/A"}},{"$f":"RTD(\"sysq.rtd\",\"\",\"!DTAI`LC.99-0033:2\")","v":{"$error":"#N/A"}},{"$f":"RTD(\"sysq.rtd\",\"\",\"WTX&`004.10-0033:2\")","v":{"$error":"#N/A"}},{"$error":"#N/A"}]
["0034",{"$f":"RTD(\"sysq.rtd\",\"\",\"!DTSH`LC.99-0034:2\")","v":{"$error":"#N/A"}},{"$f":"RTD(\"sysq.rtd\",\"\",\"!DTDH`LC.99-0034:2\")","v":{"$error":"#N/A"}},{"$f":"RTD(\"sysq.rtd\",\"\",\"!XTSH`LC.99-0034:2\")","v":{"$error":"#N/A"}},{"$f":"RTD(\"sysq.rtd\",\"\",\"!XTDH`LC.99-0034:2\")","v":{"$error":"#N/A"}},{"$f":"RTD(\"sysq.rtd\",\"\",\"!DTAI`LC.99-0034:2\")","v":{"$error":"#N/A"}},{"$f":"RTD(\"sysq.rtd\",\"\",\"WTX&`004.10-0034:2\")","v":{"$error":"#N/A"}},{"$error":"#N/A"}]
["0035",{"$f":"RTD(\"sysq.rtd\",\"\",\"!DTSH`LC.99-0035:2\")","v":{"$error":"#N/A"}},{"$f":"RTD(\"sysq.rtd\",\"\",\"!DTDH`LC.99-0035:2\")","v":{"$error":"#N/A"}},{"$f":"RTD(\"sysq.rtd\",\"\",\"!XTSH`LC.99-0035:2\")","v":{"$error":"#N/A"}},{"$f":"RTD(\"sysq.rtd\",\"\",\"!XTDH`LC.99-0035:2\")","v":{"$error":"#N/A"}},{"$f":"RTD(\"sysq.rtd\",\"\",\"!DTAI`LC.99-0035:2\")","v":{"$error":"#N/A"}},{"$f":"RTD(\"sysq.rtd\",\"\",\"WTX&`004.10-0035:2\")","v":{"$error":"#N/A"}},{"$error":"#N/A"}]
["0036",{"$f":"RTD(\"sysq.rtd\",\"\",\"!DTSH`LC.99-0036:2\")","v":{"$error":"#N/A"}},{"$f":"RTD(\"sysq.rtd\",\"\",\"!DTDH`LC.99-0036:2\")","v":{"$error":"#N/A"}},{"$f":"RTD(\"sysq.rtd\",\"\",\"!XTSH`LC.99-0036:2\")","v":{"$error":"#N/A"}},{"$f":"RTD(\"sysq.rtd\",\"\",\"!XTDH`LC.99-0036:2\")","v":{"$error":"#N/A"}},{"$f":"RTD(\"sysq.rtd\",\"\",\"!DTAI`LC.99-0036:2\")","v":{"$error":"#N/A"}},{"$f":"RTD(\"sysq.rtd\",\"\",\"WTX&`004.10-0036:2\")","v":{"$error":"#N/A"}},{"$error":"#N/A"}]
["0037",{"$f":"RTD(\"sysq.rtd\",\"\",\"!DTSH`LC.99-0037:2\")","v":{"$error":"#N/A"}},{"$f":"RTD(\"sysq.rtd\",\"\",\"!DTDH`LC.99-0037:2\")","v":{"$error":"#N/A"}},{"$f":"RTD(\"sysq.rtd\",\"\",\"!XTSH`LC.99-0037:2\")","v":{"$error":"#N/A"}},{"$f":"RTD(\"sysq.rtd\",\"\",\"!XTDH`LC.99-0037:2\")","v":{"$error":"#N/A"}},{"$f":"RTD(\"sysq.rtd\",\"\",\"!DTAI`LC.99-0037:2\")","v":{"$error":"#N/A"}},{"$f":"RTD(\"sysq.rtd\",\"\",\"WTX&`004.10-0037:2\")","v":{"$error":"#N/A"}},{"$error":"#N/A"}]
["0038",{"$f":"RTD(\"sysq.rtd\",\"\",\"!DTSH`LC.99-0038:2\")","v":{"$error":"#N/A"}},{"$f":"RTD(\"sysq.rtd\",\"\",\"!DTDH`LC.99-0038:2\")","v":{"$error":"#N/A"}},{"$f":"RTD(\"sysq.rtd\",\"\",\"!XTSH`LC.99-0038:2\")","v":{"$error":"#N/A"}},{"$f":"RTD(\"sysq.rtd\",\"\",\"!XTDH`LC.99-0038:2\")","v":{"$error":"#N/A"}},{"$f":"RTD(\"sysq.rtd\",\"\",\"!DTAI`LC.99-0038:2\")","v":{"$error":"#N/A"}},{"$f":"RTD(\"sysq.rtd\",\"\",\"WTX&`004.10-0038:2\")","v":{"$error":"#N/A"}},{"$error":"#N/A"}]
["0039",{"$f":"RTD(\"sysq.rtd\",\"\",\"!DTSH`LC.99-0039:2\")","v":{"$error":"#N/A"}},{"$f":"RTD(\"sysq.rtd\",\"\",\"!DTDH`LC.99-0039:2\")","v":{"$error":"#N/A"}},{"$f":"RTD(\"sysq.rtd\",\"\",\"!XTSH`LC.99-0039:2\")","v":{"$error":"#N/A"}},{"$f":"RTD(\"sysq.rtd\",\"\",\"!XTDH`LC.99-0039:2\")","v":{"$error":"#N/A"}},{"$f":"RTD(\"sysq.rtd\",\"\",\"!DTAI`LC.99-0039:2\")","v":{"$error":"#N/A"}},{"$f":"RTD(\"sysq.rtd\",\"\",\"WTX&`004.10-0039:2\")","v":{"$error":"#N/A"}},{"$error":"#N/A"}]
["0040",{"$f":"RTD(\"sysq.rtd\",\"\",\"!DTSH`LC.99-0040:2\")","v":{"$error":"#N/A"}},{"$f":"RTD(\"sysq.rtd\",\"\",\"!DTDH`LC.99-0040:2\")","v":{"$error":"#N/A"}},{"$f":"RTD(\"sysq.rtd\",\"\",\"!XTSH`LC.99-0040:2\")","v":{"$error":"#N/A"}},{"$f":"RTD(\"sysq.rtd\",\"\",\"!XTDH`LC.99-0040:2\")","v":{"$error":"#N/A"}},{"$f":"RTD(\"sysq.rtd\",\"\",\"!DTAI`LC.99-0040:2\")","v":{"$error":"#N/A"}},{"$f":"RTD(\"sysq.rtd\",\"\",\"WTX&`004.10-0040:2\")","v":{"$error":"#N/A"}},{"$error":"#N/A"}]
["0041",{"$f":"RTD(\"sysq.rtd\",\"\",\"!DTSH`LC.99-0041:2\")","v":{"$error":"#N/A"}},{"$f":"RTD(\"sysq.rtd\",\"\",\"!DTDH`LC.99-0041:2\")","v":{"$error":"#N/A"}},{"$f":"RTD(\"sysq.rtd\",\"\",\"!XTSH`LC.99-0041:2\")","v":{"$error":"#N/A"}},{"$f":"RTD(\"sysq.rtd\",\"\",\"!XTDH`LC.99-0041:2\")","v":{"$error":"#N/A"}},{"$f":"RTD(\"sysq.rtd\",\"\",\"!DTAI`LC.99-0041:2\")","v":{"$error":"#N/A"}},{"$f":"RTD(\"sysq.rtd\",\"\",\"WTX&`004.10-0041:2\")","v":{"$error":"#N/A"}},{"$error":"#N/A"}]
["0042",{"$f":"RTD(\"sysq.rtd\",\"\",\"!DTSH`LC.99-0042:2\")","v":{"$error":"#N/A"}},{"$f":"RTD(\"sysq.rtd\",\"\",\"!DTDH`LC.99-0042:2\")","v":{"$error":"#N/A"}},{"$f":"RTD(\"sysq.rtd\",\"\",\"!XTSH`LC.99-0042:2\")","v":{"$error":"#N/A"}},{"$f":"RTD(\"sysq.rtd\",\"\",\"!XTDH`LC.99-0042:2\")","v":{"$error":"#N/A"}},{"$f":"RTD(\"sysq.rtd\",\"\",\"!DTAI`LC.99-0042:2\")","v":{"$error":"#N/A"}},{"$f":"RTD(\"sysq.rtd\",\"\",\"WTX&`004.10-0042:2\")","v":{"$error":"#N/A"}},{"$error":"#N/A"}]
["0043",{"$f":"RTD(\"sysq.rtd\",\"\",\"!DTSH`LC.99-0043:2\")","v":{"$error":"#N/A"}},{"$f":"RTD(\"sysq.rtd\",\"\",\"!DTDH`LC.99-0043:2\")","v":{"$error":"#N/A"}},{"$f":"RTD(\"sysq.rtd\",\"\",\"!XTSH`LC.99-0043:2\")","v":{"$error":"#N/A"}},{"$f":"RTD(\"sysq.rtd\",\"\",\"!XTDH`LC.99-0043:2\")","v":{"$error":"#N/A"}},{"$f":"RTD(\"sysq.rtd\",\"\",\"!DTAI`LC.99-0043:2\")","v":{"$error":"#N/A"}},{"$f":"RTD(\"sysq.rtd\",\"\",\"WTX&`004.10-0043:2\")","v":{"$error":"#N/A"}},{"$error":"#N/A"}]
["0044",{"$f":"RTD(\"sysq.rtd\",\"\",\"!DTSH`LC.99-0044:2\")","v":{"$error":"#N/A"}},{"$f":"RTD(\"sysq.rtd\",\"\",\"!DTDH`LC.99-0044:2\")","v":{"$error":"#N/A"}},{"$f":"RTD(\"sysq.rtd\",\"\",\"!XTSH`LC.99-0044:2\")","v":{"$error":"#N/A"}},{"$f":"RTD(\"sysq.rtd\",\"\",\"!XTDH`LC.99-0044:2\")","v":{"$error":"#N/A"}},{"$f":"RTD(\"sysq.rtd\",\"\",\"!DTAI`LC.99-0044:2\")","v":{"$error":"#N/A"}},{"$f":"RTD(\"sysq.rtd\",\"\",\"WTX&`004.10-0044:2\")","v":{"$error":"#N/A"}},{"$error":"#N/A"}]
["0045",{"$f":"RTD(\"sysq.rtd\",\"\",\"!DTSH`LC.99-0045:2\")","v":{"$error":"#N/A"}},{"$f":"RTD(\"sysq.rtd\",\"\",\"!DTDH`LC.99-0045:2\")","v":{"$error":"#N/A"}},{"$f":"RTD(\"sysq.rtd\",\"\",\"!XTSH`LC.99-0045:2\")","v":{"$error":"#N/A"}},{"$f":"RTD(\"sysq.rtd\",\"\",\"!XTDH`LC.99-0045:2\")","v":{"$error":"#N/A"}},{"$f":"RTD(\"sysq.rtd\",\"\",\"!DTAI`LC.99-0045:2\")","v":{"$error":"#N/A"}},{"$f":"RTD(\"sysq.rtd\",\"\",\"WTX&`004.10-0045:2\")","v":{"$error":"#N/A"}},{"$error":"#N/A"}]
["0046",{"$f":"RTD(\"sysq.rtd\",\"\",\"!DTSH`LC.99-0046:2\")","v":{"$error":"#N/A"}},{"$f":"RTD(\"sysq.rtd\",\"\",\"!DTDH`LC.99-0046:2\")","v":{"$error":"#N/A"}},{"$f":"RTD(\"sysq.rtd\",\"\",\"!XTSH`LC.99-0046:2\")","v":{"$error":"#N/A"}},{"$f":"RTD(\"sysq.rtd\",\"\",\"!XTDH`LC.99-0046:2\")","v":{"$error":"#N/A"}},{"$f":"RTD(\"sysq.rtd\",\"\",\"!DTAI`LC.99-0046:2\")","v":{"$error":"#N/A"}},{"$f":"RTD(\"sysq.rtd\",\"\",\"WTX&`004.10-0046:2\")","v":{"$error":"#N/A"}},{"$error":"#N/A"}]
["0047",{"$f":"RTD(\"sysq.rtd\",\"\",\"!DTSH`LC.99-0047:2\")","v":{"$error":"#N/A"}},{"$f":"RTD(\"sysq.rtd\",\"\",\"!DTDH`LC.99-0047:2\")","v":{"$error":"#N/A"}},{"$f":"RTD(\"sysq.rtd\",\"\",\"!XTSH`LC.99-0047:2\")","v":{"$error":"#N/A"}},{"$f":"RTD(\"sysq.rtd\",\"\",\"!XTDH`LC.99-0047:2\")","v":{"$error":"#N/A"}},{"$f":"RTD(\"sysq.rtd\",\"\",\"!DTAI`LC.99-0047:2\")","v":{"$error":"#N/A"}},{"$f":"RTD(\"sysq.rtd\",\"\",\"WTX&`004.10-0047:2\")","v":{"$error":"#N/A"}},{"$error":"#N/A"}]
["0048",{"$f":"RTD(\"sysq.rtd\",\"\",\"!DTSH`LC.99-0048:2\")","v":{"$error":"#N/A"}},{"$f":"RTD(\"sysq.rtd\",\"\",\"!DTDH`LC.99-0048:2\")","v":{"$error":"#N/A"}},{"$f":"RTD(\"sysq.rtd\",\"\",\"!XTSH`LC.99-0048:2\")","v":{"$error":"#N/A"}},{"$f":"RTD(\"sysq.rtd\",\"\",\"!XTDH`LC.99-0048:2\")","v":{"$error":"#N/A"}},{"$f":"RTD(\"sysq.rtd\",\"\",\"!DTAI`LC.99-0048:2\")","v":{"$error":"#N/A"}},{"$f":"RTD(\"sysq.rtd\",\"\",\"WTX&`004.10-0048:2\")","v":{"$error":"#N/A"}},{"$error":"#N/A"}]
["0049",{"$f":"RTD(\"sysq.rtd\",\"\",\"!DTSH`LC.99-0049:2\")","v":{"$error":"#N/A"}},{"$f":"RTD(\"sysq.rtd\",\"\",\"!DTDH`LC.99-0049:2\")","v":{"$error":"#N/A"}},{"$f":"RTD(\"sysq.rtd\",\"\",\"!XTSH`LC.99-0049:2\")","v":{"$error":"#N/A"}},{"$f":"RTD(\"sysq.rtd\",\"\",\"!XTDH`LC.99-0049:2\")","v":{"$error":"#N/A"}},{"$f":"RTD(\"sysq.rtd\",\"\",\"!DTAI`LC.99-0049:2\")","v":{"$error":"#N/A"}},{"$f":"RTD(\"sysq.rtd\",\"\",\"WTX&`004.10-0049:2\")","v":{"$error":"#N/A"}},{"$error":"#N/A"}]
["0050",{"$f":"RTD(\"sysq.rtd\",\"\",\"!DTSH`LC.99-0050:2\")","v":{"$error":"#N/A"}},{"$f":"RTD(\"sysq.rtd\",\"\",\"!DTDH`LC.99-0050:2\")","v":{"$error":"#N/A"}},{"$f":"RTD(\"sysq.rtd\",\"\",\"!XTSH`LC.99-0050:2\")","v":{"$error":"#N/A"}},{"$f":"RTD(\"sysq.rtd\",\"\",\"!XTDH`LC.99-0050:2\")","v":{"$error":"#N/A"}},{"$f":"RTD(\"sysq.rtd\",\"\",\"!DTAI`LC.99-0050:2\")","v":{"$error":"#N/A"}},{"$f":"RTD(\"sysq.rtd\",\"\",\"WTX&`004.10-0050:2\")","v":{"$error":"#N/A"}},{"$error":"#N/A"}]
["0051",{"$f":"RTD(\"sysq.rtd\",\"\",\"!DTSH`LC.99-0051:2\")","v":{"$error":"#N/A"}},{"$f":"RTD(\"sysq.rtd\",\"\",\"!DTDH`LC.99-0051:2\")","v":{"$error":"#N/A"}},{"$f":"RTD(\"sysq.rtd\",\"\",\"!XTSH`LC.99-0051:2\")","v":{"$error":"#N/A"}},{"$f":"RTD(\"sysq.rtd\",\"\",\"!XTDH`LC.99-0051:2\")","v":{"$error":"#N/A"}},{"$f":"RTD(\"sysq.rtd\",\"\",\"!DTAI`LC.99-0051:2\")","v":{"$error":"#N/A"}},{"$f":"RTD(\"sysq.rtd\",\"\",\"WTX&`004.10-0051:2\")","v":{"$error":"#N/A"}},{"$error":"#N/A"}]
["0052",{"$f":"RTD(\"sysq.rtd\",\"\",\"!DTSH`LC.99-0052:2\")","v":{"$error":"#N/A"}},{"$f":"RTD(\"sysq.rtd\",\"\",\"!DTDH`LC.99-0052:2\")","v":{"$error":"#N/A"}},{"$f":"RTD(\"sysq.rtd\",\"\",\"!XTSH`LC.99-0052:2\")","v":{"$error":"#N/A"}},{"$f":"RTD(\"sysq.rtd\",\"\",\"!XTDH`LC.99-0052:2\")","v":{"$error":"#N/A"}},{"$f":"RTD(\"sysq.rtd\",\"\",\"!DTAI`LC.99-0052:2\")","v":{"$error":"#N/A"}},{"$f":"RTD(\"sysq.rtd\",\"\",\"WTX&`004.10-0052:2\")","v":{"$error":"#N/A"}},{"$error":"#N/A"}]
["0053",{"$f":"RTD(\"sysq.rtd\",\"\",\"!DTSH`LC.99-0053:2\")","v":{"$error":"#N/A"}},{"$f":"RTD(\"sysq.rtd\",\"\",\"!DTDH`LC.99-0053:2\")","v":{"$error":"#N/A"}},{"$f":"RTD(\"sysq.rtd\",\"\",\"!XTSH`LC.99-0053:2\")","v":{"$error":"#N/A"}},{"$f":"RTD(\"sysq.rtd\",\"\",\"!XTDH`LC.99-0053:2\")","v":{"$error":"#N/A"}},{"$f":"RTD(\"sysq.rtd\",\"\",\"!DTAI`LC.99-0053:2\")","v":{"$error":"#N/A"}},{"$f":"RTD(\"sysq.rtd\",\"\",\"WTX&`004.10-0053:2\")","v":{"$error":"#N/A"}},{"$error":"#N/A"}]
["0054",{"$f":"RTD(\"sysq.rtd\",\"\",\"!DTSH`LC.99-0054:2\")","v":{"$error":"#N/A"}},{"$f":"RTD(\"sysq.rtd\",\"\",\"!DTDH`LC.99-0054:2\")","v":{"$error":"#N/A"}},{"$f":"RTD(\"sysq.rtd\",\"\",\"!XTSH`LC.99-0054:2\")","v":{"$error":"#N/A"}},{"$f":"RTD(\"sysq.rtd\",\"\",\"!XTDH`LC.99-0054:2\")","v":{"$error":"#N/A"}},{"$f":"RTD(\"sysq.rtd\",\"\",\"!DTAI`LC.99-0054:2\")","v":{"$error":"#N/A"}},{"$f":"RTD(\"sysq.rtd\",\"\",\"WTX&`004.10-0054:2\")","v":{"$error":"#N/A"}},{"$error":"#N/A"}]
["0055",{"$f":"RTD(\"sysq.rtd\",\"\",\"!DTSH`LC.99-0055:2\")","v":{"$error":"#N/A"}},{"$f":"RTD(\"sysq.rtd\",\"\",\"!DTDH`LC.99-0055:2\")","v":{"$error":"#N/A"}},{"$f":"RTD(\"sysq.rtd\",\"\",\"!XTSH`LC.99-0055:2\")","v":{"$error":"#N/A"}},{"$f":"RTD(\"sysq.rtd\",\"\",\"!XTDH`LC.99-0055:2\")","v":{"$error":"#N/A"}},{"$f":"RTD(\"sysq.rtd\",\"\",\"!DTAI`LC.99-0055:2\")","v":{"$error":"#N/A"}},{"$f":"RTD(\"sysq.rtd\",\"\",\"WTX&`004.10-0055:2\")","v":{"$error":"#N/A"}},{"$error":"#N/A"}]
["0056",{"$f":"RTD(\"sysq.rtd\",\"\",\"!DTSH`LC.99-0056:2\")","v":{"$error":"#N/A"}},{"$f":"RTD(\"sysq.rtd\",\"\",\"!DTDH`LC.99-0056:2\")","v":{"$error":"#N/A"}},{"$f":"RTD(\"sysq.rtd\",\"\",\"!XTSH`LC.99-0056:2\")","v":{"$error":"#N/A"}},{"$f":"RTD(\"sysq.rtd\",\"\",\"!XTDH`LC.99-0056:2\")","v":{"$error":"#N/A"}},{"$f":"RTD(\"sysq.rtd\",\"\",\"!DTAI`LC.99-0056:2\")","v":{"$error":"#N/A"}},{"$f":"RTD(\"sysq.rtd\",\"\",\"WTX&`004.10-0056:2\")","v":{"$error":"#N/A"}},{"$f":"SQRT(ABS(F902))*(ABS(F902)/F902)","v":{"$error":"#N/A"}}]
["0057",{"$f":"RTD(\"sysq.rtd\",\"\",\"!DTSH`LC.99-0057:2\")","v":{"$error":"#N/A"}},{"$f":"RTD(\"sysq.rtd\",\"\",\"!DTDH`LC.99-0057:2\")","v":{"$error":"#N/A"}},{"$f":"RTD(\"sysq.rtd\",\"\",\"!XTSH`LC.99-0057:2\")","v":{"$error":"#N/A"}},{"$f":"RTD(\"sysq.rtd\",\"\",\"!XTDH`LC.99-0057:2\")","v":{"$error":"#N/A"}},{"$f":"RTD(\"sysq.rtd\",\"\",\"!DTAI`LC.99-0057:2\")","v":{"$error":"#N/A"}},{"$f":"RTD(\"sysq.rtd\",\"\",\"WTX&`004.10-0057:2\")","v":{"$error":"#N/A"}},{"$error":"#N/A"}]
["0058",{"$f":"RTD(\"sysq.rtd\",\"\",\"!DTSH`LC.99-0058:2\")","v":{"$error":"#N/A"}},{"$f":"RTD(\"sysq.rtd\",\"\",\"!DTDH`LC.99-0058:2\")","v":{"$error":"#N/A"}},{"$f":"RTD(\"sysq.rtd\",\"\",\"!XTSH`LC.99-0058:2\")","v":{"$error":"#N/A"}},{"$f":"RTD(\"sysq.rtd\",\"\",\"!XTDH`LC.99-0058:2\")","v":{"$error":"#N/A"}},{"$f":"RTD(\"sysq.rtd\",\"\",\"!DTAI`LC.99-0058:2\")","v":{"$error":"#N/A"}},{"$f":"RTD(\"sysq.rtd\",\"\",\"WTX&`004.10-0058:2\")","v":{"$error":"#N/A"}},{"$error":"#N/A"}]
["0059",{"$f":"RTD(\"sysq.rtd\",\"\",\"!DTSH`LC.99-0059:2\")","v":{"$error":"#N/A"}},{"$f":"RTD(\"sysq.rtd\",\"\",\"!DTDH`LC.99-0059:2\")","v":{"$error":"#N/A"}},{"$f":"RTD(\"sysq.rtd\",\"\",\"!XTSH`LC.99-0059:2\")","v":{"$error":"#N/A"}},{"$f":"RTD(\"sysq.rtd\",\"\",\"!XTDH`LC.99-0059:2\")","v":{"$error":"#N/A"}},{"$f":"RTD(\"sysq.rtd\",\"\",\"!DTAI`LC.99-0059:2\")","v":{"$error":"#N/A"}},{"$f":"RTD(\"sysq.rtd\",\"\",\"WTX&`004.10-0059:2\")","v":{"$error":"#N/A"}},{"$error":"#N/A"}]
["0100",{"$f":"RTD(\"sysq.rtd\",\"\",\"!DTSH`LC.99-0100:2\")","v":{"$error":"#N/A"}},{"$f":"RTD(\"sysq.rtd\",\"\",\"!DTDH`LC.99-0100:2\")","v":{"$error":"#N/A"}},{"$f":"RTD(\"sysq.rtd\",\"\",\"!XTSH`LC.99-0100:2\")","v":{"$error":"#N/A"}},{"$f":"RTD(\"sysq.rtd\",\"\",\"!XTDH`LC.99-0100:2\")","v":{"$error":"#N/A"}},{"$f":"RTD(\"sysq.rtd\",\"\",\"!DTAI`LC.99-0100:2\")","v":{"$error":"#N/A"}},{"$f":"RTD(\"sysq.rtd\",\"\",\"WTX&`004.10-0100:2\")","v":{"$error":"#N/A"}},{"$error":"#N/A"}]
["0101",{"$f":"RTD(\"sysq.rtd\",\"\",\"!DTSH`LC.99-0101:2\")","v":{"$error":"#N/A"}},{"$f":"RTD(\"sysq.rtd\",\"\",\"!DTDH`LC.99-0101:2\")","v":{"$error":"#N/A"}},{"$f":"RTD(\"sysq.rtd\",\"\",\"!XTSH`LC.99-0101:2\")","v":{"$error":"#N/A"}},{"$f":"RTD(\"sysq.rtd\",\"\",\"!XTDH`LC.99-0101:2\")","v":{"$error":"#N/A"}},{"$f":"RTD(\"sysq.rtd\",\"\",\"!DTAI`LC.99-0101:2\")","v":{"$error":"#N/A"}},{"$f":"RTD(\"sysq.rtd\",\"\",\"WTX&`004.10-0101:2\")","v":{"$error":"#N/A"}},{"$error":"#N/A"}]
["0102",{"$f":"RTD(\"sysq.rtd\",\"\",\"!DTSH`LC.99-0102:2\")","v":{"$error":"#N/A"}},{"$f":"RTD(\"sysq.rtd\",\"\",\"!DTDH`LC.99-0102:2\")","v":{"$error":"#N/A"}},{"$f":"RTD(\"sysq.rtd\",\"\",\"!XTSH`LC.99-0102:2\")","v":{"$error":"#N/A"}},{"$f":"RTD(\"sysq.rtd\",\"\",\"!XTDH`LC.99-0102:2\")","v":{"$error":"#N/A"}},{"$f":"RTD(\"sysq.rtd\",\"\",\"!DTAI`LC.99-0102:2\")","v":{"$error":"#N/A"}},{"$f":"RTD(\"sysq.rtd\",\"\",\"WTX&`004.10-0102:2\")","v":{"$error":"#N/A"}},{"$error":"#N/A"}]
["0103",{"$f":"RTD(\"sysq.rtd\",\"\",\"!DTSH`LC.99-0103:2\")","v":{"$error":"#N/A"}},{"$f":"RTD(\"sysq.rtd\",\"\",\"!DTDH`LC.99-0103:2\")","v":{"$error":"#N/A"}},{"$f":"RTD(\"sysq.rtd\",\"\",\"!XTSH`LC.99-0103:2\")","v":{"$error":"#N/A"}},{"$f":"RTD(\"sysq.rtd\",\"\",\"!XTDH`LC.99-0103:2\")","v":{"$error":"#N/A"}},{"$f":"RTD(\"sysq.rtd\",\"\",\"!DTAI`LC.99-0103:2\")","v":{"$error":"#N/A"}},{"$f":"RTD(\"sysq.rtd\",\"\",\"WTX&`004.10-0103:2\")","v":{"$error":"#N/A"}},{"$error":"#N/A"}]
["0104",{"$f":"RTD(\"sysq.rtd\",\"\",\"!DTSH`LC.99-0104:2\")","v":{"$error":"#N/A"}},{"$f":"RTD(\"sysq.rtd\",\"\",\"!DTDH`LC.99-0104:2\")","v":{"$error":"#N/A"}},{"$f":"RTD(\"sysq.rtd\",\"\",\"!XTSH`LC.99-0104:2\")","v":{"$error":"#N/A"}},{"$f":"RTD(\"sysq.rtd\",\"\",\"!XTDH`LC.99-0104:2\")","v":{"$error":"#N/A"}},{"$f":"RTD(\"sysq.rtd\",\"\",\"!DTAI`LC.99-0104:2\")","v":{"$error":"#N/A"}},{"$f":"RTD(\"sysq.rtd\",\"\",\"WTX&`004.10-0104:2\")","v":{"$error":"#N/A"}},{"$error":"#N/A"}]
["0105",{"$f":"RTD(\"sysq.rtd\",\"\",\"!DTSH`LC.99-0105:2\")","v":{"$error":"#N/A"}},{"$f":"RTD(\"sysq.rtd\",\"\",\"!DTDH`LC.99-0105:2\")","v":{"$error":"#N/A"}},{"$f":"RTD(\"sysq.rtd\",\"\",\"!XTSH`LC.99-0105:2\")","v":{"$error":"#N/A"}},{"$f":"RTD(\"sysq.rtd\",\"\",\"!XTDH`LC.99-0105:2\")","v":{"$error":"#N/A"}},{"$f":"RTD(\"sysq.rtd\",\"\",\"!DTAI`LC.99-0105:2\")","v":{"$error":"#N/A"}},{"$f":"RTD(\"sysq.rtd\",\"\",\"WTX&`004.10-0105:2\")","v":{"$error":"#N/A"}},{"$error":"#N/A"}]
["0106",{"$f":"RTD(\"sysq.rtd\",\"\",\"!DTSH`LC.99-0106:2\")","v":{"$error":"#N/A"}},{"$f":"RTD(\"sysq.rtd\",\"\",\"!DTDH`LC.99-0106:2\")","v":{"$error":"#N/A"}},{"$f":"RTD(\"sysq.rtd\",\"\",\"!XTSH`LC.99-0106:2\")","v":{"$error":"#N/A"}},{"$f":"RTD(\"sysq.rtd\",\"\",\"!XTDH`LC.99-0106:2\")","v":{"$error":"#N/A"}},{"$f":"RTD(\"sysq.rtd\",\"\",\"!DTAI`LC.99-0106:2\")","v":{"$error":"#N/A"}},{"$f":"RTD(\"sysq.rtd\",\"\",\"WTX&`004.10-0106:2\")","v":{"$error":"#N/A"}},{"$error":"#N/A"}]
["0107",{"$f":"RTD(\"sysq.rtd\",\"\",\"!DTSH`LC.99-0107:2\")","v":{"$error":"#N/A"}},{"$f":"RTD(\"sysq.rtd\",\"\",\"!DTDH`LC.99-0107:2\")","v":{"$error":"#N/A"}},{"$f":"RTD(\"sysq.rtd\",\"\",\"!XTSH`LC.99-0107:2\")","v":{"$error":"#N/A"}},{"$f":"RTD(\"sysq.rtd\",\"\",\"!XTDH`LC.99-0107:2\")","v":{"$error":"#N/A"}},{"$f":"RTD(\"sysq.rtd\",\"\",\"!DTAI`LC.99-0107:2\")","v":{"$error":"#N/A"}},{"$f":"RTD(\"sysq.rtd\",\"\",\"WTX&`004.10-0107:2\")","v":{"$error":"#N/A"}},{"$error":"#N/A"}]
["0108",{"$f":"RTD(\"sysq.rtd\",\"\",\"!DTSH`LC.99-0108:2\")","v":{"$error":"#N/A"}},{"$f":"RTD(\"sysq.rtd\",\"\",\"!DTDH`LC.99-0108:2\")","v":{"$error":"#N/A"}},{"$f":"RTD(\"sysq.rtd\",\"\",\"!XTSH`LC.99-0108:2\")","v":{"$error":"#N/A"}},{"$f":"RTD(\"sysq.rtd\",\"\",\"!XTDH`LC.99-0108:2\")","v":{"$error":"#N/A"}},{"$f":"RTD(\"sysq.rtd\",\"\",\"!DTAI`LC.99-0108:2\")","v":{"$error":"#N/A"}},{"$f":"RTD(\"sysq.rtd\",\"\",\"WTX&`004.10-0108:2\")","v":{"$error":"#N/A"}},{"$error":"#N/A"}]
["0109",{"$f":"RTD(\"sysq.rtd\",\"\",\"!DTSH`LC.99-0109:2\")","v":{"$error":"#N/A"}},{"$f":"RTD(\"sysq.rtd\",\"\",\"!DTDH`LC.99-0109:2\")","v":{"$error":"#N/A"}},{"$f":"RTD(\"sysq.rtd\",\"\",\"!XTSH`LC.99-0109:2\")","v":{"$error":"#N/A"}},{"$f":"RTD(\"sysq.rtd\",\"\",\"!XTDH`LC.99-0109:2\")","v":{"$error":"#N/A"}},{"$f":"RTD(\"sysq.rtd\",\"\",\"!DTAI`LC.99-0109:2\")","v":{"$error":"#N/A"}},{"$f":"RTD(\"sysq.rtd\",\"\",\"WTX&`004.10-0109:2\")","v":{"$error":"#N/A"}},{"$error":"#N/A"}]
["0110",{"$f":"RTD(\"sysq.rtd\",\"\",\"!DTSH`LC.99-0110:2\")","v":{"$error":"#N/A"}},{"$f":"RTD(\"sysq.rtd\",\"\",\"!DTDH`LC.99-0110:2\")","v":{"$error":"#N/A"}},{"$f":"RTD(\"sysq.rtd\",\"\",\"!XTSH`LC.99-0110:2\")","v":{"$error":"#N/A"}},{"$f":"RTD(\"sysq.rtd\",\"\",\"!XTDH`LC.99-0110:2\")","v":{"$error":"#N/A"}},{"$f":"RTD(\"sysq.rtd\",\"\",\"!DTAI`LC.99-0110:2\")","v":{"$error":"#N/A"}},{"$f":"RTD(\"sysq.rtd\",\"\",\"WTX&`004.10-0110:2\")","v":{"$error":"#N/A"}},{"$error":"#N/A"}]
["0111",{"$f":"RTD(\"sysq.rtd\",\"\",\"!DTSH`LC.99-0111:2\")","v":{"$error":"#N/A"}},{"$f":"RTD(\"sysq.rtd\",\"\",\"!DTDH`LC.99-0111:2\")","v":{"$error":"#N/A"}},{"$f":"RTD(\"sysq.rtd\",\"\",\"!XTSH`LC.99-0111:2\")","v":{"$error":"#N/A"}},{"$f":"RTD(\"sysq.rtd\",\"\",\"!XTDH`LC.99-0111:2\")","v":{"$error":"#N/A"}},{"$f":"RTD(\"sysq.rtd\",\"\",\"!DTAI`LC.99-0111:2\")","v":{"$error":"#N/A"}},{"$f":"RTD(\"sysq.rtd\",\"\",\"WTX&`004.10-0111:2\")","v":{"$error":"#N/A"}},{"$error":"#N/A"}]
["0112",{"$f":"RTD(\"sysq.rtd\",\"\",\"!DTSH`LC.99-0112:2\")","v":{"$error":"#N/A"}},{"$f":"RTD(\"sysq.rtd\",\"\",\"!DTDH`LC.99-0112:2\")","v":{"$error":"#N/A"}},{"$f":"RTD(\"sysq.rtd\",\"\",\"!XTSH`LC.99-0112:2\")","v":{"$error":"#N/A"}},{"$f":"RTD(\"sysq.rtd\",\"\",\"!XTDH`LC.99-0112:2\")","v":{"$error":"#N/A"}},{"$f":"RTD(\"sysq.rtd\",\"\",\"!DTAI`LC.99-0112:2\")","v":{"$error":"#N/A"}},{"$f":"RTD(\"sysq.rtd\",\"\",\"WTX&`004.10-0112:2\")","v":{"$error":"#N/A"}},{"$error":"#N/A"}]
["0113",{"$f":"RTD(\"sysq.rtd\",\"\",\"!DTSH`LC.99-0113:2\")","v":{"$error":"#N/A"}},{"$f":"RTD(\"sysq.rtd\",\"\",\"!DTDH`LC.99-0113:2\")","v":{"$error":"#N/A"}},{"$f":"RTD(\"sysq.rtd\",\"\",\"!XTSH`LC.99-0113:2\")","v":{"$error":"#N/A"}},{"$f":"RTD(\"sysq.rtd\",\"\",\"!XTDH`LC.99-0113:2\")","v":{"$error":"#N/A"}},{"$f":"RTD(\"sysq.rtd\",\"\",\"!DTAI`LC.99-0113:2\")","v":{"$error":"#N/A"}},{"$f":"RTD(\"sysq.rtd\",\"\",\"WTX&`004.10-0113:2\")","v":{"$error":"#N/A"}},{"$error":"#N/A"}]
["0114",{"$f":"RTD(\"sysq.rtd\",\"\",\"!DTSH`LC.99-0114:2\")","v":{"$error":"#N/A"}},{"$f":"RTD(\"sysq.rtd\",\"\",\"!DTDH`LC.99-0114:2\")","v":{"$error":"#N/A"}},{"$f":"RTD(\"sysq.rtd\",\"\",\"!XTSH`LC.99-0114:2\")","v":{"$error":"#N/A"}},{"$f":"RTD(\"sysq.rtd\",\"\",\"!XTDH`LC.99-0114:2\")","v":{"$error":"#N/A"}},{"$f":"RTD(\"sysq.rtd\",\"\",\"!DTAI`LC.99-0114:2\")","v":{"$error":"#N/A"}},{"$f":"RTD(\"sysq.rtd\",\"\",\"WTX&`004.10-0114:2\")","v":{"$error":"#N/A"}},{"$error":"#N/A"}]
["0115",{"$f":"RTD(\"sysq.rtd\",\"\",\"!DTSH`LC.99-0115:2\")","v":{"$error":"#N/A"}},{"$f":"RTD(\"sysq.rtd\",\"\",\"!DTDH`LC.99-0115:2\")","v":{"$error":"#N/A"}},{"$f":"RTD(\"sysq.rtd\",\"\",\"!XTSH`LC.99-0115:2\")","v":{"$error":"#N/A"}},{"$f":"RTD(\"sysq.rtd\",\"\",\"!XTDH`LC.99-0115:2\")","v":{"$error":"#N/A"}},{"$f":"RTD(\"sysq.rtd\",\"\",\"!DTAI`LC.99-0115:2\")","v":{"$error":"#N/A"}},{"$f":"RTD(\"sysq.rtd\",\"\",\"WTX&`004.10-0115:2\")","v":{"$error":"#N/A"}},{"$error":"#N/A"}]
["0116",{"$f":"RTD(\"sysq.rtd\",\"\",\"!DTSH`LC.99-0116:2\")","v":{"$error":"#N/A"}},{"$f":"RTD(\"sysq.rtd\",\"\",\"!DTDH`LC.99-0116:2\")","v":{"$error":"#N/A"}},{"$f":"RTD(\"sysq.rtd\",\"\",\"!XTSH`LC.99-0116:2\")","v":{"$error":"#N/A"}},{"$f":"RTD(\"sysq.rtd\",\"\",\"!XTDH`LC.99-0116:2\")","v":{"$error":"#N/A"}},{"$f":"RTD(\"sysq.rtd\",\"\",\"!DTAI`LC.99-0116:2\")","v":{"$error":"#N/A"}},{"$f":"RTD(\"sysq.rtd\",\"\",\"WTX&`004.10-0116:2\")","v":{"$error":"#N/A"}},{"$error":"#N/A"}]
["0117",{"$f":"RTD(\"sysq.rtd\",\"\",\"!DTSH`LC.99-0117:2\")","v":{"$error":"#N/A"}},{"$f":"RTD(\"sysq.rtd\",\"\",\"!DTDH`LC.99-0117:2\")","v":{"$error":"#N/A"}},{"$f":"RTD(\"sysq.rtd\",\"\",\"!XTSH`LC.99-0117:2\")","v":{"$error":"#N/A"}},{"$f":"RTD(\"sysq.rtd\",\"\",\"!XTDH`LC.99-0117:2\")","v":{"$error":"#N/A"}},{"$f":"RTD(\"sysq.rtd\",\"\",\"!DTAI`LC.99-0117:2\")","v":{"$error":"#N/A"}},{"$f":"RTD(\"sysq.rtd\",\"\",\"WTX&`004.10-0117:2\")","v":{"$error":"#N/A"}},{"$error":"#N/A"}]
["0118",{"$f":"RTD(\"sysq.rtd\",\"\",\"!DTSH`LC.99-0118:2\")","v":{"$error":"#N/A"}},{"$f":"RTD(\"sysq.rtd\",\"\",\"!DTDH`LC.99-0118:2\")","v":{"$error":"#N/A"}},{"$f":"RTD(\"sysq.rtd\",\"\",\"!XTSH`LC.99-0118:2\")","v":{"$error":"#N/A"}},{"$f":"RTD(\"sysq.rtd\",\"\",\"!XTDH`LC.99-0118:2\")","v":{"$error":"#N/A"}},{"$f":"RTD(\"sysq.rtd\",\"\",\"!DTAI`LC.99-0118:2\")","v":{"$error":"#N/A"}},{"$f":"RTD(\"sysq.rtd\",\"\",\"WTX&`004.10-0118:2\")","v":{"$error":"#N/A"}},{"$error":"#N/A"}]
["0119",{"$f":"RTD(\"sysq.rtd\",\"\",\"!DTSH`LC.99-0119:2\")","v":{"$error":"#N/A"}},{"$f":"RTD(\"sysq.rtd\",\"\",\"!DTDH`LC.99-0119:2\")","v":{"$error":"#N/A"}},{"$f":"RTD(\"sysq.rtd\",\"\",\"!XTSH`LC.99-0119:2\")","v":{"$error":"#N/A"}},{"$f":"RTD(\"sysq.rtd\",\"\",\"!XTDH`LC.99-0119:2\")","v":{"$error":"#N/A"}},{"$f":"RTD(\"sysq.rtd\",\"\",\"!DTAI`LC.99-0119:2\")","v":{"$error":"#N/A"}},{"$f":"RTD(\"sysq.rtd\",\"\",\"WTX&`004.10-0119:2\")","v":{"$error":"#N/A"}},{"$error":"#N/A"}]
["0120",{"$f":"RTD(\"sysq.rtd\",\"\",\"!DTSH`LC.99-0120:2\")","v":{"$error":"#N/A"}},{"$f":"RTD(\"sysq.rtd\",\"\",\"!DTDH`LC.99-0120:2\")","v":{"$error":"#N/A"}},{"$f":"RTD(\"sysq.rtd\",\"\",\"!XTSH`LC.99-0120:2\")","v":{"$error":"#N/A"}},{"$f":"RTD(\"sysq.rtd\",\"\",\"!XTDH`LC.99-0120:2\")","v":{"$error":"#N/A"}},{"$f":"RTD(\"sysq.rtd\",\"\",\"!DTAI`LC.99-0120:2\")","v":{"$error":"#N/A"}},{"$f":"RTD(\"sysq.rtd\",\"\",\"WTX&`004.10-0120:2\")","v":{"$error":"#N/A"}},{"$error":"#N/A"}]
["0121",{"$f":"RTD(\"sysq.rtd\",\"\",\"!DTSH`LC.99-0121:2\")","v":{"$error":"#N/A"}},{"$f":"RTD(\"sysq.rtd\",\"\",\"!DTDH`LC.99-0121:2\")","v":{"$error":"#N/A"}},{"$f":"RTD(\"sysq.rtd\",\"\",\"!XTSH`LC.99-0121:2\")","v":{"$error":"#N/A"}},{"$f":"RTD(\"sysq.rtd\",\"\",\"!XTDH`LC.99-0121:2\")","v":{"$error":"#N/A"}},{"$f":"RTD(\"sysq.rtd\",\"\",\"!DTAI`LC.99-0121:2\")","v":{"$error":"#N/A"}},{"$f":"RTD(\"sysq.rtd\",\"\",\"WTX&`004.10-0121:2\")","v":{"$error":"#N/A"}},{"$error":"#N/A"}]
["0122",{"$f":"RTD(\"sysq.rtd\",\"\",\"!DTSH`LC.99-0122:2\")","v":{"$error":"#N/A"}},{"$f":"RTD(\"sysq.rtd\",\"\",\"!DTDH`LC.99-0122:2\")","v":{"$error":"#N/A"}},{"$f":"RTD(\"sysq.rtd\",\"\",\"!XTSH`LC.99-0122:2\")","v":{"$error":"#N/A"}},{"$f":"RTD(\"sysq.rtd\",\"\",\"!XTDH`LC.99-0122:2\")","v":{"$error":"#N/A"}},{"$f":"RTD(\"sysq.rtd\",\"\",\"!DTAI`LC.99-0122:2\")","v":{"$error":"#N/A"}},{"$f":"RTD(\"sysq.rtd\",\"\",\"WTX&`004.10-0122:2\")","v":{"$error":"#N/A"}},{"$error":"#N/A"}]
["0123",{"$f":"RTD(\"sysq.rtd\",\"\",\"!DTSH`LC.99-0123:2\")","v":{"$error":"#N/A"}},{"$f":"RTD(\"sysq.rtd\",\"\",\"!DTDH`LC.99-0123:2\")","v":{"$error":"#N/A"}},{"$f":"RTD(\"sysq.rtd\",\"\",\"!XTSH`LC.99-0123:2\")","v":{"$error":"#N/A"}},{"$f":"RTD(\"sysq.rtd\",\"\",\"!XTDH`LC.99-0123:2\")","v":{"$error":"#N/A"}},{"$f":"RTD(\"sysq.rtd\",\"\",\"!DTAI`LC.99-0123:2\")","v":{"$error":"#N/A"}},{"$f":"RTD(\"sysq.rtd\",\"\",\"WTX&`004.10-0123:2\")","v":{"$error":"#N/A"}},{"$error":"#N/A"}]
["0124",{"$f":"RTD(\"sysq.rtd\",\"\",\"!DTSH`LC.99-0124:2\")","v":{"$error":"#N/A"}},{"$f":"RTD(\"sysq.rtd\",\"\",\"!DTDH`LC.99-0124:2\")","v":{"$error":"#N/A"}},{"$f":"RTD(\"sysq.rtd\",\"\",\"!XTSH`LC.99-0124:2\")","v":{"$error":"#N/A"}},{"$f":"RTD(\"sysq.rtd\",\"\",\"!XTDH`LC.99-0124:2\")","v":{"$error":"#N/A"}},{"$f":"RTD(\"sysq.rtd\",\"\",\"!DTAI`LC.99-0124:2\")","v":{"$error":"#N/A"}},{"$f":"RTD(\"sysq.rtd\",\"\",\"WTX&`004.10-0124:2\")","v":{"$error":"#N/A"}},{"$error":"#N/A"}]
["0125",{"$f":"RTD(\"sysq.rtd\",\"\",\"!DTSH`LC.99-0125:2\")","v":{"$error":"#N/A"}},{"$f":"RTD(\"sysq.rtd\",\"\",\"!DTDH`LC.99-0125:2\")","v":{"$error":"#N/A"}},{"$f":"RTD(\"sysq.rtd\",\"\",\"!XTSH`LC.99-0125:2\")","v":{"$error":"#N/A"}},{"$f":"RTD(\"sysq.rtd\",\"\",\"!XTDH`LC.99-0125:2\")","v":{"$error":"#N/A"}},{"$f":"RTD(\"sysq.rtd\",\"\",\"!DTAI`LC.99-0125:2\")","v":{"$error":"#N/A"}},{"$f":"RTD(\"sysq.rtd\",\"\",\"WTX&`004.10-0125:2\")","v":{"$error":"#N/A"}},{"$error":"#N/A"}]
["0126",{"$f":"RTD(\"sysq.rtd\",\"\",\"!DTSH`LC.99-0126:2\")","v":{"$error":"#N/A"}},{"$f":"RTD(\"sysq.rtd\",\"\",\"!DTDH`LC.99-0126:2\")","v":{"$error":"#N/A"}},{"$f":"RTD(\"sysq.rtd\",\"\",\"!XTSH`LC.99-0126:2\")","v":{"$error":"#N/A"}},{"$f":"RTD(\"sysq.rtd\",\"\",\"!XTDH`LC.99-0126:2\")","v":{"$error":"#N/A"}},{"$f":"RTD(\"sysq.rtd\",\"\",\"!DTAI`LC.99-0126:2\")","v":{"$error":"#N/A"}},{"$f":"RTD(\"sysq.rtd\",\"\",\"WTX&`004.10-0126:2\")","v":{"$error":"#N/A"}},{"$error":"#N/A"}]
["0127",{"$f":"RTD(\"sysq.rtd\",\"\",\"!DTSH`LC.99-0127:2\")","v":{"$error":"#N/A"}},{"$f":"RTD(\"sysq.rtd\",\"\",\"!DTDH`LC.99-0127:2\")","v":{"$error":"#N/A"}},{"$f":"RTD(\"sysq.rtd\",\"\",\"!XTSH`LC.99-0127:2\")","v":{"$error":"#N/A"}},{"$f":"RTD(\"sysq.rtd\",\"\",\"!XTDH`LC.99-0127:2\")","v":{"$error":"#N/A"}},{"$f":"RTD(\"sysq.rtd\",\"\",\"!DTAI`LC.99-0127:2\")","v":{"$error":"#N/A"}},{"$f":"RTD(\"sysq.rtd\",\"\",\"WTX&`004.10-0127:2\")","v":{"$error":"#N/A"}},{"$error":"#N/A"}]
["0128",{"$f":"RTD(\"sysq.rtd\",\"\",\"!DTSH`LC.99-0128:2\")","v":{"$error":"#N/A"}},{"$f":"RTD(\"sysq.rtd\",\"\",\"!DTDH`LC.99-0128:2\")","v":{"$error":"#N/A"}},{"$f":"RTD(\"sysq.rtd\",\"\",\"!XTSH`LC.99-0128:2\")","v":{"$error":"#N/A"}},{"$f":"RTD(\"sysq.rtd\",\"\",\"!XTDH`LC.99-0128:2\")","v":{"$error":"#N/A"}},{"$f":"RTD(\"sysq.rtd\",\"\",\"!DTAI`LC.99-0128:2\")","v":{"$error":"#N/A"}},{"$f":"RTD(\"sysq.rtd\",\"\",\"WTX&`004.10-0128:2\")","v":{"$error":"#N/A"}},{"$error":"#N/A"}]
["0129",{"$f":"RTD(\"sysq.rtd\",\"\",\"!DTSH`LC.99-0129:2\")","v":{"$error":"#N/A"}},{"$f":"RTD(\"sysq.rtd\",\"\",\"!DTDH`LC.99-0129:2\")","v":{"$error":"#N/A"}},{"$f":"RTD(\"sysq.rtd\",\"\",\"!XTSH`LC.99-0129:2\")","v":{"$error":"#N/A"}},{"$f":"RTD(\"sysq.rtd\",\"\",\"!XTDH`LC.99-0129:2\")","v":{"$error":"#N/A"}},{"$f":"RTD(\"sysq.rtd\",\"\",\"!DTAI`LC.99-0129:2\")","v":{"$error":"#N/A"}},{"$f":"RTD(\"sysq.rtd\",\"\",\"WTX&`004.10-0129:2\")","v":{"$error":"#N/A"}},{"$error":"#N/A"}]
["0130",{"$f":"RTD(\"sysq.rtd\",\"\",\"!DTSH`LC.99-0130:2\")","v":{"$error":"#N/A"}},{"$f":"RTD(\"sysq.rtd\",\"\",\"!DTDH`LC.99-0130:2\")","v":{"$error":"#N/A"}},{"$f":"RTD(\"sysq.rtd\",\"\",\"!XTSH`LC.99-0130:2\")","v":{"$error":"#N/A"}},{"$f":"RTD(\"sysq.rtd\",\"\",\"!XTDH`LC.99-0130:2\")","v":{"$error":"#N/A"}},{"$f":"RTD(\"sysq.rtd\",\"\",\"!DTAI`LC.99-0130:2\")","v":{"$error":"#N/A"}},{"$f":"RTD(\"sysq.rtd\",\"\",\"WTX&`004.10-0130:2\")","v":{"$error":"#N/A"}},{"$error":"#N/A"}]
["0131",{"$f":"RTD(\"sysq.rtd\",\"\",\"!DTSH`LC.99-0131:2\")","v":{"$error":"#N/A"}},{"$f":"RTD(\"sysq.rtd\",\"\",\"!DTDH`LC.99-0131:2\")","v":{"$error":"#N/A"}},{"$f":"RTD(\"sysq.rtd\",\"\",\"!XTSH`LC.99-0131:2\")","v":{"$error":"#N/A"}},{"$f":"RTD(\"sysq.rtd\",\"\",\"!XTDH`LC.99-0131:2\")","v":{"$error":"#N/A"}},{"$f":"RTD(\"sysq.rtd\",\"\",\"!DTAI`LC.99-0131:2\")","v":{"$error":"#N/A"}},{"$f":"RTD(\"sysq.rtd\",\"\",\"WTX&`004.10-0131:2\")","v":{"$error":"#N/A"}},{"$error":"#N/A"}]
["0132",{"$f":"RTD(\"sysq.rtd\",\"\",\"!DTSH`LC.99-0132:2\")","v":{"$error":"#N/A"}},{"$f":"RTD(\"sysq.rtd\",\"\",\"!DTDH`LC.99-0132:2\")","v":{"$error":"#N/A"}},{"$f":"RTD(\"sysq.rtd\",\"\",\"!XTSH`LC.99-0132:2\")","v":{"$error":"#N/A"}},{"$f":"RTD(\"sysq.rtd\",\"\",\"!XTDH`LC.99-0132:2\")","v":{"$error":"#N/A"}},{"$f":"RTD(\"sysq.rtd\",\"\",\"!DTAI`LC.99-0132:2\")","v":{"$error":"#N/A"}},{"$f":"RTD(\"sysq.rtd\",\"\",\"WTX&`004.10-0132:2\")","v":{"$error":"#N/A"}},{"$error":"#N/A"}]
["0133",{"$f":"RTD(\"sysq.rtd\",\"\",\"!DTSH`LC.99-0133:2\")","v":{"$error":"#N/A"}},{"$f":"RTD(\"sysq.rtd\",\"\",\"!DTDH`LC.99-0133:2\")","v":{"$error":"#N/A"}},{"$f":"RTD(\"sysq.rtd\",\"\",\"!XTSH`LC.99-0133:2\")","v":{"$error":"#N/A"}},{"$f":"RTD(\"sysq.rtd\",\"\",\"!XTDH`LC.99-0133:2\")","v":{"$error":"#N/A"}},{"$f":"RTD(\"sysq.rtd\",\"\",\"!DTAI`LC.99-0133:2\")","v":{"$error":"#N/A"}},{"$f":"RTD(\"sysq.rtd\",\"\",\"WTX&`004.10-0133:2\")","v":{"$error":"#N/A"}},{"$error":"#N/A"}]
["0134",{"$f":"RTD(\"sysq.rtd\",\"\",\"!DTSH`LC.99-0134:2\")","v":{"$error":"#N/A"}},{"$f":"RTD(\"sysq.rtd\",\"\",\"!DTDH`LC.99-0134:2\")","v":{"$error":"#N/A"}},{"$f":"RTD(\"sysq.rtd\",\"\",\"!XTSH`LC.99-0134:2\")","v":{"$error":"#N/A"}},{"$f":"RTD(\"sysq.rtd\",\"\",\"!XTDH`LC.99-0134:2\")","v":{"$error":"#N/A"}},{"$f":"RTD(\"sysq.rtd\",\"\",\"!DTAI`LC.99-0134:2\")","v":{"$error":"#N/A"}},{"$f":"RTD(\"sysq.rtd\",\"\",\"WTX&`004.10-0134:2\")","v":{"$error":"#N/A"}},{"$error":"#N/A"}]
["0135",{"$f":"RTD(\"sysq.rtd\",\"\",\"!DTSH`LC.99-0135:2\")","v":{"$error":"#N/A"}},{"$f":"RTD(\"sysq.rtd\",\"\",\"!DTDH`LC.99-0135:2\")","v":{"$error":"#N/A"}},{"$f":"RTD(\"sysq.rtd\",\"\",\"!XTSH`LC.99-0135:2\")","v":{"$error":"#N/A"}},{"$f":"RTD(\"sysq.rtd\",\"\",\"!XTDH`LC.99-0135:2\")","v":{"$error":"#N/A"}},{"$f":"RTD(\"sysq.rtd\",\"\",\"!DTAI`LC.99-0135:2\")","v":{"$error":"#N/A"}},{"$f":"RTD(\"sysq.rtd\",\"\",\"WTX&`004.10-0135:2\")","v":{"$error":"#N/A"}},{"$error":"#N/A"}]
["0136",{"$f":"RTD(\"sysq.rtd\",\"\",\"!DTSH`LC.99-0136:2\")","v":{"$error":"#N/A"}},{"$f":"RTD(\"sysq.rtd\",\"\",\"!DTDH`LC.99-0136:2\")","v":{"$error":"#N/A"}},{"$f":"RTD(\"sysq.rtd\",\"\",\"!XTSH`LC.99-0136:2\")","v":{"$error":"#N/A"}},{"$f":"RTD(\"sysq.rtd\",\"\",\"!XTDH`LC.99-0136:2\")","v":{"$error":"#N/A"}},{"$f":"RTD(\"sysq.rtd\",\"\",\"!DTAI`LC.99-0136:2\")","v":{"$error":"#N/A"}},{"$f":"RTD(\"sysq.rtd\",\"\",\"WTX&`004.10-0136:2\")","v":{"$error":"#N/A"}},{"$error":"#N/A"}]
["0137",{"$f":"RTD(\"sysq.rtd\",\"\",\"!DTSH`LC.99-0137:2\")","v":{"$error":"#N/A"}},{"$f":"RTD(\"sysq.rtd\",\"\",\"!DTDH`LC.99-0137:2\")","v":{"$error":"#N/A"}},{"$f":"RTD(\"sysq.rtd\",\"\",\"!XTSH`LC.99-0137:2\")","v":{"$error":"#N/A"}},{"$f":"RTD(\"sysq.rtd\",\"\",\"!XTDH`LC.99-0137:2\")","v":{"$error":"#N/A"}},{"$f":"RTD(\"sysq.rtd\",\"\",\"!DTAI`LC.99-0137:2\")","v":{"$error":"#N/A"}},{"$f":"RTD(\"sysq.rtd\",\"\",\"WTX&`004.10-0137:2\")","v":{"$error":"#N/A"}},{"$error":"#N/A"}]
["0138",{"$f":"RTD(\"sysq.rtd\",\"\",\"!DTSH`LC.99-0138:2\")","v":{"$error":"#N/A"}},{"$f":"RTD(\"sysq.rtd\",\"\",\"!DTDH`LC.99-0138:2\")","v":{"$error":"#N/A"}},{"$f":"RTD(\"sysq.rtd\",\"\",\"!XTSH`LC.99-0138:2\")","v":{"$error":"#N/A"}},{"$f":"RTD(\"sysq.rtd\",\"\",\"!XTDH`LC.99-0138:2\")","v":{"$error":"#N/A"}},{"$f":"RTD(\"sysq.rtd\",\"\",\"!DTAI`LC.99-0138:2\")","v":{"$error":"#N/A"}},{"$f":"RTD(\"sysq.rtd\",\"\",\"WTX&`004.10-0138:2\")","v":{"$error":"#N/A"}},{"$error":"#N/A"}]
["0139",{"$f":"RTD(\"sysq.rtd\",\"\",\"!DTSH`LC.99-0139:2\")","v":{"$error":"#N/A"}},{"$f":"RTD(\"sysq.rtd\",\"\",\"!DTDH`LC.99-0139:2\")","v":{"$error":"#N/A"}},{"$f":"RTD(\"sysq.rtd\",\"\",\"!XTSH`LC.99-0139:2\")","v":{"$error":"#N/A"}},{"$f":"RTD(\"sysq.rtd\",\"\",\"!XTDH`LC.99-0139:2\")","v":{"$error":"#N/A"}},{"$f":"RTD(\"sysq.rtd\",\"\",\"!DTAI`LC.99-0139:2\")","v":{"$error":"#N/A"}},{"$f":"RTD(\"sysq.rtd\",\"\",\"WTX&`004.10-0139:2\")","v":{"$error":"#N/A"}},{"$error":"#N/A"}]
["0140",{"$f":"RTD(\"sysq.rtd\",\"\",\"!DTSH`LC.99-0140:2\")","v":{"$error":"#N/A"}},{"$f":"RTD(\"sysq.rtd\",\"\",\"!DTDH`LC.99-0140:2\")","v":{"$error":"#N/A"}},{"$f":"RTD(\"sysq.rtd\",\"\",\"!XTSH`LC.99-0140:2\")","v":{"$error":"#N/A"}},{"$f":"RTD(\"sysq.rtd\",\"\",\"!XTDH`LC.99-0140:2\")","v":{"$error":"#N/A"}},{"$f":"RTD(\"sysq.rtd\",\"\",\"!DTAI`LC.99-0140:2\")","v":{"$error":"#N/A"}},{"$f":"RTD(\"sysq.rtd\",\"\",\"WTX&`004.10-0140:2\")","v":{"$error":"#N/A"}},{"$error":"#N/A"}]
["0141",{"$f":"RTD(\"sysq.rtd\",\"\",\"!DTSH`LC.99-0141:2\")","v":{"$error":"#N/A"}},{"$f":"RTD(\"sysq.rtd\",\"\",\"!DTDH`LC.99-0141:2\")","v":{"$error":"#N/A"}},{"$f":"RTD(\"sysq.rtd\",\"\",\"!XTSH`LC.99-0141:2\")","v":{"$error":"#N/A"}},{"$f":"RTD(\"sysq.rtd\",\"\",\"!XTDH`LC.99-0141:2\")","v":{"$error":"#N/A"}},{"$f":"RTD(\"sysq.rtd\",\"\",\"!DTAI`LC.99-0141:2\")","v":{"$error":"#N/A"}},{"$f":"RTD(\"sysq.rtd\",\"\",\"WTX&`004.10-0141:2\")","v":{"$error":"#N/A"}},{"$error":"#N/A"}]
["0142",{"$f":"RTD(\"sysq.rtd\",\"\",\"!DTSH`LC.99-0142:2\")","v":{"$error":"#N/A"}},{"$f":"RTD(\"sysq.rtd\",\"\",\"!DTDH`LC.99-0142:2\")","v":{"$error":"#N/A"}},{"$f":"RTD(\"sysq.rtd\",\"\",\"!XTSH`LC.99-0142:2\")","v":{"$error":"#N/A"}},{"$f":"RTD(\"sysq.rtd\",\"\",\"!XTDH`LC.99-0142:2\")","v":{"$error":"#N/A"}},{"$f":"RTD(\"sysq.rtd\",\"\",\"!DTAI`LC.99-0142:2\")","v":{"$error":"#N/A"}},{"$f":"RTD(\"sysq.rtd\",\"\",\"WTX&`004.10-0142:2\")","v":{"$error":"#N/A"}},{"$error":"#N/A"}]
["0143",{"$f":"RTD(\"sysq.rtd\",\"\",\"!DTSH`LC.99-0143:2\")","v":{"$error":"#N/A"}},{"$f":"RTD(\"sysq.rtd\",\"\",\"!DTDH`LC.99-0143:2\")","v":{"$error":"#N/A"}},{"$f":"RTD(\"sysq.rtd\",\"\",\"!XTSH`LC.99-0143:2\")","v":{"$error":"#N/A"}},{"$f":"RTD(\"sysq.rtd\",\"\",\"!XTDH`LC.99-0143:2\")","v":{"$error":"#N/A"}},{"$f":"RTD(\"sysq.rtd\",\"\",\"!DTAI`LC.99-0143:2\")","v":{"$error":"#N/A"}},{"$f":"RTD(\"sysq.rtd\",\"\",\"WTX&`004.10-0143:2\")","v":{"$error":"#N/A"}},{"$error":"#N/A"}]
["0144",{"$f":"RTD(\"sysq.rtd\",\"\",\"!DTSH`LC.99-0144:2\")","v":{"$error":"#N/A"}},{"$f":"RTD(\"sysq.rtd\",\"\",\"!DTDH`LC.99-0144:2\")","v":{"$error":"#N/A"}},{"$f":"RTD(\"sysq.rtd\",\"\",\"!XTSH`LC.99-0144:2\")","v":{"$error":"#N/A"}},{"$f":"RTD(\"sysq.rtd\",\"\",\"!XTDH`LC.99-0144:2\")","v":{"$error":"#N/A"}},{"$f":"RTD(\"sysq.rtd\",\"\",\"!DTAI`LC.99-0144:2\")","v":{"$error":"#N/A"}},{"$f":"RTD(\"sysq.rtd\",\"\",\"WTX&`004.10-0144:2\")","v":{"$error":"#N/A"}},{"$error":"#N/A"}]
["0145",{"$f":"RTD(\"sysq.rtd\",\"\",\"!DTSH`LC.99-0145:2\")","v":{"$error":"#N/A"}},{"$f":"RTD(\"sysq.rtd\",\"\",\"!DTDH`LC.99-0145:2\")","v":{"$error":"#N/A"}},{"$f":"RTD(\"sysq.rtd\",\"\",\"!XTSH`LC.99-0145:2\")","v":{"$error":"#N/A"}},{"$f":"RTD(\"sysq.rtd\",\"\",\"!XTDH`LC.99-0145:2\")","v":{"$error":"#N/A"}},{"$f":"RTD(\"sysq.rtd\",\"\",\"!DTAI`LC.99-0145:2\")","v":{"$error":"#N/A"}},{"$f":"RTD(\"sysq.rtd\",\"\",\"WTX&`004.10-0145:2\")","v":{"$error":"#N/A"}},{"$error":"#N/A"}]
["0146",{"$f":"RTD(\"sysq.rtd\",\"\",\"!DTSH`LC.99-0146:2\")","v":{"$error":"#N/A"}},{"$f":"RTD(\"sysq.rtd\",\"\",\"!DTDH`LC.99-0146:2\")","v":{"$error":"#N/A"}},{"$f":"RTD(\"sysq.rtd\",\"\",\"!XTSH`LC.99-0146:2\")","v":{"$error":"#N/A"}},{"$f":"RTD(\"sysq.rtd\",\"\",\"!XTDH`LC.99-0146:2\")","v":{"$error":"#N/A"}},{"$f":"RTD(\"sysq.rtd\",\"\",\"!DTAI`LC.99-0146:2\")","v":{"$error":"#N/A"}},{"$f":"RTD(\"sysq.rtd\",\"\",\"WTX&`004.10-0146:2\")","v":{"$error":"#N/A"}},{"$error":"#N/A"}]
["0147",{"$f":"RTD(\"sysq.rtd\",\"\",\"!DTSH`LC.99-0147:2\")","v":{"$error":"#N/A"}},{"$f":"RTD(\"sysq.rtd\",\"\",\"!DTDH`LC.99-0147:2\")","v":{"$error":"#N/A"}},{"$f":"RTD(\"sysq.rtd\",\"\",\"!XTSH`LC.99-0147:2\")","v":{"$error":"#N/A"}},{"$f":"RTD(\"sysq.rtd\",\"\",\"!XTDH`LC.99-0147:2\")","v":{"$error":"#N/A"}},{"$f":"RTD(\"sysq.rtd\",\"\",\"!DTAI`LC.99-0147:2\")","v":{"$error":"#N/A"}},{"$f":"RTD(\"sysq.rtd\",\"\",\"WTX&`004.10-0147:2\")","v":{"$error":"#N/A"}},{"$error":"#N/A"}]
["0148",{"$f":"RTD(\"sysq.rtd\",\"\",\"!DTSH`LC.99-0148:2\")","v":{"$error":"#N/A"}},{"$f":"RTD(\"sysq.rtd\",\"\",\"!DTDH`LC.99-0148:2\")","v":{"$error":"#N/A"}},{"$f":"RTD(\"sysq.rtd\",\"\",\"!XTSH`LC.99-0148:2\")","v":{"$error":"#N/A"}},{"$f":"RTD(\"sysq.rtd\",\"\",\"!XTDH`LC.99-0148:2\")","v":{"$error":"#N/A"}},{"$f":"RTD(\"sysq.rtd\",\"\",\"!DTAI`LC.99-0148:2\")","v":{"$error":"#N/A"}},{"$f":"RTD(\"sysq.rtd\",\"\",\"WTX&`004.10-0148:2\")","v":{"$error":"#N/A"}},{"$error":"#N/A"}]
["0149",{"$f":"RTD(\"sysq.rtd\",\"\",\"!DTSH`LC.99-0149:2\")","v":{"$error":"#N/A"}},{"$f":"RTD(\"sysq.rtd\",\"\",\"!DTDH`LC.99-0149:2\")","v":{"$error":"#N/A"}},{"$f":"RTD(\"sysq.rtd\",\"\",\"!XTSH`LC.99-0149:2\")","v":{"$error":"#N/A"}},{"$f":"RTD(\"sysq.rtd\",\"\",\"!XTDH`LC.99-0149:2\")","v":{"$error":"#N/A"}},{"$f":"RTD(\"sysq.rtd\",\"\",\"!DTAI`LC.99-0149:2\")","v":{"$error":"#N/A"}},{"$f":"RTD(\"sysq.rtd\",\"\",\"WTX&`004.10-0149:2\")","v":{"$error":"#N/A"}},{"$error":"#N/A"}]
["0150",{"$f":"RTD(\"sysq.rtd\",\"\",\"!DTSH`LC.99-0150:2\")","v":{"$error":"#N/A"}},{"$f":"RTD(\"sysq.rtd\",\"\",\"!DTDH`LC.99-0150:2\")","v":{"$error":"#N/A"}},{"$f":"RTD(\"sysq.rtd\",\"\",\"!XTSH`LC.99-0150:2\")","v":{"$error":"#N/A"}},{"$f":"RTD(\"sysq.rtd\",\"\",\"!XTDH`LC.99-0150:2\")","v":{"$error":"#N/A"}},{"$f":"RTD(\"sysq.rtd\",\"\",\"!DTAI`LC.99-0150:2\")","v":{"$error":"#N/A"}},{"$f":"RTD(\"sysq.rtd\",\"\",\"WTX&`004.10-0150:2\")","v":{"$error":"#N/A"}},{"$error":"#N/A"}]
["0151",{"$f":"RTD(\"sysq.rtd\",\"\",\"!DTSH`LC.99-0151:2\")","v":{"$error":"#N/A"}},{"$f":"RTD(\"sysq.rtd\",\"\",\"!DTDH`LC.99-0151:2\")","v":{"$error":"#N/A"}},{"$f":"RTD(\"sysq.rtd\",\"\",\"!XTSH`LC.99-0151:2\")","v":{"$error":"#N/A"}},{"$f":"RTD(\"sysq.rtd\",\"\",\"!XTDH`LC.99-0151:2\")","v":{"$error":"#N/A"}},{"$f":"RTD(\"sysq.rtd\",\"\",\"!DTAI`LC.99-0151:2\")","v":{"$error":"#N/A"}},{"$f":"RTD(\"sysq.rtd\",\"\",\"WTX&`004.10-0151:2\")","v":{"$error":"#N/A"}},{"$error":"#N/A"}]
["0152",{"$f":"RTD(\"sysq.rtd\",\"\",\"!DTSH`LC.99-0152:2\")","v":{"$error":"#N/A"}},{"$f":"RTD(\"sysq.rtd\",\"\",\"!DTDH`LC.99-0152:2\")","v":{"$error":"#N/A"}},{"$f":"RTD(\"sysq.rtd\",\"\",\"!XTSH`LC.99-0152:2\")","v":{"$error":"#N/A"}},{"$f":"RTD(\"sysq.rtd\",\"\",\"!XTDH`LC.99-0152:2\")","v":{"$error":"#N/A"}},{"$f":"RTD(\"sysq.rtd\",\"\",\"!DTAI`LC.99-0152:2\")","v":{"$error":"#N/A"}},{"$f":"RTD(\"sysq.rtd\",\"\",\"WTX&`004.10-0152:2\")","v":{"$error":"#N/A"}},{"$error":"#N/A"}]
["0153",{"$f":"RTD(\"sysq.rtd\",\"\",\"!DTSH`LC.99-0153:2\")","v":{"$error":"#N/A"}},{"$f":"RTD(\"sysq.rtd\",\"\",\"!DTDH`LC.99-0153:2\")","v":{"$error":"#N/A"}},{"$f":"RTD(\"sysq.rtd\",\"\",\"!XTSH`LC.99-0153:2\")","v":{"$error":"#N/A"}},{"$f":"RTD(\"sysq.rtd\",\"\",\"!XTDH`LC.99-0153:2\")","v":{"$error":"#N/A"}},{"$f":"RTD(\"sysq.rtd\",\"\",\"!DTAI`LC.99-0153:2\")","v":{"$error":"#N/A"}},{"$f":"RTD(\"sysq.rtd\",\"\",\"WTX&`004.10-0153:2\")","v":{"$error":"#N/A"}},{"$error":"#N/A"}]
["0154",{"$f":"RTD(\"sysq.rtd\",\"\",\"!DTSH`LC.99-0154:2\")","v":{"$error":"#N/A"}},{"$f":"RTD(\"sysq.rtd\",\"\",\"!DTDH`LC.99-0154:2\")","v":{"$error":"#N/A"}},{"$f":"RTD(\"sysq.rtd\",\"\",\"!XTSH`LC.99-0154:2\")","v":{"$error":"#N/A"}},{"$f":"RTD(\"sysq.rtd\",\"\",\"!XTDH`LC.99-0154:2\")","v":{"$error":"#N/A"}},{"$f":"RTD(\"sysq.rtd\",\"\",\"!DTAI`LC.99-0154:2\")","v":{"$error":"#N/A"}},{"$f":"RTD(\"sysq.rtd\",\"\",\"WTX&`004.10-0154:2\")","v":{"$error":"#N/A"}},{"$error":"#N/A"}]
["0155",{"$f":"RTD(\"sysq.rtd\",\"\",\"!DTSH`LC.99-0155:2\")","v":{"$error":"#N/A"}},{"$f":"RTD(\"sysq.rtd\",\"\",\"!DTDH`LC.99-0155:2\")","v":{"$error":"#N/A"}},{"$f":"RTD(\"sysq.rtd\",\"\",\"!XTSH`LC.99-0155:2\")","v":{"$error":"#N/A"}},{"$f":"RTD(\"sysq.rtd\",\"\",\"!XTDH`LC.99-0155:2\")","v":{"$error":"#N/A"}},{"$f":"RTD(\"sysq.rtd\",\"\",\"!DTAI`LC.99-0155:2\")","v":{"$error":"#N/A"}},{"$f":"RTD(\"sysq.rtd\",\"\",\"WTX&`004.10-0155:2\")","v":{"$error":"#N/A"}},{"$error":"#N/A"}]
["0156",{"$f":"RTD(\"sysq.rtd\",\"\",\"!DTSH`LC.99-0156:2\")","v":{"$error":"#N/A"}},{"$f":"RTD(\"sysq.rtd\",\"\",\"!DTDH`LC.99-0156:2\")","v":{"$error":"#N/A"}},{"$f":"RTD(\"sysq.rtd\",\"\",\"!XTSH`LC.99-0156:2\")","v":{"$error":"#N/A"}},{"$f":"RTD(\"sysq.rtd\",\"\",\"!XTDH`LC.99-0156:2\")","v":{"$error":"#N/A"}},{"$f":"RTD(\"sysq.rtd\",\"\",\"!DTAI`LC.99-0156:2\")","v":{"$error":"#N/A"}},{"$f":"RTD(\"sysq.rtd\",\"\",\"WTX&`004.10-0156:2\")","v":{"$error":"#N/A"}},{"$error":"#N/A"}]
["0157",{"$f":"RTD(\"sysq.rtd\",\"\",\"!DTSH`LC.99-0157:2\")","v":{"$error":"#N/A"}},{"$f":"RTD(\"sysq.rtd\",\"\",\"!DTDH`LC.99-0157:2\")","v":{"$error":"#N/A"}},{"$f":"RTD(\"sysq.rtd\",\"\",\"!XTSH`LC.99-0157:2\")","v":{"$error":"#N/A"}},{"$f":"RTD(\"sysq.rtd\",\"\",\"!XTDH`LC.99-0157:2\")","v":{"$error":"#N/A"}},{"$f":"RTD(\"sysq.rtd\",\"\",\"!DTAI`LC.99-0157:2\")","v":{"$error":"#N/A"}},{"$f":"RTD(\"sysq.rtd\",\"\",\"WTX&`004.10-0157:2\")","v":{"$error":"#N/A"}},{"$error":"#N/A"}]
["0158",{"$f":"RTD(\"sysq.rtd\",\"\",\"!DTSH`LC.99-0158:2\")","v":{"$error":"#N/A"}},{"$f":"RTD(\"sysq.rtd\",\"\",\"!DTDH`LC.99-0158:2\")","v":{"$error":"#N/A"}},{"$f":"RTD(\"sysq.rtd\",\"\",\"!XTSH`LC.99-0158:2\")","v":{"$error":"#N/A"}},{"$f":"RTD(\"sysq.rtd\",\"\",\"!XTDH`LC.99-0158:2\")","v":{"$error":"#N/A"}},{"$f":"RTD(\"sysq.rtd\",\"\",\"!DTAI`LC.99-0158:2\")","v":{"$error":"#N/A"}},{"$f":"RTD(\"sysq.rtd\",\"\",\"WTX&`004.10-0158:2\")","v":{"$error":"#N/A"}},{"$error":"#N/A"}]
["0159",{"$f":"RTD(\"sysq.rtd\",\"\",\"!DTSH`LC.99-0159:2\")","v":{"$error":"#N/A"}},{"$f":"RTD(\"sysq.rtd\",\"\",\"!DTDH`LC.99-0159:2\")","v":{"$error":"#N/A"}},{"$f":"RTD(\"sysq.rtd\",\"\",\"!XTSH`LC.99-0159:2\")","v":{"$error":"#N/A"}},{"$f":"RTD(\"sysq.rtd\",\"\",\"!XTDH`LC.99-0159:2\")","v":{"$error":"#N/A"}},{"$f":"RTD(\"sysq.rtd\",\"\",\"!DTAI`LC.99-0159:2\")","v":{"$error":"#N/A"}},{"$f":"RTD(\"sysq.rtd\",\"\",\"WTX&`004.10-0159:2\")","v":{"$error":"#N/A"}},{"$error":"#N/A"}]
["0200",{"$f":"RTD(\"sysq.rtd\",\"\",\"!DTSH`LC.99-0200:2\")","v":{"$error":"#N/A"}},{"$f":"RTD(\"sysq.rtd\",\"\",\"!DTDH`LC.99-0200:2\")","v":{"$error":"#N/A"}},{"$f":"RTD(\"sysq.rtd\",\"\",\"!XTSH`LC.99-0200:2\")","v":{"$error":"#N/A"}},{"$f":"RTD(\"sysq.rtd\",\"\",\"!XTDH`LC.99-0200:2\")","v":{"$error":"#N/A"}},{"$f":"RTD(\"sysq.rtd\",\"\",\"!DTAI`LC.99-0200:2\")","v":{"$error":"#N/A"}},{"$f":"RTD(\"sysq.rtd\",\"\",\"WTX&`004.10-0200:2\")","v":{"$error":"#N/A"}},{"$f":"SQRT(ABS(F966))*(ABS(F966)/F966)","v":{"$error":"#N/A"}}]
["0201",{"$f":"RTD(\"sysq.rtd\",\"\",\"!DTSH`LC.99-0201:2\")","v":{"$error":"#N/A"}},{"$f":"RTD(\"sysq.rtd\",\"\",\"!DTDH`LC.99-0201:2\")","v":{"$error":"#N/A"}},{"$f":"RTD(\"sysq.rtd\",\"\",\"!XTSH`LC.99-0201:2\")","v":{"$error":"#N/A"}},{"$f":"RTD(\"sysq.rtd\",\"\",\"!XTDH`LC.99-0201:2\")","v":{"$error":"#N/A"}},{"$f":"RTD(\"sysq.rtd\",\"\",\"!DTAI`LC.99-0201:2\")","v":{"$error":"#N/A"}},{"$f":"RTD(\"sysq.rtd\",\"\",\"WTX&`004.10-0201:2\")","v":{"$error":"#N/A"}},{"$error":"#N/A"}]
["0202",{"$f":"RTD(\"sysq.rtd\",\"\",\"!DTSH`LC.99-0202:2\")","v":{"$error":"#N/A"}},{"$f":"RTD(\"sysq.rtd\",\"\",\"!DTDH`LC.99-0202:2\")","v":{"$error":"#N/A"}},{"$f":"RTD(\"sysq.rtd\",\"\",\"!XTSH`LC.99-0202:2\")","v":{"$error":"#N/A"}},{"$f":"RTD(\"sysq.rtd\",\"\",\"!XTDH`LC.99-0202:2\")","v":{"$error":"#N/A"}},{"$f":"RTD(\"sysq.rtd\",\"\",\"!DTAI`LC.99-0202:2\")","v":{"$error":"#N/A"}},{"$f":"RTD(\"sysq.rtd\",\"\",\"WTX&`004.10-0202:2\")","v":{"$error":"#N/A"}},{"$error":"#N/A"}]
["0203",{"$f":"RTD(\"sysq.rtd\",\"\",\"!DTSH`LC.99-0203:2\")","v":{"$error":"#N/A"}},{"$f":"RTD(\"sysq.rtd\",\"\",\"!DTDH`LC.99-0203:2\")","v":{"$error":"#N/A"}},{"$f":"RTD(\"sysq.rtd\",\"\",\"!XTSH`LC.99-0203:2\")","v":{"$error":"#N/A"}},{"$f":"RTD(\"sysq.rtd\",\"\",\"!XTDH`LC.99-0203:2\")","v":{"$error":"#N/A"}},{"$f":"RTD(\"sysq.rtd\",\"\",\"!DTAI`LC.99-0203:2\")","v":{"$error":"#N/A"}},{"$f":"RTD(\"sysq.rtd\",\"\",\"WTX&`004.10-0203:2\")","v":{"$error":"#N/A"}},{"$error":"#N/A"}]
["0204",{"$f":"RTD(\"sysq.rtd\",\"\",\"!DTSH`LC.99-0204:2\")","v":{"$error":"#N/A"}},{"$f":"RTD(\"sysq.rtd\",\"\",\"!DTDH`LC.99-0204:2\")","v":{"$error":"#N/A"}},{"$f":"RTD(\"sysq.rtd\",\"\",\"!XTSH`LC.99-0204:2\")","v":{"$error":"#N/A"}},{"$f":"RTD(\"sysq.rtd\",\"\",\"!XTDH`LC.99-0204:2\")","v":{"$error":"#N/A"}},{"$f":"RTD(\"sysq.rtd\",\"\",\"!DTAI`LC.99-0204:2\")","v":{"$error":"#N/A"}},{"$f":"RTD(\"sysq.rtd\",\"\",\"WTX&`004.10-0204:2\")","v":{"$error":"#N/A"}},{"$error":"#N/A"}]
["0205",{"$f":"RTD(\"sysq.rtd\",\"\",\"!DTSH`LC.99-0205:2\")","v":{"$error":"#N/A"}},{"$f":"RTD(\"sysq.rtd\",\"\",\"!DTDH`LC.99-0205:2\")","v":{"$error":"#N/A"}},{"$f":"RTD(\"sysq.rtd\",\"\",\"!XTSH`LC.99-0205:2\")","v":{"$error":"#N/A"}},{"$f":"RTD(\"sysq.rtd\",\"\",\"!XTDH`LC.99-0205:2\")","v":{"$error":"#N/A"}},{"$f":"RTD(\"sysq.rtd\",\"\",\"!DTAI`LC.99-0205:2\")","v":{"$error":"#N/A"}},{"$f":"RTD(\"sysq.rtd\",\"\",\"WTX&`004.10-0205:2\")","v":{"$error":"#N/A"}},{"$error":"#N/A"}]
["0206",{"$f":"RTD(\"sysq.rtd\",\"\",\"!DTSH`LC.99-0206:2\")","v":{"$error":"#N/A"}},{"$f":"RTD(\"sysq.rtd\",\"\",\"!DTDH`LC.99-0206:2\")","v":{"$error":"#N/A"}},{"$f":"RTD(\"sysq.rtd\",\"\",\"!XTSH`LC.99-0206:2\")","v":{"$error":"#N/A"}},{"$f":"RTD(\"sysq.rtd\",\"\",\"!XTDH`LC.99-0206:2\")","v":{"$error":"#N/A"}},{"$f":"RTD(\"sysq.rtd\",\"\",\"!DTAI`LC.99-0206:2\")","v":{"$error":"#N/A"}},{"$f":"RTD(\"sysq.rtd\",\"\",\"WTX&`004.10-0206:2\")","v":{"$error":"#N/A"}},{"$error":"#N/A"}]
["0207",{"$f":"RTD(\"sysq.rtd\",\"\",\"!DTSH`LC.99-0207:2\")","v":{"$error":"#N/A"}},{"$f":"RTD(\"sysq.rtd\",\"\",\"!DTDH`LC.99-0207:2\")","v":{"$error":"#N/A"}},{"$f":"RTD(\"sysq.rtd\",\"\",\"!XTSH`LC.99-0207:2\")","v":{"$error":"#N/A"}},{"$f":"RTD(\"sysq.rtd\",\"\",\"!XTDH`LC.99-0207:2\")","v":{"$error":"#N/A"}},{"$f":"RTD(\"sysq.rtd\",\"\",\"!DTAI`LC.99-0207:2\")","v":{"$error":"#N/A"}},{"$f":"RTD(\"sysq.rtd\",\"\",\"WTX&`004.10-0207:2\")","v":{"$error":"#N/A"}},{"$error":"#N/A"}]
["0208",{"$f":"RTD(\"sysq.rtd\",\"\",\"!DTSH`LC.99-0208:2\")","v":{"$error":"#N/A"}},{"$f":"RTD(\"sysq.rtd\",\"\",\"!DTDH`LC.99-0208:2\")","v":{"$error":"#N/A"}},{"$f":"RTD(\"sysq.rtd\",\"\",\"!XTSH`LC.99-0208:2\")","v":{"$error":"#N/A"}},{"$f":"RTD(\"sysq.rtd\",\"\",\"!XTDH`LC.99-0208:2\")","v":{"$error":"#N/A"}},{"$f":"RTD(\"sysq.rtd\",\"\",\"!DTAI`LC.99-0208:2\")","v":{"$error":"#N/A"}},{"$f":"RTD(\"sysq.rtd\",\"\",\"WTX&`004.10-0208:2\")","v":{"$error":"#N/A"}},{"$error":"#N/A"}]
["0209",{"$f":"RTD(\"sysq.rtd\",\"\",\"!DTSH`LC.99-0209:2\")","v":{"$error":"#N/A"}},{"$f":"RTD(\"sysq.rtd\",\"\",\"!DTDH`LC.99-0209:2\")","v":{"$error":"#N/A"}},{"$f":"RTD(\"sysq.rtd\",\"\",\"!XTSH`LC.99-0209:2\")","v":{"$error":"#N/A"}},{"$f":"RTD(\"sysq.rtd\",\"\",\"!XTDH`LC.99-0209:2\")","v":{"$error":"#N/A"}},{"$f":"RTD(\"sysq.rtd\",\"\",\"!DTAI`LC.99-0209:2\")","v":{"$error":"#N/A"}},{"$f":"RTD(\"sysq.rtd\",\"\",\"WTX&`004.10-0209:2\")","v":{"$error":"#N/A"}},{"$error":"#N/A"}]
["0210",{"$f":"RTD(\"sysq.rtd\",\"\",\"!DTSH`LC.99-0210:2\")","v":{"$error":"#N/A"}},{"$f":"RTD(\"sysq.rtd\",\"\",\"!DTDH`LC.99-0210:2\")","v":{"$error":"#N/A"}},{"$f":"RTD(\"sysq.rtd\",\"\",\"!XTSH`LC.99-0210:2\")","v":{"$error":"#N/A"}},{"$f":"RTD(\"sysq.rtd\",\"\",\"!XTDH`LC.99-0210:2\")","v":{"$error":"#N/A"}},{"$f":"RTD(\"sysq.rtd\",\"\",\"!DTAI`LC.99-0210:2\")","v":{"$error":"#N/A"}},{"$f":"RTD(\"sysq.rtd\",\"\",\"WTX&`004.10-0210:2\")","v":{"$error":"#N/A"}},{"$error":"#N/A"}]
["0211",{"$f":"RTD(\"sysq.rtd\",\"\",\"!DTSH`LC.99-0211:2\")","v":{"$error":"#N/A"}},{"$f":"RTD(\"sysq.rtd\",\"\",\"!DTDH`LC.99-0211:2\")","v":{"$error":"#N/A"}},{"$f":"RTD(\"sysq.rtd\",\"\",\"!XTSH`LC.99-0211:2\")","v":{"$error":"#N/A"}},{"$f":"RTD(\"sysq.rtd\",\"\",\"!XTDH`LC.99-0211:2\")","v":{"$error":"#N/A"}},{"$f":"RTD(\"sysq.rtd\",\"\",\"!DTAI`LC.99-0211:2\")","v":{"$error":"#N/A"}},{"$f":"RTD(\"sysq.rtd\",\"\",\"WTX&`004.10-0211:2\")","v":{"$error":"#N/A"}},{"$error":"#N/A"}]
["0212",{"$f":"RTD(\"sysq.rtd\",\"\",\"!DTSH`LC.99-0212:2\")","v":{"$error":"#N/A"}},{"$f":"RTD(\"sysq.rtd\",\"\",\"!DTDH`LC.99-0212:2\")","v":{"$error":"#N/A"}},{"$f":"RTD(\"sysq.rtd\",\"\",\"!XTSH`LC.99-0212:2\")","v":{"$error":"#N/A"}},{"$f":"RTD(\"sysq.rtd\",\"\",\"!XTDH`LC.99-0212:2\")","v":{"$error":"#N/A"}},{"$f":"RTD(\"sysq.rtd\",\"\",\"!DTAI`LC.99-0212:2\")","v":{"$error":"#N/A"}},{"$f":"RTD(\"sysq.rtd\",\"\",\"WTX&`004.10-0212:2\")","v":{"$error":"#N/A"}},{"$error":"#N/A"}]
["0213",{"$f":"RTD(\"sysq.rtd\",\"\",\"!DTSH`LC.99-0213:2\")","v":{"$error":"#N/A"}},{"$f":"RTD(\"sysq.rtd\",\"\",\"!DTDH`LC.99-0213:2\")","v":{"$error":"#N/A"}},{"$f":"RTD(\"sysq.rtd\",\"\",\"!XTSH`LC.99-0213:2\")","v":{"$error":"#N/A"}},{"$f":"RTD(\"sysq.rtd\",\"\",\"!XTDH`LC.99-0213:2\")","v":{"$error":"#N/A"}},{"$f":"RTD(\"sysq.rtd\",\"\",\"!DTAI`LC.99-0213:2\")","v":{"$error":"#N/A"}},{"$f":"RTD(\"sysq.rtd\",\"\",\"WTX&`004.10-0213:2\")","v":{"$error":"#N/A"}},{"$error":"#N/A"}]
["0214",{"$f":"RTD(\"sysq.rtd\",\"\",\"!DTSH`LC.99-0214:2\")","v":{"$error":"#N/A"}},{"$f":"RTD(\"sysq.rtd\",\"\",\"!DTDH`LC.99-0214:2\")","v":{"$error":"#N/A"}},{"$f":"RTD(\"sysq.rtd\",\"\",\"!XTSH`LC.99-0214:2\")","v":{"$error":"#N/A"}},{"$f":"RTD(\"sysq.rtd\",\"\",\"!XTDH`LC.99-0214:2\")","v":{"$error":"#N/A"}},{"$f":"RTD(\"sysq.rtd\",\"\",\"!DTAI`LC.99-0214:2\")","v":{"$error":"#N/A"}},{"$f":"RTD(\"sysq.rtd\",\"\",\"WTX&`004.10-0214:2\")","v":{"$error":"#N/A"}},{"$error":"#N/A"}]
["0215",{"$f":"RTD(\"sysq.rtd\",\"\",\"!DTSH`LC.99-0215:2\")","v":{"$error":"#N/A"}},{"$f":"RTD(\"sysq.rtd\",\"\",\"!DTDH`LC.99-0215:2\")","v":{"$error":"#N/A"}},{"$f":"RTD(\"sysq.rtd\",\"\",\"!XTSH`LC.99-0215:2\")","v":{"$error":"#N/A"}},{"$f":"RTD(\"sysq.rtd\",\"\",\"!XTDH`LC.99-0215:2\")","v":{"$error":"#N/A"}},{"$f":"RTD(\"sysq.rtd\",\"\",\"!DTAI`LC.99-0215:2\")","v":{"$error":"#N/A"}},{"$f":"RTD(\"sysq.rtd\",\"\",\"WTX&`004.10-0215:2\")","v":{"$error":"#N/A"}},{"$error":"#N/A"}]
["0216",{"$f":"RTD(\"sysq.rtd\",\"\",\"!DTSH`LC.99-0216:2\")","v":{"$error":"#N/A"}},{"$f":"RTD(\"sysq.rtd\",\"\",\"!DTDH`LC.99-0216:2\")","v":{"$error":"#N/A"}},{"$f":"RTD(\"sysq.rtd\",\"\",\"!XTSH`LC.99-0216:2\")","v":{"$error":"#N/A"}},{"$f":"RTD(\"sysq.rtd\",\"\",\"!XTDH`LC.99-0216:2\")","v":{"$error":"#N/A"}},{"$f":"RTD(\"sysq.rtd\",\"\",\"!DTAI`LC.99-0216:2\")","v":{"$error":"#N/A"}},{"$f":"RTD(\"sysq.rtd\",\"\",\"WTX&`004.10-0216:2\")","v":{"$error":"#N/A"}},{"$error":"#N/A"}]
["0217",{"$f":"RTD(\"sysq.rtd\",\"\",\"!DTSH`LC.99-0217:2\")","v":{"$error":"#N/A"}},{"$f":"RTD(\"sysq.rtd\",\"\",\"!DTDH`LC.99-0217:2\")","v":{"$error":"#N/A"}},{"$f":"RTD(\"sysq.rtd\",\"\",\"!XTSH`LC.99-0217:2\")","v":{"$error":"#N/A"}},{"$f":"RTD(\"sysq.rtd\",\"\",\"!XTDH`LC.99-0217:2\")","v":{"$error":"#N/A"}},{"$f":"RTD(\"sysq.rtd\",\"\",\"!DTAI`LC.99-0217:2\")","v":{"$error":"#N/A"}},{"$f":"RTD(\"sysq.rtd\",\"\",\"WTX&`004.10-0217:2\")","v":{"$error":"#N/A"}},{"$error":"#N/A"}]
["0218",{"$f":"RTD(\"sysq.rtd\",\"\",\"!DTSH`LC.99-0218:2\")","v":{"$error":"#N/A"}},{"$f":"RTD(\"sysq.rtd\",\"\",\"!DTDH`LC.99-0218:2\")","v":{"$error":"#N/A"}},{"$f":"RTD(\"sysq.rtd\",\"\",\"!XTSH`LC.99-0218:2\")","v":{"$error":"#N/A"}},{"$f":"RTD(\"sysq.rtd\",\"\",\"!XTDH`LC.99-0218:2\")","v":{"$error":"#N/A"}},{"$f":"RTD(\"sysq.rtd\",\"\",\"!DTAI`LC.99-0218:2\")","v":{"$error":"#N/A"}},{"$f":"RTD(\"sysq.rtd\",\"\",\"WTX&`004.10-0218:2\")","v":{"$error":"#N/A"}},{"$error":"#N/A"}]
["0219",{"$f":"RTD(\"sysq.rtd\",\"\",\"!DTSH`LC.99-0219:2\")","v":{"$error":"#N/A"}},{"$f":"RTD(\"sysq.rtd\",\"\",\"!DTDH`LC.99-0219:2\")","v":{"$error":"#N/A"}},{"$f":"RTD(\"sysq.rtd\",\"\",\"!XTSH`LC.99-0219:2\")","v":{"$error":"#N/A"}},{"$f":"RTD(\"sysq.rtd\",\"\",\"!XTDH`LC.99-0219:2\")","v":{"$error":"#N/A"}},{"$f":"RTD(\"sysq.rtd\",\"\",\"!DTAI`LC.99-0219:2\")","v":{"$error":"#N/A"}},{"$f":"RTD(\"sysq.rtd\",\"\",\"WTX&`004.10-0219:2\")","v":{"$error":"#N/A"}},{"$error":"#N/A"}]
["0220",{"$f":"RTD(\"sysq.rtd\",\"\",\"!DTSH`LC.99-0220:2\")","v":{"$error":"#N/A"}},{"$f":"RTD(\"sysq.rtd\",\"\",\"!DTDH`LC.99-0220:2\")","v":{"$error":"#N/A"}},{"$f":"RTD(\"sysq.rtd\",\"\",\"!XTSH`LC.99-0220:2\")","v":{"$error":"#N/A"}},{"$f":"RTD(\"sysq.rtd\",\"\",\"!XTDH`LC.99-0220:2\")","v":{"$error":"#N/A"}},{"$f":"RTD(\"sysq.rtd\",\"\",\"!DTAI`LC.99-0220:2\")","v":{"$error":"#N/A"}},{"$f":"RTD(\"sysq.rtd\",\"\",\"WTX&`004.10-0220:2\")","v":{"$error":"#N/A"}},{"$error":"#N/A"}]
["0221",{"$f":"RTD(\"sysq.rtd\",\"\",\"!DTSH`LC.99-0221:2\")","v":{"$error":"#N/A"}},{"$f":"RTD(\"sysq.rtd\",\"\",\"!DTDH`LC.99-0221:2\")","v":{"$error":"#N/A"}},{"$f":"RTD(\"sysq.rtd\",\"\",\"!XTSH`LC.99-0221:2\")","v":{"$error":"#N/A"}},{"$f":"RTD(\"sysq.rtd\",\"\",\"!XTDH`LC.99-0221:2\")","v":{"$error":"#N/A"}},{"$f":"RTD(\"sysq.rtd\",\"\",\"!DTAI`LC.99-0221:2\")","v":{"$error":"#N/A"}},{"$f":"RTD(\"sysq.rtd\",\"\",\"WTX&`004.10-0221:2\")","v":{"$error":"#N/A"}},{"$error":"#N/A"}]
["0222",{"$f":"RTD(\"sysq.rtd\",\"\",\"!DTSH`LC.99-0222:2\")","v":{"$error":"#N/A"}},{"$f":"RTD(\"sysq.rtd\",\"\",\"!DTDH`LC.99-0222:2\")","v":{"$error":"#N/A"}},{"$f":"RTD(\"sysq.rtd\",\"\",\"!XTSH`LC.99-0222:2\")","v":{"$error":"#N/A"}},{"$f":"RTD(\"sysq.rtd\",\"\",\"!XTDH`LC.99-0222:2\")","v":{"$error":"#N/A"}},{"$f":"RTD(\"sysq.rtd\",\"\",\"!DTAI`LC.99-0222:2\")","v":{"$error":"#N/A"}},{"$f":"RTD(\"sysq.rtd\",\"\",\"WTX&`004.10-0222:2\")","v":{"$error":"#N/A"}},{"$error":"#N/A"}]
["0223",{"$f":"RTD(\"sysq.rtd\",\"\",\"!DTSH`LC.99-0223:2\")","v":{"$error":"#N/A"}},{"$f":"RTD(\"sysq.rtd\",\"\",\"!DTDH`LC.99-0223:2\")","v":{"$error":"#N/A"}},{"$f":"RTD(\"sysq.rtd\",\"\",\"!XTSH`LC.99-0223:2\")","v":{"$error":"#N/A"}},{"$f":"RTD(\"sysq.rtd\",\"\",\"!XTDH`LC.99-0223:2\")","v":{"$error":"#N/A"}},{"$f":"RTD(\"sysq.rtd\",\"\",\"!DTAI`LC.99-0223:2\")","v":{"$error":"#N/A"}},{"$f":"RTD(\"sysq.rtd\",\"\",\"WTX&`004.10-0223:2\")","v":{"$error":"#N/A"}},{"$error":"#N/A"}]
["0224",{"$f":"RTD(\"sysq.rtd\",\"\",\"!DTSH`LC.99-0224:2\")","v":{"$error":"#N/A"}},{"$f":"RTD(\"sysq.rtd\",\"\",\"!DTDH`LC.99-0224:2\")","v":{"$error":"#N/A"}},{"$f":"RTD(\"sysq.rtd\",\"\",\"!XTSH`LC.99-0224:2\")","v":{"$error":"#N/A"}},{"$f":"RTD(\"sysq.rtd\",\"\",\"!XTDH`LC.99-0224:2\")","v":{"$error":"#N/A"}},{"$f":"RTD(\"sysq.rtd\",\"\",\"!DTAI`LC.99-0224:2\")","v":{"$error":"#N/A"}},{"$f":"RTD(\"sysq.rtd\",\"\",\"WTX&`004.10-0224:2\")","v":{"$error":"#N/A"}},{"$error":"#N/A"}]
["0225",{"$f":"RTD(\"sysq.rtd\",\"\",\"!DTSH`LC.99-0225:2\")","v":{"$error":"#N/A"}},{"$f":"RTD(\"sysq.rtd\",\"\",\"!DTDH`LC.99-0225:2\")","v":{"$error":"#N/A"}},{"$f":"RTD(\"sysq.rtd\",\"\",\"!XTSH`LC.99-0225:2\")","v":{"$error":"#N/A"}},{"$f":"RTD(\"sysq.rtd\",\"\",\"!XTDH`LC.99-0225:2\")","v":{"$error":"#N/A"}},{"$f":"RTD(\"sysq.rtd\",\"\",\"!DTAI`LC.99-0225:2\")","v":{"$error":"#N/A"}},{"$f":"RTD(\"sysq.rtd\",\"\",\"WTX&`004.10-0225:2\")","v":{"$error":"#N/A"}},{"$error":"#N/A"}]
["0226",{"$f":"RTD(\"sysq.rtd\",\"\",\"!DTSH`LC.99-0226:2\")","v":{"$error":"#N/A"}},{"$f":"RTD(\"sysq.rtd\",\"\",\"!DTDH`LC.99-0226:2\")","v":{"$error":"#N/A"}},{"$f":"RTD(\"sysq.rtd\",\"\",\"!XTSH`LC.99-0226:2\")","v":{"$error":"#N/A"}},{"$f":"RTD(\"sysq.rtd\",\"\",\"!XTDH`LC.99-0226:2\")","v":{"$error":"#N/A"}},{"$f":"RTD(\"sysq.rtd\",\"\",\"!DTAI`LC.99-0226:2\")","v":{"$error":"#N/A"}},{"$f":"RTD(\"sysq.rtd\",\"\",\"WTX&`004.10-0226:2\")","v":{"$error":"#N/A"}},{"$error":"#N/A"}]
["0227",{"$f":"RTD(\"sysq.rtd\",\"\",\"!DTSH`LC.99-0227:2\")","v":{"$error":"#N/A"}},{"$f":"RTD(\"sysq.rtd\",\"\",\"!DTDH`LC.99-0227:2\")","v":{"$error":"#N/A"}},{"$f":"RTD(\"sysq.rtd\",\"\",\"!XTSH`LC.99-0227:2\")","v":{"$error":"#N/A"}},{"$f":"RTD(\"sysq.rtd\",\"\",\"!XTDH`LC.99-0227:2\")","v":{"$error":"#N/A"}},{"$f":"RTD(\"sysq.rtd\",\"\",\"!DTAI`LC.99-0227:2\")","v":{"$error":"#N/A"}},{"$f":"RTD(\"sysq.rtd\",\"\",\"WTX&`004.10-0227:2\")","v":{"$error":"#N/A"}},{"$error":"#N/A"}]
["0228",{"$f":"RTD(\"sysq.rtd\",\"\",\"!DTSH`LC.99-0228:2\")","v":{"$error":"#N/A"}},{"$f":"RTD(\"sysq.rtd\",\"\",\"!DTDH`LC.99-0228:2\")","v":{"$error":"#N/A"}},{"$f":"RTD(\"sysq.rtd\",\"\",\"!XTSH`LC.99-0228:2\")","v":{"$error":"#N/A"}},{"$f":"RTD(\"sysq.rtd\",\"\",\"!XTDH`LC.99-0228:2\")","v":{"$error":"#N/A"}},{"$f":"RTD(\"sysq.rtd\",\"\",\"!DTAI`LC.99-0228:2\")","v":{"$error":"#N/A"}},{"$f":"RTD(\"sysq.rtd\",\"\",\"WTX&`004.10-0228:2\")","v":{"$error":"#N/A"}},{"$error":"#N/A"}]
["0229",{"$f":"RTD(\"sysq.rtd\",\"\",\"!DTSH`LC.99-0229:2\")","v":{"$error":"#N/A"}},{"$f":"RTD(\"sysq.rtd\",\"\",\"!DTDH`LC.99-0229:2\")","v":{"$error":"#N/A"}},{"$f":"RTD(\"sysq.rtd\",\"\",\"!XTSH`LC.99-0229:2\")","v":{"$error":"#N/A"}},{"$f":"RTD(\"sysq.rtd\",\"\",\"!XTDH`LC.99-0229:2\")","v":{"$error":"#N/A"}},{"$f":"RTD(\"sysq.rtd\",\"\",\"!DTAI`LC.99-0229:2\")","v":{"$error":"#N/A"}},{"$f":"RTD(\"sysq.rtd\",\"\",\"WTX&`004.10-0229:2\")","v":{"$error":"#N/A"}},{"$error":"#N/A"}]
["0230",{"$f":"RTD(\"sysq.rtd\",\"\",\"!DTSH`LC.99-0230:2\")","v":{"$error":"#N/A"}},{"$f":"RTD(\"sysq.rtd\",\"\",\"!DTDH`LC.99-0230:2\")","v":{"$error":"#N/A"}},{"$f":"RTD(\"sysq.rtd\",\"\",\"!XTSH`LC.99-0230:2\")","v":{"$error":"#N/A"}},{"$f":"RTD(\"sysq.rtd\",\"\",\"!XTDH`LC.99-0230:2\")","v":{"$error":"#N/A"}},{"$f":"RTD(\"sysq.rtd\",\"\",\"!DTAI`LC.99-0230:2\")","v":{"$error":"#N/A"}},{"$f":"RTD(\"sysq.rtd\",\"\",\"WTX&`004.10-0230:2\")","v":{"$error":"#N/A"}},{"$error":"#N/A"}]
["0231",{"$f":"RTD(\"sysq.rtd\",\"\",\"!DTSH`LC.99-0231:2\")","v":{"$error":"#N/A"}},{"$f":"RTD(\"sysq.rtd\",\"\",\"!DTDH`LC.99-0231:2\")","v":{"$error":"#N/A"}},{"$f":"RTD(\"sysq.rtd\",\"\",\"!XTSH`LC.99-0231:2\")","v":{"$error":"#N/A"}},{"$f":"RTD(\"sysq.rtd\",\"\",\"!XTDH`LC.99-0231:2\")","v":{"$error":"#N/A"}},{"$f":"RTD(\"sysq.rtd\",\"\",\"!DTAI`LC.99-0231:2\")","v":{"$error":"#N/A"}},{"$f":"RTD(\"sysq.rtd\",\"\",\"WTX&`004.10-0231:2\")","v":{"$error":"#N/A"}},{"$error":"#N/A"}]
["0232",{"$f":"RTD(\"sysq.rtd\",\"\",\"!DTSH`LC.99-0232:2\")","v":{"$error":"#N/A"}},{"$f":"RTD(\"sysq.rtd\",\"\",\"!DTDH`LC.99-0232:2\")","v":{"$error":"#N/A"}},{"$f":"RTD(\"sysq.rtd\",\"\",\"!XTSH`LC.99-0232:2\")","v":{"$error":"#N/A"}},{"$f":"RTD(\"sysq.rtd\",\"\",\"!XTDH`LC.99-0232:2\")","v":{"$error":"#N/A"}},{"$f":"RTD(\"sysq.rtd\",\"\",\"!DTAI`LC.99-0232:2\")","v":{"$error":"#N/A"}},{"$f":"RTD(\"sysq.rtd\",\"\",\"WTX&`004.10-0232:2\")","v":{"$error":"#N/A"}},{"$error":"#N/A"}]
["0233",{"$f":"RTD(\"sysq.rtd\",\"\",\"!DTSH`LC.99-0233:2\")","v":{"$error":"#N/A"}},{"$f":"RTD(\"sysq.rtd\",\"\",\"!DTDH`LC.99-0233:2\")","v":{"$error":"#N/A"}},{"$f":"RTD(\"sysq.rtd\",\"\",\"!XTSH`LC.99-0233:2\")","v":{"$error":"#N/A"}},{"$f":"RTD(\"sysq.rtd\",\"\",\"!XTDH`LC.99-0233:2\")","v":{"$error":"#N/A"}},{"$f":"RTD(\"sysq.rtd\",\"\",\"!DTAI`LC.99-0233:2\")","v":{"$error":"#N/A"}},{"$f":"RTD(\"sysq.rtd\",\"\",\"WTX&`004.10-0233:2\")","v":{"$error":"#N/A"}},{"$error":"#N/A"}]
["0234",{"$f":"RTD(\"sysq.rtd\",\"\",\"!DTSH`LC.99-0234:2\")","v":{"$error":"#N/A"}},{"$f":"RTD(\"sysq.rtd\",\"\",\"!DTDH`LC.99-0234:2\")","v":{"$error":"#N/A"}},{"$f":"RTD(\"sysq.rtd\",\"\",\"!XTSH`LC.99-0234:2\")","v":{"$error":"#N/A"}},{"$f":"RTD(\"sysq.rtd\",\"\",\"!XTDH`LC.99-0234:2\")","v":{"$error":"#N/A"}},{"$f":"RTD(\"sysq.rtd\",\"\",\"!DTAI`LC.99-0234:2\")","v":{"$error":"#N/A"}},{"$f":"RTD(\"sysq.rtd\",\"\",\"WTX&`004.10-0234:2\")","v":{"$error":"#N/A"}},{"$error":"#N/A"}]
["0235",{"$f":"RTD(\"sysq.rtd\",\"\",\"!DTSH`LC.99-0235:2\")","v":{"$error":"#N/A"}},{"$f":"RTD(\"sysq.rtd\",\"\",\"!DTDH`LC.99-0235:2\")","v":{"$error":"#N/A"}},{"$f":"RTD(\"sysq.rtd\",\"\",\"!XTSH`LC.99-0235:2\")","v":{"$error":"#N/A"}},{"$f":"RTD(\"sysq.rtd\",\"\",\"!XTDH`LC.99-0235:2\")","v":{"$error":"#N/A"}},{"$f":"RTD(\"sysq.rtd\",\"\",\"!DTAI`LC.99-0235:2\")","v":{"$error":"#N/A"}},{"$f":"RTD(\"sysq.rtd\",\"\",\"WTX&`004.10-0235:2\")","v":{"$error":"#N/A"}},{"$error":"#N/A"}]
["0236",{"$f":"RTD(\"sysq.rtd\",\"\",\"!DTSH`LC.99-0236:2\")","v":{"$error":"#N/A"}},{"$f":"RTD(\"sysq.rtd\",\"\",\"!DTDH`LC.99-0236:2\")","v":{"$error":"#N/A"}},{"$f":"RTD(\"sysq.rtd\",\"\",\"!XTSH`LC.99-0236:2\")","v":{"$error":"#N/A"}},{"$f":"RTD(\"sysq.rtd\",\"\",\"!XTDH`LC.99-0236:2\")","v":{"$error":"#N/A"}},{"$f":"RTD(\"sysq.rtd\",\"\",\"!DTAI`LC.99-0236:2\")","v":{"$error":"#N/A"}},{"$f":"RTD(\"sysq.rtd\",\"\",\"WTX&`004.10-0236:2\")","v":{"$error":"#N/A"}},{"$error":"#N/A"}]
["0237",{"$f":"RTD(\"sysq.rtd\",\"\",\"!DTSH`LC.99-0237:2\")","v":{"$error":"#N/A"}},{"$f":"RTD(\"sysq.rtd\",\"\",\"!DTDH`LC.99-0237:2\")","v":{"$error":"#N/A"}},{"$f":"RTD(\"sysq.rtd\",\"\",\"!XTSH`LC.99-0237:2\")","v":{"$error":"#N/A"}},{"$f":"RTD(\"sysq.rtd\",\"\",\"!XTDH`LC.99-0237:2\")","v":{"$error":"#N/A"}},{"$f":"RTD(\"sysq.rtd\",\"\",\"!DTAI`LC.99-0237:2\")","v":{"$error":"#N/A"}},{"$f":"RTD(\"sysq.rtd\",\"\",\"WTX&`004.10-0237:2\")","v":{"$error":"#N/A"}},{"$error":"#N/A"}]
["0238",{"$f":"RTD(\"sysq.rtd\",\"\",\"!DTSH`LC.99-0238:2\")","v":{"$error":"#N/A"}},{"$f":"RTD(\"sysq.rtd\",\"\",\"!DTDH`LC.99-0238:2\")","v":{"$error":"#N/A"}},{"$f":"RTD(\"sysq.rtd\",\"\",\"!XTSH`LC.99-0238:2\")","v":{"$error":"#N/A"}},{"$f":"RTD(\"sysq.rtd\",\"\",\"!XTDH`LC.99-0238:2\")","v":{"$error":"#N/A"}},{"$f":"RTD(\"sysq.rtd\",\"\",\"!DTAI`LC.99-0238:2\")","v":{"$error":"#N/A"}},{"$f":"RTD(\"sysq.rtd\",\"\",\"WTX&`004.10-0238:2\")","v":{"$error":"#N/A"}},{"$error":"#N/A"}]
["0239",{"$f":"RTD(\"sysq.rtd\",\"\",\"!DTSH`LC.99-0239:2\")","v":{"$error":"#N/A"}},{"$f":"RTD(\"sysq.rtd\",\"\",\"!DTDH`LC.99-0239:2\")","v":{"$error":"#N/A"}},{"$f":"RTD(\"sysq.rtd\",\"\",\"!XTSH`LC.99-0239:2\")","v":{"$error":"#N/A"}},{"$f":"RTD(\"sysq.rtd\",\"\",\"!XTDH`LC.99-0239:2\")","v":{"$error":"#N/A"}},{"$f":"RTD(\"sysq.rtd\",\"\",\"!DTAI`LC.99-0239:2\")","v":{"$error":"#N/A"}},{"$f":"RTD(\"sysq.rtd\",\"\",\"WTX&`004.10-0239:2\")","v":{"$error":"#N/A"}},{"$error":"#N/A"}]
["0240",{"$f":"RTD(\"sysq.rtd\",\"\",\"!DTSH`LC.99-0240:2\")","v":{"$error":"#N/A"}},{"$f":"RTD(\"sysq.rtd\",\"\",\"!DTDH`LC.99-0240:2\")","v":{"$error":"#N/A"}},{"$f":"RTD(\"sysq.rtd\",\"\",\"!XTSH`LC.99-0240:2\")","v":{"$error":"#N/A"}},{"$f":"RTD(\"sysq.rtd\",\"\",\"!XTDH`LC.99-0240:2\")","v":{"$error":"#N/A"}},{"$f":"RTD(\"sysq.rtd\",\"\",\"!DTAI`LC.99-0240:2\")","v":{"$error":"#N/A"}},{"$f":"RTD(\"sysq.rtd\",\"\",\"WTX&`004.10-0240:2\")","v":{"$error":"#N/A"}},{"$error":"#N/A"}]
["0241",{"$f":"RTD(\"sysq.rtd\",\"\",\"!DTSH`LC.99-0241:2\")","v":{"$error":"#N/A"}},{"$f":"RTD(\"sysq.rtd\",\"\",\"!DTDH`LC.99-0241:2\")","v":{"$error":"#N/A"}},{"$f":"RTD(\"sysq.rtd\",\"\",\"!XTSH`LC.99-0241:2\")","v":{"$error":"#N/A"}},{"$f":"RTD(\"sysq.rtd\",\"\",\"!XTDH`LC.99-0241:2\")","v":{"$error":"#N/A"}},{"$f":"RTD(\"sysq.rtd\",\"\",\"!DTAI`LC.99-0241:2\")","v":{"$error":"#N/A"}},{"$f":"RTD(\"sysq.rtd\",\"\",\"WTX&`004.10-0241:2\")","v":{"$error":"#N/A"}},{"$error":"#N/A"}]
["0242",{"$f":"RTD(\"sysq.rtd\",\"\",\"!DTSH`LC.99-0242:2\")","v":{"$error":"#N/A"}},{"$f":"RTD(\"sysq.rtd\",\"\",\"!DTDH`LC.99-0242:2\")","v":{"$error":"#N/A"}},{"$f":"RTD(\"sysq.rtd\",\"\",\"!XTSH`LC.99-0242:2\")","v":{"$error":"#N/A"}},{"$f":"RTD(\"sysq.rtd\",\"\",\"!XTDH`LC.99-0242:2\")","v":{"$error":"#N/A"}},{"$f":"RTD(\"sysq.rtd\",\"\",\"!DTAI`LC.99-0242:2\")","v":{"$error":"#N/A"}},{"$f":"RTD(\"sysq.rtd\",\"\",\"WTX&`004.10-0242:2\")","v":{"$error":"#N/A"}},{"$error":"#N/A"}]
["0243",{"$f":"RTD(\"sysq.rtd\",\"\",\"!DTSH`LC.99-0243:2\")","v":{"$error":"#N/A"}},{"$f":"RTD(\"sysq.rtd\",\"\",\"!DTDH`LC.99-0243:2\")","v":{"$error":"#N/A"}},{"$f":"RTD(\"sysq.rtd\",\"\",\"!XTSH`LC.99-0243:2\")","v":{"$error":"#N/A"}},{"$f":"RTD(\"sysq.rtd\",\"\",\"!XTDH`LC.99-0243:2\")","v":{"$error":"#N/A"}},{"$f":"RTD(\"sysq.rtd\",\"\",\"!DTAI`LC.99-0243:2\")","v":{"$error":"#N/A"}},{"$f":"RTD(\"sysq.rtd\",\"\",\"WTX&`004.10-0243:2\")","v":{"$error":"#N/A"}},{"$error":"#N/A"}]
["0244",{"$f":"RTD(\"sysq.rtd\",\"\",\"!DTSH`LC.99-0244:2\")","v":{"$error":"#N/A"}},{"$f":"RTD(\"sysq.rtd\",\"\",\"!DTDH`LC.99-0244:2\")","v":{"$error":"#N/A"}},{"$f":"RTD(\"sysq.rtd\",\"\",\"!XTSH`LC.99-0244:2\")","v":{"$error":"#N/A"}},{"$f":"RTD(\"sysq.rtd\",\"\",\"!XTDH`LC.99-0244:2\")","v":{"$error":"#N/A"}},{"$f":"RTD(\"sysq.rtd\",\"\",\"!DTAI`LC.99-0244:2\")","v":{"$error":"#N/A"}},{"$f":"RTD(\"sysq.rtd\",\"\",\"WTX&`004.10-0244:2\")","v":{"$error":"#N/A"}},{"$error":"#N/A"}]
["0245",{"$f":"RTD(\"sysq.rtd\",\"\",\"!DTSH`LC.99-0245:2\")","v":{"$error":"#N/A"}},{"$f":"RTD(\"sysq.rtd\",\"\",\"!DTDH`LC.99-0245:2\")","v":{"$error":"#N/A"}},{"$f":"RTD(\"sysq.rtd\",\"\",\"!XTSH`LC.99-0245:2\")","v":{"$error":"#N/A"}},{"$f":"RTD(\"sysq.rtd\",\"\",\"!XTDH`LC.99-0245:2\")","v":{"$error":"#N/A"}},{"$f":"RTD(\"sysq.rtd\",\"\",\"!DTAI`LC.99-0245:2\")","v":{"$error":"#N/A"}},{"$f":"RTD(\"sysq.rtd\",\"\",\"WTX&`004.10-0245:2\")","v":{"$error":"#N/A"}},{"$error":"#N/A"}]
["0246",{"$f":"RTD(\"sysq.rtd\",\"\",\"!DTSH`LC.99-0246:2\")","v":{"$error":"#N/A"}},{"$f":"RTD(\"sysq.rtd\",\"\",\"!DTDH`LC.99-0246:2\")","v":{"$error":"#N/A"}},{"$f":"RTD(\"sysq.rtd\",\"\",\"!XTSH`LC.99-0246:2\")","v":{"$error":"#N/A"}},{"$f":"RTD(\"sysq.rtd\",\"\",\"!XTDH`LC.99-0246:2\")","v":{"$error":"#N/A"}},{"$f":"RTD(\"sysq.rtd\",\"\",\"!DTAI`LC.99-0246:2\")","v":{"$error":"#N/A"}},{"$f":"RTD(\"sysq.rtd\",\"\",\"WTX&`004.10-0246:2\")","v":{"$error":"#N/A"}},{"$error":"#N/A"}]
["0247",{"$f":"RTD(\"sysq.rtd\",\"\",\"!DTSH`LC.99-0247:2\")","v":{"$error":"#N/A"}},{"$f":"RTD(\"sysq.rtd\",\"\",\"!DTDH`LC.99-0247:2\")","v":{"$error":"#N/A"}},{"$f":"RTD(\"sysq.rtd\",\"\",\"!XTSH`LC.99-0247:2\")","v":{"$error":"#N/A"}},{"$f":"RTD(\"sysq.rtd\",\"\",\"!XTDH`LC.99-0247:2\")","v":{"$error":"#N/A"}},{"$f":"RTD(\"sysq.rtd\",\"\",\"!DTAI`LC.99-0247:2\")","v":{"$error":"#N/A"}},{"$f":"RTD(\"sysq.rtd\",\"\",\"WTX&`004.10-0247:2\")","v":{"$error":"#N/A"}},{"$error":"#N/A"}]
["0248",{"$f":"RTD(\"sysq.rtd\",\"\",\"!DTSH`LC.99-0248:2\")","v":{"$error":"#N/A"}},{"$f":"RTD(\"sysq.rtd\",\"\",\"!DTDH`LC.99-0248:2\")","v":{"$error":"#N/A"}},{"$f":"RTD(\"sysq.rtd\",\"\",\"!XTSH`LC.99-0248:2\")","v":{"$error":"#N/A"}},{"$f":"RTD(\"sysq.rtd\",\"\",\"!XTDH`LC.99-0248:2\")","v":{"$error":"#N/A"}},{"$f":"RTD(\"sysq.rtd\",\"\",\"!DTAI`LC.99-0248:2\")","v":{"$error":"#N/A"}},{"$f":"RTD(\"sysq.rtd\",\"\",\"WTX&`004.10-0248:2\")","v":{"$error":"#N/A"}},{"$error":"#N/A"}]
["0249",{"$f":"RTD(\"sysq.rtd\",\"\",\"!DTSH`LC.99-0249:2\")","v":{"$error":"#N/A"}},{"$f":"RTD(\"sysq.rtd\",\"\",\"!DTDH`LC.99-0249:2\")","v":{"$error":"#N/A"}},{"$f":"RTD(\"sysq.rtd\",\"\",\"!XTSH`LC.99-0249:2\")","v":{"$error":"#N/A"}},{"$f":"RTD(\"sysq.rtd\",\"\",\"!XTDH`LC.99-0249:2\")","v":{"$error":"#N/A"}},{"$f":"RTD(\"sysq.rtd\",\"\",\"!DTAI`LC.99-0249:2\")","v":{"$error":"#N/A"}},{"$f":"RTD(\"sysq.rtd\",\"\",\"WTX&`004.10-0249:2\")","v":{"$error":"#N/A"}},{"$error":"#N/A"}]
["0250",{"$f":"RTD(\"sysq.rtd\",\"\",\"!DTSH`LC.99-0250:2\")","v":{"$error":"#N/A"}},{"$f":"RTD(\"sysq.rtd\",\"\",\"!DTDH`LC.99-0250:2\")","v":{"$error":"#N/A"}},{"$f":"RTD(\"sysq.rtd\",\"\",\"!XTSH`LC.99-0250:2\")","v":{"$error":"#N/A"}},{"$f":"RTD(\"sysq.rtd\",\"\",\"!XTDH`LC.99-0250:2\")","v":{"$error":"#N/A"}},{"$f":"RTD(\"sysq.rtd\",\"\",\"!DTAI`LC.99-0250:2\")","v":{"$error":"#N/A"}},{"$f":"RTD(\"sysq.rtd\",\"\",\"WTX&`004.10-0250:2\")","v":{"$error":"#N/A"}},{"$error":"#N/A"}]
["0251",{"$f":"RTD(\"sysq.rtd\",\"\",\"!DTSH`LC.99-0251:2\")","v":{"$error":"#N/A"}},{"$f":"RTD(\"sysq.rtd\",\"\",\"!DTDH`LC.99-0251:2\")","v":{"$error":"#N/A"}},{"$f":"RTD(\"sysq.rtd\",\"\",\"!XTSH`LC.99-0251:2\")","v":{"$error":"#N/A"}},{"$f":"RTD(\"sysq.rtd\",\"\",\"!XTDH`LC.99-0251:2\")","v":{"$error":"#N/A"}},{"$f":"RTD(\"sysq.rtd\",\"\",\"!DTAI`LC.99-0251:2\")","v":{"$error":"#N/A"}},{"$f":"RTD(\"sysq.rtd\",\"\",\"WTX&`004.10-0251:2\")","v":{"$error":"#N/A"}},{"$error":"#N/A"}]
["0252",{"$f":"RTD(\"sysq.rtd\",\"\",\"!DTSH`LC.99-0252:2\")","v":{"$error":"#N/A"}},{"$f":"RTD(\"sysq.rtd\",\"\",\"!DTDH`LC.99-0252:2\")","v":{"$error":"#N/A"}},{"$f":"RTD(\"sysq.rtd\",\"\",\"!XTSH`LC.99-0252:2\")","v":{"$error":"#N/A"}},{"$f":"RTD(\"sysq.rtd\",\"\",\"!XTDH`LC.99-0252:2\")","v":{"$error":"#N/A"}},{"$f":"RTD(\"sysq.rtd\",\"\",\"!DTAI`LC.99-0252:2\")","v":{"$error":"#N/A"}},{"$f":"RTD(\"sysq.rtd\",\"\",\"WTX&`004.10-0252:2\")","v":{"$error":"#N/A"}},{"$error":"#N/A"}]
["0253",{"$f":"RTD(\"sysq.rtd\",\"\",\"!DTSH`LC.99-0253:2\")","v":{"$error":"#N/A"}},{"$f":"RTD(\"sysq.rtd\",\"\",\"!DTDH`LC.99-0253:2\")","v":{"$error":"#N/A"}},{"$f":"RTD(\"sysq.rtd\",\"\",\"!XTSH`LC.99-0253:2\")","v":{"$error":"#N/A"}},{"$f":"RTD(\"sysq.rtd\",\"\",\"!XTDH`LC.99-0253:2\")","v":{"$error":"#N/A"}},{"$f":"RTD(\"sysq.rtd\",\"\",\"!DTAI`LC.99-0253:2\")","v":{"$error":"#N/A"}},{"$f":"RTD(\"sysq.rtd\",\"\",\"WTX&`004.10-0253:2\")","v":{"$error":"#N/A"}},{"$error":"#N/A"}]
["0254",{"$f":"RTD(\"sysq.rtd\",\"\",\"!DTSH`LC.99-0254:2\")","v":{"$error":"#N/A"}},{"$f":"RTD(\"sysq.rtd\",\"\",\"!DTDH`LC.99-0254:2\")","v":{"$error":"#N/A"}},{"$f":"RTD(\"sysq.rtd\",\"\",\"!XTSH`LC.99-0254:2\")","v":{"$error":"#N/A"}},{"$f":"RTD(\"sysq.rtd\",\"\",\"!XTDH`LC.99-0254:2\")","v":{"$error":"#N/A"}},{"$f":"RTD(\"sysq.rtd\",\"\",\"!DTAI`LC.99-0254:2\")","v":{"$error":"#N/A"}},{"$f":"RTD(\"sysq.rtd\",\"\",\"WTX&`004.10-0254:2\")","v":{"$error":"#N/A"}},{"$error":"#N/A"}]
["0255",{"$f":"RTD(\"sysq.rtd\",\"\",\"!DTSH`LC.99-0255:2\")","v":{"$error":"#N/A"}},{"$f":"RTD(\"sysq.rtd\",\"\",\"!DTDH`LC.99-0255:2\")","v":{"$error":"#N/A"}},{"$f":"RTD(\"sysq.rtd\",\"\",\"!XTSH`LC.99-0255:2\")","v":{"$error":"#N/A"}},{"$f":"RTD(\"sysq.rtd\",\"\",\"!XTDH`LC.99-0255:2\")","v":{"$error":"#N/A"}},{"$f":"RTD(\"sysq.rtd\",\"\",\"!DTAI`LC.99-0255:2\")","v":{"$error":"#N/A"}},{"$f":"RTD(\"sysq.rtd\",\"\",\"WTX&`004.10-0255:2\")","v":{"$error":"#N/A"}},{"$error":"#N/A"}]
["0256",{"$f":"RTD(\"sysq.rtd\",\"\",\"!DTSH`LC.99-0256:2\")","v":{"$error":"#N/A"}},{"$f":"RTD(\"sysq.rtd\",\"\",\"!DTDH`LC.99-0256:2\")","v":{"$error":"#N/A"}},{"$f":"RTD(\"sysq.rtd\",\"\",\"!XTSH`LC.99-0256:2\")","v":{"$error":"#N/A"}},{"$f":"RTD(\"sysq.rtd\",\"\",\"!XTDH`LC.99-0256:2\")","v":{"$error":"#N/A"}},{"$f":"RTD(\"sysq.rtd\",\"\",\"!DTAI`LC.99-0256:2\")","v":{"$error":"#N/A"}},{"$f":"RTD(\"sysq.rtd\",\"\",\"WTX&`004.10-0256:2\")","v":{"$error":"#N/A"}},{"$error":"#N/A"}]
["0257",{"$f":"RTD(\"sysq.rtd\",\"\",\"!DTSH`LC.99-0257:2\")","v":{"$error":"#N/A"}},{"$f":"RTD(\"sysq.rtd\",\"\",\"!DTDH`LC.99-0257:2\")","v":{"$error":"#N/A"}},{"$f":"RTD(\"sysq.rtd\",\"\",\"!XTSH`LC.99-0257:2\")","v":{"$error":"#N/A"}},{"$f":"RTD(\"sysq.rtd\",\"\",\"!XTDH`LC.99-0257:2\")","v":{"$error":"#N/A"}},{"$f":"RTD(\"sysq.rtd\",\"\",\"!DTAI`LC.99-0257:2\")","v":{"$error":"#N/A"}},{"$f":"RTD(\"sysq.rtd\",\"\",\"WTX&`004.10-0257:2\")","v":{"$error":"#N/A"}},{"$error":"#N/A"}]
["0258",{"$f":"RTD(\"sysq.rtd\",\"\",\"!DTSH`LC.99-0258:2\")","v":{"$error":"#N/A"}},{"$f":"RTD(\"sysq.rtd\",\"\",\"!DTDH`LC.99-0258:2\")","v":{"$error":"#N/A"}},{"$f":"RTD(\"sysq.rtd\",\"\",\"!XTSH`LC.99-0258:2\")","v":{"$error":"#N/A"}},{"$f":"RTD(\"sysq.rtd\",\"\",\"!XTDH`LC.99-0258:2\")","v":{"$error":"#N/A"}},{"$f":"RTD(\"sysq.rtd\",\"\",\"!DTAI`LC.99-0258:2\")","v":{"$error":"#N/A"}},{"$f":"RTD(\"sysq.rtd\",\"\",\"WTX&`004.10-0258:2\")","v":{"$error":"#N/A"}},{"$error":"#N/A"}]
["0259",{"$f":"RTD(\"sysq.rtd\",\"\",\"!DTSH`LC.99-0259:2\")","v":{"$error":"#N/A"}},{"$f":"RTD(\"sysq.rtd\",\"\",\"!DTDH`LC.99-0259:2\")","v":{"$error":"#N/A"}},{"$f":"RTD(\"sysq.rtd\",\"\",\"!XTSH`LC.99-0259:2\")","v":{"$error":"#N/A"}},{"$f":"RTD(\"sysq.rtd\",\"\",\"!XTDH`LC.99-0259:2\")","v":{"$error":"#N/A"}},{"$f":"RTD(\"sysq.rtd\",\"\",\"!DTAI`LC.99-0259:2\")","v":{"$error":"#N/A"}},{"$f":"RTD(\"sysq.rtd\",\"\",\"WTX&`004.10-0259:2\")","v":{"$error":"#N/A"}},{"$error":"#N/A"}]
["0300",{"$f":"RTD(\"sysq.rtd\",\"\",\"!DTSH`LC.99-0300:2\")","v":{"$error":"#N/A"}},{"$f":"RTD(\"sysq.rtd\",\"\",\"!DTDH`LC.99-0300:2\")","v":{"$error":"#N/A"}},{"$f":"RTD(\"sysq.rtd\",\"\",\"!XTSH`LC.99-0300:2\")","v":{"$error":"#N/A"}},{"$f":"RTD(\"sysq.rtd\",\"\",\"!XTDH`LC.99-0300:2\")","v":{"$error":"#N/A"}},{"$f":"RTD(\"sysq.rtd\",\"\",\"!DTAI`LC.99-0300:2\")","v":{"$error":"#N/A"}},{"$f":"RTD(\"sysq.rtd\",\"\",\"WTX&`004.10-0300:2\")","v":{"$error":"#N/A"}},{"$error":"#N/A"}]
["0301",{"$f":"RTD(\"sysq.rtd\",\"\",\"!DTSH`LC.99-0301:2\")","v":{"$error":"#N/A"}},{"$f":"RTD(\"sysq.rtd\",\"\",\"!DTDH`LC.99-0301:2\")","v":{"$error":"#N/A"}},{"$f":"RTD(\"sysq.rtd\",\"\",\"!XTSH`LC.99-0301:2\")","v":{"$error":"#N/A"}},{"$f":"RTD(\"sysq.rtd\",\"\",\"!XTDH`LC.99-0301:2\")","v":{"$error":"#N/A"}},{"$f":"RTD(\"sysq.rtd\",\"\",\"!DTAI`LC.99-0301:2\")","v":{"$error":"#N/A"}},{"$f":"RTD(\"sysq.rtd\",\"\",\"WTX&`004.10-0301:2\")","v":{"$error":"#N/A"}},{"$error":"#N/A"}]
["0302",{"$f":"RTD(\"sysq.rtd\",\"\",\"!DTSH`LC.99-0302:2\")","v":{"$error":"#N/A"}},{"$f":"RTD(\"sysq.rtd\",\"\",\"!DTDH`LC.99-0302:2\")","v":{"$error":"#N/A"}},{"$f":"RTD(\"sysq.rtd\",\"\",\"!XTSH`LC.99-0302:2\")","v":{"$error":"#N/A"}},{"$f":"RTD(\"sysq.rtd\",\"\",\"!XTDH`LC.99-0302:2\")","v":{"$error":"#N/A"}},{"$f":"RTD(\"sysq.rtd\",\"\",\"!DTAI`LC.99-0302:2\")","v":{"$error":"#N/A"}},{"$f":"RTD(\"sysq.rtd\",\"\",\"WTX&`004.10-0302:2\")","v":{"$error":"#N/A"}},{"$error":"#N/A"}]
["0303",{"$f":"RTD(\"sysq.rtd\",\"\",\"!DTSH`LC.99-0303:2\")","v":{"$error":"#N/A"}},{"$f":"RTD(\"sysq.rtd\",\"\",\"!DTDH`LC.99-0303:2\")","v":{"$error":"#N/A"}},{"$f":"RTD(\"sysq.rtd\",\"\",\"!XTSH`LC.99-0303:2\")","v":{"$error":"#N/A"}},{"$f":"RTD(\"sysq.rtd\",\"\",\"!XTDH`LC.99-0303:2\")","v":{"$error":"#N/A"}},{"$f":"RTD(\"sysq.rtd\",\"\",\"!DTAI`LC.99-0303:2\")","v":{"$error":"#N/A"}},{"$f":"RTD(\"sysq.rtd\",\"\",\"WTX&`004.10-0303:2\")","v":{"$error":"#N/A"}},{"$error":"#N/A"}]
["0304",{"$f":"RTD(\"sysq.rtd\",\"\",\"!DTSH`LC.99-0304:2\")","v":{"$error":"#N/A"}},{"$f":"RTD(\"sysq.rtd\",\"\",\"!DTDH`LC.99-0304:2\")","v":{"$error":"#N/A"}},{"$f":"RTD(\"sysq.rtd\",\"\",\"!XTSH`LC.99-0304:2\")","v":{"$error":"#N/A"}},{"$f":"RTD(\"sysq.rtd\",\"\",\"!XTDH`LC.99-0304:2\")","v":{"$error":"#N/A"}},{"$f":"RTD(\"sysq.rtd\",\"\",\"!DTAI`LC.99-0304:2\")","v":{"$error":"#N/A"}},{"$f":"RTD(\"sysq.rtd\",\"\",\"WTX&`004.10-0304:2\")","v":{"$error":"#N/A"}},{"$f":"SQRT(ABS(F1030))*(ABS(F1030)/F1030)","v":{"$error":"#N/A"}}]
["0305",{"$f":"RTD(\"sysq.rtd\",\"\",\"!DTSH`LC.99-0305:2\")","v":{"$error":"#N/A"}},{"$f":"RTD(\"sysq.rtd\",\"\",\"!DTDH`LC.99-0305:2\")","v":{"$error":"#N/A"}},{"$f":"RTD(\"sysq.rtd\",\"\",\"!XTSH`LC.99-0305:2\")","v":{"$error":"#N/A"}},{"$f":"RTD(\"sysq.rtd\",\"\",\"!XTDH`LC.99-0305:2\")","v":{"$error":"#N/A"}},{"$f":"RTD(\"sysq.rtd\",\"\",\"!DTAI`LC.99-0305:2\")","v":{"$error":"#N/A"}},{"$f":"RTD(\"sysq.rtd\",\"\",\"WTX&`004.10-0305:2\")","v":{"$error":"#N/A"}},{"$error":"#N/A"}]
["0306",{"$f":"RTD(\"sysq.rtd\",\"\",\"!DTSH`LC.99-0306:2\")","v":{"$error":"#N/A"}},{"$f":"RTD(\"sysq.rtd\",\"\",\"!DTDH`LC.99-0306:2\")","v":{"$error":"#N/A"}},{"$f":"RTD(\"sysq.rtd\",\"\",\"!XTSH`LC.99-0306:2\")","v":{"$error":"#N/A"}},{"$f":"RTD(\"sysq.rtd\",\"\",\"!XTDH`LC.99-0306:2\")","v":{"$error":"#N/A"}},{"$f":"RTD(\"sysq.rtd\",\"\",\"!DTAI`LC.99-0306:2\")","v":{"$error":"#N/A"}},{"$f":"RTD(\"sysq.rtd\",\"\",\"WTX&`004.10-0306:2\")","v":{"$error":"#N/A"}},{"$error":"#N/A"}]
["0307",{"$f":"RTD(\"sysq.rtd\",\"\",\"!DTSH`LC.99-0307:2\")","v":{"$error":"#N/A"}},{"$f":"RTD(\"sysq.rtd\",\"\",\"!DTDH`LC.99-0307:2\")","v":{"$error":"#N/A"}},{"$f":"RTD(\"sysq.rtd\",\"\",\"!XTSH`LC.99-0307:2\")","v":{"$error":"#N/A"}},{"$f":"RTD(\"sysq.rtd\",\"\",\"!XTDH`LC.99-0307:2\")","v":{"$error":"#N/A"}},{"$f":"RTD(\"sysq.rtd\",\"\",\"!DTAI`LC.99-0307:2\")","v":{"$error":"#N/A"}},{"$f":"RTD(\"sysq.rtd\",\"\",\"WTX&`004.10-0307:2\")","v":{"$error":"#N/A"}},{"$error":"#N/A"}]
["0308",{"$f":"RTD(\"sysq.rtd\",\"\",\"!DTSH`LC.99-0308:2\")","v":{"$error":"#N/A"}},{"$f":"RTD(\"sysq.rtd\",\"\",\"!DTDH`LC.99-0308:2\")","v":{"$error":"#N/A"}},{"$f":"RTD(\"sysq.rtd\",\"\",\"!XTSH`LC.99-0308:2\")","v":{"$error":"#N/A"}},{"$f":"RTD(\"sysq.rtd\",\"\",\"!XTDH`LC.99-0308:2\")","v":{"$error":"#N/A"}},{"$f":"RTD(\"sysq.rtd\",\"\",\"!DTAI`LC.99-0308:2\")","v":{"$error":"#N/A"}},{"$f":"RTD(\"sysq.rtd\",\"\",\"WTX&`004.10-0308:2\")","v":{"$error":"#N/A"}},{"$error":"#N/A"}]
["0309",{"$f":"RTD(\"sysq.rtd\",\"\",\"!DTSH`LC.99-0309:2\")","v":{"$error":"#N/A"}},{"$f":"RTD(\"sysq.rtd\",\"\",\"!DTDH`LC.99-0309:2\")","v":{"$error":"#N/A"}},{"$f":"RTD(\"sysq.rtd\",\"\",\"!XTSH`LC.99-0309:2\")","v":{"$error":"#N/A"}},{"$f":"RTD(\"sysq.rtd\",\"\",\"!XTDH`LC.99-0309:2\")","v":{"$error":"#N/A"}},{"$f":"RTD(\"sysq.rtd\",\"\",\"!DTAI`LC.99-0309:2\")","v":{"$error":"#N/A"}},{"$f":"RTD(\"sysq.rtd\",\"\",\"WTX&`004.10-0309:2\")","v":{"$error":"#N/A"}},{"$error":"#N/A"}]
["0310",{"$f":"RTD(\"sysq.rtd\",\"\",\"!DTSH`LC.99-0310:2\")","v":{"$error":"#N/A"}},{"$f":"RTD(\"sysq.rtd\",\"\",\"!DTDH`LC.99-0310:2\")","v":{"$error":"#N/A"}},{"$f":"RTD(\"sysq.rtd\",\"\",\"!XTSH`LC.99-0310:2\")","v":{"$error":"#N/A"}},{"$f":"RTD(\"sysq.rtd\",\"\",\"!XTDH`LC.99-0310:2\")","v":{"$error":"#N/A"}},{"$f":"RTD(\"sysq.rtd\",\"\",\"!DTAI`LC.99-0310:2\")","v":{"$error":"#N/A"}},{"$f":"RTD(\"sysq.rtd\",\"\",\"WTX&`004.10-0310:2\")","v":{"$error":"#N/A"}},{"$error":"#N/A"}]
["0311",{"$f":"RTD(\"sysq.rtd\",\"\",\"!DTSH`LC.99-0311:2\")","v":{"$error":"#N/A"}},{"$f":"RTD(\"sysq.rtd\",\"\",\"!DTDH`LC.99-0311:2\")","v":{"$error":"#N/A"}},{"$f":"RTD(\"sysq.rtd\",\"\",\"!XTSH`LC.99-0311:2\")","v":{"$error":"#N/A"}},{"$f":"RTD(\"sysq.rtd\",\"\",\"!XTDH`LC.99-0311:2\")","v":{"$error":"#N/A"}},{"$f":"RTD(\"sysq.rtd\",\"\",\"!DTAI`LC.99-0311:2\")","v":{"$error":"#N/A"}},{"$f":"RTD(\"sysq.rtd\",\"\",\"WTX&`004.10-0311:2\")","v":{"$error":"#N/A"}},{"$error":"#N/A"}]
["0312",{"$f":"RTD(\"sysq.rtd\",\"\",\"!DTSH`LC.99-0312:2\")","v":{"$error":"#N/A"}},{"$f":"RTD(\"sysq.rtd\",\"\",\"!DTDH`LC.99-0312:2\")","v":{"$error":"#N/A"}},{"$f":"RTD(\"sysq.rtd\",\"\",\"!XTSH`LC.99-0312:2\")","v":{"$error":"#N/A"}},{"$f":"RTD(\"sysq.rtd\",\"\",\"!XTDH`LC.99-0312:2\")","v":{"$error":"#N/A"}},{"$f":"RTD(\"sysq.rtd\",\"\",\"!DTAI`LC.99-0312:2\")","v":{"$error":"#N/A"}},{"$f":"RTD(\"sysq.rtd\",\"\",\"WTX&`004.10-0312:2\")","v":{"$error":"#N/A"}},{"$error":"#N/A"}]
["0313",{"$f":"RTD(\"sysq.rtd\",\"\",\"!DTSH`LC.99-0313:2\")","v":{"$error":"#N/A"}},{"$f":"RTD(\"sysq.rtd\",\"\",\"!DTDH`LC.99-0313:2\")","v":{"$error":"#N/A"}},{"$f":"RTD(\"sysq.rtd\",\"\",\"!XTSH`LC.99-0313:2\")","v":{"$error":"#N/A"}},{"$f":"RTD(\"sysq.rtd\",\"\",\"!XTDH`LC.99-0313:2\")","v":{"$error":"#N/A"}},{"$f":"RTD(\"sysq.rtd\",\"\",\"!DTAI`LC.99-0313:2\")","v":{"$error":"#N/A"}},{"$f":"RTD(\"sysq.rtd\",\"\",\"WTX&`004.10-0313:2\")","v":{"$error":"#N/A"}},{"$error":"#N/A"}]
["0314",{"$f":"RTD(\"sysq.rtd\",\"\",\"!DTSH`LC.99-0314:2\")","v":{"$error":"#N/A"}},{"$f":"RTD(\"sysq.rtd\",\"\",\"!DTDH`LC.99-0314:2\")","v":{"$error":"#N/A"}},{"$f":"RTD(\"sysq.rtd\",\"\",\"!XTSH`LC.99-0314:2\")","v":{"$error":"#N/A"}},{"$f":"RTD(\"sysq.rtd\",\"\",\"!XTDH`LC.99-0314:2\")","v":{"$error":"#N/A"}},{"$f":"RTD(\"sysq.rtd\",\"\",\"!DTAI`LC.99-0314:2\")","v":{"$error":"#N/A"}},{"$f":"RTD(\"sysq.rtd\",\"\",\"WTX&`004.10-0314:2\")","v":{"$error":"#N/A"}},{"$error":"#N/A"}]
["0315",{"$f":"RTD(\"sysq.rtd\",\"\",\"!DTSH`LC.99-0315:2\")","v":{"$error":"#N/A"}},{"$f":"RTD(\"sysq.rtd\",\"\",\"!DTDH`LC.99-0315:2\")","v":{"$error":"#N/A"}},{"$f":"RTD(\"sysq.rtd\",\"\",\"!XTSH`LC.99-0315:2\")","v":{"$error":"#N/A"}},{"$f":"RTD(\"sysq.rtd\",\"\",\"!XTDH`LC.99-0315:2\")","v":{"$error":"#N/A"}},{"$f":"RTD(\"sysq.rtd\",\"\",\"!DTAI`LC.99-0315:2\")","v":{"$error":"#N/A"}},{"$f":"RTD(\"sysq.rtd\",\"\",\"WTX&`004.10-0315:2\")","v":{"$error":"#N/A"}},{"$error":"#N/A"}]
["0316",{"$f":"RTD(\"sysq.rtd\",\"\",\"!DTSH`LC.99-0316:2\")","v":{"$error":"#N/A"}},{"$f":"RTD(\"sysq.rtd\",\"\",\"!DTDH`LC.99-0316:2\")","v":{"$error":"#N/A"}},{"$f":"RTD(\"sysq.rtd\",\"\",\"!XTSH`LC.99-0316:2\")","v":{"$error":"#N/A"}},{"$f":"RTD(\"sysq.rtd\",\"\",\"!XTDH`LC.99-0316:2\")","v":{"$error":"#N/A"}},{"$f":"RTD(\"sysq.rtd\",\"\",\"!DTAI`LC.99-0316:2\")","v":{"$error":"#N/A"}},{"$f":"RTD(\"sysq.rtd\",\"\",\"WTX&`004.10-0316:2\")","v":{"$error":"#N/A"}},{"$error":"#N/A"}]
["0317",{"$f":"RTD(\"sysq.rtd\",\"\",\"!DTSH`LC.99-0317:2\")","v":{"$error":"#N/A"}},{"$f":"RTD(\"sysq.rtd\",\"\",\"!DTDH`LC.99-0317:2\")","v":{"$error":"#N/A"}},{"$f":"RTD(\"sysq.rtd\",\"\",\"!XTSH`LC.99-0317:2\")","v":{"$error":"#N/A"}},{"$f":"RTD(\"sysq.rtd\",\"\",\"!XTDH`LC.99-0317:2\")","v":{"$error":"#N/A"}},{"$f":"RTD(\"sysq.rtd\",\"\",\"!DTAI`LC.99-0317:2\")","v":{"$error":"#N/A"}},{"$f":"RTD(\"sysq.rtd\",\"\",\"WTX&`004.10-0317:2\")","v":{"$error":"#N/A"}},{"$error":"#N/A"}]
["0318",{"$f":"RTD(\"sysq.rtd\",\"\",\"!DTSH`LC.99-0318:2\")","v":{"$error":"#N/A"}},{"$f":"RTD(\"sysq.rtd\",\"\",\"!DTDH`LC.99-0318:2\")","v":{"$error":"#N/A"}},{"$f":"RTD(\"sysq.rtd\",\"\",\"!XTSH`LC.99-0318:2\")","v":{"$error":"#N/A"}},{"$f":"RTD(\"sysq.rtd\",\"\",\"!XTDH`LC.99-0318:2\")","v":{"$error":"#N/A"}},{"$f":"RTD(\"sysq.rtd\",\"\",\"!DTAI`LC.99-0318:2\")","v":{"$error":"#N/A"}},{"$f":"RTD(\"sysq.rtd\",\"\",\"WTX&`004.10-0318:2\")","v":{"$error":"#N/A"}},{"$error":"#N/A"}]
["0319",{"$f":"RTD(\"sysq.rtd\",\"\",\"!DTSH`LC.99-0319:2\")","v":{"$error":"#N/A"}},{"$f":"RTD(\"sysq.rtd\",\"\",\"!DTDH`LC.99-0319:2\")","v":{"$error":"#N/A"}},{"$f":"RTD(\"sysq.rtd\",\"\",\"!XTSH`LC.99-0319:2\")","v":{"$error":"#N/A"}},{"$f":"RTD(\"sysq.rtd\",\"\",\"!XTDH`LC.99-0319:2\")","v":{"$error":"#N/A"}},{"$f":"RTD(\"sysq.rtd\",\"\",\"!DTAI`LC.99-0319:2\")","v":{"$error":"#N/A"}},{"$f":"RTD(\"sysq.rtd\",\"\",\"WTX&`004.10-0319:2\")","v":{"$error":"#N/A"}},{"$error":"#N/A"}]
["0320",{"$f":"RTD(\"sysq.rtd\",\"\",\"!DTSH`LC.99-0320:2\")","v":{"$error":"#N/A"}},{"$f":"RTD(\"sysq.rtd\",\"\",\"!DTDH`LC.99-0320:2\")","v":{"$error":"#N/A"}},{"$f":"RTD(\"sysq.rtd\",\"\",\"!XTSH`LC.99-0320:2\")","v":{"$error":"#N/A"}},{"$f":"RTD(\"sysq.rtd\",\"\",\"!XTDH`LC.99-0320:2\")","v":{"$error":"#N/A"}},{"$f":"RTD(\"sysq.rtd\",\"\",\"!DTAI`LC.99-0320:2\")","v":{"$error":"#N/A"}},{"$f":"RTD(\"sysq.rtd\",\"\",\"WTX&`004.10-0320:2\")","v":{"$error":"#N/A"}},{"$error":"#N/A"}]
["0321",{"$f":"RTD(\"sysq.rtd\",\"\",\"!DTSH`LC.99-0321:2\")","v":{"$error":"#N/A"}},{"$f":"RTD(\"sysq.rtd\",\"\",\"!DTDH`LC.99-0321:2\")","v":{"$error":"#N/A"}},{"$f":"RTD(\"sysq.rtd\",\"\",\"!XTSH`LC.99-0321:2\")","v":{"$error":"#N/A"}},{"$f":"RTD(\"sysq.rtd\",\"\",\"!XTDH`LC.99-0321:2\")","v":{"$error":"#N/A"}},{"$f":"RTD(\"sysq.rtd\",\"\",\"!DTAI`LC.99-0321:2\")","v":{"$error":"#N/A"}},{"$f":"RTD(\"sysq.rtd\",\"\",\"WTX&`004.10-0321:2\")","v":{"$error":"#N/A"}},{"$error":"#N/A"}]
["0322",{"$f":"RTD(\"sysq.rtd\",\"\",\"!DTSH`LC.99-0322:2\")","v":{"$error":"#N/A"}},{"$f":"RTD(\"sysq.rtd\",\"\",\"!DTDH`LC.99-0322:2\")","v":{"$error":"#N/A"}},{"$f":"RTD(\"sysq.rtd\",\"\",\"!XTSH`LC.99-0322:2\")","v":{"$error":"#N/A"}},{"$f":"RTD(\"sysq.rtd\",\"\",\"!XTDH`LC.99-0322:2\")","v":{"$error":"#N/A"}},{"$f":"RTD(\"sysq.rtd\",\"\",\"!DTAI`LC.99-0322:2\")","v":{"$error":"#N/A"}},{"$f":"RTD(\"sysq.rtd\",\"\",\"WTX&`004.10-0322:2\")","v":{"$error":"#N/A"}},{"$error":"#N/A"}]
["0323",{"$f":"RTD(\"sysq.rtd\",\"\",\"!DTSH`LC.99-0323:2\")","v":{"$error":"#N/A"}},{"$f":"RTD(\"sysq.rtd\",\"\",\"!DTDH`LC.99-0323:2\")","v":{"$error":"#N/A"}},{"$f":"RTD(\"sysq.rtd\",\"\",\"!XTSH`LC.99-0323:2\")","v":{"$error":"#N/A"}},{"$f":"RTD(\"sysq.rtd\",\"\",\"!XTDH`LC.99-0323:2\")","v":{"$error":"#N/A"}},{"$f":"RTD(\"sysq.rtd\",\"\",\"!DTAI`LC.99-0323:2\")","v":{"$error":"#N/A"}},{"$f":"RTD(\"sysq.rtd\",\"\",\"WTX&`004.10-0323:2\")","v":{"$error":"#N/A"}},{"$error":"#N/A"}]
["0324",{"$f":"RTD(\"sysq.rtd\",\"\",\"!DTSH`LC.99-0324:2\")","v":{"$error":"#N/A"}},{"$f":"RTD(\"sysq.rtd\",\"\",\"!DTDH`LC.99-0324:2\")","v":{"$error":"#N/A"}},{"$f":"RTD(\"sysq.rtd\",\"\",\"!XTSH`LC.99-0324:2\")","v":{"$error":"#N/A"}},{"$f":"RTD(\"sysq.rtd\",\"\",\"!XTDH`LC.99-0324:2\")","v":{"$error":"#N/A"}},{"$f":"RTD(\"sysq.rtd\",\"\",\"!DTAI`LC.99-0324:2\")","v":{"$error":"#N/A"}},{"$f":"RTD(\"sysq.rtd\",\"\",\"WTX&`004.10-0324:2\")","v":{"$error":"#N/A"}},{"$error":"#N/A"}]
["0325",{"$f":"RTD(\"sysq.rtd\",\"\",\"!DTSH`LC.99-0325:2\")","v":{"$error":"#N/A"}},{"$f":"RTD(\"sysq.rtd\",\"\",\"!DTDH`LC.99-0325:2\")","v":{"$error":"#N/A"}},{"$f":"RTD(\"sysq.rtd\",\"\",\"!XTSH`LC.99-0325:2\")","v":{"$error":"#N/A"}},{"$f":"RTD(\"sysq.rtd\",\"\",\"!XTDH`LC.99-0325:2\")","v":{"$error":"#N/A"}},{"$f":"RTD(\"sysq.rtd\",\"\",\"!DTAI`LC.99-0325:2\")","v":{"$error":"#N/A"}},{"$f":"RTD(\"sysq.rtd\",\"\",\"WTX&`004.10-0325:2\")","v":{"$error":"#N/A"}},{"$error":"#N/A"}]
["0326",{"$f":"RTD(\"sysq.rtd\",\"\",\"!DTSH`LC.99-0326:2\")","v":{"$error":"#N/A"}},{"$f":"RTD(\"sysq.rtd\",\"\",\"!DTDH`LC.99-0326:2\")","v":{"$error":"#N/A"}},{"$f":"RTD(\"sysq.rtd\",\"\",\"!XTSH`LC.99-0326:2\")","v":{"$error":"#N/A"}},{"$f":"RTD(\"sysq.rtd\",\"\",\"!XTDH`LC.99-0326:2\")","v":{"$error":"#N/A"}},{"$f":"RTD(\"sysq.rtd\",\"\",\"!DTAI`LC.99-0326:2\")","v":{"$error":"#N/A"}},{"$f":"RTD(\"sysq.rtd\",\"\",\"WTX&`004.10-0326:2\")","v":{"$error":"#N/A"}},{"$error":"#N/A"}]
["0327",{"$f":"RTD(\"sysq.rtd\",\"\",\"!DTSH`LC.99-0327:2\")","v":{"$error":"#N/A"}},{"$f":"RTD(\"sysq.rtd\",\"\",\"!DTDH`LC.99-0327:2\")","v":{"$error":"#N/A"}},{"$f":"RTD(\"sysq.rtd\",\"\",\"!XTSH`LC.99-0327:2\")","v":{"$error":"#N/A"}},{"$f":"RTD(\"sysq.rtd\",\"\",\"!XTDH`LC.99-0327:2\")","v":{"$error":"#N/A"}},{"$f":"RTD(\"sysq.rtd\",\"\",\"!DTAI`LC.99-0327:2\")","v":{"$error":"#N/A"}},{"$f":"RTD(\"sysq.rtd\",\"\",\"WTX&`004.10-0327:2\")","v":{"$error":"#N/A"}},{"$error":"#N/A"}]
["0328",{"$f":"RTD(\"sysq.rtd\",\"\",\"!DTSH`LC.99-0328:2\")","v":{"$error":"#N/A"}},{"$f":"RTD(\"sysq.rtd\",\"\",\"!DTDH`LC.99-0328:2\")","v":{"$error":"#N/A"}},{"$f":"RTD(\"sysq.rtd\",\"\",\"!XTSH`LC.99-0328:2\")","v":{"$error":"#N/A"}},{"$f":"RTD(\"sysq.rtd\",\"\",\"!XTDH`LC.99-0328:2\")","v":{"$error":"#N/A"}},{"$f":"RTD(\"sysq.rtd\",\"\",\"!DTAI`LC.99-0328:2\")","v":{"$error":"#N/A"}},{"$f":"RTD(\"sysq.rtd\",\"\",\"WTX&`004.10-0328:2\")","v":{"$error":"#N/A"}},{"$error":"#N/A"}]
["0329",{"$f":"RTD(\"sysq.rtd\",\"\",\"!DTSH`LC.99-0329:2\")","v":{"$error":"#N/A"}},{"$f":"RTD(\"sysq.rtd\",\"\",\"!DTDH`LC.99-0329:2\")","v":{"$error":"#N/A"}},{"$f":"RTD(\"sysq.rtd\",\"\",\"!XTSH`LC.99-0329:2\")","v":{"$error":"#N/A"}},{"$f":"RTD(\"sysq.rtd\",\"\",\"!XTDH`LC.99-0329:2\")","v":{"$error":"#N/A"}},{"$f":"RTD(\"sysq.rtd\",\"\",\"!DTAI`LC.99-0329:2\")","v":{"$error":"#N/A"}},{"$f":"RTD(\"sysq.rtd\",\"\",\"WTX&`004.10-0329:2\")","v":{"$error":"#N/A"}},{"$error":"#N/A"}]
["0330",{"$f":"RTD(\"sysq.rtd\",\"\",\"!DTSH`LC.99-0330:2\")","v":{"$error":"#N/A"}},{"$f":"RTD(\"sysq.rtd\",\"\",\"!DTDH`LC.99-0330:2\")","v":{"$error":"#N/A"}},{"$f":"RTD(\"sysq.rtd\",\"\",\"!XTSH`LC.99-0330:2\")","v":{"$error":"#N/A"}},{"$f":"RTD(\"sysq.rtd\",\"\",\"!XTDH`LC.99-0330:2\")","v":{"$error":"#N/A"}},{"$f":"RTD(\"sysq.rtd\",\"\",\"!DTAI`LC.99-0330:2\")","v":{"$error":"#N/A"}},{"$f":"RTD(\"sysq.rtd\",\"\",\"WTX&`004.10-0330:2\")","v":{"$error":"#N/A"}},{"$error":"#N/A"}]
["0331",{"$f":"RTD(\"sysq.rtd\",\"\",\"!DTSH`LC.99-0331:2\")","v":{"$error":"#N/A"}},{"$f":"RTD(\"sysq.rtd\",\"\",\"!DTDH`LC.99-0331:2\")","v":{"$error":"#N/A"}},{"$f":"RTD(\"sysq.rtd\",\"\",\"!XTSH`LC.99-0331:2\")","v":{"$error":"#N/A"}},{"$f":"RTD(\"sysq.rtd\",\"\",\"!XTDH`LC.99-0331:2\")","v":{"$error":"#N/A"}},{"$f":"RTD(\"sysq.rtd\",\"\",\"!DTAI`LC.99-0331:2\")","v":{"$error":"#N/A"}},{"$f":"RTD(\"sysq.rtd\",\"\",\"WTX&`004.10-0331:2\")","v":{"$error":"#N/A"}},{"$error":"#N/A"}]
["0332",{"$f":"RTD(\"sysq.rtd\",\"\",\"!DTSH`LC.99-0332:2\")","v":{"$error":"#N/A"}},{"$f":"RTD(\"sysq.rtd\",\"\",\"!DTDH`LC.99-0332:2\")","v":{"$error":"#N/A"}},{"$f":"RTD(\"sysq.rtd\",\"\",\"!XTSH`LC.99-0332:2\")","v":{"$error":"#N/A"}},{"$f":"RTD(\"sysq.rtd\",\"\",\"!XTDH`LC.99-0332:2\")","v":{"$error":"#N/A"}},{"$f":"RTD(\"sysq.rtd\",\"\",\"!DTAI`LC.99-0332:2\")","v":{"$error":"#N/A"}},{"$f":"RTD(\"sysq.rtd\",\"\",\"WTX&`004.10-0332:2\")","v":{"$error":"#N/A"}},{"$error":"#N/A"}]
["0333",{"$f":"RTD(\"sysq.rtd\",\"\",\"!DTSH`LC.99-0333:2\")","v":{"$error":"#N/A"}},{"$f":"RTD(\"sysq.rtd\",\"\",\"!DTDH`LC.99-0333:2\")","v":{"$error":"#N/A"}},{"$f":"RTD(\"sysq.rtd\",\"\",\"!XTSH`LC.99-0333:2\")","v":{"$error":"#N/A"}},{"$f":"RTD(\"sysq.rtd\",\"\",\"!XTDH`LC.99-0333:2\")","v":{"$error":"#N/A"}},{"$f":"RTD(\"sysq.rtd\",\"\",\"!DTAI`LC.99-0333:2\")","v":{"$error":"#N/A"}},{"$f":"RTD(\"sysq.rtd\",\"\",\"WTX&`004.10-0333:2\")","v":{"$error":"#N/A"}},{"$error":"#N/A"}]
["0334",{"$f":"RTD(\"sysq.rtd\",\"\",\"!DTSH`LC.99-0334:2\")","v":{"$error":"#N/A"}},{"$f":"RTD(\"sysq.rtd\",\"\",\"!DTDH`LC.99-0334:2\")","v":{"$error":"#N/A"}},{"$f":"RTD(\"sysq.rtd\",\"\",\"!XTSH`LC.99-0334:2\")","v":{"$error":"#N/A"}},{"$f":"RTD(\"sysq.rtd\",\"\",\"!XTDH`LC.99-0334:2\")","v":{"$error":"#N/A"}},{"$f":"RTD(\"sysq.rtd\",\"\",\"!DTAI`LC.99-0334:2\")","v":{"$error":"#N/A"}},{"$f":"RTD(\"sysq.rtd\",\"\",\"WTX&`004.10-0334:2\")","v":{"$error":"#N/A"}},{"$error":"#N/A"}]
["0335",{"$f":"RTD(\"sysq.rtd\",\"\",\"!DTSH`LC.99-0335:2\")","v":{"$error":"#N/A"}},{"$f":"RTD(\"sysq.rtd\",\"\",\"!DTDH`LC.99-0335:2\")","v":{"$error":"#N/A"}},{"$f":"RTD(\"sysq.rtd\",\"\",\"!XTSH`LC.99-0335:2\")","v":{"$error":"#N/A"}},{"$f":"RTD(\"sysq.rtd\",\"\",\"!XTDH`LC.99-0335:2\")","v":{"$error":"#N/A"}},{"$f":"RTD(\"sysq.rtd\",\"\",\"!DTAI`LC.99-0335:2\")","v":{"$error":"#N/A"}},{"$f":"RTD(\"sysq.rtd\",\"\",\"WTX&`004.10-0335:2\")","v":{"$error":"#N/A"}},{"$error":"#N/A"}]
["0336",{"$f":"RTD(\"sysq.rtd\",\"\",\"!DTSH`LC.99-0336:2\")","v":{"$error":"#N/A"}},{"$f":"RTD(\"sysq.rtd\",\"\",\"!DTDH`LC.99-0336:2\")","v":{"$error":"#N/A"}},{"$f":"RTD(\"sysq.rtd\",\"\",\"!XTSH`LC.99-0336:2\")","v":{"$error":"#N/A"}},{"$f":"RTD(\"sysq.rtd\",\"\",\"!XTDH`LC.99-0336:2\")","v":{"$error":"#N/A"}},{"$f":"RTD(\"sysq.rtd\",\"\",\"!DTAI`LC.99-0336:2\")","v":{"$error":"#N/A"}},{"$f":"RTD(\"sysq.rtd\",\"\",\"WTX&`004.10-0336:2\")","v":{"$error":"#N/A"}},{"$error":"#N/A"}]
["0337",{"$f":"RTD(\"sysq.rtd\",\"\",\"!DTSH`LC.99-0337:2\")","v":{"$error":"#N/A"}},{"$f":"RTD(\"sysq.rtd\",\"\",\"!DTDH`LC.99-0337:2\")","v":{"$error":"#N/A"}},{"$f":"RTD(\"sysq.rtd\",\"\",\"!XTSH`LC.99-0337:2\")","v":{"$error":"#N/A"}},{"$f":"RTD(\"sysq.rtd\",\"\",\"!XTDH`LC.99-0337:2\")","v":{"$error":"#N/A"}},{"$f":"RTD(\"sysq.rtd\",\"\",\"!DTAI`LC.99-0337:2\")","v":{"$error":"#N/A"}},{"$f":"RTD(\"sysq.rtd\",\"\",\"WTX&`004.10-0337:2\")","v":{"$error":"#N/A"}},{"$error":"#N/A"}]
["0338",{"$f":"RTD(\"sysq.rtd\",\"\",\"!DTSH`LC.99-0338:2\")","v":{"$error":"#N/A"}},{"$f":"RTD(\"sysq.rtd\",\"\",\"!DTDH`LC.99-0338:2\")","v":{"$error":"#N/A"}},{"$f":"RTD(\"sysq.rtd\",\"\",\"!XTSH`LC.99-0338:2\")","v":{"$error":"#N/A"}},{"$f":"RTD(\"sysq.rtd\",\"\",\"!XTDH`LC.99-0338:2\")","v":{"$error":"#N/A"}},{"$f":"RTD(\"sysq.rtd\",\"\",\"!DTAI`LC.99-0338:2\")","v":{"$error":"#N/A"}},{"$f":"RTD(\"sysq.rtd\",\"\",\"WTX&`004.10-0338:2\")","v":{"$error":"#N/A"}},{"$error":"#N/A"}]
["0339",{"$f":"RTD(\"sysq.rtd\",\"\",\"!DTSH`LC.99-0339:2\")","v":{"$error":"#N/A"}},{"$f":"RTD(\"sysq.rtd\",\"\",\"!DTDH`LC.99-0339:2\")","v":{"$error":"#N/A"}},{"$f":"RTD(\"sysq.rtd\",\"\",\"!XTSH`LC.99-0339:2\")","v":{"$error":"#N/A"}},{"$f":"RTD(\"sysq.rtd\",\"\",\"!XTDH`LC.99-0339:2\")","v":{"$error":"#N/A"}},{"$f":"RTD(\"sysq.rtd\",\"\",\"!DTAI`LC.99-0339:2\")","v":{"$error":"#N/A"}},{"$f":"RTD(\"sysq.rtd\",\"\",\"WTX&`004.10-0339:2\")","v":{"$error":"#N/A"}},{"$error":"#N/A"}]
["0340",{"$f":"RTD(\"sysq.rtd\",\"\",\"!DTSH`LC.99-0340:2\")","v":{"$error":"#N/A"}},{"$f":"RTD(\"sysq.rtd\",\"\",\"!DTDH`LC.99-0340:2\")","v":{"$error":"#N/A"}},{"$f":"RTD(\"sysq.rtd\",\"\",\"!XTSH`LC.99-0340:2\")","v":{"$error":"#N/A"}},{"$f":"RTD(\"sysq.rtd\",\"\",\"!XTDH`LC.99-0340:2\")","v":{"$error":"#N/A"}},{"$f":"RTD(\"sysq.rtd\",\"\",\"!DTAI`LC.99-0340:2\")","v":{"$error":"#N/A"}},{"$f":"RTD(\"sysq.rtd\",\"\",\"WTX&`004.10-0340:2\")","v":{"$error":"#N/A"}},{"$error":"#N/A"}]
["0341",{"$f":"RTD(\"sysq.rtd\",\"\",\"!DTSH`LC.99-0341:2\")","v":{"$error":"#N/A"}},{"$f":"RTD(\"sysq.rtd\",\"\",\"!DTDH`LC.99-0341:2\")","v":{"$error":"#N/A"}},{"$f":"RTD(\"sysq.rtd\",\"\",\"!XTSH`LC.99-0341:2\")","v":{"$error":"#N/A"}},{"$f":"RTD(\"sysq.rtd\",\"\",\"!XTDH`LC.99-0341:2\")","v":{"$error":"#N/A"}},{"$f":"RTD(\"sysq.rtd\",\"\",\"!DTAI`LC.99-0341:2\")","v":{"$error":"#N/A"}},{"$f":"RTD(\"sysq.rtd\",\"\",\"WTX&`004.10-0341:2\")","v":{"$error":"#N/A"}},{"$error":"#N/A"}]
["0342",{"$f":"RTD(\"sysq.rtd\",\"\",\"!DTSH`LC.99-0342:2\")","v":{"$error":"#N/A"}},{"$f":"RTD(\"sysq.rtd\",\"\",\"!DTDH`LC.99-0342:2\")","v":{"$error":"#N/A"}},{"$f":"RTD(\"sysq.rtd\",\"\",\"!XTSH`LC.99-0342:2\")","v":{"$error":"#N/A"}},{"$f":"RTD(\"sysq.rtd\",\"\",\"!XTDH`LC.99-0342:2\")","v":{"$error":"#N/A"}},{"$f":"RTD(\"sysq.rtd\",\"\",\"!DTAI`LC.99-0342:2\")","v":{"$error":"#N/A"}},{"$f":"RTD(\"sysq.rtd\",\"\",\"WTX&`004.10-0342:2\")","v":{"$error":"#N/A"}},{"$error":"#N/A"}]
["0343",{"$f":"RTD(\"sysq.rtd\",\"\",\"!DTSH`LC.99-0343:2\")","v":{"$error":"#N/A"}},{"$f":"RTD(\"sysq.rtd\",\"\",\"!DTDH`LC.99-0343:2\")","v":{"$error":"#N/A"}},{"$f":"RTD(\"sysq.rtd\",\"\",\"!XTSH`LC.99-0343:2\")","v":{"$error":"#N/A"}},{"$f":"RTD(\"sysq.rtd\",\"\",\"!XTDH`LC.99-0343:2\")","v":{"$error":"#N/A"}},{"$f":"RTD(\"sysq.rtd\",\"\",\"!DTAI`LC.99-0343:2\")","v":{"$error":"#N/A"}},{"$f":"RTD(\"sysq.rtd\",\"\",\"WTX&`004.10-0343:2\")","v":{"$error":"#N/A"}},{"$error":"#N/A"}]
["0344",{"$f":"RTD(\"sysq.rtd\",\"\",\"!DTSH`LC.99-0344:2\")","v":{"$error":"#N/A"}},{"$f":"RTD(\"sysq.rtd\",\"\",\"!DTDH`LC.99-0344:2\")","v":{"$error":"#N/A"}},{"$f":"RTD(\"sysq.rtd\",\"\",\"!XTSH`LC.99-0344:2\")","v":{"$error":"#N/A"}},{"$f":"RTD(\"sysq.rtd\",\"\",\"!XTDH`LC.99-0344:2\")","v":{"$error":"#N/A"}},{"$f":"RTD(\"sysq.rtd\",\"\",\"!DTAI`LC.99-0344:2\")","v":{"$error":"#N/A"}},{"$f":"RTD(\"sysq.rtd\",\"\",\"WTX&`004.10-0344:2\")","v":{"$error":"#N/A"}},{"$error":"#N/A"}]
["0345",{"$f":"RTD(\"sysq.rtd\",\"\",\"!DTSH`LC.99-0345:2\")","v":{"$error":"#N/A"}},{"$f":"RTD(\"sysq.rtd\",\"\",\"!DTDH`LC.99-0345:2\")","v":{"$error":"#N/A"}},{"$f":"RTD(\"sysq.rtd\",\"\",\"!XTSH`LC.99-0345:2\")","v":{"$error":"#N/A"}},{"$f":"RTD(\"sysq.rtd\",\"\",\"!XTDH`LC.99-0345:2\")","v":{"$error":"#N/A"}},{"$f":"RTD(\"sysq.rtd\",\"\",\"!DTAI`LC.99-0345:2\")","v":{"$error":"#N/A"}},{"$f":"RTD(\"sysq.rtd\",\"\",\"WTX&`004.10-0345:2\")","v":{"$error":"#N/A"}},{"$error":"#N/A"}]
["0346",{"$f":"RTD(\"sysq.rtd\",\"\",\"!DTSH`LC.99-0346:2\")","v":{"$error":"#N/A"}},{"$f":"RTD(\"sysq.rtd\",\"\",\"!DTDH`LC.99-0346:2\")","v":{"$error":"#N/A"}},{"$f":"RTD(\"sysq.rtd\",\"\",\"!XTSH`LC.99-0346:2\")","v":{"$error":"#N/A"}},{"$f":"RTD(\"sysq.rtd\",\"\",\"!XTDH`LC.99-0346:2\")","v":{"$error":"#N/A"}},{"$f":"RTD(\"sysq.rtd\",\"\",\"!DTAI`LC.99-0346:2\")","v":{"$error":"#N/A"}},{"$f":"RTD(\"sysq.rtd\",\"\",\"WTX&`004.10-0346:2\")","v":{"$error":"#N/A"}},{"$error":"#N/A"}]
["0347",{"$f":"RTD(\"sysq.rtd\",\"\",\"!DTSH`LC.99-0347:2\")","v":{"$error":"#N/A"}},{"$f":"RTD(\"sysq.rtd\",\"\",\"!DTDH`LC.99-0347:2\")","v":{"$error":"#N/A"}},{"$f":"RTD(\"sysq.rtd\",\"\",\"!XTSH`LC.99-0347:2\")","v":{"$error":"#N/A"}},{"$f":"RTD(\"sysq.rtd\",\"\",\"!XTDH`LC.99-0347:2\")","v":{"$error":"#N/A"}},{"$f":"RTD(\"sysq.rtd\",\"\",\"!DTAI`LC.99-0347:2\")","v":{"$error":"#N/A"}},{"$f":"RTD(\"sysq.rtd\",\"\",\"WTX&`004.10-0347:2\")","v":{"$error":"#N/A"}},{"$error":"#N/A"}]
["0348",{"$f":"RTD(\"sysq.rtd\",\"\",\"!DTSH`LC.99-0348:2\")","v":{"$error":"#N/A"}},{"$f":"RTD(\"sysq.rtd\",\"\",\"!DTDH`LC.99-0348:2\")","v":{"$error":"#N/A"}},{"$f":"RTD(\"sysq.rtd\",\"\",\"!XTSH`LC.99-0348:2\")","v":{"$error":"#N/A"}},{"$f":"RTD(\"sysq.rtd\",\"\",\"!XTDH`LC.99-0348:2\")","v":{"$error":"#N/A"}},{"$f":"RTD(\"sysq.rtd\",\"\",\"!DTAI`LC.99-0348:2\")","v":{"$error":"#N/A"}},{"$f":"RTD(\"sysq.rtd\",\"\",\"WTX&`004.10-0348:2\")","v":{"$error":"#N/A"}},{"$error":"#N/A"}]
["0349",{"$f":"RTD(\"sysq.rtd\",\"\",\"!DTSH`LC.99-0349:2\")","v":{"$error":"#N/A"}},{"$f":"RTD(\"sysq.rtd\",\"\",\"!DTDH`LC.99-0349:2\")","v":{"$error":"#N/A"}},{"$f":"RTD(\"sysq.rtd\",\"\",\"!XTSH`LC.99-0349:2\")","v":{"$error":"#N/A"}},{"$f":"RTD(\"sysq.rtd\",\"\",\"!XTDH`LC.99-0349:2\")","v":{"$error":"#N/A"}},{"$f":"RTD(\"sysq.rtd\",\"\",\"!DTAI`LC.99-0349:2\")","v":{"$error":"#N/A"}},{"$f":"RTD(\"sysq.rtd\",\"\",\"WTX&`004.10-0349:2\")","v":{"$error":"#N/A"}},{"$error":"#N/A"}]
["0350",{"$f":"RTD(\"sysq.rtd\",\"\",\"!DTSH`LC.99-0350:2\")","v":{"$error":"#N/A"}},{"$f":"RTD(\"sysq.rtd\",\"\",\"!DTDH`LC.99-0350:2\")","v":{"$error":"#N/A"}},{"$f":"RTD(\"sysq.rtd\",\"\",\"!XTSH`LC.99-0350:2\")","v":{"$error":"#N/A"}},{"$f":"RTD(\"sysq.rtd\",\"\",\"!XTDH`LC.99-0350:2\")","v":{"$error":"#N/A"}},{"$f":"RTD(\"sysq.rtd\",\"\",\"!DTAI`LC.99-0350:2\")","v":{"$error":"#N/A"}},{"$f":"RTD(\"sysq.rtd\",\"\",\"WTX&`004.10-0350:2\")","v":{"$error":"#N/A"}},{"$error":"#N/A"}]
["0351",{"$f":"RTD(\"sysq.rtd\",\"\",\"!DTSH`LC.99-0351:2\")","v":{"$error":"#N/A"}},{"$f":"RTD(\"sysq.rtd\",\"\",\"!DTDH`LC.99-0351:2\")","v":{"$error":"#N/A"}},{"$f":"RTD(\"sysq.rtd\",\"\",\"!XTSH`LC.99-0351:2\")","v":{"$error":"#N/A"}},{"$f":"RTD(\"sysq.rtd\",\"\",\"!XTDH`LC.99-0351:2\")","v":{"$error":"#N/A"}},{"$f":"RTD(\"sysq.rtd\",\"\",\"!DTAI`LC.99-0351:2\")","v":{"$error":"#N/A"}},{"$f":"RTD(\"sysq.rtd\",\"\",\"WTX&`004.10-0351:2\")","v":{"$error":"#N/A"}},{"$error":"#N/A"}]
["0352",{"$f":"RTD(\"sysq.rtd\",\"\",\"!DTSH`LC.99-0352:2\")","v":{"$error":"#N/A"}},{"$f":"RTD(\"sysq.rtd\",\"\",\"!DTDH`LC.99-0352:2\")","v":{"$error":"#N/A"}},{"$f":"RTD(\"sysq.rtd\",\"\",\"!XTSH`LC.99-0352:2\")","v":{"$error":"#N/A"}},{"$f":"RTD(\"sysq.rtd\",\"\",\"!XTDH`LC.99-0352:2\")","v":{"$error":"#N/A"}},{"$f":"RTD(\"sysq.rtd\",\"\",\"!DTAI`LC.99-0352:2\")","v":{"$error":"#N/A"}},{"$f":"RTD(\"sysq.rtd\",\"\",\"WTX&`004.10-0352:2\")","v":{"$error":"#N/A"}},{"$error":"#N/A"}]
["0353",{"$f":"RTD(\"sysq.rtd\",\"\",\"!DTSH`LC.99-0353:2\")","v":{"$error":"#N/A"}},{"$f":"RTD(\"sysq.rtd\",\"\",\"!DTDH`LC.99-0353:2\")","v":{"$error":"#N/A"}},{"$f":"RTD(\"sysq.rtd\",\"\",\"!XTSH`LC.99-0353:2\")","v":{"$error":"#N/A"}},{"$f":"RTD(\"sysq.rtd\",\"\",\"!XTDH`LC.99-0353:2\")","v":{"$error":"#N/A"}},{"$f":"RTD(\"sysq.rtd\",\"\",\"!DTAI`LC.99-0353:2\")","v":{"$error":"#N/A"}},{"$f":"RTD(\"sysq.rtd\",\"\",\"WTX&`004.10-0353:2\")","v":{"$error":"#N/A"}},{"$error":"#N/A"}]
["0354",{"$f":"RTD(\"sysq.rtd\",\"\",\"!DTSH`LC.99-0354:2\")","v":{"$error":"#N/A"}},{"$f":"RTD(\"sysq.rtd\",\"\",\"!DTDH`LC.99-0354:2\")","v":{"$error":"#N/A"}},{"$f":"RTD(\"sysq.rtd\",\"\",\"!XTSH`LC.99-0354:2\")","v":{"$error":"#N/A"}},{"$f":"RTD(\"sysq.rtd\",\"\",\"!XTDH`LC.99-0354:2\")","v":{"$error":"#N/A"}},{"$f":"RTD(\"sysq.rtd\",\"\",\"!DTAI`LC.99-0354:2\")","v":{"$error":"#N/A"}},{"$f":"RTD(\"sysq.rtd\",\"\",\"WTX&`004.10-0354:2\")","v":{"$error":"#N/A"}},{"$error":"#N/A"}]
["0355",{"$f":"RTD(\"sysq.rtd\",\"\",\"!DTSH`LC.99-0355:2\")","v":{"$error":"#N/A"}},{"$f":"RTD(\"sysq.rtd\",\"\",\"!DTDH`LC.99-0355:2\")","v":{"$error":"#N/A"}},{"$f":"RTD(\"sysq.rtd\",\"\",\"!XTSH`LC.99-0355:2\")","v":{"$error":"#N/A"}},{"$f":"RTD(\"sysq.rtd\",\"\",\"!XTDH`LC.99-0355:2\")","v":{"$error":"#N/A"}},{"$f":"RTD(\"sysq.rtd\",\"\",\"!DTAI`LC.99-0355:2\")","v":{"$error":"#N/A"}},{"$f":"RTD(\"sysq.rtd\",\"\",\"WTX&`004.10-0355:2\")","v":{"$error":"#N/A"}},{"$error":"#N/A"}]
["0356",{"$f":"RTD(\"sysq.rtd\",\"\",\"!DTSH`LC.99-0356:2\")","v":{"$error":"#N/A"}},{"$f":"RTD(\"sysq.rtd\",\"\",\"!DTDH`LC.99-0356:2\")","v":{"$error":"#N/A"}},{"$f":"RTD(\"sysq.rtd\",\"\",\"!XTSH`LC.99-0356:2\")","v":{"$error":"#N/A"}},{"$f":"RTD(\"sysq.rtd\",\"\",\"!XTDH`LC.99-0356:2\")","v":{"$error":"#N/A"}},{"$f":"RTD(\"sysq.rtd\",\"\",\"!DTAI`LC.99-0356:2\")","v":{"$error":"#N/A"}},{"$f":"RTD(\"sysq.rtd\",\"\",\"WTX&`004.10-0356:2\")","v":{"$error":"#N/A"}},{"$error":"#N/A"}]
["0357",{"$f":"RTD(\"sysq.rtd\",\"\",\"!DTSH`LC.99-0357:2\")","v":{"$error":"#N/A"}},{"$f":"RTD(\"sysq.rtd\",\"\",\"!DTDH`LC.99-0357:2\")","v":{"$error":"#N/A"}},{"$f":"RTD(\"sysq.rtd\",\"\",\"!XTSH`LC.99-0357:2\")","v":{"$error":"#N/A"}},{"$f":"RTD(\"sysq.rtd\",\"\",\"!XTDH`LC.99-0357:2\")","v":{"$error":"#N/A"}},{"$f":"RTD(\"sysq.rtd\",\"\",\"!DTAI`LC.99-0357:2\")","v":{"$error":"#N/A"}},{"$f":"RTD(\"sysq.rtd\",\"\",\"WTX&`004.10-0357:2\")","v":{"$error":"#N/A"}},{"$error":"#N/A"}]
["0358",{"$f":"RTD(\"sysq.rtd\",\"\",\"!DTSH`LC.99-0358:2\")","v":{"$error":"#N/A"}},{"$f":"RTD(\"sysq.rtd\",\"\",\"!DTDH`LC.99-0358:2\")","v":{"$error":"#N/A"}},{"$f":"RTD(\"sysq.rtd\",\"\",\"!XTSH`LC.99-0358:2\")","v":{"$error":"#N/A"}},{"$f":"RTD(\"sysq.rtd\",\"\",\"!XTDH`LC.99-0358:2\")","v":{"$error":"#N/A"}},{"$f":"RTD(\"sysq.rtd\",\"\",\"!DTAI`LC.99-0358:2\")","v":{"$error":"#N/A"}},{"$f":"RTD(\"sysq.rtd\",\"\",\"WTX&`004.10-0358:2\")","v":{"$error":"#N/A"}},{"$error":"#N/A"}]
["0359",{"$f":"RTD(\"sysq.rtd\",\"\",\"!DTSH`LC.99-0359:2\")","v":{"$error":"#N/A"}},{"$f":"RTD(\"sysq.rtd\",\"\",\"!DTDH`LC.99-0359:2\")","v":{"$error":"#N/A"}},{"$f":"RTD(\"sysq.rtd\",\"\",\"!XTSH`LC.99-0359:2\")","v":{"$error":"#N/A"}},{"$f":"RTD(\"sysq.rtd\",\"\",\"!XTDH`LC.99-0359:2\")","v":{"$error":"#N/A"}},{"$f":"RTD(\"sysq.rtd\",\"\",\"!DTAI`LC.99-0359:2\")","v":{"$error":"#N/A"}},{"$f":"RTD(\"sysq.rtd\",\"\",\"WTX&`004.10-0359:2\")","v":{"$error":"#N/A"}},{"$error":"#N/A"}]
["0400",{"$f":"RTD(\"sysq.rtd\",\"\",\"!DTSH`LC.99-0400:2\")","v":{"$error":"#N/A"}},{"$f":"RTD(\"sysq.rtd\",\"\",\"!DTDH`LC.99-0400:2\")","v":{"$error":"#N/A"}},{"$f":"RTD(\"sysq.rtd\",\"\",\"!XTSH`LC.99-0400:2\")","v":{"$error":"#N/A"}},{"$f":"RTD(\"sysq.rtd\",\"\",\"!XTDH`LC.99-0400:2\")","v":{"$error":"#N/A"}},{"$f":"RTD(\"sysq.rtd\",\"\",\"!DTAI`LC.99-0400:2\")","v":{"$error":"#N/A"}},{"$f":"RTD(\"sysq.rtd\",\"\",\"WTX&`004.10-0400:2\")","v":{"$error":"#N/A"}},{"$error":"#N/A"}]
["0401",{"$f":"RTD(\"sysq.rtd\",\"\",\"!DTSH`LC.99-0401:2\")","v":{"$error":"#N/A"}},{"$f":"RTD(\"sysq.rtd\",\"\",\"!DTDH`LC.99-0401:2\")","v":{"$error":"#N/A"}},{"$f":"RTD(\"sysq.rtd\",\"\",\"!XTSH`LC.99-0401:2\")","v":{"$error":"#N/A"}},{"$f":"RTD(\"sysq.rtd\",\"\",\"!XTDH`LC.99-0401:2\")","v":{"$error":"#N/A"}},{"$f":"RTD(\"sysq.rtd\",\"\",\"!DTAI`LC.99-0401:2\")","v":{"$error":"#N/A"}},{"$f":"RTD(\"sysq.rtd\",\"\",\"WTX&`004.10-0401:2\")","v":{"$error":"#N/A"}},{"$error":"#N/A"}]
["0402",{"$f":"RTD(\"sysq.rtd\",\"\",\"!DTSH`LC.99-0402:2\")","v":{"$error":"#N/A"}},{"$f":"RTD(\"sysq.rtd\",\"\",\"!DTDH`LC.99-0402:2\")","v":{"$error":"#N/A"}},{"$f":"RTD(\"sysq.rtd\",\"\",\"!XTSH`LC.99-0402:2\")","v":{"$error":"#N/A"}},{"$f":"RTD(\"sysq.rtd\",\"\",\"!XTDH`LC.99-0402:2\")","v":{"$error":"#N/A"}},{"$f":"RTD(\"sysq.rtd\",\"\",\"!DTAI`LC.99-0402:2\")","v":{"$error":"#N/A"}},{"$f":"RTD(\"sysq.rtd\",\"\",\"WTX&`004.10-0402:2\")","v":{"$error":"#N/A"}},{"$error":"#N/A"}]
["0403",{"$f":"RTD(\"sysq.rtd\",\"\",\"!DTSH`LC.99-0403:2\")","v":{"$error":"#N/A"}},{"$f":"RTD(\"sysq.rtd\",\"\",\"!DTDH`LC.99-0403:2\")","v":{"$error":"#N/A"}},{"$f":"RTD(\"sysq.rtd\",\"\",\"!XTSH`LC.99-0403:2\")","v":{"$error":"#N/A"}},{"$f":"RTD(\"sysq.rtd\",\"\",\"!XTDH`LC.99-0403:2\")","v":{"$error":"#N/A"}},{"$f":"RTD(\"sysq.rtd\",\"\",\"!DTAI`LC.99-0403:2\")","v":{"$error":"#N/A"}},{"$f":"RTD(\"sysq.rtd\",\"\",\"WTX&`004.10-0403:2\")","v":{"$error":"#N/A"}},{"$error":"#N/A"}]
["0404",{"$f":"RTD(\"sysq.rtd\",\"\",\"!DTSH`LC.99-0404:2\")","v":{"$error":"#N/A"}},{"$f":"RTD(\"sysq.rtd\",\"\",\"!DTDH`LC.99-0404:2\")","v":{"$error":"#N/A"}},{"$f":"RTD(\"sysq.rtd\",\"\",\"!XTSH`LC.99-0404:2\")","v":{"$error":"#N/A"}},{"$f":"RTD(\"sysq.rtd\",\"\",\"!XTDH`LC.99-0404:2\")","v":{"$error":"#N/A"}},{"$f":"RTD(\"sysq.rtd\",\"\",\"!DTAI`LC.99-0404:2\")","v":{"$error":"#N/A"}},{"$f":"RTD(\"sysq.rtd\",\"\",\"WTX&`004.10-0404:2\")","v":{"$error":"#N/A"}},{"$error":"#N/A"}]
["0405",{"$f":"RTD(\"sysq.rtd\",\"\",\"!DTSH`LC.99-0405:2\")","v":{"$error":"#N/A"}},{"$f":"RTD(\"sysq.rtd\",\"\",\"!DTDH`LC.99-0405:2\")","v":{"$error":"#N/A"}},{"$f":"RTD(\"sysq.rtd\",\"\",\"!XTSH`LC.99-0405:2\")","v":{"$error":"#N/A"}},{"$f":"RTD(\"sysq.rtd\",\"\",\"!XTDH`LC.99-0405:2\")","v":{"$error":"#N/A"}},{"$f":"RTD(\"sysq.rtd\",\"\",\"!DTAI`LC.99-0405:2\")","v":{"$error":"#N/A"}},{"$f":"RTD(\"sysq.rtd\",\"\",\"WTX&`004.10-0405:2\")","v":{"$error":"#N/A"}},{"$error":"#N/A"}]
["0406",{"$f":"RTD(\"sysq.rtd\",\"\",\"!DTSH`LC.99-0406:2\")","v":{"$error":"#N/A"}},{"$f":"RTD(\"sysq.rtd\",\"\",\"!DTDH`LC.99-0406:2\")","v":{"$error":"#N/A"}},{"$f":"RTD(\"sysq.rtd\",\"\",\"!XTSH`LC.99-0406:2\")","v":{"$error":"#N/A"}},{"$f":"RTD(\"sysq.rtd\",\"\",\"!XTDH`LC.99-0406:2\")","v":{"$error":"#N/A"}},{"$f":"RTD(\"sysq.rtd\",\"\",\"!DTAI`LC.99-0406:2\")","v":{"$error":"#N/A"}},{"$f":"RTD(\"sysq.rtd\",\"\",\"WTX&`004.10-0406:2\")","v":{"$error":"#N/A"}},{"$error":"#N/A"}]
["0407",{"$f":"RTD(\"sysq.rtd\",\"\",\"!DTSH`LC.99-0407:2\")","v":{"$error":"#N/A"}},{"$f":"RTD(\"sysq.rtd\",\"\",\"!DTDH`LC.99-0407:2\")","v":{"$error":"#N/A"}},{"$f":"RTD(\"sysq.rtd\",\"\",\"!XTSH`LC.99-0407:2\")","v":{"$error":"#N/A"}},{"$f":"RTD(\"sysq.rtd\",\"\",\"!XTDH`LC.99-0407:2\")","v":{"$error":"#N/A"}},{"$f":"RTD(\"sysq.rtd\",\"\",\"!DTAI`LC.99-0407:2\")","v":{"$error":"#N/A"}},{"$f":"RTD(\"sysq.rtd\",\"\",\"WTX&`004.10-0407:2\")","v":{"$error":"#N/A"}},{"$error":"#N/A"}]
["0408",{"$f":"RTD(\"sysq.rtd\",\"\",\"!DTSH`LC.99-0408:2\")","v":{"$error":"#N/A"}},{"$f":"RTD(\"sysq.rtd\",\"\",\"!DTDH`LC.99-0408:2\")","v":{"$error":"#N/A"}},{"$f":"RTD(\"sysq.rtd\",\"\",\"!XTSH`LC.99-0408:2\")","v":{"$error":"#N/A"}},{"$f":"RTD(\"sysq.rtd\",\"\",\"!XTDH`LC.99-0408:2\")","v":{"$error":"#N/A"}},{"$f":"RTD(\"sysq.rtd\",\"\",\"!DTAI`LC.99-0408:2\")","v":{"$error":"#N/A"}},{"$f":"RTD(\"sysq.rtd\",\"\",\"WTX&`004.10-0408:2\")","v":{"$error":"#N/A"}},{"$f":"SQRT(ABS(F1094))*(ABS(F1094)/F1094)","v":{"$error":"#N/A"}}]
["0409",{"$f":"RTD(\"sysq.rtd\",\"\",\"!DTSH`LC.99-0409:2\")","v":{"$error":"#N/A"}},{"$f":"RTD(\"sysq.rtd\",\"\",\"!DTDH`LC.99-0409:2\")","v":{"$error":"#N/A"}},{"$f":"RTD(\"sysq.rtd\",\"\",\"!XTSH`LC.99-0409:2\")","v":{"$error":"#N/A"}},{"$f":"RTD(\"sysq.rtd\",\"\",\"!XTDH`LC.99-0409:2\")","v":{"$error":"#N/A"}},{"$f":"RTD(\"sysq.rtd\",\"\",\"!DTAI`LC.99-0409:2\")","v":{"$error":"#N/A"}},{"$f":"RTD(\"sysq.rtd\",\"\",\"WTX&`004.10-0409:2\")","v":{"$error":"#N/A"}},{"$error":"#N/A"}]
["0410",{"$f":"RTD(\"sysq.rtd\",\"\",\"!DTSH`LC.99-0410:2\")","v":{"$error":"#N/A"}},{"$f":"RTD(\"sysq.rtd\",\"\",\"!DTDH`LC.99-0410:2\")","v":{"$error":"#N/A"}},{"$f":"RTD(\"sysq.rtd\",\"\",\"!XTSH`LC.99-0410:2\")","v":{"$error":"#N/A"}},{"$f":"RTD(\"sysq.rtd\",\"\",\"!XTDH`LC.99-0410:2\")","v":{"$error":"#N/A"}},{"$f":"RTD(\"sysq.rtd\",\"\",\"!DTAI`LC.99-0410:2\")","v":{"$error":"#N/A"}},{"$f":"RTD(\"sysq.rtd\",\"\",\"WTX&`004.10-0410:2\")","v":{"$error":"#N/A"}},{"$error":"#N/A"}]
["0411",{"$f":"RTD(\"sysq.rtd\",\"\",\"!DTSH`LC.99-0411:2\")","v":{"$error":"#N/A"}},{"$f":"RTD(\"sysq.rtd\",\"\",\"!DTDH`LC.99-0411:2\")","v":{"$error":"#N/A"}},{"$f":"RTD(\"sysq.rtd\",\"\",\"!XTSH`LC.99-0411:2\")","v":{"$error":"#N/A"}},{"$f":"RTD(\"sysq.rtd\",\"\",\"!XTDH`LC.99-0411:2\")","v":{"$error":"#N/A"}},{"$f":"RTD(\"sysq.rtd\",\"\",\"!DTAI`LC.99-0411:2\")","v":{"$error":"#N/A"}},{"$f":"RTD(\"sysq.rtd\",\"\",\"WTX&`004.10-0411:2\")","v":{"$error":"#N/A"}},{"$error":"#N/A"}]
["0412",{"$f":"RTD(\"sysq.rtd\",\"\",\"!DTSH`LC.99-0412:2\")","v":{"$error":"#N/A"}},{"$f":"RTD(\"sysq.rtd\",\"\",\"!DTDH`LC.99-0412:2\")","v":{"$error":"#N/A"}},{"$f":"RTD(\"sysq.rtd\",\"\",\"!XTSH`LC.99-0412:2\")","v":{"$error":"#N/A"}},{"$f":"RTD(\"sysq.rtd\",\"\",\"!XTDH`LC.99-0412:2\")","v":{"$error":"#N/A"}},{"$f":"RTD(\"sysq.rtd\",\"\",\"!DTAI`LC.99-0412:2\")","v":{"$error":"#N/A"}},{"$f":"RTD(\"sysq.rtd\",\"\",\"WTX&`004.10-0412:2\")","v":{"$error":"#N/A"}},{"$error":"#N/A"}]
["0413",{"$f":"RTD(\"sysq.rtd\",\"\",\"!DTSH`LC.99-0413:2\")","v":{"$error":"#N/A"}},{"$f":"RTD(\"sysq.rtd\",\"\",\"!DTDH`LC.99-0413:2\")","v":{"$error":"#N/A"}},{"$f":"RTD(\"sysq.rtd\",\"\",\"!XTSH`LC.99-0413:2\")","v":{"$error":"#N/A"}},{"$f":"RTD(\"sysq.rtd\",\"\",\"!XTDH`LC.99-0413:2\")","v":{"$error":"#N/A"}},{"$f":"RTD(\"sysq.rtd\",\"\",\"!DTAI`LC.99-0413:2\")","v":{"$error":"#N/A"}},{"$f":"RTD(\"sysq.rtd\",\"\",\"WTX&`004.10-0413:2\")","v":{"$error":"#N/A"}},{"$error":"#N/A"}]
["0414",{"$f":"RTD(\"sysq.rtd\",\"\",\"!DTSH`LC.99-0414:2\")","v":{"$error":"#N/A"}},{"$f":"RTD(\"sysq.rtd\",\"\",\"!DTDH`LC.99-0414:2\")","v":{"$error":"#N/A"}},{"$f":"RTD(\"sysq.rtd\",\"\",\"!XTSH`LC.99-0414:2\")","v":{"$error":"#N/A"}},{"$f":"RTD(\"sysq.rtd\",\"\",\"!XTDH`LC.99-0414:2\")","v":{"$error":"#N/A"}},{"$f":"RTD(\"sysq.rtd\",\"\",\"!DTAI`LC.99-0414:2\")","v":{"$error":"#N/A"}},{"$f":"RTD(\"sysq.rtd\",\"\",\"WTX&`004.10-0414:2\")","v":{"$error":"#N/A"}},{"$error":"#N/A"}]
["0415",{"$f":"RTD(\"sysq.rtd\",\"\",\"!DTSH`LC.99-0415:2\")","v":{"$error":"#N/A"}},{"$f":"RTD(\"sysq.rtd\",\"\",\"!DTDH`LC.99-0415:2\")","v":{"$error":"#N/A"}},{"$f":"RTD(\"sysq.rtd\",\"\",\"!XTSH`LC.99-0415:2\")","v":{"$error":"#N/A"}},{"$f":"RTD(\"sysq.rtd\",\"\",\"!XTDH`LC.99-0415:2\")","v":{"$error":"#N/A"}},{"$f":"RTD(\"sysq.rtd\",\"\",\"!DTAI`LC.99-0415:2\")","v":{"$error":"#N/A"}},{"$f":"RTD(\"sysq.rtd\",\"\",\"WTX&`004.10-0415:2\")","v":{"$error":"#N/A"}},{"$error":"#N/A"}]
["0416",{"$f":"RTD(\"sysq.rtd\",\"\",\"!DTSH`LC.99-0416:2\")","v":{"$error":"#N/A"}},{"$f":"RTD(\"sysq.rtd\",\"\",\"!DTDH`LC.99-0416:2\")","v":{"$error":"#N/A"}},{"$f":"RTD(\"sysq.rtd\",\"\",\"!XTSH`LC.99-0416:2\")","v":{"$error":"#N/A"}},{"$f":"RTD(\"sysq.rtd\",\"\",\"!XTDH`LC.99-0416:2\")","v":{"$error":"#N/A"}},{"$f":"RTD(\"sysq.rtd\",\"\",\"!DTAI`LC.99-0416:2\")","v":{"$error":"#N/A"}},{"$f":"RTD(\"sysq.rtd\",\"\",\"WTX&`004.10-0416:2\")","v":{"$error":"#N/A"}},{"$error":"#N/A"}]
["0417",{"$f":"RTD(\"sysq.rtd\",\"\",\"!DTSH`LC.99-0417:2\")","v":{"$error":"#N/A"}},{"$f":"RTD(\"sysq.rtd\",\"\",\"!DTDH`LC.99-0417:2\")","v":{"$error":"#N/A"}},{"$f":"RTD(\"sysq.rtd\",\"\",\"!XTSH`LC.99-0417:2\")","v":{"$error":"#N/A"}},{"$f":"RTD(\"sysq.rtd\",\"\",\"!XTDH`LC.99-0417:2\")","v":{"$error":"#N/A"}},{"$f":"RTD(\"sysq.rtd\",\"\",\"!DTAI`LC.99-0417:2\")","v":{"$error":"#N/A"}},{"$f":"RTD(\"sysq.rtd\",\"\",\"WTX&`004.10-0417:2\")","v":{"$error":"#N/A"}},{"$error":"#N/A"}]
["0418",{"$f":"RTD(\"sysq.rtd\",\"\",\"!DTSH`LC.99-0418:2\")","v":{"$error":"#N/A"}},{"$f":"RTD(\"sysq.rtd\",\"\",\"!DTDH`LC.99-0418:2\")","v":{"$error":"#N/A"}},{"$f":"RTD(\"sysq.rtd\",\"\",\"!XTSH`LC.99-0418:2\")","v":{"$error":"#N/A"}},{"$f":"RTD(\"sysq.rtd\",\"\",\"!XTDH`LC.99-0418:2\")","v":{"$error":"#N/A"}},{"$f":"RTD(\"sysq.rtd\",\"\",\"!DTAI`LC.99-0418:2\")","v":{"$error":"#N/A"}},{"$f":"RTD(\"sysq.rtd\",\"\",\"WTX&`004.10-0418:2\")","v":{"$error":"#N/A"}},{"$error":"#N/A"}]
["0419",{"$f":"RTD(\"sysq.rtd\",\"\",\"!DTSH`LC.99-0419:2\")","v":{"$error":"#N/A"}},{"$f":"RTD(\"sysq.rtd\",\"\",\"!DTDH`LC.99-0419:2\")","v":{"$error":"#N/A"}},{"$f":"RTD(\"sysq.rtd\",\"\",\"!XTSH`LC.99-0419:2\")","v":{"$error":"#N/A"}},{"$f":"RTD(\"sysq.rtd\",\"\",\"!XTDH`LC.99-0419:2\")","v":{"$error":"#N/A"}},{"$f":"RTD(\"sysq.rtd\",\"\",\"!DTAI`LC.99-0419:2\")","v":{"$error":"#N/A"}},{"$f":"RTD(\"sysq.rtd\",\"\",\"WTX&`004.10-0419:2\")","v":{"$error":"#N/A"}},{"$error":"#N/A"}]
["0420",{"$f":"RTD(\"sysq.rtd\",\"\",\"!DTSH`LC.99-0420:2\")","v":{"$error":"#N/A"}},{"$f":"RTD(\"sysq.rtd\",\"\",\"!DTDH`LC.99-0420:2\")","v":{"$error":"#N/A"}},{"$f":"RTD(\"sysq.rtd\",\"\",\"!XTSH`LC.99-0420:2\")","v":{"$error":"#N/A"}},{"$f":"RTD(\"sysq.rtd\",\"\",\"!XTDH`LC.99-0420:2\")","v":{"$error":"#N/A"}},{"$f":"RTD(\"sysq.rtd\",\"\",\"!DTAI`LC.99-0420:2\")","v":{"$error":"#N/A"}},{"$f":"RTD(\"sysq.rtd\",\"\",\"WTX&`004.10-0420:2\")","v":{"$error":"#N/A"}},{"$error":"#N/A"}]
["0421",{"$f":"RTD(\"sysq.rtd\",\"\",\"!DTSH`LC.99-0421:2\")","v":{"$error":"#N/A"}},{"$f":"RTD(\"sysq.rtd\",\"\",\"!DTDH`LC.99-0421:2\")","v":{"$error":"#N/A"}},{"$f":"RTD(\"sysq.rtd\",\"\",\"!XTSH`LC.99-0421:2\")","v":{"$error":"#N/A"}},{"$f":"RTD(\"sysq.rtd\",\"\",\"!XTDH`LC.99-0421:2\")","v":{"$error":"#N/A"}},{"$f":"RTD(\"sysq.rtd\",\"\",\"!DTAI`LC.99-0421:2\")","v":{"$error":"#N/A"}},{"$f":"RTD(\"sysq.rtd\",\"\",\"WTX&`004.10-0421:2\")","v":{"$error":"#N/A"}},{"$error":"#N/A"}]
["0422",{"$f":"RTD(\"sysq.rtd\",\"\",\"!DTSH`LC.99-0422:2\")","v":{"$error":"#N/A"}},{"$f":"RTD(\"sysq.rtd\",\"\",\"!DTDH`LC.99-0422:2\")","v":{"$error":"#N/A"}},{"$f":"RTD(\"sysq.rtd\",\"\",\"!XTSH`LC.99-0422:2\")","v":{"$error":"#N/A"}},{"$f":"RTD(\"sysq.rtd\",\"\",\"!XTDH`LC.99-0422:2\")","v":{"$error":"#N/A"}},{"$f":"RTD(\"sysq.rtd\",\"\",\"!DTAI`LC.99-0422:2\")","v":{"$error":"#N/A"}},{"$f":"RTD(\"sysq.rtd\",\"\",\"WTX&`004.10-0422:2\")","v":{"$error":"#N/A"}},{"$error":"#N/A"}]
["0423",{"$f":"RTD(\"sysq.rtd\",\"\",\"!DTSH`LC.99-0423:2\")","v":{"$error":"#N/A"}},{"$f":"RTD(\"sysq.rtd\",\"\",\"!DTDH`LC.99-0423:2\")","v":{"$error":"#N/A"}},{"$f":"RTD(\"sysq.rtd\",\"\",\"!XTSH`LC.99-0423:2\")","v":{"$error":"#N/A"}},{"$f":"RTD(\"sysq.rtd\",\"\",\"!XTDH`LC.99-0423:2\")","v":{"$error":"#N/A"}},{"$f":"RTD(\"sysq.rtd\",\"\",\"!DTAI`LC.99-0423:2\")","v":{"$error":"#N/A"}},{"$f":"RTD(\"sysq.rtd\",\"\",\"WTX&`004.10-0423:2\")","v":{"$error":"#N/A"}},{"$error":"#N/A"}]
["0424",{"$f":"RTD(\"sysq.rtd\",\"\",\"!DTSH`LC.99-0424:2\")","v":{"$error":"#N/A"}},{"$f":"RTD(\"sysq.rtd\",\"\",\"!DTDH`LC.99-0424:2\")","v":{"$error":"#N/A"}},{"$f":"RTD(\"sysq.rtd\",\"\",\"!XTSH`LC.99-0424:2\")","v":{"$error":"#N/A"}},{"$f":"RTD(\"sysq.rtd\",\"\",\"!XTDH`LC.99-0424:2\")","v":{"$error":"#N/A"}},{"$f":"RTD(\"sysq.rtd\",\"\",\"!DTAI`LC.99-0424:2\")","v":{"$error":"#N/A"}},{"$f":"RTD(\"sysq.rtd\",\"\",\"WTX&`004.10-0424:2\")","v":{"$error":"#N/A"}},{"$error":"#N/A"}]
["0425",{"$f":"RTD(\"sysq.rtd\",\"\",\"!DTSH`LC.99-0425:2\")","v":{"$error":"#N/A"}},{"$f":"RTD(\"sysq.rtd\",\"\",\"!DTDH`LC.99-0425:2\")","v":{"$error":"#N/A"}},{"$f":"RTD(\"sysq.rtd\",\"\",\"!XTSH`LC.99-0425:2\")","v":{"$error":"#N/A"}},{"$f":"RTD(\"sysq.rtd\",\"\",\"!XTDH`LC.99-0425:2\")","v":{"$error":"#N/A"}},{"$f":"RTD(\"sysq.rtd\",\"\",\"!DTAI`LC.99-0425:2\")","v":{"$error":"#N/A"}},{"$f":"RTD(\"sysq.rtd\",\"\",\"WTX&`004.10-0425:2\")","v":{"$error":"#N/A"}},{"$error":"#N/A"}]
["0426",{"$f":"RTD(\"sysq.rtd\",\"\",\"!DTSH`LC.99-0426:2\")","v":{"$error":"#N/A"}},{"$f":"RTD(\"sysq.rtd\",\"\",\"!DTDH`LC.99-0426:2\")","v":{"$error":"#N/A"}},{"$f":"RTD(\"sysq.rtd\",\"\",\"!XTSH`LC.99-0426:2\")","v":{"$error":"#N/A"}},{"$f":"RTD(\"sysq.rtd\",\"\",\"!XTDH`LC.99-0426:2\")","v":{"$error":"#N/A"}},{"$f":"RTD(\"sysq.rtd\",\"\",\"!DTAI`LC.99-0426:2\")","v":{"$error":"#N/A"}},{"$f":"RTD(\"sysq.rtd\",\"\",\"WTX&`004.10-0426:2\")","v":{"$error":"#N/A"}},{"$error":"#N/A"}]
["0427",{"$f":"RTD(\"sysq.rtd\",\"\",\"!DTSH`LC.99-0427:2\")","v":{"$error":"#N/A"}},{"$f":"RTD(\"sysq.rtd\",\"\",\"!DTDH`LC.99-0427:2\")","v":{"$error":"#N/A"}},{"$f":"RTD(\"sysq.rtd\",\"\",\"!XTSH`LC.99-0427:2\")","v":{"$error":"#N/A"}},{"$f":"RTD(\"sysq.rtd\",\"\",\"!XTDH`LC.99-0427:2\")","v":{"$error":"#N/A"}},{"$f":"RTD(\"sysq.rtd\",\"\",\"!DTAI`LC.99-0427:2\")","v":{"$error":"#N/A"}},{"$f":"RTD(\"sysq.rtd\",\"\",\"WTX&`004.10-0427:2\")","v":{"$error":"#N/A"}},{"$error":"#N/A"}]
["0428",{"$f":"RTD(\"sysq.rtd\",\"\",\"!DTSH`LC.99-0428:2\")","v":{"$error":"#N/A"}},{"$f":"RTD(\"sysq.rtd\",\"\",\"!DTDH`LC.99-0428:2\")","v":{"$error":"#N/A"}},{"$f":"RTD(\"sysq.rtd\",\"\",\"!XTSH`LC.99-0428:2\")","v":{"$error":"#N/A"}},{"$f":"RTD(\"sysq.rtd\",\"\",\"!XTDH`LC.99-0428:2\")","v":{"$error":"#N/A"}},{"$f":"RTD(\"sysq.rtd\",\"\",\"!DTAI`LC.99-0428:2\")","v":{"$error":"#N/A"}},{"$f":"RTD(\"sysq.rtd\",\"\",\"WTX&`004.10-0428:2\")","v":{"$error":"#N/A"}},{"$error":"#N/A"}]
["0429",{"$f":"RTD(\"sysq.rtd\",\"\",\"!DTSH`LC.99-0429:2\")","v":{"$error":"#N/A"}},{"$f":"RTD(\"sysq.rtd\",\"\",\"!DTDH`LC.99-0429:2\")","v":{"$error":"#N/A"}},{"$f":"RTD(\"sysq.rtd\",\"\",\"!XTSH`LC.99-0429:2\")","v":{"$error":"#N/A"}},{"$f":"RTD(\"sysq.rtd\",\"\",\"!XTDH`LC.99-0429:2\")","v":{"$error":"#N/A"}},{"$f":"RTD(\"sysq.rtd\",\"\",\"!DTAI`LC.99-0429:2\")","v":{"$error":"#N/A"}},{"$f":"RTD(\"sysq.rtd\",\"\",\"WTX&`004.10-0429:2\")","v":{"$error":"#N/A"}},{"$error":"#N/A"}]
["0430",{"$f":"RTD(\"sysq.rtd\",\"\",\"!DTSH`LC.99-0430:2\")","v":{"$error":"#N/A"}},{"$f":"RTD(\"sysq.rtd\",\"\",\"!DTDH`LC.99-0430:2\")","v":{"$error":"#N/A"}},{"$f":"RTD(\"sysq.rtd\",\"\",\"!XTSH`LC.99-0430:2\")","v":{"$error":"#N/A"}},{"$f":"RTD(\"sysq.rtd\",\"\",\"!XTDH`LC.99-0430:2\")","v":{"$error":"#N/A"}},{"$f":"RTD(\"sysq.rtd\",\"\",\"!DTAI`LC.99-0430:2\")","v":{"$error":"#N/A"}},{"$f":"RTD(\"sysq.rtd\",\"\",\"WTX&`004.10-0430:2\")","v":{"$error":"#N/A"}},{"$error":"#N/A"}]
["0431",{"$f":"RTD(\"sysq.rtd\",\"\",\"!DTSH`LC.99-0431:2\")","v":{"$error":"#N/A"}},{"$f":"RTD(\"sysq.rtd\",\"\",\"!DTDH`LC.99-0431:2\")","v":{"$error":"#N/A"}},{"$f":"RTD(\"sysq.rtd\",\"\",\"!XTSH`LC.99-0431:2\")","v":{"$error":"#N/A"}},{"$f":"RTD(\"sysq.rtd\",\"\",\"!XTDH`LC.99-0431:2\")","v":{"$error":"#N/A"}},{"$f":"RTD(\"sysq.rtd\",\"\",\"!DTAI`LC.99-0431:2\")","v":{"$error":"#N/A"}},{"$f":"RTD(\"sysq.rtd\",\"\",\"WTX&`004.10-0431:2\")","v":{"$error":"#N/A"}},{"$error":"#N/A"}]
["0432",{"$f":"RTD(\"sysq.rtd\",\"\",\"!DTSH`LC.99-0432:2\")","v":{"$error":"#N/A"}},{"$f":"RTD(\"sysq.rtd\",\"\",\"!DTDH`LC.99-0432:2\")","v":{"$error":"#N/A"}},{"$f":"RTD(\"sysq.rtd\",\"\",\"!XTSH`LC.99-0432:2\")","v":{"$error":"#N/A"}},{"$f":"RTD(\"sysq.rtd\",\"\",\"!XTDH`LC.99-0432:2\")","v":{"$error":"#N/A"}},{"$f":"RTD(\"sysq.rtd\",\"\",\"!DTAI`LC.99-0432:2\")","v":{"$error":"#N/A"}},{"$f":"RTD(\"sysq.rtd\",\"\",\"WTX&`004.10-0432:2\")","v":{"$error":"#N/A"}},{"$error":"#N/A"}]
["0433",{"$f":"RTD(\"sysq.rtd\",\"\",\"!DTSH`LC.99-0433:2\")","v":{"$error":"#N/A"}},{"$f":"RTD(\"sysq.rtd\",\"\",\"!DTDH`LC.99-0433:2\")","v":{"$error":"#N/A"}},{"$f":"RTD(\"sysq.rtd\",\"\",\"!XTSH`LC.99-0433:2\")","v":{"$error":"#N/A"}},{"$f":"RTD(\"sysq.rtd\",\"\",\"!XTDH`LC.99-0433:2\")","v":{"$error":"#N/A"}},{"$f":"RTD(\"sysq.rtd\",\"\",\"!DTAI`LC.99-0433:2\")","v":{"$error":"#N/A"}},{"$f":"RTD(\"sysq.rtd\",\"\",\"WTX&`004.10-0433:2\")","v":{"$error":"#N/A"}},{"$error":"#N/A"}]
["0434",{"$f":"RTD(\"sysq.rtd\",\"\",\"!DTSH`LC.99-0434:2\")","v":{"$error":"#N/A"}},{"$f":"RTD(\"sysq.rtd\",\"\",\"!DTDH`LC.99-0434:2\")","v":{"$error":"#N/A"}},{"$f":"RTD(\"sysq.rtd\",\"\",\"!XTSH`LC.99-0434:2\")","v":{"$error":"#N/A"}},{"$f":"RTD(\"sysq.rtd\",\"\",\"!XTDH`LC.99-0434:2\")","v":{"$error":"#N/A"}},{"$f":"RTD(\"sysq.rtd\",\"\",\"!DTAI`LC.99-0434:2\")","v":{"$error":"#N/A"}},{"$f":"RTD(\"sysq.rtd\",\"\",\"WTX&`004.10-0434:2\")","v":{"$error":"#N/A"}},{"$error":"#N/A"}]
["0435",{"$f":"RTD(\"sysq.rtd\",\"\",\"!DTSH`LC.99-0435:2\")","v":{"$error":"#N/A"}},{"$f":"RTD(\"sysq.rtd\",\"\",\"!DTDH`LC.99-0435:2\")","v":{"$error":"#N/A"}},{"$f":"RTD(\"sysq.rtd\",\"\",\"!XTSH`LC.99-0435:2\")","v":{"$error":"#N/A"}},{"$f":"RTD(\"sysq.rtd\",\"\",\"!XTDH`LC.99-0435:2\")","v":{"$error":"#N/A"}},{"$f":"RTD(\"sysq.rtd\",\"\",\"!DTAI`LC.99-0435:2\")","v":{"$error":"#N/A"}},{"$f":"RTD(\"sysq.rtd\",\"\",\"WTX&`004.10-0435:2\")","v":{"$error":"#N/A"}},{"$error":"#N/A"}]
["0436",{"$f":"RTD(\"sysq.rtd\",\"\",\"!DTSH`LC.99-0436:2\")","v":{"$error":"#N/A"}},{"$f":"RTD(\"sysq.rtd\",\"\",\"!DTDH`LC.99-0436:2\")","v":{"$error":"#N/A"}},{"$f":"RTD(\"sysq.rtd\",\"\",\"!XTSH`LC.99-0436:2\")","v":{"$error":"#N/A"}},{"$f":"RTD(\"sysq.rtd\",\"\",\"!XTDH`LC.99-0436:2\")","v":{"$error":"#N/A"}},{"$f":"RTD(\"sysq.rtd\",\"\",\"!DTAI`LC.99-0436:2\")","v":{"$error":"#N/A"}},{"$f":"RTD(\"sysq.rtd\",\"\",\"WTX&`004.10-0436:2\")","v":{"$error":"#N/A"}},{"$error":"#N/A"}]
["0437",{"$f":"RTD(\"sysq.rtd\",\"\",\"!DTSH`LC.99-0437:2\")","v":{"$error":"#N/A"}},{"$f":"RTD(\"sysq.rtd\",\"\",\"!DTDH`LC.99-0437:2\")","v":{"$error":"#N/A"}},{"$f":"RTD(\"sysq.rtd\",\"\",\"!XTSH`LC.99-0437:2\")","v":{"$error":"#N/A"}},{"$f":"RTD(\"sysq.rtd\",\"\",\"!XTDH`LC.99-0437:2\")","v":{"$error":"#N/A"}},{"$f":"RTD(\"sysq.rtd\",\"\",\"!DTAI`LC.99-0437:2\")","v":{"$error":"#N/A"}},{"$f":"RTD(\"sysq.rtd\",\"\",\"WTX&`004.10-0437:2\")","v":{"$error":"#N/A"}},{"$error":"#N/A"}]
["0438",{"$f":"RTD(\"sysq.rtd\",\"\",\"!DTSH`LC.99-0438:2\")","v":{"$error":"#N/A"}},{"$f":"RTD(\"sysq.rtd\",\"\",\"!DTDH`LC.99-0438:2\")","v":{"$error":"#N/A"}},{"$f":"RTD(\"sysq.rtd\",\"\",\"!XTSH`LC.99-0438:2\")","v":{"$error":"#N/A"}},{"$f":"RTD(\"sysq.rtd\",\"\",\"!XTDH`LC.99-0438:2\")","v":{"$error":"#N/A"}},{"$f":"RTD(\"sysq.rtd\",\"\",\"!DTAI`LC.99-0438:2\")","v":{"$error":"#N/A"}},{"$f":"RTD(\"sysq.rtd\",\"\",\"WTX&`004.10-0438:2\")","v":{"$error":"#N/A"}},{"$error":"#N/A"}]
["0439",{"$f":"RTD(\"sysq.rtd\",\"\",\"!DTSH`LC.99-0439:2\")","v":{"$error":"#N/A"}},{"$f":"RTD(\"sysq.rtd\",\"\",\"!DTDH`LC.99-0439:2\")","v":{"$error":"#N/A"}},{"$f":"RTD(\"sysq.rtd\",\"\",\"!XTSH`LC.99-0439:2\")","v":{"$error":"#N/A"}},{"$f":"RTD(\"sysq.rtd\",\"\",\"!XTDH`LC.99-0439:2\")","v":{"$error":"#N/A"}},{"$f":"RTD(\"sysq.rtd\",\"\",\"!DTAI`LC.99-0439:2\")","v":{"$error":"#N/A"}},{"$f":"RTD(\"sysq.rtd\",\"\",\"WTX&`004.10-0439:2\")","v":{"$error":"#N/A"}},{"$error":"#N/A"}]
["0440",{"$f":"RTD(\"sysq.rtd\",\"\",\"!DTSH`LC.99-0440:2\")","v":{"$error":"#N/A"}},{"$f":"RTD(\"sysq.rtd\",\"\",\"!DTDH`LC.99-0440:2\")","v":{"$error":"#N/A"}},{"$f":"RTD(\"sysq.rtd\",\"\",\"!XTSH`LC.99-0440:2\")","v":{"$error":"#N/A"}},{"$f":"RTD(\"sysq.rtd\",\"\",\"!XTDH`LC.99-0440:2\")","v":{"$error":"#N/A"}},{"$f":"RTD(\"sysq.rtd\",\"\",\"!DTAI`LC.99-0440:2\")","v":{"$error":"#N/A"}},{"$f":"RTD(\"sysq.rtd\",\"\",\"WTX&`004.10-0440:2\")","v":{"$error":"#N/A"}},{"$error":"#N/A"}]
["0441",{"$f":"RTD(\"sysq.rtd\",\"\",\"!DTSH`LC.99-0441:2\")","v":{"$error":"#N/A"}},{"$f":"RTD(\"sysq.rtd\",\"\",\"!DTDH`LC.99-0441:2\")","v":{"$error":"#N/A"}},{"$f":"RTD(\"sysq.rtd\",\"\",\"!XTSH`LC.99-0441:2\")","v":{"$error":"#N/A"}},{"$f":"RTD(\"sysq.rtd\",\"\",\"!XTDH`LC.99-0441:2\")","v":{"$error":"#N/A"}},{"$f":"RTD(\"sysq.rtd\",\"\",\"!DTAI`LC.99-0441:2\")","v":{"$error":"#N/A"}},{"$f":"RTD(\"sysq.rtd\",\"\",\"WTX&`004.10-0441:2\")","v":{"$error":"#N/A"}},{"$error":"#N/A"}]
["0442",{"$f":"RTD(\"sysq.rtd\",\"\",\"!DTSH`LC.99-0442:2\")","v":{"$error":"#N/A"}},{"$f":"RTD(\"sysq.rtd\",\"\",\"!DTDH`LC.99-0442:2\")","v":{"$error":"#N/A"}},{"$f":"RTD(\"sysq.rtd\",\"\",\"!XTSH`LC.99-0442:2\")","v":{"$error":"#N/A"}},{"$f":"RTD(\"sysq.rtd\",\"\",\"!XTDH`LC.99-0442:2\")","v":{"$error":"#N/A"}},{"$f":"RTD(\"sysq.rtd\",\"\",\"!DTAI`LC.99-0442:2\")","v":{"$error":"#N/A"}},{"$f":"RTD(\"sysq.rtd\",\"\",\"WTX&`004.10-0442:2\")","v":{"$error":"#N/A"}},{"$error":"#N/A"}]
["0443",{"$f":"RTD(\"sysq.rtd\",\"\",\"!DTSH`LC.99-0443:2\")","v":{"$error":"#N/A"}},{"$f":"RTD(\"sysq.rtd\",\"\",\"!DTDH`LC.99-0443:2\")","v":{"$error":"#N/A"}},{"$f":"RTD(\"sysq.rtd\",\"\",\"!XTSH`LC.99-0443:2\")","v":{"$error":"#N/A"}},{"$f":"RTD(\"sysq.rtd\",\"\",\"!XTDH`LC.99-0443:2\")","v":{"$error":"#N/A"}},{"$f":"RTD(\"sysq.rtd\",\"\",\"!DTAI`LC.99-0443:2\")","v":{"$error":"#N/A"}},{"$f":"RTD(\"sysq.rtd\",\"\",\"WTX&`004.10-0443:2\")","v":{"$error":"#N/A"}},{"$error":"#N/A"}]
["0444",{"$f":"RTD(\"sysq.rtd\",\"\",\"!DTSH`LC.99-0444:2\")","v":{"$error":"#N/A"}},{"$f":"RTD(\"sysq.rtd\",\"\",\"!DTDH`LC.99-0444:2\")","v":{"$error":"#N/A"}},{"$f":"RTD(\"sysq.rtd\",\"\",\"!XTSH`LC.99-0444:2\")","v":{"$error":"#N/A"}},{"$f":"RTD(\"sysq.rtd\",\"\",\"!XTDH`LC.99-0444:2\")","v":{"$error":"#N/A"}},{"$f":"RTD(\"sysq.rtd\",\"\",\"!DTAI`LC.99-0444:2\")","v":{"$error":"#N/A"}},{"$f":"RTD(\"sysq.rtd\",\"\",\"WTX&`004.10-0444:2\")","v":{"$error":"#N/A"}},{"$error":"#N/A"}]
["0445",{"$f":"RTD(\"sysq.rtd\",\"\",\"!DTSH`LC.99-0445:2\")","v":{"$error":"#N/A"}},{"$f":"RTD(\"sysq.rtd\",\"\",\"!DTDH`LC.99-0445:2\")","v":{"$error":"#N/A"}},{"$f":"RTD(\"sysq.rtd\",\"\",\"!XTSH`LC.99-0445:2\")","v":{"$error":"#N/A"}},{"$f":"RTD(\"sysq.rtd\",\"\",\"!XTDH`LC.99-0445:2\")","v":{"$error":"#N/A"}},{"$f":"RTD(\"sysq.rtd\",\"\",\"!DTAI`LC.99-0445:2\")","v":{"$error":"#N/A"}},{"$f":"RTD(\"sysq.rtd\",\"\",\"WTX&`004.10-0445:2\")","v":{"$error":"#N/A"}},{"$error":"#N/A"}]
["0446",{"$f":"RTD(\"sysq.rtd\",\"\",\"!DTSH`LC.99-0446:2\")","v":{"$error":"#N/A"}},{"$f":"RTD(\"sysq.rtd\",\"\",\"!DTDH`LC.99-0446:2\")","v":{"$error":"#N/A"}},{"$f":"RTD(\"sysq.rtd\",\"\",\"!XTSH`LC.99-0446:2\")","v":{"$error":"#N/A"}},{"$f":"RTD(\"sysq.rtd\",\"\",\"!XTDH`LC.99-0446:2\")","v":{"$error":"#N/A"}},{"$f":"RTD(\"sysq.rtd\",\"\",\"!DTAI`LC.99-0446:2\")","v":{"$error":"#N/A"}},{"$f":"RTD(\"sysq.rtd\",\"\",\"WTX&`004.10-0446:2\")","v":{"$error":"#N/A"}},{"$error":"#N/A"}]
["0447",{"$f":"RTD(\"sysq.rtd\",\"\",\"!DTSH`LC.99-0447:2\")","v":{"$error":"#N/A"}},{"$f":"RTD(\"sysq.rtd\",\"\",\"!DTDH`LC.99-0447:2\")","v":{"$error":"#N/A"}},{"$f":"RTD(\"sysq.rtd\",\"\",\"!XTSH`LC.99-0447:2\")","v":{"$error":"#N/A"}},{"$f":"RTD(\"sysq.rtd\",\"\",\"!XTDH`LC.99-0447:2\")","v":{"$error":"#N/A"}},{"$f":"RTD(\"sysq.rtd\",\"\",\"!DTAI`LC.99-0447:2\")","v":{"$error":"#N/A"}},{"$f":"RTD(\"sysq.rtd\",\"\",\"WTX&`004.10-0447:2\")","v":{"$error":"#N/A"}},{"$error":"#N/A"}]
["0448",{"$f":"RTD(\"sysq.rtd\",\"\",\"!DTSH`LC.99-0448:2\")","v":{"$error":"#N/A"}},{"$f":"RTD(\"sysq.rtd\",\"\",\"!DTDH`LC.99-0448:2\")","v":{"$error":"#N/A"}},{"$f":"RTD(\"sysq.rtd\",\"\",\"!XTSH`LC.99-0448:2\")","v":{"$error":"#N/A"}},{"$f":"RTD(\"sysq.rtd\",\"\",\"!XTDH`LC.99-0448:2\")","v":{"$error":"#N/A"}},{"$f":"RTD(\"sysq.rtd\",\"\",\"!DTAI`LC.99-0448:2\")","v":{"$error":"#N/A"}},{"$f":"RTD(\"sysq.rtd\",\"\",\"WTX&`004.10-0448:2\")","v":{"$error":"#N/A"}},{"$error":"#N/A"}]
["0449",{"$f":"RTD(\"sysq.rtd\",\"\",\"!DTSH`LC.99-0449:2\")","v":{"$error":"#N/A"}},{"$f":"RTD(\"sysq.rtd\",\"\",\"!DTDH`LC.99-0449:2\")","v":{"$error":"#N/A"}},{"$f":"RTD(\"sysq.rtd\",\"\",\"!XTSH`LC.99-0449:2\")","v":{"$error":"#N/A"}},{"$f":"RTD(\"sysq.rtd\",\"\",\"!XTDH`LC.99-0449:2\")","v":{"$error":"#N/A"}},{"$f":"RTD(\"sysq.rtd\",\"\",\"!DTAI`LC.99-0449:2\")","v":{"$error":"#N/A"}},{"$f":"RTD(\"sysq.rtd\",\"\",\"WTX&`004.10-0449:2\")","v":{"$error":"#N/A"}},{"$error":"#N/A"}]
["0450",{"$f":"RTD(\"sysq.rtd\",\"\",\"!DTSH`LC.99-0450:2\")","v":{"$error":"#N/A"}},{"$f":"RTD(\"sysq.rtd\",\"\",\"!DTDH`LC.99-0450:2\")","v":{"$error":"#N/A"}},{"$f":"RTD(\"sysq.rtd\",\"\",\"!XTSH`LC.99-0450:2\")","v":{"$error":"#N/A"}},{"$f":"RTD(\"sysq.rtd\",\"\",\"!XTDH`LC.99-0450:2\")","v":{"$error":"#N/A"}},{"$f":"RTD(\"sysq.rtd\",\"\",\"!DTAI`LC.99-0450:2\")","v":{"$error":"#N/A"}},{"$f":"RTD(\"sysq.rtd\",\"\",\"WTX&`004.10-0450:2\")","v":{"$error":"#N/A"}},{"$error":"#N/A"}]
["0451",{"$f":"RTD(\"sysq.rtd\",\"\",\"!DTSH`LC.99-0451:2\")","v":{"$error":"#N/A"}},{"$f":"RTD(\"sysq.rtd\",\"\",\"!DTDH`LC.99-0451:2\")","v":{"$error":"#N/A"}},{"$f":"RTD(\"sysq.rtd\",\"\",\"!XTSH`LC.99-0451:2\")","v":{"$error":"#N/A"}},{"$f":"RTD(\"sysq.rtd\",\"\",\"!XTDH`LC.99-0451:2\")","v":{"$error":"#N/A"}},{"$f":"RTD(\"sysq.rtd\",\"\",\"!DTAI`LC.99-0451:2\")","v":{"$error":"#N/A"}},{"$f":"RTD(\"sysq.rtd\",\"\",\"WTX&`004.10-0451:2\")","v":{"$error":"#N/A"}},{"$error":"#N/A"}]
["0452",{"$f":"RTD(\"sysq.rtd\",\"\",\"!DTSH`LC.99-0452:2\")","v":{"$error":"#N/A"}},{"$f":"RTD(\"sysq.rtd\",\"\",\"!DTDH`LC.99-0452:2\")","v":{"$error":"#N/A"}},{"$f":"RTD(\"sysq.rtd\",\"\",\"!XTSH`LC.99-0452:2\")","v":{"$error":"#N/A"}},{"$f":"RTD(\"sysq.rtd\",\"\",\"!XTDH`LC.99-0452:2\")","v":{"$error":"#N/A"}},{"$f":"RTD(\"sysq.rtd\",\"\",\"!DTAI`LC.99-0452:2\")","v":{"$error":"#N/A"}},{"$f":"RTD(\"sysq.rtd\",\"\",\"WTX&`004.10-0452:2\")","v":{"$error":"#N/A"}},{"$error":"#N/A"}]
["0453",{"$f":"RTD(\"sysq.rtd\",\"\",\"!DTSH`LC.99-0453:2\")","v":{"$error":"#N/A"}},{"$f":"RTD(\"sysq.rtd\",\"\",\"!DTDH`LC.99-0453:2\")","v":{"$error":"#N/A"}},{"$f":"RTD(\"sysq.rtd\",\"\",\"!XTSH`LC.99-0453:2\")","v":{"$error":"#N/A"}},{"$f":"RTD(\"sysq.rtd\",\"\",\"!XTDH`LC.99-0453:2\")","v":{"$error":"#N/A"}},{"$f":"RTD(\"sysq.rtd\",\"\",\"!DTAI`LC.99-0453:2\")","v":{"$error":"#N/A"}},{"$f":"RTD(\"sysq.rtd\",\"\",\"WTX&`004.10-0453:2\")","v":{"$error":"#N/A"}},{"$error":"#N/A"}]
["0454",{"$f":"RTD(\"sysq.rtd\",\"\",\"!DTSH`LC.99-0454:2\")","v":{"$error":"#N/A"}},{"$f":"RTD(\"sysq.rtd\",\"\",\"!DTDH`LC.99-0454:2\")","v":{"$error":"#N/A"}},{"$f":"RTD(\"sysq.rtd\",\"\",\"!XTSH`LC.99-0454:2\")","v":{"$error":"#N/A"}},{"$f":"RTD(\"sysq.rtd\",\"\",\"!XTDH`LC.99-0454:2\")","v":{"$error":"#N/A"}},{"$f":"RTD(\"sysq.rtd\",\"\",\"!DTAI`LC.99-0454:2\")","v":{"$error":"#N/A"}},{"$f":"RTD(\"sysq.rtd\",\"\",\"WTX&`004.10-0454:2\")","v":{"$error":"#N/A"}},{"$error":"#N/A"}]
["0455",{"$f":"RTD(\"sysq.rtd\",\"\",\"!DTSH`LC.99-0455:2\")","v":{"$error":"#N/A"}},{"$f":"RTD(\"sysq.rtd\",\"\",\"!DTDH`LC.99-0455:2\")","v":{"$error":"#N/A"}},{"$f":"RTD(\"sysq.rtd\",\"\",\"!XTSH`LC.99-0455:2\")","v":{"$error":"#N/A"}},{"$f":"RTD(\"sysq.rtd\",\"\",\"!XTDH`LC.99-0455:2\")","v":{"$error":"#N/A"}},{"$f":"RTD(\"sysq.rtd\",\"\",\"!DTAI`LC.99-0455:2\")","v":{"$error":"#N/A"}},{"$f":"RTD(\"sysq.rtd\",\"\",\"WTX&`004.10-0455:2\")","v":{"$error":"#N/A"}},{"$error":"#N/A"}]
["0456",{"$f":"RTD(\"sysq.rtd\",\"\",\"!DTSH`LC.99-0456:2\")","v":{"$error":"#N/A"}},{"$f":"RTD(\"sysq.rtd\",\"\",\"!DTDH`LC.99-0456:2\")","v":{"$error":"#N/A"}},{"$f":"RTD(\"sysq.rtd\",\"\",\"!XTSH`LC.99-0456:2\")","v":{"$error":"#N/A"}},{"$f":"RTD(\"sysq.rtd\",\"\",\"!XTDH`LC.99-0456:2\")","v":{"$error":"#N/A"}},{"$f":"RTD(\"sysq.rtd\",\"\",\"!DTAI`LC.99-0456:2\")","v":{"$error":"#N/A"}},{"$f":"RTD(\"sysq.rtd\",\"\",\"WTX&`004.10-0456:2\")","v":{"$error":"#N/A"}},{"$error":"#N/A"}]
["0457",{"$f":"RTD(\"sysq.rtd\",\"\",\"!DTSH`LC.99-0457:2\")","v":{"$error":"#N/A"}},{"$f":"RTD(\"sysq.rtd\",\"\",\"!DTDH`LC.99-0457:2\")","v":{"$error":"#N/A"}},{"$f":"RTD(\"sysq.rtd\",\"\",\"!XTSH`LC.99-0457:2\")","v":{"$error":"#N/A"}},{"$f":"RTD(\"sysq.rtd\",\"\",\"!XTDH`LC.99-0457:2\")","v":{"$error":"#N/A"}},{"$f":"RTD(\"sysq.rtd\",\"\",\"!DTAI`LC.99-0457:2\")","v":{"$error":"#N/A"}},{"$f":"RTD(\"sysq.rtd\",\"\",\"WTX&`004.10-0457:2\")","v":{"$error":"#N/A"}},{"$error":"#N/A"}]
["0458",{"$f":"RTD(\"sysq.rtd\",\"\",\"!DTSH`LC.99-0458:2\")","v":{"$error":"#N/A"}},{"$f":"RTD(\"sysq.rtd\",\"\",\"!DTDH`LC.99-0458:2\")","v":{"$error":"#N/A"}},{"$f":"RTD(\"sysq.rtd\",\"\",\"!XTSH`LC.99-0458:2\")","v":{"$error":"#N/A"}},{"$f":"RTD(\"sysq.rtd\",\"\",\"!XTDH`LC.99-0458:2\")","v":{"$error":"#N/A"}},{"$f":"RTD(\"sysq.rtd\",\"\",\"!DTAI`LC.99-0458:2\")","v":{"$error":"#N/A"}},{"$f":"RTD(\"sysq.rtd\",\"\",\"WTX&`004.10-0458:2\")","v":{"$error":"#N/A"}},{"$error":"#N/A"}]
["0459",{"$f":"RTD(\"sysq.rtd\",\"\",\"!DTSH`LC.99-0459:2\")","v":{"$error":"#N/A"}},{"$f":"RTD(\"sysq.rtd\",\"\",\"!DTDH`LC.99-0459:2\")","v":{"$error":"#N/A"}},{"$f":"RTD(\"sysq.rtd\",\"\",\"!XTSH`LC.99-0459:2\")","v":{"$error":"#N/A"}},{"$f":"RTD(\"sysq.rtd\",\"\",\"!XTDH`LC.99-0459:2\")","v":{"$error":"#N/A"}},{"$f":"RTD(\"sysq.rtd\",\"\",\"!DTAI`LC.99-0459:2\")","v":{"$error":"#N/A"}},{"$f":"RTD(\"sysq.rtd\",\"\",\"WTX&`004.10-0459:2\")","v":{"$error":"#N/A"}},{"$error":"#N/A"}]
["0500",{"$f":"RTD(\"sysq.rtd\",\"\",\"!DTSH`LC.99-0500:2\")","v":{"$error":"#N/A"}},{"$f":"RTD(\"sysq.rtd\",\"\",\"!DTDH`LC.99-0500:2\")","v":{"$error":"#N/A"}},{"$f":"RTD(\"sysq.rtd\",\"\",\"!XTSH`LC.99-0500:2\")","v":{"$error":"#N/A"}},{"$f":"RTD(\"sysq.rtd\",\"\",\"!XTDH`LC.99-0500:2\")","v":{"$error":"#N/A"}},{"$f":"RTD(\"sysq.rtd\",\"\",\"!DTAI`LC.99-0500:2\")","v":{"$error":"#N/A"}},{"$f":"RTD(\"sysq.rtd\",\"\",\"WTX&`004.10-0500:2\")","v":{"$error":"#N/A"}},{"$error":"#N/A"}]

{"sheet":"外資大台","index":5,"n_rows":203,"n_cols":16,"rows_kept":203,"cut":false,"hidden":false,"merged":[]}
["外資",null,null,null,"單位：億",null,null,"今日進出",null,"買方OI","以當日結算價計算","賣方OI",null,"淨部位"]
[null,null,null,1,null,2,null,3,null,4,null,5,null,6]
["日期","代碼","名稱","多方口數","多方契約金額","空方口數","空方契約金額","多空口數","多空契約金額","多方為未平倉口數","多方未平倉契約金額","空方未平倉口數","空方未平倉契約金額","多空未平倉口數","多空未平倉契約金額","收盤"]
[20200824,"FITX","臺股指數期貨",59739,150.31460000000001,58200,146.44,1539,3.8746,50924,128.35740000000001,21210,53.437399999999997,29714,74.920100000000005]
[20200821,"FITX","臺股指數期貨",83556,208.21539999999999,76097,189.6567,7459,18.558700000000002,50820,127.5669,22648,56.826300000000003,28172,70.740600000000001]
[20200820,"FITX","臺股指數期貨",116932,290.3492,118280,293.96390000000002,-1348,-3.6147,48970,120.44540000000001,28266,69.500900000000001,20704,50.944600000000001]
[20200819,"FITX","臺股指數期貨",64712,166.2808,66791,171.63630000000001,-2079,-5.3555000000000001,46718,119.12130000000001,23469,59.823700000000002,23249,59.297600000000003]
[20200818,"FITX","臺股指數期貨",89627,231.06270000000001,92474,238.5213,-2847,-7.4587000000000003,53796,138.1644,26875,69.028899999999993,26921,69.135400000000004]
[20200817,"FITX","臺股指數期貨",80293,206.55019999999999,79669,205.13589999999999,624,1.4142999999999999,56664,146.52719999999999,26396,68.218199999999996,30268,78.308999999999997]
[20200814,"FITX","臺股指數期貨",63767,162.24,63594,161.84870000000001,173,0.39129999999999998,55260,141.26,26516,67.675200000000004,28744,73.584800000000001]
[20200813,"FITX","臺股指數期貨",62504,159.3991,62433,159.23490000000001,71,0.16420000000000001,55616,141.52209999999999,27045,68.692899999999995,28571,72.8292]
[20200812,"FITX","臺股指數期貨",73678,186.49189999999999,72146,182.6011,1532,3.8908999999999998,55669,140.89150000000001,27137,68.555000000000007,28532,72.336600000000004]
[20200811,"FITX","臺股指數期貨",54658,140.08240000000001,55854,143.14340000000001,-1196,-3.0609999999999999,58185,148.19120000000001,30232,76.883399999999995,27953,71.3078]
[20200810,"FITX","臺股指數期貨",58485,149.96510000000001,61191,156.90559999999999,-2706,-6.9405000000000001,59574,153.14689999999999,30425,78.095600000000005,29149,75.051299999999998]
[20200807,"FITX","臺股指數期貨",62758,160.48400000000001,62381,159.54939999999999,377,0.93459999999999999,61378,156.61859999999999,29523,75.217500000000001,31855,81.401200000000003]
[20200806,"FITX","臺股指數期貨",73989,189.83799999999999,74174,190.3329,-185,-0.49490000000000001,62223,159.73339999999999,30745,78.808700000000002,31478,80.924700000000001]
[20200805,"FITX","臺股指數期貨",56408,143.14400000000001,55571,141.01150000000001,837,2.1324999999999998,62719,159.81489999999999,31056,79.022599999999997,31663,80.792299999999997]
[20200804,"FITX","臺股指數期貨",66844,167.39320000000001,60641,151.89089999999999,6203,15.5022,61047,154.18790000000001,30221,76.23,30826,77.957899999999995]
[20200803,"FITX","臺股指數期貨",79893,199.53,83112,207.6123,-3219,-8.0823999999999998,58563,145.69999999999999,33940,84.343999999999994,24623,61.356099999999998]
[20200731,"FITX","臺股指數期貨",83183,209.0025,85814,215.58,-2631,-6.5774999999999997,60051,151.036,30809,77.391999999999996,29242,73.643900000000002]
[20200730,"FITX","臺股指數期貨",76844,192.9117,74102,186.05959999999999,2742,6.8521000000000001,59809,150.6551,27936,70.281300000000002,31873,80.373900000000006]
[20200729,"FITX","臺股指數期貨",84834,211.3117,84957,211.6112,-123,-0.29949999999999999,59034,146.64840000000001,29904,74.199600000000004,29130,72.448800000000006]
[20200728,"FITX","臺股指數期貨",133456,337.54509999999999,135648,343.07049999999998,-2192,-5.5252999999999997,56475,140.6643,27208,67.694100000000006,29267,72.970200000000006]
[20200727,"FITX","臺股指數期貨",97694,242.488,94689,235.15469999999999,3005,7.3333000000000004,57718,144.26920000000001,25262,63.075699999999998,32456,81.1935]
[20200724,"FITX","臺股指數期貨",90033,220.4495,85651,209.71039999999999,4382,10.739100000000001,57673,140.143,29218,70.934600000000003,28455,69.208399999999997]
[20200723,"FITX","臺股指數期貨",64718,158.8374,67130,164.76740000000001,-2412,-5.9298999999999999,55788,137.09129999999999,31715,77.880600000000001,24073,59.210700000000003]
[20200722,"FITX","臺股指數期貨",55109,135.7638,56147,138.3262,-1038,-2.5623999999999998,58438,144.12950000000001,30700,75.665199999999999,27738,68.464299999999994]
[20200721,"FITX","臺股指數期貨",59862,146.3263,60243,147.2886,-381,-0.96230000000000004,58044,142.64660000000001,29268,71.887299999999996,28776,70.759299999999996]
[20200720,"FITX","臺股指數期貨",61223,146.97499999999999,60991,146.42869999999999,232,0.5464,53429,128.57570000000001,24271,58.372700000000002,29158,70.203000000000003]
[20200717,"FITX","臺股指數期貨",64239,154.8845,61578,148.4667,2661,6.4177999999999997,52594,126.6294,23673,56.964700000000001,28921,69.664699999999996]
[20200716,"FITX","臺股指數期貨",70500,169.68199999999999,71762,172.73519999999999,-1262,-3.0533000000000001,50745,122.077,24487,58.884399999999999,26258,63.192599999999999]
[20200715,"FITX","臺股指數期貨",79473,193.3133,80568,196.04949999999999,-1095,-2.7362000000000002,51459,124.3604,23953,57.863300000000002,27506,66.497100000000003]
[20200714,"FITX","臺股指數期貨",112914,273.7278,114307,277.63639999999998,-1393,-3.9085999999999999,61707,148.8553,30101,72.639600000000002,31606,76.215699999999998]
[20200713,"FITX","臺股指數期貨",81394,196.81,86673,210.1301,-5279,-13.3201,62052,150.65090000000001,28053,68.038899999999998,33999,82.612099999999998]
[20200710,"FITX","臺股指數期貨",83768,202.2371,78975,190.79750000000001,4793,11.4397,66724,159.83500000000001,27453,65.5017,39271,94.333299999999994]
[20200709,"FITX","臺股指數期貨",60589,147.3914,60441,147.02420000000001,148,0.36709999999999998,63971,155.38229999999999,29493,71.361000000000004,34478,84.021299999999997]
[20200708,"FITX","臺股指數期貨",58435,141.14590000000001,60368,145.86009999999999,-1933,-4.7142999999999997,64631,156.6996,30301,73.218800000000002,34330,83.480699999999999]
[20200707,"FITX","臺股指數期貨",71734,173.26840000000001,71688,173.1549,46,0.1135,65787,158.21360000000001,29530,70.778700000000001,36257,87.434899999999999]
[20200706,"FITX","臺股指數期貨",48021,115.1061,53454,128.15940000000001,-5433,-13.0533,66252,159.84780000000001,30048,72.266300000000001,36204,87.581599999999995]
[20200703,"FITX","臺股指數期貨",58905,138.98570000000001,55268,130.3998,3637,8.5860000000000003,67409,159.50470000000001,25763,60.716200000000001,41646,98.788499999999999]
[20200702,"FITX","臺股指數期貨",53724,124.91,50758,117.9956,2966,6.9143999999999997,65020,152.04169999999999,28560,66.553299999999993,36460,85.488399999999999]
[20200701,"FITX","臺股指數期貨",55302,127.5874,52644,121.3916,2658,6.1958000000000002,63447,146.44739999999999,29952,68.922200000000004,33495,77.525199999999998]
[20200630,"FITX","臺股指數期貨",49511,113.2269,49355,112.85599999999999,156,0.37090000000000001,58662,134.53110000000001,27824,63.594900000000003,30838,70.936099999999996]
[20200629,"FITX","臺股指數期貨",76987,175.596,78938,180.04740000000001,-1951,-4.4513999999999996,59638,135.49510000000001,27956,63.333399999999997,31682,72.161699999999996]
[20200624,"FITX","臺股指數期貨",48392,111.5425,47863,110.31529999999999,529,1.2271000000000001,61980,142.8021,28346,65.141199999999998,33634,77.660899999999998]
[20200623,"FITX","臺股指數期貨",75823,173.5291,75236,172.18049999999999,587,1.3486,60736,139.1225,27627,63.123100000000001,33109,75.999300000000005]
[20200622,"FITX","臺股指數期貨",65896,150.56530000000001,65326,149.24369999999999,570,1.3214999999999999,59695,136.32159999999999,27174,61.924999999999997,32521,74.396600000000007]
[20200619,"FITX","臺股指數期貨",56030,127.8511,56989,130.03450000000001,-959,-2.1833,54928,125.3009,22973,52.307400000000001,31955,72.993600000000001]
[20200618,"FITX","臺股指數期貨",67303,153.04409999999999,65911,149.87700000000001,1392,3.1671999999999998,55977,127.53879999999999,23062,52.4544,32915,75.084400000000002]
[20200617,"FITX","臺股指數期貨",83343,190.35409999999999,82839,189.29470000000001,504,1.0593999999999999,55668,126.4357,24154,54.776600000000002,31514,71.659099999999995]
[20200616,"FITX","臺股指數期貨",116733,265.85270000000003,118133,269.56150000000002,-1400,-3.7088000000000001,66214,150.56209999999999,30635,69.609700000000004,35579,80.952299999999994]
[20200615,"FITX","臺股指數期貨",130709,296.02670000000001,127325,289.05169999999998,3384,6.9749999999999996,63753,141.91569999999999,26783,59.505000000000003,36970,82.410700000000006]
[20200612,"FITX","臺股指數期貨",93462,212.3168,99098,225.4554,-5636,-13.138500000000001,63832,145.08519999999999,28695,64.956199999999995,35137,80.128900000000002]
[20200611,"FITX","臺股指數期貨",79541,184.78479999999999,75965,176.55240000000001,3576,8.2324000000000002,64318,147.75399999999999,23542,53.668700000000001,40776,94.085300000000004]
[20200610,"FITX","臺股指數期貨",53517,124.70399999999999,55377,129.03829999999999,-1860,-4.3342999999999998,61176,143.14680000000001,23975,55.733199999999997,37201,87.413600000000002]
[20200609,"FITX","臺股指數期貨",54256,125.68429999999999,52346,121.2157,1910,4.4684999999999997,61433,142.54810000000001,22390,51.597099999999998,39043,90.950999999999993]
[20200608,"FITX","臺股指數期貨",67744,156.6301,70650,163.34569999999999,-2906,-6.7156000000000002,58002,134.16730000000001,20873,47.967399999999998,37129,86.1999]
[20200605,"FITX","臺股指數期貨",51364,117.1939,50755,115.80289999999999,609,1.3909,59383,136.0291,19348,44.037300000000002,40035,91.991799999999998]
[20200604,"FITX","臺股指數期貨",62605,142.29230000000001,64082,145.63740000000001,-1477,-3.3450000000000002,56523,128.357,17097,38.554900000000004,39426,89.802099999999996]
[20200603,"FITX","臺股指數期貨",58528,131.42439999999999,57050,128.12809999999999,1478,3.2961999999999998,59054,133.2199,18160,40.7149,40894,92.504999999999995]
[20200602,"FITX","臺股指數期貨",46678,103.48699999999999,45984,101.9212,694,1.5658000000000001,57432,127.5386,18038,39.818399999999997,39394,87.720299999999995]
[20200601,"FITX","臺股指數期貨",62685,138.0677,62202,136.9204,483,1.1473,58294,128.8707,19599,43.115200000000002,38695,85.755499999999998]
[20200529,"FITX","臺股指數期貨",64667,140.8468,63070,137.37180000000001,1597,3.4750000000000001,54853,119.74720000000001,18241,39.672499999999999,36612,80.074799999999996]
[20200528,"FITX","臺股指數期貨",76075,166.82239999999999,75243,165.053,832,1.7694000000000001,53556,116.8283,18541,40.3003,35015,76.528000000000006]
[20200527,"FITX","臺股指數期貨",54171,119.0004,54186,119.0342,-15,-3.3799999999999997E-2,52624,115.447,18441,40.321599999999997,34183,75.125399999999999]
[20200526,"FITX","臺股指數期貨",48046,105.3643,46575,102.1499,1471,3.2143999999999999,53509,117.50369999999999,19311,42.265900000000002,34198,75.237799999999993]
[20200525,"FITX","臺股指數期貨",67636,145.47819999999999,68168,146.68620000000001,-532,-1.208,51254,110.87869999999999,18533,39.955599999999997,32721,70.923100000000005]
[20200522,"FITX","臺股指數期貨",75992,164.60040000000001,76862,166.5247,-870,-1.9242999999999999,53263,114.4061,20010,42.843499999999999,33253,71.562600000000003]
[20200521,"FITX","臺股指數期貨",60115,131.43469999999999,62001,135.54040000000001,-1886,-4.1055999999999999,52661,115.31489999999999,18534,40.485399999999998,34127,74.829499999999996]
[20200520,"FITX","臺股指數期貨",63088,137.23009999999999,63033,137.14580000000001,55,8.43E-2,51771,112.3074,15758,34.120899999999999,36013,78.186599999999999]
[20200519,"FITX","臺股指數期貨",97699,212.2647,96226,209.14779999999999,1473,3.1168999999999998,63349,137.06819999999999,25919,56.096299999999999,37430,80.971900000000005]
[20200518,"FITX","臺股指數期貨",99189,213.3031,104089,224.02600000000001,-4900,-10.722899999999999,65514,140.50710000000001,29557,63.419699999999999,35957,77.087400000000002]
[20200515,"FITX","臺股指數期貨",94307,203.11439999999999,91794,197.834,2513,5.2804000000000002,65077,140.51689999999999,23811,51.366300000000003,41266,89.150599999999997]
[20200514,"FITX","臺股指數期貨",77338,167.53049999999999,79079,171.3914,-1741,-3.8609,63806,137.0052,25053,53.702300000000001,38753,83.302899999999994]
[20200513,"FITX","臺股指數期貨",57544,125.0313,54396,118.2538,3148,6.7774999999999999,64559,140.78989999999999,22864,49.757899999999999,41695,91.031999999999996]
[20200512,"FITX","臺股指數期貨",60638,131.94290000000001,58973,128.36670000000001,1665,3.5762999999999998,62025,134.67779999999999,23478,50.878,38547,83.799899999999994]
[20200511,"FITX","臺股指數期貨",50039,109.8047,50244,110.2752,-205,-0.47039999999999998,60376,132.51249999999999,23494,51.4557,36882,81.056799999999996]
[20200508,"FITX","臺股指數期貨",57754,125.7402,58530,127.4263,-776,-1.6861999999999999,59538,129.63650000000001,22450,48.764600000000002,37088,80.871899999999997]
[20200507,"FITX","臺股指數期貨",62582,135.03620000000001,64687,139.58080000000001,-2105,-4.5446,58944,127.62309999999999,21080,45.5291,37864,82.093999999999994]
[20200506,"FITX","臺股指數期貨",66554,142.60470000000001,62670,134.2841,3884,8.3206000000000007,58880,126.49630000000001,18911,40.529299999999999,39969,85.966999999999999]
[20200505,"FITX","臺股指數期貨",61114,130.68440000000001,60441,129.2278,673,1.4565999999999999,57029,122.1795,20944,44.792000000000002,36085,77.387600000000006]
[20200504,"FITX","臺股指數期貨",82815,177.05240000000001,82795,177.10509999999999,20,-5.2699999999999997E-2,58597,124.2628,21987,46.576000000000001,36610,77.686800000000005]
[20200430,"FITX","臺股指數期貨",59967,130.2835,61821,134.3526,-1854,-4.0690999999999997,59196,129.52369999999999,22607,49.434800000000003,36589,80.088999999999999]
[20200429,"FITX","臺股指數期貨",61781,132.19470000000001,59900,128.1755,1881,4.0191999999999997,60706,129.9417,22267,47.636099999999999,38439,82.305599999999998]
[20200428,"FITX","臺股指數期貨",59192,124.8412,58855,124.15179999999999,337,0.68940000000000001,60000,126.9175,23442,49.574599999999997,36558,77.3429]
[20200427,"FITX","臺股指數期貨",67752,141.4846,69736,145.72810000000001,-1984,-4.2435,59287,124.95950000000001,23998,50.5762,35289,74.383200000000002]
[20200424,"FITX","臺股指數期貨",66176,135.98849999999999,65540,134.68530000000001,636,1.3031999999999999,57572,118.1485,20298,41.643099999999997,37274,76.505399999999995]
[20200423,"FITX","臺股指數期貨",86319,177.3211,84642,173.8905,1677,3.4306000000000001,56781,116.7983,20144,41.427599999999998,36637,75.370699999999999]
[20200422,"FITX","臺股指數期貨",85382,173.16319999999999,89213,180.9419,-3831,-7.7786999999999997,56378,115.179,21418,43.754199999999997,34960,71.424800000000005]
[20200421,"FITX","臺股指數期貨",105359,216.8211,96722,199.20490000000001,8637,17.616299999999999,57351,116.8741,18561,37.823099999999997,38790,79.051000000000002]
[20200420,"FITX","臺股指數期貨",56310,118.3197,59018,124.0198,-2708,-5.7000999999999999,49340,103.2923,19187,40.174900000000001,30153,63.117400000000004]
[20200417,"FITX","臺股指數期貨",85280,179.4101,87803,184.74199999999999,-2523,-5.3319000000000001,49553,104.6096,16689,35.236800000000002,32864,69.372799999999998]
[20200416,"FITX","臺股指數期貨",65317,134.01920000000001,65188,133.72819999999999,129,0.29110000000000003,50359,103.6711,14974,30.828399999999998,35385,72.842699999999994]
[20200415,"FITX","臺股指數期貨",59347,122.86,62646,129.77780000000001,-3299,-6.9177999999999997,48097,99.2423,12841,26.498100000000001,35256,72.744100000000003]
[20200414,"FITX","臺股指數期貨",91316,186.55240000000001,95386,195.35759999999999,-4070,-8.8051999999999992,63881,131.34299999999999,21360,43.960099999999997,42521,87.382800000000003]
[20200413,"FITX","臺股指數期貨",70230,141.185,68492,138.15629999999999,1738,3.0287999999999999,64321,129.0189,17744,35.530900000000003,46577,93.488]
[20200410,"FITX","臺股指數期貨",59426,119.8562,57353,115.70269999999999,2073,4.1535000000000002,67521,136.69640000000001,21884,44.124000000000002,45637,92.572400000000002]
[20200409,"FITX","臺股指數期貨",86226,174.03639999999999,84462,170.45310000000001,1764,3.5834000000000001,66436,134.11429999999999,22907,46.083399999999997,43529,88.030900000000003]
[20200408,"FITX","臺股指數期貨",91197,183.6892,95655,192.68109999999999,-4458,-8.9920000000000009,63340,128.16739999999999,21575,43.581400000000002,41765,84.585899999999995]
[20200407,"FITX","臺股指數期貨",79439,157.66489999999999,79730,158.30250000000001,-291,-0.63759999999999994,62715,125.3528,16855,33.637300000000003,45860,91.715400000000002]
[20200406,"FITX","臺股指數期貨",87792,169.39760000000001,92757,178.98400000000001,-4965,-9.5863999999999994,62584,122.8989,16432,32.217700000000001,46152,90.681200000000004]
[20200401,"FITX","臺股指數期貨",79042,151.8321,75938,145.8766,3104,5.9554999999999998,65435,124.99039999999999,14318,27.292999999999999,51117,97.697400000000002]
[20200331,"FITX","臺股指數期貨",88421,169.4649,87480,167.6934,941,1.7716000000000001,63320,121.4547,15245,29.189699999999998,48075,92.265100000000004]
[20200330,"FITX","臺股指數期貨",115200,217.72219999999999,114774,216.9957,426,0.72650000000000003,61261,117.15049999999999,14127,26.966100000000001,47134,90.184299999999993]
[20200327,"FITX","臺股指數期貨",134202,260.12470000000002,133324,258.46010000000001,878,1.6647000000000001,60301,115.4704,13577,25.953900000000001,46724,89.516400000000004]
[20200326,"FITX","臺股指數期貨",159087,305.49520000000001,161874,310.94240000000002,-2787,-5.4471999999999996,60090,115.69,14244,27.381399999999999,45846,88.308599999999998]
[20200325,"FITX","臺股指數期貨",139986,264.6472,146059,276.20490000000001,-6073,-11.557600000000001,60967,116.8175,14145,27.0779,46822,89.739500000000007]
[20200324,"FITX","臺股指數期貨",161921,291.19880000000001,166221,299.04430000000002,-4300,-7.8455000000000004,65243,119.9105,14168,26.0246,51075,93.885900000000007]
[20200323,"FITX","臺股指數期貨",157900,281.9873,152190,272.11079999999998,5710,9.8765000000000001,70371,121.9145,14995,25.966000000000001,55376,95.948599999999999]
[20200320,"FITX","臺股指數期貨",201446,352.27550000000002,203128,355.5455,-1682,-3.27,66648,120.4736,15679,28.331399999999999,50969,92.142200000000003]
[20200319,"FITX","臺股指數期貨",227787,390.93180000000001,218977,376.05849999999998,8810,14.8733,67444,112.6733,14809,24.7254,52635,87.947900000000004]
[20200318,"FITX","臺股指數期貨",206919,382.79680000000002,191204,354.00060000000002,15715,28.796199999999999,58829,104.9135,15029,26.785299999999999,43800,78.128200000000007]
[20200317,"FITX","臺股指數期貨",249168,469.27269999999999,245192,462.40859999999998,3976,6.8640999999999996,82351,152.78450000000001,40398,75.142099999999999,41953,77.642399999999995]
[20200316,"FITX","臺股指數期貨",246881,488.89690000000002,243823,483.72629999999998,3058,5.1706000000000003,81012,156.1139,43036,82.865399999999994,37976,73.248400000000004]
[20200313,"FITX","臺股指數期貨",272795,536.45519999999999,268727,528.95000000000005,4068,7.5052000000000003,82320,164.9315,46372,92.725099999999998,35948,72.206400000000002]
[20200312,"FITX","臺股指數期貨",214137,450.44479999999999,208041,437.9624,6096,12.4824,68161,141.2371,36307,75.0672,31854,66.169899999999998]
[20200311,"FITX","臺股指數期貨",140150,306.55590000000001,135905,297.35849999999999,4245,9.1974999999999998,58143,125.8617,32380,69.97,25763,55.8917]
[20200310,"FITX","臺股指數期貨",154687,335.80840000000001,163651,355.3965,-8964,-19.588200000000001,55902,122.76730000000001,34383,75.411900000000003,21519,47.355400000000003]
[20200309,"FITX","臺股指數期貨",156061,345.11520000000002,147870,327.15730000000002,8191,17.957899999999999,60098,131.6233,28722,62.849899999999998,31376,68.773399999999995]
[20200306,"FITX","臺股指數期貨",88677,201.3039,95154,215.95099999999999,-6477,-14.6471,55222,124.4571,32937,74.197000000000003,22285,50.260100000000001]
[20200305,"FITX","臺股指數期貨",73507,168.33199999999999,70745,161.97280000000001,2762,6.3593000000000002,61929,142.32400000000001,32165,73.899500000000003,29764,68.424400000000006]
[20200304,"FITX","臺股指數期貨",117281,265.74509999999998,112632,255.18950000000001,4649,10.5556,57256,130.0615,30259,68.720200000000006,26997,61.341299999999997]
[20200303,"FITX","臺股指數期貨",136653,307.51249999999999,132320,297.64909999999998,4333,9.8634000000000004,54614,123.6557,31265,70.774199999999993,23349,52.881399999999999]
[20200302,"FITX","臺股指數期貨",157941,353.9212,159510,357.46629999999999,-1569,-3.5451999999999999,54019,120.74209999999999,35010,78.240499999999997,19009,42.501600000000003]
[20200227,"FITX","臺股指數期貨",121454,276.07530000000003,122334,278.1157,-880,-2.0404,51868,116.9717,31287,70.543099999999995,20581,46.428600000000003]
[20200226,"FITX","臺股指數期貨",110540,252.92400000000001,114380,261.7448,-3840,-8.8207000000000004,51597,117.8569,30136,68.824399999999997,21461,49.032499999999999]
[20200225,"FITX","臺股指數期貨",97369,223.09559999999999,96695,221.56549999999999,674,1.5302,53429,123.3236,25975,59.945799999999998,27454,63.377800000000001]
[20200224,"FITX","臺股指數期貨",71525,165.3561,71438,165.14420000000001,87,0.21190000000000001,51745,119.12609999999999,24989,57.520099999999999,26756,61.606000000000002]
[20200221,"FITX","臺股指數期貨",72352,169.1446,71505,167.1679,847,1.9766999999999999,48927,114.126,22265,51.927,26662,62.198999999999998]
[20200220,"FITX","臺股指數期貨",58126,136.54300000000001,63647,149.59379999999999,-5521,-13.050800000000001,48034,112.5234,22227,52.060899999999997,25807,60.462499999999999]
[20200219,"FITX","臺股指數期貨",74718,174.82050000000001,71981,168.46100000000001,2737,6.3594999999999997,52660,123.8866,21332,50.177300000000002,31328,73.709299999999999]
[20200218,"FITX","臺股指數期貨",89830,209.54660000000001,95018,221.7071,-5188,-12.160600000000001,71690,166.78569999999999,40025,93.121799999999993,31665,73.663799999999995]
[20200217,"FITX","臺股指數期貨",79532,186.9392,81023,190.50190000000001,-1491,-3.5627,69501,163.4751,32648,76.782700000000006,36853,86.692400000000006]
[20200214,"FITX","臺股指數期貨",63922,150.74610000000001,67163,158.4126,-3241,-7.6665000000000001,62689,148.02279999999999,24338,57.442599999999999,38351,90.580200000000005]
[20200213,"FITX","臺股指數期貨",59521,140.47450000000001,57369,135.4186,2152,5.0557999999999996,62089,146.20169999999999,20491,48.225200000000001,41598,97.976500000000001]
[20200212,"FITX","臺股指數期貨",49330,115.6494,45030,105.56699999999999,4300,10.0823,60944,143.45609999999999,21770,51.216500000000003,39174,92.239599999999996]
[20200211,"FITX","臺股指數期貨",46876,109.00149999999999,47887,111.3282,-1011,-2.3267000000000002,56386,131.53270000000001,21497,50.125700000000002,34889,81.406899999999993]
[20200210,"FITX","臺股指數期貨",81002,186.65199999999999,81152,187.01679999999999,-150,-0.36470000000000002,57666,133.37739999999999,21758,50.310099999999998,35908,83.067300000000003]
[20200207,"FITX","臺股指數期貨",66790,155.44720000000001,67740,157.67570000000001,-950,-2.2284999999999999,56893,131.86250000000001,20831,48.267699999999998,36062,83.594800000000006]
[20200206,"FITX","臺股指數期貨",72139,168.2098,70106,163.5196,2033,4.6901999999999999,60185,141.29820000000001,23173,54.391199999999998,37012,86.906999999999996]
[20200205,"FITX","臺股指數期貨",77944,180.21379999999999,77172,178.43989999999999,772,1.7739,59210,136.6763,24530,56.610799999999998,34680,80.065600000000003]
[20200204,"FITX","臺股指數期貨",77866,178.32400000000001,76292,174.67269999999999,1574,3.6514000000000002,58261,134.39279999999999,24351,56.159799999999997,33910,78.233000000000004]
[20200203,"FITX","臺股指數期貨",123579,279.17669999999998,121910,275.43040000000002,1669,3.7463000000000002,59336,134.38040000000001,26988,61.108899999999998,32348,73.271500000000003]
[20200131,"FITX","臺股指數期貨",102551,234.97790000000001,91019,208.5189,11532,26.4589,59241,135.8835,29462,67.5655,29779,68.317999999999998]
[20200130,"FITX","臺股指數期貨",107119,247.82230000000001,118870,275.24200000000002,-11751,-27.419699999999999,54398,123.72,36159,82.231800000000007,18239,41.488300000000002]
[20200120,"FITX","臺股指數期貨",31751,76.980099999999993,32343,78.426299999999998,-592,-1.4461999999999999,56731,137.4118,24942,60.406799999999997,31789,77.004999999999995]
[20200117,"FITX","臺股指數期貨",46280,111.7531,45344,109.4987,936,2.2544,56046,135.30420000000001,23664,57.1218,32382,78.182400000000001]
[20200116,"FITX","臺股指數期貨",45534,109.71420000000001,50834,122.4897,-5300,-12.775499999999999,56368,135.86770000000001,24919,60.0578,31449,75.809899999999999]
[20200115,"FITX","臺股指數期貨",64790,157.00909999999999,66716,161.6884,-1926,-4.6792999999999996,58949,142.1123,22200,53.512500000000003,36749,88.599800000000002]
[20200114,"FITX","臺股指數期貨",70941,172.52199999999999,73447,178.67670000000001,-2506,-6.1547000000000001,73536,178.8776,33657,81.884399999999999,39879,96.993099999999998]
[20200113,"FITX","臺股指數期貨",95662,231.08359999999999,92634,223.82910000000001,3028,7.2544000000000004,77470,187.57759999999999,35077,84.926900000000003,42393,102.6507]
[20200110,"FITX","臺股指數期貨",70201,168.37,68274,163.7611,1927,4.6089000000000002,70250,168.70769999999999,30888,74.161500000000004,39362,94.546199999999999]
[20200109,"FITX","臺股指數期貨",63751,152.0367,61886,147.60339999999999,1865,4.4332000000000003,63723,152.52809999999999,26297,62.933399999999999,37426,89.594800000000006]
[20200108,"FITX","臺股指數期貨",81956,193.83709999999999,75697,179.083,6259,14.754099999999999,60742,143.20150000000001,25196,59.392800000000001,35546,83.808800000000005]
[20200107,"FITX","臺股指數期貨",68172,162.28829999999999,71097,169.2724,-2925,-6.9840999999999998,56006,132.9666,26743,63.488399999999999,29263,69.478300000000004]
[20200106,"FITX","臺股指數期貨",55498,133.24430000000001,57945,139.12200000000001,-2447,-5.8776999999999999,59175,141.4136,26999,64.517300000000006,32176,76.896299999999997]
[20200103,"FITX","臺股指數期貨",72436,175.2046,73270,177.24600000000001,-834,-2.0413999999999999,60907,147.2336,26284,63.533900000000003,34623,83.699700000000007]
[20200102,"FITX","臺股指數期貨",39566,95.425399999999996,41019,98.941299999999998,-1453,-3.516,60992,147.60990000000001,25535,61.794199999999996,35457,85.815700000000007]
[20191231,"FITX","臺股指數期貨",29046,69.874300000000005,30294,72.874899999999997,-1248,-3.0005000000000002,62273,149.3776,25363,60.8354,36910,88.542199999999994]
[20191230,"FITX","臺股指數期貨",26402,63.854399999999998,26692,64.561499999999995,-290,-0.70699999999999996,62439,150.71250000000001,24281,58.604100000000003,38158,92.108400000000003]
[20191227,"FITX","臺股指數期貨",30986,74.847800000000007,27405,66.212000000000003,3581,8.6357999999999997,62944,152.28389999999999,24501,59.272100000000002,38443,93.011700000000005]
[20191226,"FITX","臺股指數期貨",15924,38.252200000000002,18249,43.84,-2325,-5.5877999999999997,59494,142.86619999999999,24635,59.152900000000002,34859,83.713300000000004]
[20191225,"FITX","臺股指數期貨",13343,32.011600000000001,13252,31.7957,91,0.21590000000000001,59478,142.97059999999999,22294,53.584899999999998,37184,89.3857]
[20191224,"FITX","臺股指數期貨",21012,50.4863,24587,59.081200000000003,-3575,-8.5949000000000009,59344,142.22149999999999,22251,53.321399999999997,37093,88.900099999999995]
[20191223,"FITX","臺股指數期貨",33242,79.773399999999995,33577,80.576700000000002,-335,-0.80330000000000001,62012,149.07400000000001,21344,51.304900000000004,40668,97.769099999999995]
[20191220,"FITX","臺股指數期貨",51223,123.0532,52712,126.63120000000001,-1489,-3.5779999999999998,61926,148.35980000000001,20923,50.121699999999997,41003,98.238200000000006]
[20191219,"FITX","臺股指數期貨",36600,88.250699999999995,38021,91.708699999999993,-1421,-3.4580000000000002,62709,150.88810000000001,20222,48.654000000000003,42487,102.2342]
[20191218,"FITX","臺股指數期貨",42410,102.4688,45132,109.0587,-2722,-6.59,62392,150.93680000000001,18484,44.7119,43908,106.22490000000001]
[20191217,"FITX","臺股指數期貨",76561,184.01910000000001,81180,195.14699999999999,-4619,-11.1279,84836,205.18860000000001,39792,96.254099999999994,45044,108.9344]
[20191216,"FITX","臺股指數期貨",90350,215.90299999999999,89591,214.14080000000001,759,1.7622,88942,212.62639999999999,39274,93.898300000000006,49668,118.7281]
[20191213,"FITX","臺股指數期貨",79890,190.73089999999999,82456,196.9049,-2566,-6.1741000000000001,79657,190.51300000000001,30754,73.537899999999993,48903,116.97499999999999]
[20191212,"FITX","臺股指數期貨",65225,154.1437,63124,149.23490000000001,2101,4.9089,71563,169.589,20101,47.622599999999998,51462,121.96639999999999]
[20191211,"FITX","臺股指數期貨",51584,120.0222,45507,105.8972,6077,14.1251,70860,165.84649999999999,21499,50.3065,49361,115.54]
[20191210,"FITX","臺股指數期貨",28877,67.209599999999995,37343,86.896600000000007,-8466,-19.687000000000001,68175,158.47620000000001,24905,57.887799999999999,43270,100.58839999999999]
[20191209,"FITX","臺股指數期貨",36794,85.829499999999996,36281,84.637100000000004,513,1.1923999999999999,73475,171.48759999999999,21708,50.6633,51767,120.82429999999999]
[20191206,"FITX","臺股指數期貨",41079,95.512699999999995,39765,92.453900000000004,1314,3.0588000000000002,70853,164.5232,20799,48.296900000000001,50054,116.22620000000001]
[20191205,"FITX","臺股指數期貨",47958,111.0248,44170,102.25830000000001,3788,8.7666000000000004,70779,164.16739999999999,22039,51.119100000000003,48740,113.0483]
[20191204,"FITX","臺股指數期貨",61469,141.13919999999999,63161,145.01259999999999,-1692,-3.8734999999999999,66475,152.90799999999999,21523,49.509,44952,103.399]
[20191203,"FITX","臺股指數期貨",50701,116.5085,45945,105.6108,4756,10.8977,68071,156.86449999999999,21427,49.378399999999999,46644,107.4862]
[20191202,"FITX","臺股指數期貨",46958,107.93729999999999,40213,92.428399999999996,6745,15.508900000000001,64845,149.15790000000001,22957,52.808100000000003,41888,96.349699999999999]
[20191129,"FITX","臺股指數期貨",46481,107.1965,52349,120.7657,-5868,-13.5692,61938,142.0008,26095,59.828499999999998,35843,82.172300000000007]
[20191128,"FITX","臺股指數期貨",35559,82.750100000000003,41043,95.517799999999994,-5484,-12.7677,62947,146.1908,21234,49.316200000000002,41713,96.874600000000001]
[20191127,"FITX","臺股指數期貨",30638,71.214699999999993,29146,67.749799999999993,1492,3.4649000000000001,66177,154.14330000000001,18980,44.21,47197,109.9333]
[20191126,"FITX","臺股指數期貨",46323,107.6891,43063,100.10299999999999,3260,7.5861000000000001,65253,151.61250000000001,19559,45.4452,45694,106.1673]
[20191125,"FITX","臺股指數期貨",37109,85.983800000000002,36831,85.340299999999999,278,0.64349999999999996,61675,142.65969999999999,20243,46.825099999999999,41432,95.834699999999998]
[20191122,"FITX","臺股指數期貨",38742,89.521900000000002,40357,93.252499999999998,-1615,-3.7305999999999999,61995,143.25190000000001,20841,48.1584,41154,95.093500000000006]
[20191121,"FITX","臺股指數期貨",64412,148.346,62618,144.20050000000001,1794,4.1455000000000002,62946,145.33619999999999,20185,46.606099999999998,42761,98.730099999999993]
[20191120,"FITX","臺股指數期貨",49945,116.0295,53477,124.2457,-3532,-8.2162000000000006,60595,140.5625,19627,45.529600000000002,40968,95.032899999999998]
[20191119,"FITX","臺股指數期貨",66699,155.0222,67867,157.74770000000001,-1168,-2.7254999999999998,79979,186.21979999999999,35345,82.301299999999998,44634,103.91849999999999]
[20191118,"FITX","臺股指數期貨",79261,183.14590000000001,78787,182.08670000000001,474,1.0590999999999999,79201,183.55869999999999,33403,77.421400000000006,45798,106.1373]
[20191115,"FITX","臺股指數期貨",56966,131.23099999999999,60118,138.5309,-3152,-7.2999000000000001,78015,179.88480000000001,32691,75.378,45324,104.5068]
[20191114,"FITX","臺股指數期貨",53337,122.2132,54789,125.542,-1452,-3.3288000000000002,77743,178.09899999999999,29267,67.039299999999997,48476,111.05970000000001]
[20191113,"FITX","臺股指數期貨",45683,104.7667,45916,105.29089999999999,-233,-0.52410000000000001,75784,173.76990000000001,25856,59.279299999999999,49928,114.4906]
[20191112,"FITX","臺股指數期貨",37393,85.862300000000005,39494,90.712400000000002,-2101,-4.8502000000000001,76769,176.91980000000001,26608,61.314999999999998,50161,115.6048]
[20191111,"FITX","臺股指數期貨",50756,116.70529999999999,50599,116.37220000000001,157,0.33310000000000001,77409,177.05330000000001,25146,57.5124,52263,119.54089999999999]
[20191108,"FITX","臺股指數期貨",46386,107.67100000000001,47507,110.27809999999999,-1121,-2.6071,75211,174.05760000000001,23105,53.467599999999997,52106,120.5899]
[20191107,"FITX","臺股指數期貨",39140,90.848600000000005,41607,96.573800000000006,-2467,-5.7252000000000001,76762,178.01570000000001,23535,54.575499999999998,53227,123.4402]
[20191106,"FITX","臺股指數期貨",43252,100.6857,44762,104.2159,-1510,-3.5301999999999998,79351,184.87690000000001,23657,55.113700000000001,55694,129.76320000000001]
[20191105,"FITX","臺股指數期貨",42419,98.407600000000002,47131,109.3586,-4712,-10.951000000000001,81238,189.1918,24034,55.965699999999998,57204,133.2261]
[20191104,"FITX","臺股指數期貨",43902,100.70910000000001,41168,94.502799999999993,2734,6.2062999999999997,83811,193.4571,21895,50.531999999999996,61916,142.92509999999999]
[20191101,"FITX","臺股指數期貨",32224,73.054400000000001,31992,72.537300000000002,232,0.5171,78899,179.4213,19717,44.831600000000002,59182,134.58969999999999]
[20191031,"FITX","臺股指數期貨",35947,81.6708,35490,80.634900000000002,457,1.0359,78759,178.67760000000001,19809,44.934100000000001,58950,133.74350000000001]
[20191030,"FITX","臺股指數期貨",28865,65.353899999999996,28147,63.727899999999998,718,1.6259999999999999,78008,176.8802,19515,44.244599999999998,58493,132.63560000000001]

{"sheet":"外資小台","index":6,"n_rows":33,"n_cols":16,"rows_kept":33,"cut":false,"hidden":false,"merged":[]}
[]
[]
["日期","代碼","名稱","多方口數","多方契約金額","空方口數","空方契約金額","多空口數","多空契約金額","多方為未平倉口數","多方未平倉契約金額","空方未平倉口數","空方未平倉契約金額","多空未平倉口數","多空未平倉契約金額","收盤"]
[20200824,"FIMTX","小型臺指期貨",79426,49944.58,78304,49240.336000000003,1122,704.24300000000005,4996,3147.768,4462,2811.377,534,336.39100000000002]
[20200821,"FIMTX","小型臺指期貨",102328,63687.116000000002,92322,57465.612000000001,10006,6221.5020000000004,3772,2366.6570000000002,4348,2728.29,-576,-361.63299999999998]
[20200820,"FIMTX","小型臺指期貨",139944,86918.399999999994,147644,91748.512000000002,-7700,-4830.1149999999998,303,185.83199999999999,10849,6670.8720000000003,-10546,-6485.04]
[20200819,"FIMTX","小型臺指期貨",66469,42744.135999999999,72440,46564.455999999998,-5971,-3820.3180000000002,229,145.523,7863,5012.2290000000003,-7634,-4866.7060000000001]
[20200818,"FIMTX","小型臺指期貨",69224,44669.555999999997,77200,49820.28,-7976,-5150.723,3992,2568.808,7665,4927.451,-3673,-2358.643]
[20200817,"FIMTX","小型臺指期貨",65380,42008.928,59284,38078.576000000001,6096,3930.348,7553,4890.5919999999996,5250,3395.5309999999999,2303,1495.0609999999999]
[20200814,"FIMTX","小型臺指期貨",71326,45362.536,68108,43308.052000000003,3218,2054.4839999999999,5664,3621.1120000000001,5857,3740.1120000000001,-193,-119]
[20200813,"FIMTX","小型臺指期貨",69778,44492.232000000004,69998,44631.663999999997,-220,-139.43199999999999,3237,2058.8629999999998,6648,4224.5029999999997,-3411,-2165.64]
[20200812,"FIMTX","小型臺指期貨",83613,52932.487999999998,84794,53669.919999999998,-1181,-737.43299999999999,2261,1430.077,5552,3508.81,-3291,-2078.7330000000002]
[20200811,"FIMTX","小型臺指期貨",66691,42731.508000000002,72923,46717.072,-6232,-3985.5650000000001,1768,1125.33,7712,4907.8620000000001,-5944,-3782.5320000000002]
[20200810,"FIMTX","小型臺指期貨",73196,46899.368000000002,72413,46397.396000000001,783,501.97399999999999,3833,2462.9789999999998,3545,2275.6170000000002,288,187.36199999999999]
[20200807,"FIMTX","小型臺指期貨",79047,50543.612000000001,84341,53932.896000000001,-5294,-3389.2840000000001,3080,1964.4480000000001,3575,2277.9189999999999,-495,-313.471]
[20200806,"FIMTX","小型臺指期貨",88819,56968.02,88669,56866.856,150,101.16200000000001,6006,3854.2939999999999,1207,772.23699999999997,4799,3082.0569999999998]
[20200805,"FIMTX","小型臺指期貨",64920,41175.26,64117,40662.487999999998,803,512.77200000000005,5563,3543.2840000000001,914,579.97699999999998,4649,2963.3069999999998]
[20200804,"FIMTX","小型臺指期貨",77757,48649.788,68030,42558.832000000002,9727,6090.9570000000003,4845,3058.68,1069,672.61699999999996,3776,2386.0630000000001]
[20200803,"FIMTX","小型臺指期貨",87412,54605.752,98079,61269.707999999999,-10667,-6663.9549999999999,899,558.69799999999998,6850,4257.9110000000001,-5951,-3699.2130000000002]
[20200731,"FIMTX","小型臺指期貨",95679,60075.66,99178,62257.908000000003,-3499,-2182.2489999999998,3187,2003.06,4071,2557.395,-884,-554.33500000000004]
[20200730,"FIMTX","小型臺指期貨",92733,58191.328000000001,87171,54704.563999999998,5562,3486.7620000000002,4448,2800.2190000000001,1833,1152.511,2615,1647.7080000000001]
[20200729,"FIMTX","小型臺指期貨",102683,63933.504000000001,103860,64663.063999999998,-1177,-729.55799999999999,1661,1030.7139999999999,4604,2856.1329999999998,-2943,-1825.4190000000001]
[20200728,"FIMTX","小型臺指期貨",163348,103280.39200000001,170545,107832.496,-7197,-4552.098,1216,756.42600000000004,3146,1957.5519999999999,-1930,-1201.126]
[20200727,"FIMTX","小型臺指期貨",109164,67655.232000000004,98314,60987.872000000003,10850,6667.3639999999996,3683,2300.8139999999999,2416,1508.691,1267,792.12300000000005]
[20200724,"FIMTX","小型臺指期貨",101105,61903.368000000002,102876,62969.055999999997,-1771,-1065.6880000000001,1535,932.40300000000002,7122,4324.1170000000002,-5587,-3391.7139999999999]
[20200723,"FIMTX","小型臺指期貨",71055,43598.836000000003,75498,46326.495999999999,-4443,-2727.66,1632,1002.567,5448,3344.2820000000002,-3816,-2341.7150000000001]
[20200722,"FIMTX","小型臺指期貨",59970,36932.608,65392,40268.92,-5422,-3336.3110000000001,1569,967.44500000000005,5954,3668.393,-4385,-2700.9479999999999]
[20200721,"FIMTX","小型臺指期貨",61959,37813.46,59359,36223.004000000001,2600,1590.4549999999999,3449,2119.02,2399,1471.943,1050,647.077]
[20200720,"FIMTX","小型臺指期貨",67144,40294.639999999999,65108,39067.103999999999,2036,1227.5350000000001,2385,1434.9069999999999,3939,2367.6329999999998,-1554,-932.726]
[20200717,"FIMTX","小型臺指期貨",71536,43117.944000000003,70910,42733.4,626,384.54399999999998,921,554.39300000000003,4491,2701.1880000000001,-3570,-2146.7950000000001]
[20200716,"FIMTX","小型臺指期貨",79128,47628.055999999997,82634,49734.224000000002,-3506,-2106.165,1283,771.61199999999997,5471,3288.8620000000001,-4188,-2517.25]
[20200715,"FIMTX","小型臺指期貨",78735,47941.588000000003,80132,48803.184000000001,-1397,-861.59699999999998,952,575.14300000000003,1578,951.91200000000003,-626,-376.76900000000001]
[20200714,"FIMTX","小型臺指期貨",73079,44436.06,77289,47004.548000000003,-4210,-2568.4870000000001,2601,1583.556,1896,1148.222,705,435.334]

{"sheet":"前5大大台","index":7,"n_rows":33,"n_cols":16,"rows_kept":33,"cut":false,"hidden":false,"merged":[]}
[]
[]
["日期","代碼","名稱","前五大交易人買方部位","前五大交易人賣方部位","前十大交易人買方部位","前十大交易人賣方部位","特定法人前五大買方部位","特定法人前五大賣方部位","特定法人前十大買方部位","特定法人前十大賣方部位","全市場合計",null,null,"前5大淨部位","增減"]
[20200824,"FITX","臺股指數期貨",34993,50581,49791,60847,34993,50581,47335,59218,95501,null,null,{"$f":"D4-E4","v":-15588},{"$f":"IF(O4=0,\"N/A\",O4-O5)","v":-1211}]
[20200821,"FITX","臺股指數期貨",36158,50535,50926,61564,36158,50535,48025,61564,94839,null,null,{"$f":"D5-E5","v":-14377},{"$f":"O5-O6","v":6092}]
[20200820,"FITX","臺股指數期貨",34921,55390,49352,67557,34921,55390,46143,67557,97262,null,null,-20469,-3576]
[20200819,"FITX","臺股指數期貨",33688,50581,46353,61269,33688,50581,44608,61269,85905,null,null,-16893,-15985]
[20200818,"FITX","臺股指數期貨",8423,9331,13310,12921,6892,9331,10833,10746,33143,null,null,-908,2052]
[20200817,"FITX","臺股指數期貨",19643,22603,28338,30373,19643,20493,28338,25390,61776,null,null,-2960,11027]
[20200814,"FITX","臺股指數期貨",26310,40297,38021,48358,26310,40297,38021,48358,77142,null,null,-13987,4314]
[20200813,"FITX","臺股指數期貨",28827,47128,42501,55644,28827,47128,42501,55644,84516,null,null,-18301,5792]
[20200812,"FITX","臺股指數期貨",27846,51939,42294,60376,27846,51939,42294,59476,88919,null,null,-24093,-695]
[20200811,"FITX","臺股指數期貨",30882,54280,46171,65067,30882,54280,43251,62363,95418,null,null,-23398,561]
[20200810,"FITX","臺股指數期貨",30969,54928,46346,65534,30969,54928,46346,63058,96705,null,null,-23959,-2532]
[20200807,"FITX","臺股指數期貨",33150,54577,49565,63991,33150,54577,49565,62017,96639,null,null,-21427,1987]
[20200806,"FITX","臺股指數期貨",31995,55409,48314,64112,31995,55409,48314,62548,96401,null,null,-23414,-894]
[20200805,"FITX","臺股指數期貨",32348,54868,49775,63507,32348,54868,49775,62458,97951,null,null,-22520,1289]
[20200804,"FITX","臺股指數期貨",31328,55137,48972,64862,31328,55137,48972,62762,98953,null,null,-23809,3081]
[20200803,"FITX","臺股指數期貨",30653,57543,46635,66693,30653,57543,46635,65431,98808,null,null,-26890,-981]
[20200731,"FITX","臺股指數期貨",29879,55788,47326,65642,29879,55788,47326,63896,94212,null,null,-25909,-961]
[20200730,"FITX","臺股指數期貨",30237,55185,48309,63222,30237,55185,48309,61121,92025,null,null,-24948,-24948]
[20200729,"FITX","臺股指數期貨",29707,56621,47495,66075,29707,56621,47495,64814,92607]
[20200728,"FITX","臺股指數期貨",28384,54018,45613,62431,28384,54018,45613,59748,89476]
[20200727,"FITX","臺股指數期貨",29909,53489,48309,60311,29909,53489,48309,57650,91259]
[20200724,"FITX","臺股指數期貨",30208,56241,47944,63733,30208,56241,47944,61927,93832]
[20200723,"FITX","臺股指數期貨",30456,56880,48071,65587,30456,56880,48071,64287,93778]
[20200722,"FITX","臺股指數期貨",31575,55602,50471,64220,31575,55602,50471,62438,95118]
[20200721,"FITX","臺股指數期貨",32817,56272,50893,64540,32817,52525,50893,60793,97396]
[20200720,"FITX","臺股指數期貨",30658,52275,46103,59725,30658,52275,46103,56734,88152]
[20200717,"FITX","臺股指數期貨",30784,52326,45753,59328,30784,50138,45753,56198,86828]
[20200716,"FITX","臺股指數期貨",30733,52011,45059,57515,30733,52011,45059,56573,85195]
[20200715,"FITX","臺股指數期貨",32961,50901,48285,56183,32961,50901,48285,55241,80242]
[20200714,"FITX","臺股指數期貨",9105,9120,15297,12612,7274,9120,11974,11428,33107]

{"sheet":"總市值","index":8,"n_rows":3,"n_cols":3,"rows_kept":3,"cut":false,"hidden":true,"merged":[]}
["","日期",20200824]
["代碼","名稱","市值"]
["TWNT0000","集中市場加權股價指數",391603.8]